{"text_format":"2","workbook":"xlsx","n_sheets":16,"sheets":["源数据","源数据处理","关键词参数","数据透视表","关键字质量数据","趋势图表","数据汇总","关联宝贝分析","行业对比","访客分析","下单时间透视表","下单时间元数据","流量入口监控","引用","地域分析元数据","客服数据"],"not_rendered":{"charts":3,"images":2,"macros":0,"external_links":0,"defined_names":24,"comments":0,"pivot_tables":2},"unopened":[],"bounds":{"document_bytes":16777216,"sheet_cells":100000,"run_cost":"one","rows_first":2000,"rows_last":500,"rows_between":2000,"halvings":0,"cell_chars":16384,"cell_head_chars":4096},"cells_cut":0,"cells_raw":0,"read":"whole","date_system":"1900"}

{"sheet":"源数据","index":0,"n_rows":1850,"n_cols":5,"rows_kept":1850,"cut":false,"hidden":true,"merged":[]}
["关键词","访客","跳失率","销量","转化率"]
["013春装新款女装韩版中长款大码米色雪纺修身休闲耸肩薄西装外套",1,0,0,0]
["2012春秋新款通勤修身小西服长袖小西装外套 女装韩版休闲中长款",1,0,1,1]
["2012秋装韩版最新款修身百搭小西装 雪纺拼接女装长袖西服外套",1,1,0,0]
["2012外套新款 潮 女",4,0.75,0,0]
["2012外套新款 小西服女",1,1,0,0]
["2012新款春秋女装",1,0,0,0]
["2012新款春秋女装韩版修身休闲一粒扣雪纺小西装西服女中长款外套",4,0.25,0,0]
["2013 春装 女装 外套",1,1,0,0]
["2013 春装 小西装",1,1,0,0]
["2013 春装",1,1,0,0]
["2013 春装 韩版修身长袖小西装",1,1,0,0]
["2013 春装 女西装.",1,1,0,0]
["2013 春装 女装",18,0.83330000000000004,0,0]
["2013 春装 女装 外套",27,0.66669999999999996,0,0]
["2013 春装 女装外套",27,0.70369999999999999,1,3.6999999999999998E-2]
["2013 春装 女装外套 小西装",1,1,0,0]
["2013 春装 女装小外套",1,0,0,0]
["2013 春装 女装小西装",3,0.33329999999999999,1,0.33329999999999999]
["2013 春装 女装休闲西服",1,1,0,0]
["2013 春装 女装修身西服",1,1,0,0]
["2013 春装 西装外套",1,1,0,0]
["2013 春装 小西装女装",1,1,0,0]
["2013 春装 中场款小西装",1,1,0,0]
["2013 春装外套 女装",7,0.71430000000000005,0,0]
["2013 春装外套 女装春装",1,1,0,0]
["2013 春装西服",1,1,0,0]
["2013 韩版小西服外套女",1,0,0,0]
["2013 女装 西装外套 中长款",1,1,0,0]
["2013 西服",1,1,0,0]
["2013 西服 女",1,1,0,0]
["2013 西装 女 韩版 修身",1,1,0,0]
["2013 西装外套 女 修身",1,1,0,0]
["2013 小西装 女装",2,1,0,0]
["2013 新款西服 女装",1,1,0,0]
["2013 新款西装 长款 女",1,1,0,0]
["2013 休闲西服 女",1,0,0,0]
["2013hanbannvxifu",1,1,0,0]
["2013白色西服",1,1,0,0]
["2013白色中长款西装 女",1,1,0,0]
["2013白色中长小西装",1,1,0,0]
["2013长款西服",1,1,0,0]
["2013长款小西装白色",1,1,0,0]
["2013春 外套",1,1,0,0]
["2013春 西装外套",1,1,0,0]
["2013春 小西装",1,1,0,0]
["2013春 新款外套",1,0,0,0]
["2013春季韩版修身小西装女",1,1,0,0]
["2013春季女装新款修身中长款小西装小外套",1,0,0,0]
["2013春季外套女",1,1,0,0]
["2013春季西裝",1,1,0,0]
["2013春季新款韩版女装",1,0,0,0]
["2013春季新款韩版休闲西装外套 中长款",1,1,0,0]
["2013春秋 小西装 修身 女",1,1,0,0]
["2013春秋款女装中长外套",1,1,0,0]
["2013春秋款西服外套女",1,1,0,0]
["2013春秋女装",1,1,0,0]
["2013春秋女装外套休闲小西服韩版修身小西装",1,1,0,0]
["2013春秋女装西服",1,1,0,0]
["2013春秋外套",1,1,0,0]
["2013春秋外套 女 韩版",1,1,0,0]
["2013春秋外套韩版 女",1,1,0,0]
["2013春秋小西装",1,1,0,0]
["2013春秋新款女外套",2,1,0,0]
["2013春秋新款女装韩版修身显瘦小西装中长款雪纺大码拼接西服外套",1,1,0,0]
["2013春秋新款女装韩版中长款修身显瘦小西服 雪纺拼接小西装外套",4,0,1,0.25]
["2013春秋修身小西装",1,1,0,0]
["2013春秋装新款韩版中长款修身小西装",1,1,0,0]
["2013春秋装新款西服小西装外套女",1,1,0,0]
["2013春外套",1,0,1,1]
["2013春外套女新款",1,1,0,0]
["2013春西服外套女",1,1,0,0]
["2013春新款外套",1,1,0,0]
["2013春中长款外套",1,1,0,0]
["2013春装",2,1,0,0]
["2013春装 白色小西装外套",1,1,0,0]
["2013春装 外套 女",1,0,0,0]
["2013春装 外套 女 韩版",4,0.75,0,0]
["2013春装 小西服 女 韩版修身中长款雪纺 包邮",1,0,0,0]
["2013春装 新款女西服",2,0,1,0.5]
["2013春装 新款女装",4,1,0,0]
["2013春装 新外套女装",1,0,0,0]
["2013春装韩版女装",2,1,0,0]
["2013春装韩版女装 西装",1,1,0,0]
["2013春装韩版女装小西装",1,1,0,0]
["2013春装韩版女装修身小西装中长款",1,1,0,0]
["2013春装女 外套",1,1,0,0]
["2013春装女小西服外套",1,1,0,0]
["2013春装女装外套",1,1,0,0]
["2013春装女装小外套",1,1,0,0]
["2013春装女装新款红色小西服外套",1,1,0,0]
["2013春装女装新款外套",1,1,0,0]
["2013春装女装新款小西装",1,0,0,0]
["2013春装外套",37,0.75680000000000003,0,0]
["2013春装外套 女款",1,1,0,0]
["2013春装外套女装新款",1,1,0,0]
["2013春装外套新款",1,1,0,0]
["2013春装西服",1,1,0,0]
["2013春装西服外套",1,0,0,0]
["2013春装西服外套女款",1,1,0,0]
["2013春装西装",1,1,0,0]
["2013春装西装外套 女",1,0,0,0]
["2013春装西装外套女",1,1,0,0]
["2013春装小西装女",2,1,0,0]
["2013春装新款长款西装超大码包邮",1,1,0,0]
["2013春装新款韩版",1,0,0,0]
["2013春装新款女式修身后背雪纺拼接韩版小西装大码西装女装",2,0,0,0]
["2013春装新款女装",3,0.66669999999999996,0,0]
["2013春装新款女装 中长款休闲西服女",1,1,0,0]
["2013春装新款女装修身外套韩版修身小西装女装小外套西服",1,1,0,0]
["2013春装新款女装中长款一粒扣小西服",1,1,0,0]
["2013春装新款外套",2,1,0,0]
["2013春装新款西装女",1,1,0,0]
["2013春装新款小西装韩版",1,1,0,0]
["2013春装新款小西装外套女韩版修身中长西服",1,1,0,0]
["2013春装新款修身小西服外套女装",1,0,0,0]
["2013春装新款中长款小西装外套女韩版修身小西装一粒扣",1,1,0,0]
["2013韩版春装",1,0,1,1]
["2013韩版女装外套",1,1,0,0]
["2013韩版小西装女",2,1,0,0]
["2013流行女西装",1,1,0,0]
["2013女款春装外套",1,1,0,0]
["2013女款西装",1,1,0,0]
["2013女士外套新款",1,1,0,0]
["2013女士小西服",1,1,0,0]
["2013女士休闲韩版西服",1,1,0,0]
["2013女装长款修身春装",1,1,0,0]
["2013女装春装外套",1,1,0,0]
["2013女装新款外套",11,0.72729999999999995,0,0]
["2013女装新款外套包邮",1,1,0,0]
["2013女装新款西装",1,1,0,0]
["2013外套新款 潮 女",14,1,0,0]
["2013西服",1,1,0,0]
["2013西服新款女",1,1,0,0]
["2013西装",1,1,0,0]
["2013西装 女 外套",1,1,0,0]
["2013西装女款",1,1,0,0]
["2013西装外套韩版女 春装",1,1,0,0]
["2013西装外套女",2,1,0,0]
["2013西装外套女装新款",1,1,0,0]
["2013小西服韩版女",1,1,0,0]
["2013小西装春秋装新款西服韩版修身小外套",1,1,0,0]
["2013小西装外套",1,0,0,0]
["2013小西装外套 女",6,0.66669999999999996,1,0.16669999999999999]
["2013小西装新款 潮 女",11,0.90910000000000002,0,0]
["2013新款",5,0.8,0,0]
["2013新款 潮 女外套",3,0.66669999999999996,1,0.33329999999999999]
["2013新款 潮 女装",2,0.5,0,0]
["2013新款 春装 女装",1,1,0,0]
["2013新款春秋装韩版女装修身休闲白色小西服女中长款春秋外套潮",1,1,0,0]
["2013新款春装 小西装",1,1,0,0]
["2013新款春装韩版女装休闲白色小西服中长款春秋外套",1,0,0,0]
["2013新款春装韩版女装修身休闲白色小西装西服女中长款春秋外套潮",8,0.375,0,0]
["2013新款春装韩版女装修身休闲白色小西装西服女中长款春秋外套潮 西装",1,1,0,0]
["2013新款春装韩版小西装女一粒扣中长款外套女西装",1,0,0,0]
["2013新款春装女装外套",2,1,0,0]
["2013新款春装外套",11,0.81820000000000004,0,0]
["2013新款春装外套女",2,0.5,0,0]
["2013新款春装外套女 小西装",1,1,0,0]
["2013新款春装小西服",2,0.5,0,0]
["2013新款春装小西服潮",1,1,0,0]
["2013新款春装修身小外套",1,1,0,0]
["2013新款春装中长款西装女",1,1,0,0]
["2013新款韩版 春装 女装",1,1,0,0]
["2013新款韩版毛呢短款西装外套女",1,1,0,0]
["2013新款韩版休闲西服潮",1,1,0,0]
["2013新款韩版修身小西装中长款外套 女装小西服",1,1,0,0]
["2013新款女白色小西服",1,1,0,0]
["2013新款女式西装",1,1,0,0]
["2013新款女装",1,1,0,0]
["2013新款女装外套",4,0.75,0,0]
["2013新款外套 潮",1,1,0,0]
["2013新款外套 西服",1,0,0,0]
["2013新款外套女",3,0.33329999999999999,0,0]
["2013新款外套女潮",3,0.33329999999999999,0,0]
["2013新款外套女春装",1,1,0,0]
["2013新款西服",2,0.5,0,0]
["2013新款西服女",1,0,0,0]
["2013新款西服女装",1,1,0,0]
["2013新款西装",1,1,0,0]
["2013新款西装女",1,1,0,0]
["2013新款西装小外套",1,1,0,0]
["2013新款小西服",1,1,0,0]
["2013新款小西服女",2,1,0,0]
["2013新款小西装",1,1,0,0]
["2013新款小西装女",1,1,0,0]
["2013修身小西装",1,0,0,0]
["2013修身中长款小西服女",2,0,0,0]
["2013中长款西服女",1,1,0,0]
["2013中长款西装女",1,1,0,0]
["chunzhuangxizhuang",1,1,0,0]
["gotnil女西服外套",1,1,0,0]
["h.only2013春正品代购原单新款女装韩版修身小西装西服女 举报中心",1,0,0,0]
["hongxiu",1,1,0,0]
["hongxiujiangnan",2,0.5,0,0]
["r d 2012 正品",1,0,0,0]
["waitao",1,1,0,0]
["白 西服 女",1,0,0,0]
["白 西服 女 春秋",1,1,0,0]
["白 西服 修身",1,1,0,0]
["白 西装",3,0.33329999999999999,0,0]
["白色",1,1,0,0]
["白色 外套",1,1,0,0]
["白色 西服",2,1,0,0]
["白色 西服 外套",1,1,0,0]
["白色 西装",3,0.33329999999999999,0,0]
["白色 西装 修身 女",1,1,0,0]
["白色 西装中长款",2,0,0,0]
["白色 小西服 女",1,0,0,0]
["白色 小西装 女",2,1,0,0]
["白色 小西装 女 春",1,1,0,0]
["白色长款西服",1,1,0,0]
["白色长款西服女",1,1,0,0]
["白色长款西装外套",1,0,0,0]
["白色长款小西装 韩版",1,1,0,0]
["白色长款修身小西装",1,1,0,0]
["白色长小西装",1,1,0,0]
["白色女款西服",1,1,0,0]
["白色女士小西服 2013款",1,1,0,0]
["白色女西服外套韩版",1,1,0,0]
["白色外套",5,0.2,0,0]
["白色外套 春秋",1,1,0,0]
["白色外套 女 春秋",6,0.83330000000000004,0,0]
["白色西服",9,0.55559999999999998,0,0]
["白色西服 韩 版 女",6,0.83330000000000004,0,0]
["白色西服 女 春秋",1,1,0,0]
["白色西服 夏季 女",1,1,0,0]
["白色西服 修身 女",7,1,0,0]
["白色西服 中长版",1,0,0,0]
["白色西服厚款女",1,1,0,0]
["白色西服女",3,0.66669999999999996,0,0]
["白色西服女潮",1,1,0,0]
["白色西服女修身",7,0.85709999999999997,0,0]
["白色西服外套 女",3,1,0,0]
["白色西装",9,0.88890000000000002,0,0]
["白色西装 女",2,1,0,0]
["白色西装 女 外套",5,1,0,0]
["白色西装 女 修身",14,0.92859999999999998,0,0]
["白色西装 女 修身中款",1,1,0,0]
["白色西装 女 中长款",4,1,0,0]
["白色西装 修身 女",1,1,0,0]
["白色西装女",2,0.5,0,0]
["白色西装女春",1,0,0,0]
["白色西装女款",1,1,0,0]
["白色西装外套",6,0.83330000000000004,0,0]
["白色西装外套  女  修身",1,1,0,0]
["白色西装外套 春",1,1,0,0]
["白色西装外套 女",9,1,0,0]
["白色西装外套 女 韩版",1,1,0,0]
["白色西装外套女",1,1,0,0]
["白色小外套 韩版",1,1,0,0]
["白色小西服",7,1,0,0]
["白色小西服 女",1,1,0,0]
["白色小西服女修身",7,1,0,0]
["白色小西服女修身春秋",3,1,0,0]
["白色小西服雪纺",3,0,0,0]
["白色小西装",29,0.72409999999999997,2,6.9000000000000006E-2]
["白色小西装 女 修身",1,1,0,0]
["白色小西装  女",1,1,0,0]
["白色小西装 长",1,1,0,0]
["白色小西装 韩版",3,0.66669999999999996,0,0]
["白色小西装 韩版女",1,1,0,0]
["白色小西装 女",1,1,0,0]
["白色小西装 女 韩版",1,1,0,0]
["白色小西装 女 修身",30,0.8,1,3.3300000000000003E-2]
["白色小西装 女 修身 包邮",2,0,0,0]
["白色小西装 修身 女 韩版  包邮",1,1,0,0]
["白色小西装女",1,1,0,0]
["白色小西装女包邮",1,0,0,0]
["白色小西装女潮",1,1,0,0]
["白色小西装女士",1,1,0,0]
["白色小西装女修身韩版 包邮",1,0,0,0]
["白色小西装外套女",2,0,0,0]
["白色小西装夏",1,1,0,0]
["白色休闲女西服",1,1,0,0]
["白色休闲西服女",2,1,0,0]
["白色休闲西装外套女",1,1,0,0]
["白色休闲小西服女",1,1,0,0]
["白色休闲小西装女",1,1,0,0]
["白色修身长款西装",1,1,0,0]
["白色修身长款小西装",1,1,0,0]
["白色修身女款西服",1,0,0,0]
["白色修身外套女",1,1,0,0]
["白色修身西服女",1,0,0,0]
["白色修身西装",1,0,1,1]
["白色修身西装外套",1,1,0,0]
["白色修身西装外套  包邮",1,0,0,0]
["白色修身小西服女",1,1,0,0]
["白色修身小西装春装",1,0,0,0]
["白色修身小西装女",1,1,0,0]
["白色修身中长款西装",1,1,0,0]
["白色雪纺拼接小西装",1,0,1,1]
["白色雪纺小西装",1,1,0,0]
["白色中长款小西装女春",1,1,0,0]
["白色中长外套",1,1,0,0]
["白西服",3,0.66669999999999996,0,0]
["白西服 韩版 女",4,0.5,1,0.25]
["白西服 女 休闲款",1,0,0,0]
["白西服女",2,0.5,0,0]
["白西服套装女 白",1,0,0,0]
["白西装",3,1,0,0]
["白西装 女",1,1,0,0]
["白西装 女 韩版",1,1,0,0]
["白西装 女 修身",1,1,0,0]
["白西装 女 中长款",2,1,0,0]
["白西装 女、",1,1,0,0]
["白西装 女修身 韩版",1,1,0,0]
["白小西服女",1,1,0,0]
["包邮 小西装",1,1,0,0]
["包邮韩版小西装女",1,1,0,0]
["包邮小西装外套女",1,1,0,0]
["长款 西服",1,1,0,0]
["长款 小西服",1,1,0,0]
["长款 修身 西装",1,1,0,0]
["长款白色西装",1,1,0,0]
["长款白色小西装外套女",1,1,0,0]
["长款黑色修身小西装",1,1,0,0]
["长款女 春",1,1,0,0]
["长款女西服",2,1,0,0]
["长款外套 女 春秋",1,1,0,0]
["长款西服",1,0,0,0]
["长款西服 白",1,1,0,0]
["长款西服 包邮 女",1,0,0,0]
["长款西服 女 韩版",3,1,0,0]
["长款西服 女 修身",3,1,0,0]
["长款西服 女 修身雪纺",1,0,0,0]
["长款西服女",2,0.5,0,0]
["长款西服外套",1,0,0,0]
["长款西服外套 女",1,1,0,0]
["长款西服外套女",1,1,0,0]
["长款西装",3,0.33329999999999999,0,0]
["长款西装 女 外套",1,1,0,0]
["长款西装 新款 包邮",1,1,0,0]
["长款西装 修身 女",1,1,0,0]
["长款西装秋天女",1,0,0,0]
["长款西装外套",2,0.5,0,0]
["长款西装外套 女",3,1,0,0]
["长款西装外套韩版",5,1,0,0]
["长款西装外套韩版修身",1,0,0,0]
["长款西装小西服",1,1,0,0]
["长款西装修身",1,1,0,0]
["长款小西服外套",1,0,0,0]
["长款小西装",4,0.5,0,0]
["长款小西装 女",1,1,0,0]
["长款小西装 女 春",1,1,0,0]
["长款小西装韩版修身女",1,1,0,0]
["长款小西装女",1,1,0,0]
["长款小西装女修身",3,0.66669999999999996,0,0]
["长款小西装外套 女",1,1,0,0]
["长款休闲女西服",1,1,0,0]
["长款休闲西服女",1,1,0,0]
["长款休闲西装外套",1,1,0,0]
["长款修身西服 女",1,0,0,0]
["长款修身西服小西装外套",1,0,0,0]
["长西服",1,1,0,0]
["长西服 女 修身",1,0,0,0]
["长西装外套 女 春秋",1,1,0,0]
["长袖小西装 修身 女款",1,1,0,0]
["长袖雪纺",1,1,0,0]
["潮2013春秋女装 韩版新款 修身一粒扣休闲小西服小西装",1,1,0,0]
["潮女装2013新款",1,0,0,0]
["春",1,1,0,0]
["春 白色西装 拼",1,1,0,0]
["春 长款",2,0,0,0]
["春 女装2013 外套",1,0,0,0]
["春 外套 女",2,1,0,0]
["春 外套 女 2013",1,1,0,0]
["春 西 女 白",1,0,0,0]
["春 西装 外套 女",1,1,0,0]
["春 西裝",1,1,0,0]
["春 小西装 女",1,1,0,0]
["春长款外套",1,0,0,0]
["春季 女 外套",1,1,0,0]
["春季 女 西服",1,0,0,0]
["春季 外套 女",1,1,0,0]
["春季 外套 女包邮",1,1,0,0]
["春季2013新款小西服",1,1,0,0]
["春季女士小西服",1,1,0,0]
["春季女西服",1,1,0,0]
["春季女装外套",1,0,0,0]
["春季女装外套2013",2,1,0,0]
["春季女装外套新款",1,0,0,0]
["春季女装小西服",1,1,0,0]
["春季外套",3,0.33329999999999999,0,0]
["春季外套 女",1,1,0,0]
["春季外套 女 韩版",4,1,0,0]
["春季外套韩版 女",1,1,0,0]
["春季外套女",8,0.625,0,0]
["春季外套女  包邮",1,1,0,0]
["春季外套女包邮",1,1,0,0]
["春季外套女款",1,0,0,0]
["春季外套女装",1,1,0,0]
["春季西服 女 韩版",1,1,0,0]
["春季西服 女 中长款",1,1,0,0]
["春季西服女",1,1,0,0]
["春季西装 女士",1,1,0,0]
["春季西装女韩版",1,1,0,0]
["春季小外套女",1,1,0,0]
["春季小西装女",2,0.5,0,0]
["春季小西装女装 2013",2,1,0,0]
["春季新款女装西装",1,0,0,0]
["春季休闲女装外套",1,1,0,0]
["春季休闲西装外套女中长款",1,1,0,0]
["春季修身外套女",1,0,0,0]
["春季修身中长款西装外套",1,1,0,0]
["春款 女装 2013外套西装",1,1,0,0]
["春款新品 韩版甜美修身显瘦双排扣撞色拼接中长款小西装外套",1,1,0,0]
["春女式长款西装外套",1,1,0,0]
["春女装白色外套",1,1,0,0]
["春女装外套新款",2,1,0,0]
["春秋",3,0.66669999999999996,0,0]
["春秋 女",5,1,0,0]
["春秋 女 外套",58,0.63790000000000002,2,3.4500000000000003E-2]
["春秋 女 外套 休闲",1,1,0,0]
["春秋 女装",8,1,0,0]
["春秋 女装 新款",1,1,0,0]
["春秋 外套",3,1,0,0]
["春秋 外套 女",20,0.85,0,0]
["春秋 外套 女 中长",1,1,0,0]
["春秋 西服外套 女",1,1,0,0]
["春秋 西装 女",1,1,0,0]
["春秋 小西服",1,0,0,0]
["春秋 休闲外套 女",1,1,0,0]
["春秋2012新款春秋女装韩版修身耸肩西装",2,1,0,0]
["春秋　女　长款",1,1,0,0]
["春秋白色外套",2,1,0,0]
["春秋韩版外套 女",1,0,0,0]
["春秋季外套 女",1,1,0,0]
["春秋季外套打折款",1,1,0,0]
["春秋季中长款西装",1,1,0,0]
["春秋季装韩版女小西装",1,1,0,0]
["春秋款",1,1,0,0]
["春秋款女士小西服",1,1,0,0]
["春秋款女装外套",2,0.5,0,0]
["春秋款西装 女",1,1,0,0]
["春秋款小西装女",1,1,0,0]
["春秋女 外套",1,0,0,0]
["春秋女款纯色西服包邮",1,1,0,0]
["春秋女外套",2,1,0,0]
["春秋女外套新款",1,1,0,0]
["春秋女西装",1,1,0,0]
["春秋女西装外套",2,1,0,0]
["春秋女装",14,0.85709999999999997,0,0]
["春秋女装 韩版",3,1,0,0]
["春秋女装外套",2,1,0,0]
["春秋女装外套新款",47,0.68089999999999995,2,4.2599999999999999E-2]
["春秋女装外套新款韩版",2,0.5,0,0]
["春秋女装外套休闲",1,1,0,0]
["春秋女装外套中长款",1,1,0,0]
["春秋女装小西装",1,0,0,0]
["春秋女装新款",1,1,0,0]
["春秋女装修身款小西装",1,1,0,0]
["春秋女装中长款西服",1,0,0,0]
["春秋外套",11,0.90910000000000002,0,0]
["春秋外套 女",1,0,0,0]
["春秋外套 女",80,0.72499999999999998,4,0.05]
["春秋外套 女 包邮",2,1,0,0]
["春秋外套 女 潮",2,1,0,0]
["春秋外套 女 韩版",2,1,0,0]
["春秋外套 女 中长款",2,0,0,0]
["春秋外套 女包邮",1,1,0,0]
["春秋外套 女潮",1,0,0,0]
["春秋外套韩版 女",1,0,0,0]
["春秋外套韩版西装 女",1,0,0,0]
["春秋外套女",16,0.875,0,0]
["春秋外套女装",1,0,0,0]
["春秋外套女装韩版",3,1,0,0]
["春秋外套西服女",1,1,0,0]
["春秋外套新款女",2,1,0,0]
["春秋外套修身小西装 雪纺拼接西服外套 韩版修身女装",1,1,0,0]
["春秋西装 女 外套",2,1,0,0]
["春秋西装 女 中长款",1,1,0,0]
["春秋西装 外套 女",1,1,0,0]
["春秋西装女",2,0,0,0]
["春秋西装外套",3,0.33329999999999999,0,0]
["春秋西装外套 女",4,0.5,0,0]
["春秋西装外套 女 红色",1,1,0,0]
["春秋西装外套女",1,1,0,0]
["春秋小西服",3,0,0,0]
["春秋小西服 长款",3,0,0,0]
["春秋小西服 女",2,1,0,0]
["春秋小西服女",1,1,0,0]
["春秋小西服女装新款",1,1,0,0]
["春秋小西装",1,1,0,0]
["春秋小西装 包邮",1,1,0,0]
["春秋小西装 女 韩版",1,0,0,0]
["春秋小西装 女 修身",1,1,0,0]
["春秋小西装 女 中长款",3,0,0,0]
["春秋小西装外套",1,1,0,0]
["春秋小西装外套女",6,0.33329999999999999,0,0]
["春秋小西装西服外套女装",1,1,0,0]
["春秋小西装西服小外套",1,1,0,0]
["春秋新款女装",1,1,0,0]
["春秋新款女装外套",1,0,0,0]
["春秋新款女装修身西装外套",1,0,0,0]
["春秋休闲小西服女",1,1,0,0]
["春秋修身西服女",1,1,0,0]
["春秋装",2,1,0,0]
["春秋装 女",4,1,0,0]
["春秋装 女 韩版",2,0.5,0,0]
["春秋装2013外套女",1,1,0,0]
["春秋装外套 新款 女装",1,1,0,0]
["春秋装外套女",1,0,0,0]
["春外套",4,0.5,0,0]
["春外套 女 包邮",1,0,0,0]
["春外套 女 韩版 潮",1,1,0,0]
["春外套 女2013",4,0.5,1,0.25]
["春外套 女2013小西服 白色修身长款",1,1,0,0]
["春外套女",2,1,0,0]
["春外套女2013",1,1,0,0]
["春西服女",1,1,0,0]
["春西装外套女",1,0,0,0]
["春小西装外套女",1,0,0,0]
["春装",9,0.77780000000000005,0,0]
["春装  女外套",5,0.8,0,0]
["春装 2013新款",4,0.75,0,0]
["春装 白色 小西装 女款",1,1,0,0]
["春装 长款 女",1,1,0,0]
["春装 长款西装 女",1,1,0,0]
["春装 韩版外套 女",6,0.83330000000000004,0,0]
["春装 女",7,0.57140000000000002,0,0]
["春装 女 韩版 潮",1,1,0,0]
["春装 女 外套",1,1,0,0]
["春装 女款2013外套",1,1,0,0]
["春装 女款2013修身",1,1,0,0]
["春装 女外套",1,1,0,0]
["春装 女外套 黑",1,1,0,0]
["春装 女小西服",1,0,0,0]
["春装 女装 韩版潮",1,1,0,0]
["春装 外套",2,1,0,0]
["春装 外套 潮 女",1,1,0,0]
["春装 外套 女",9,0.77780000000000005,1,0.1111]
["春装 外套 女 韩版",4,0.25,1,0.25]
["春装 西服 女",1,1,0,0]
["春装 西装 修身 女",1,1,0,0]
["春装 西装外套 女 韩版",1,1,0,0]
["春装 小外套",1,1,0,0]
["春装 小西服 女",1,1,0,0]
["春装 小西装潮 女",2,0,1,0.5]
["春装 新款外套",1,1,0,0]
["春装 修身西服 女",1,1,0,0]
["春装2013",7,0.85709999999999997,0,0]
["春装2013 休闲西装 女",2,0,0,0]
["春装2013女休闲西装 包邮",1,0,0,0]
["春装2013外套女",1,1,0,0]
["春装2013小西装女",1,0,0,0]
["春装2013新款",2,1,0,0]
["春装2013新款外套",4,0.75,0,0]
["春装白色外套",2,0.5,0,0]
["春装白色小西服",1,1,0,0]
["春装长外套",1,1,0,0]
["春装潮",1,0,0,0]
["春装韩版外套 女",4,0.5,0,0]
["春装韩版外套 女 包邮",1,0,0,0]
["春装黑色西装中长款",1,1,0,0]
["春装女",2,1,0,0]
["春装女外套",1,1,0,0]
["春装女外套2013新款",1,1,0,0]
["春装女外套新款",1,1,0,0]
["春装女西服长款",1,1,0,0]
["春装女休闲西装",1,0,0,0]
["春装女装韩版",1,1,0,0]
["春装女装外套",2,1,0,0]
["春装女装小西装",1,0,0,0]
["春装女装新款",1,0,0,0]
["春装女装新款外套",4,0.25,0,0]
["春装外套",22,0.77270000000000005,0,0]
["春装外套 女款2013",2,1,0,0]
["春装外套 包邮",1,1,0,0]
["春装外套 潮 女",1,0,0,0]
["春装外套 韩版 女",1,1,0,0]
["春装外套 女",7,0.71430000000000005,0,0]
["春装外套 女 韩版",14,0.85709999999999997,0,0]
["春装外套 女 西装 拼接",1,0,0,0]
["春装外套 女款",1,1,0,0]
["春装外套 女款2013",55,0.81820000000000004,2,3.6400000000000002E-2]
["春装外套 女款2013 包邮",1,1,0,0]
["春装外套 女款2013 潮",1,1,0,0]
["春装外套 女款2013包邮",1,1,0,0]
["春装外套 女款休闲小西服",1,0,0,0]
["春装外套 小西装",1,1,0,0]
["春装外套2013",1,1,0,0]
["春装外套包邮",1,1,0,0]
["春装外套韩版休闲小西服女",1,1,0,0]
["春装外套女",3,1,0,0]
["春装外套女 包邮",1,0,0,0]
["春装外套女款包邮",1,1,0,0]
["春装外套女士西装 2013新款",1,1,0,0]
["春装外套女装",1,1,0,0]
["春装外套女装新款",1,1,0,0]
["春装外套女装新款 包邮",1,1,0,0]
["春装外套西服 女款2013",1,1,0,0]
["春装外套西装 女款2013",1,1,0,0]
["春装外套小西服",1,1,0,0]
["春装外套中长款女",1,1,0,0]
["春装西服",2,1,0,0]
["春装西服 女款2013",3,0.66669999999999996,1,0.33329999999999999]
["春装西服女",2,1,0,0]
["春装西服女款",1,1,0,0]
["春装西服外套女款",1,1,0,0]
["春装西装",3,1,0,0]
["春装西装 女 韩版",1,1,0,0]
["春装西装 女款2013",1,1,0,0]
["春装西装女",2,1,0,0]
["春装西装外套 女",1,1,0,0]
["春装西装外套 女款2013",1,1,0,0]
["春装西装中长款",2,1,0,0]
["春装小外套",2,0.5,0,0]
["春装小外套 包邮",1,1,0,0]
["春装小外套新款2013白色",1,1,0,0]
["春装小西服",1,1,0,0]
["春装小西服 女款2013",1,1,0,0]
["春装小西服2013",1,1,0,0]
["春装小西服修身",1,1,0,0]
["春装小西服修身白色",2,1,0,0]
["春装小西装",2,0.5,0,0]
["春装小西装 女款2013",2,1,0,0]
["春装小西装韩版",1,1,0,0]
["春装小西装女款2013",1,0,0,0]
["春装小西装外套女",1,1,0,0]
["春装新款",2,0,0,0]
["春装新款2013",4,1,0,0]
["春装新款2013  休闲 西装 女 包邮",1,1,0,0]
["春装新款2013 小西装",1,0,0,0]
["春装新款2013女装韩版修身显瘦短款外套时尚长袖小西装外套9780",1,1,0,0]
["春装新款2013外套",1,1,0,0]
["春装新款2013小西装秒杀",1,1,0,0]
["春装新款韩版女装西装休闲中长款修身西服小西装外套",1,1,0,0]
["春装新款韩版小西装白色",1,1,0,0]
["春装新款女装韩版女士休闲小西服修身女西装女款西装中长款",1,1,0,0]
["春装新款女装韩版修身小西装小西服外套",1,0,0,0]
["春装新款女装小西装外套",1,0,0,0]
["春装新款外套",1,1,0,0]
["春装新款外套2013",3,0.66669999999999996,1,0.33329999999999999]
["春装新款外套女",1,0,0,0]
["春装新款外套女2013",1,0,0,0]
["春装休闲外套2013女",1,0,0,0]
["春装休闲外套女",2,0,1,0.5]
["春装休闲西服女",1,1,0,0]
["春装休闲西装外套 女",1,1,0,0]
["纯白色修身小西装",1,1,0,0]
["纯色小西装 女",1,1,0,0]
["纯色中长款西服长袖外套小西装",1,1,0,0]
["促销 特价 春秋小西装外套",1,1,0,0]
["大码韩版小西服 女潮",1,1,0,0]
["大码女装2013春装新品胖mm韩版ol雪纺拼接特大九分袖西装外套西服",1,1,0,0]
["大码拼接雪纺西装",1,1,0,0]
["德芙",1,0,0,0]
["凡恩 小西装",1,1,0,0]
["服贴",1,0,0,0]
["韩 西装外套 女",1,1,0,0]
["韩版",1,1,0,0]
["韩版 春装",1,1,0,0]
["韩版 春装西装",1,1,0,0]
["韩版 女 西服",1,0,1,1]
["韩版 女装",1,1,0,0]
["韩版 西装 女",2,1,0,0]
["韩版 西装 女士外套",1,1,0,0]
["韩版 小西装 潮 女",2,1,0,0]
["韩版 小西装 潮 女 修身",1,1,0,0]
["韩版 小西装 女",1,1,0,0]
["韩版 小西装 女士",1,1,0,0]
["韩版 一粒扣 西服",1,1,0,0]
["韩版白色小西装 女 秋",1,1,0,0]
["韩版长款 女 西服 包邮",1,1,0,0]
["韩版长款女西装",1,1,0,0]
["韩版长款外套女装西装",1,0,0,0]
["韩版长款西服女",1,1,0,0]
["韩版长款西装女",1,0,0,0]
["韩版春季外套 女潮",2,1,0,0]
["韩版春秋款西装",1,1,0,0]
["韩版春秋女士休闲西服修身开衫薄外衣ol雪纺拼接中长款小西装外套&yen",5,0,0,0]
["韩版春秋女外套",1,0,0,0]
["韩版春秋女装",1,1,0,0]
["韩版春秋女装外套",1,1,0,0]
["韩版春秋外套女",1,1,0,0]
["韩版春装",2,0,0,0]
["韩版春装外套",1,1,0,0]
["韩版春装外套 女",1,1,0,0]
["韩版春装外套女潮",3,0.33329999999999999,0,0]
["韩版春装外套女装",4,0.75,0,0]
["韩版春装外套小西服女潮",1,1,0,0]
["韩版春装西服修身女款",1,1,0,0]
["韩版春装小西装女",1,1,0,0]
["韩版女 潮 外套",1,0,0,0]
["韩版女 西服 春",1,1,0,0]
["韩版女款休闲西服",1,1,0,0]
["韩版女西服",1,1,0,0]
["韩版女西装",1,1,0,0]
["韩版女西装春装外套",2,0,0,0]
["韩版女西装外套",1,1,0,0]
["韩版女装",2,0.5,0,0]
["韩版女装外套春秋",1,1,0,0]
["韩版女装外套小西装西服",1,0,0,0]
["韩版女装西服外套",1,1,0,0]
["韩版女装西装",2,1,0,0]
["韩版女装小西装",1,0,0,0]
["韩版女装修身小西装中长款",1,0,0,0]
["韩版女装修身休闲白色小西装西服女中长款",2,0,0,0]
["韩版拼接西装外套女装",1,0,0,0]
["韩版糖果色西装",1,1,0,0]
["韩版外套 女 春",1,1,0,0]
["韩版外套 女 春秋",1,1,0,0]
["韩版外套女春装新款",1,1,0,0]
["韩版外套女装春秋",1,1,0,0]
["韩版外套女装新款",1,1,0,0]
["韩版西服",1,1,0,0]
["韩版西服 女",1,1,0,0]
["韩版西服女",5,0.2,1,0.2]
["韩版西服女士",1,0,0,0]
["韩版西服女修身",3,1,0,0]
["韩版西服外套 女",1,0,0,0]
["韩版西服外套女",2,1,0,0]
["韩版西装",1,1,0,0]
["韩版西装 女",2,1,0,0]
["韩版西装 女 春秋",1,1,0,0]
["韩版西装女",2,0,0,0]
["韩版西装女春",1,1,0,0]
["韩版西装女款",1,1,0,0]
["韩版西装女中长款",6,0.5,0,0]
["韩版西装女装新款",1,1,0,0]
["韩版西装外套 女",1,1,0,0]
["韩版西装外套女包邮",1,0,0,0]
["韩版西装外套女装",2,1,0,0]
["韩版小外套 女 春秋",1,1,0,0]
["韩版小外套女",1,1,0,0]
["韩版小外套女小西装",1,0,0,0]
["韩版小西服 女潮",2,0.5,0,0]
["韩版小西服女修身",5,0.6,0,0]
["韩版小西装",1,1,0,0]
["韩版小西装 女",1,1,0,0]
["韩版小西装 女款",1,1,0,0]
["韩版小西装女",3,1,0,0]
["韩版小西装女款",1,0,0,0]
["韩版小西装女修身中长款小西服女",1,1,0,0]
["韩版小西装女装新款",2,1,0,0]
["韩版小西装外套",1,0,0,0]
["韩版小西装修身女",7,0.85709999999999997,0,0]
["韩版休闲女修身西服",1,1,0,0]
["韩版休闲女装外套",2,1,0,0]
["韩版休闲西服",1,1,0,0]
["韩版休闲西服 女",1,1,0,0]
["韩版休闲西服女",1,1,0,0]
["韩版休闲西服女款",1,1,0,0]
["韩版休闲西服中长女",1,1,0,0]
["韩版休闲西装 女",1,1,0,0]
["韩版休闲小西装外套2013春装新款女装中长款修身西服",1,1,0,0]
["韩版休闲修身显瘦垫肩中长款小西服外套",1,1,0,0]
["韩版修身外套 女",1,1,0,0]
["韩版修身外套女潮",1,0,0,0]
["韩版修身西服女款",1,0,1,1]
["韩版修身西装外套女",2,1,0,0]
["韩版修身西装外套女白色",1,1,0,0]
["韩版修身小外套",1,1,0,0]
["韩版修身小西服女",1,1,0,0]
["韩版修身小西装",1,0,1,1]
["韩版修身小西装女",1,1,0,0]
["韩版修身小西装女春装",2,1,0,0]
["韩版修身休闲小西装外套",1,1,0,0]
["韩版修身休闲小西装外套包邮",1,1,0,0]
["韩版修身休闲中长款一粒扣雪纺小西装",1,1,0,0]
["韩版修身休闲中长款一粒扣雪纺小西装西服外套",3,0.33329999999999999,0,0]
["韩版修身雪纺拼接西服",1,1,0,0]
["韩版修身中长款小西装",3,0.33329999999999999,0,0]
["韩版修身中长款雪纺小西服",2,0,0,0]
["韩版雪纺西装外套 女",1,0,0,0]
["韩版中长款长袖修身小西装",2,0,0,0]
["韩版中长款西装女",1,1,0,0]
["韩版中长款修身西服",1,1,0,0]
["韩版中长款修身小西服女装",1,1,0,0]
["韩小西装女",1,1,0,0]
["荷叶边西服",1,1,0,0]
["黑 修身 小西装 休闲 潮",1,1,0,0]
["黑白色外套",1,1,0,0]
["黑色 小西装 女",1,1,0,0]
["黑色女西装外套",1,1,0,0]
["黑色西服女修身",1,1,0,0]
["黑色西装 女",1,1,0,0]
["黑色西装 女 修身",2,1,0,0]
["黑色西装外套 女",1,1,0,0]
["黑色小西服女",1,1,0,0]
["黑色小西装 女",1,0,0,0]
["黑色小西装 女 修身",2,1,0,0]
["黑色小西装 修身 女 韩版",1,1,0,0]
["黑色小西装休闲 特价",1,1,0,0]
["黑色修身小西服",1,1,0,0]
["黑色修身小西装女",1,1,0,0]
["黑外套",1,1,0,0]
["红 西装",1,0,0,0]
["红色 西装外套 女",1,0,0,0]
["红色 修身 小西装",1,1,0,0]
["红色长款西服",1,1,0,0]
["红色长款西装",1,1,0,0]
["红色西装",3,1,0,0]
["红色西装 女",1,1,0,0]
["红色小西服 女",1,1,0,0]
["红色小西装",2,0.5,0,0]
["红色小西装女修身",1,1,0,0]
["红西装女",1,1,0,0]
["红袖",3,0.33329999999999999,0,0]
["红袖 女装",1,1,0,0]
["红袖 春秋",1,1,0,0]
["红袖 连衣裙",1,0,0,0]
["红袖 西服",1,1,0,0]
["红袖2012秋",1,1,0,0]
["红袖2013春装",1,1,0,0]
["红袖2013春装 白色小西装",1,1,0,0]
["红袖2013春装白西服",1,1,0,0]
["红袖2013春装新款",6,0.66669999999999996,0,0]
["红袖2013新款",1,1,0,0]
["红袖h2071931.117",1,1,0,0]
["红袖h5540823",1,1,0,0]
["红袖长款西装",1,1,0,0]
["红袖春装",1,1,0,0]
["红袖春装新款2013",1,1,0,0]
["红袖货号: h2382631a",1,0,1,1]
["红袖江南",6,0,0,0]
["红袖江南 小西装",1,1,0,0]
["红袖江南小西服外套",2,0,0,0]
["红袖女装",2,1,0,0]
["红袖女装2013新款春装外套",2,0,0,0]
["红袖女装春装",1,1,0,0]
["红袖外套",1,1,0,0]
["红袖小西装",2,1,0,0]
["后背雪纺拼接小西装外套3色",1,0,0,0]
["蕾丝连体裤短裤",1,1,0,0]
["毛呢西装外套女中长款",1,0,0,0]
["魅衣纱",1,1,0,0]
["梦芭莎女装2013新款",1,1,0,0]
["棉麻 白色",1,1,0,0]
["免邮小西服",1,1,0,0]
["牛仔小西装女修身",1,0,0,0]
["女 白色小西装",1,1,0,0]
["女 春秋 外套",2,1,0,0]
["女 春秋外套",1,0,0,0]
["女 春装 红袖",1,1,0,0]
["女 外套 春秋",8,0.75,0,0]
["女 外套 春秋 西装",2,0,0,0]
["女 外套 春秋 新款",1,1,0,0]
["女 西服",1,1,0,0]
["女 西服 春秋",1,0,0,0]
["女 西服 外套",1,0,0,0]
["女 西装",3,0.33329999999999999,1,0.33329999999999999]
["女 西装 春",1,1,0,0]
["女 西装 修身",1,1,0,0]
["女 小外套 春秋",1,1,0,0]
["女 小西装",6,0.5,0,0]
["女 小西装 春",1,1,0,0]
["女 小西装 春秋",2,1,0,0]
["女 休闲 西装",2,0,0,0]
["女 休闲西服",1,0,1,1]
["女 休闲西装",1,1,0,0]
["女 中长款西服",2,1,0,0]
["女2013新款小西服外套",1,1,0,0]
["女2013休闲西装外套",1,1,0,0]
["女白色西服",1,1,0,0]
["女白西装",1,1,0,0]
["女长西服",1,1,0,0]
["女长西装外套",1,0,0,0]
["女春季西装",1,1,0,0]
["女春秋长款小西服包邮",1,1,0,0]
["女春秋款休闲外套",1,1,0,0]
["女春秋外套",1,0,0,0]
["女春秋外套新款",1,1,0,0]
["女春秋西装",1,1,0,0]
["女春秋中长西装",1,0,0,0]
["女春装  西服包邮",1,1,0,0]
["女春装2013外套",3,0,0,0]
["女春装2013新款",2,1,0,0]
["女春装2013新款外套",1,1,0,0]
["女春装2013新款西装",8,0.875,0,0]
["女春装2013新款小西装",1,1,0,0]
["女春装外套",1,0,0,0]
["女韩版外套春秋",2,0,0,0]
["女韩版西服修身",1,1,0,0]
["女韩版修身小西装",1,1,0,0]
["女款 春秋",1,1,0,0]
["女款 拼接色西服",1,0,0,0]
["女款 西装",2,1,0,0]
["女款 小西装 春秋 休闲",1,1,0,0]
["女款 休闲西服",1,1,0,0]
["女款2013春季外套",1,1,0,0]
["女款白色西服",1,1,0,0]
["女款白色西装外套",2,0.5,0,0]
["女款白色小西装",1,0,0,0]
["女款长袖小西装",1,1,0,0]
["女款春秋外套",2,1,0,0]
["女款春秋外套包邮",1,1,0,0]
["女款春装2013外套中长款",1,1,0,0]
["女款春装外套",1,1,0,0]
["女款春装外套2013",1,1,0,0]
["女款春装外套包邮",1,1,0,0]
["女款春装外套小西装",1,1,0,0]
["女款春装小外套",1,1,0,0]
["女款韩版西服",1,1,0,0]
["女款红西服",1,0,0,0]
["女款西服",4,1,0,0]
["女款西服 2013新款",3,0.33329999999999999,0,0]
["女款西服 韩版",1,1,0,0]
["女款西服韩版",1,1,0,0]
["女款西服中长款",1,1,0,0]
["女款西装",1,1,0,0]
["女款西装2013",1,1,0,0]
["女款西装韩版",1,1,0,0]
["女款西装外套",3,1,0,0]
["女款西装外套韩版",1,1,0,0]
["女款西装外套修身",3,1,0,0]
["女款小西服",1,1,0,0]
["女款小西服 2013新款",1,1,0,0]
["女款小西服2013",3,0.33329999999999999,0,0]
["女款小西服包邮",1,1,0,0]
["女款小西装",2,0.5,0,0]
["女款小西装2013",1,1,0,0]
["女款小西装春装2013",2,1,0,0]
["女款小西装修身",1,1,0,0]
["女款小西装中长款",1,1,0,0]
["女款休闲西装",1,1,0,0]
["女款休闲小西装",1,0,0,0]
["女款中长款西装外套",1,0,0,0]
["女款中长款小西装",2,1,0,0]
["女生春秋装",1,1,0,0]
["女生韩版小西装 包邮",1,1,0,0]
["女生西服",1,1,0,0]
["女生西装",1,0,0,0]
["女生小西服韩版",1,0,0,0]
["女生小西装",2,1,0,0]
["女生新款韩版小西装",1,1,0,0]
["女生休闲小西装",1,1,0,0]
["女士 春季 外套",1,1,0,0]
["女士 西装 韩版 潮",1,0,0,0]
["女士白色西装",1,1,0,0]
["女士白色小西服",2,1,0,0]
["女士白色小西服 长款",1,1,0,0]
["女士白色小西装",3,1,0,0]
["女士长款白色小西服 2013款",1,1,0,0]
["女士长款西服包邮",1,1,0,0]
["女士长款西服外套",1,1,0,0]
["女士春季新款外套",1,1,0,0]
["女士春秋外套新款",1,1,0,0]
["女士春秋小外套",1,1,0,0]
["女士春秋小西装",1,1,0,0]
["女士韩版小西装",1,1,0,0]
["女士韩版小西装2013春装",1,1,0,0]
["女士外套",1,1,0,0]
["女士外套 春秋装",3,0.33329999999999999,0,0]
["女士外套 韩版 潮",2,1,0,0]
["女士外套 韩版包邮",1,1,0,0]
["女士外套 西装 中长款",1,1,0,0]
["女士外套春秋款包邮",1,1,0,0]
["女士外套春秋装",5,1,0,0]
["女士外套春装",2,0.5,0,0]
["女士外套休闲西装",1,1,0,0]
["女士西装",6,1,0,0]
["女士西装春装",1,1,0,0]
["女士西装外套",4,1,0,0]
["女士西装外套 韩版",2,0,0,0]
["女士西装外套韩版",7,1,0,0]
["女士西装外套韩版包邮",4,0.25,0,0]
["女士西装外套中长款",2,1,0,0]
["女士小外套",1,0,0,0]
["女士小西服",3,0.66669999999999996,0,0]
["女士小西服 2013款",1,0,0,0]
["女士小西服外套",2,0,0,0]
["女士小西服外套小西装 2013",1,0,0,0]
["女士新款西服",1,0,0,0]
["女士新款休闲小西装",1,1,0,0]
["女士休西包邮",1,0,0,0]
["女士休闲春装外套",1,1,0,0]
["女士休闲春装外套2013",1,0,0,0]
["女士休闲西服",11,0.72729999999999995,0,0]
["女士休闲西服免运费",1,1,0,0]
["女士休闲小西装",1,1,0,0]
["女士休闲小西装包邮",1,1,0,0]
["女士修身长款西服",1,0,0,0]
["女士修身西装外套",1,1,0,0]
["女士中长款小西装",1,1,0,0]
["女式 春装 外套",1,1,0,0]
["女式白色春秋服",2,0,0,0]
["女式白色西装",1,1,0,0]
["女式白色小西服中长版",1,1,0,0]
["女式春秋小西服",1,1,0,0]
["女式韩版休闲小西服",1,1,0,0]
["女式西装",1,1,0,0]
["女式西装外套",1,0,0,0]
["女式西装外套修身",1,0,0,0]
["女式小西服 纯色 休闲 包邮",1,1,0,0]
["女式休闲西服",2,0.5,0,0]
["女式中长白色休闲西服",1,1,0,0]
["女特价小西装",1,1,0,0]
["女外套 春秋装",1,0,0,0]
["女外套 春装",1,1,0,0]
["女外套2013春新款",3,1,0,0]
["女外套春秋款",3,1,0,0]
["女外套春秋款休闲",8,0.875,1,0.125]
["女外套春秋款中长款",1,1,0,0]
["女西服",3,0.66669999999999996,0,0]
["女西服2013",1,1,0,0]
["女西服包邮",1,1,0,0]
["女西服春秋",1,1,0,0]
["女西服外套韩版",4,0.75,0,0]
["女西服中长款",3,1,0,0]
["女西装",15,0.93330000000000002,0,0]
["女西装 外套",1,1,0,0]
["女西装 外套，白色",1,1,0,0]
["女西装长款",1,1,0,0]
["女西装裙",1,1,0,0]
["女西装外套",6,0.83330000000000004,0,0]
["女西装外套 修身",2,1,0,0]
["女西装外套包邮",1,1,0,0]
["女西装外套包邮春",1,1,0,0]
["女西装外套春秋款",2,0.5,0,0]
["女西装外套韩版",1,0,0,0]
["女西装外套中长款",1,1,0,0]
["女西装休闲",1,1,0,0]
["女小外套",1,1,0,0]
["女小外套春秋款",1,1,0,0]
["女小西服",3,0.33329999999999999,0,0]
["女小西服外套",1,1,0,0]
["女小西装",3,0.66669999999999996,0,0]
["女小西装2013新款",2,1,0,0]
["女小西装韩版2013新款",1,1,0,0]
["女小西装修身",3,0,0,0]
["女休闲西服五分袖",1,1,0,0]
["女休闲西装外套韩版",2,1,0,0]
["女休闲西装中长款",1,1,0,0]
["女休闲小西装 包邮",1,0,0,0]
["女修身小西服 春秋",1,1,0,0]
["女修身小西装",3,1,0,0]
["女修身中长款小西装",1,1,0,0]
["女中长款小西装",1,0,0,0]
["女中长款休闲西装",1,1,0,0]
["女装",7,0.85709999999999997,0,0]
["女装  春",1,1,0,0]
["女装 春秋 韩版",1,0,0,0]
["女装 春秋外套",1,1,0,0]
["女装 春秋外套 韩版修身一粒扣小西装",1,1,0,0]
["女装 春装 外套 包邮",1,1,0,0]
["女装 春装 新款2013",1,1,0,0]
["女装 韩版 潮 外套",1,1,0,0]
["女装 外套",5,0.6,0,0]
["女装 外套 春",1,1,0,0]
["女装 外套 春包邮",1,1,0,0]
["女装 外套 春秋",5,0.6,0,0]
["女装 外套 春秋 潮",1,1,0,0]
["女装 外套 春装",1,1,0,0]
["女装 外套春装",3,1,0,0]
["女装 西服 包邮",1,1,0,0]
["女装 西服 新款2013",1,1,0,0]
["女装 西服外套",1,0,0,0]
["女装 西装",1,1,0,0]
["女装 西装 春秋",1,1,0,0]
["女装 西装 修身",1,1,0,0]
["女装 小西装",1,0,0,0]
["女装 小西装 韩版",2,1,0,0]
["女装 新款 西服",1,1,0,0]
["女装 休闲西服",1,1,0,0]
["女装-西服外套",1,1,0,0]
["女装2013春装新款",1,1,0,0]
["女装2013春装新款小西装外套 女修身韩版中长款一粒扣小西服女",1,1,0,0]
["女装2013新款外套",1,0,0,0]
["女装2013新款小西服",1,1,0,0]
["女装　小西服",1,1,0,0]
["女装长西服",1,1,0,0]
["女装春款2013新款西服",2,0,0,0]
["女装春秋长款西装",1,1,0,0]
["女装春秋外套",5,1,0,0]
["女装春秋外套新款",1,1,0,0]
["女装春秋外套中长款",1,1,0,0]
["女装春秋休闲西服外套",1,1,0,0]
["女装春装",2,0,0,0]
["女装春装2013外套",1,1,0,0]
["女装春装2013新款",1,1,0,0]
["女装春装长款西装外套韩版",1,1,0,0]
["女装春装外套",3,0.66669999999999996,0,0]
["女装春装外套2013",16,0.5,0,0]
["女装春装外套2013新款",2,1,0,0]
["女装春装外套包邮",1,0,0,0]
["女装春装外套韩版",1,1,0,0]
["女装春装外套中长款",1,1,0,0]
["女装春装西服",1,1,0,0]
["女装春装西服外套",1,1,0,0]
["女装春装西服外套2013新款",1,1,0,0]
["女装春装西装外套",1,1,0,0]
["女装韩版外套春装",1,1,0,0]
["女装韩版修身休闲中长款小西装外套女",1,1,0,0]
["女装黑色韩版西服",1,1,0,0]
["女装拼接西服",1,1,0,0]
["女装外套",15,0.86670000000000003,0,0]
["女装外套 春秋",1,1,0,0]
["女装外套 春装",2,1,0,0]
["女装外套 韩版 2013",1,1,0,0]
["女装外套春装",3,0.33329999999999999,0,0]
["女装外套韩版",1,1,0,0]
["女装外套韩版中长西装女修身",1,1,0,0]
["女装外套西服",1,1,0,0]
["女装西服",2,1,0,0]
["女装西服白色外套",1,1,0,0]
["女装西服长款",1,1,0,0]
["女装西服韩版",1,0,0,0]
["女装西服韩版修身",5,0.4,0,0]
["女装西服外套 小西装",1,1,0,0]
["女装西服雪纺",1,1,0,0]
["女装西装",1,1,0,0]
["女装西装韩版修身",2,1,0,0]
["女装西装外套",1,1,0,0]
["女装西装修身",1,0,0,0]
["女装小外套",1,1,0,0]
["女装小外套春秋装",2,0.5,0,0]
["女装小外套小西装",1,0,0,0]
["女装小西服",1,1,0,0]
["女装小西服货到付款",1,1,0,0]
["女装小西服修身",2,1,0,0]
["女装小西装",1,1,0,0]
["女装小西装外套",2,1,0,0]
["女装小西装新款",2,0.5,1,0.5]
["女装新款春装外套",1,1,0,0]
["女装休闲春秋西服",3,0,0,0]
["女装休闲外套 春秋",1,1,0,0]
["女装休闲西服外套",1,1,0,0]
["女装休闲西装外套",2,0.5,0,0]
["女装休闲小西装外套",1,1,0,0]
["女装修身小西装",4,0,0,0]
["女裝外套",2,0.5,0,0]
["欧美大码胖美眉女装秋季西服",1,1,0,0]
["拼 外套",1,1,0,0]
["拼接",2,1,0,0]
["拼接领  女",1,1,0,0]
["拼接外套 女 韩版",2,0.5,0,0]
["拼接外套女",1,1,0,0]
["拼接西服",2,0.5,0,0]
["拼接西装女",1,1,0,0]
["拼接西装外套 女",3,0.66669999999999996,0,0]
["拼接小西服",1,0,0,0]
["拼接小西装外套 女",1,1,0,0]
["拼接休闲小西装 女",1,0,0,0]
["拼接雪纺长袖小西装",1,1,0,0]
["拼色小西装女",1,1,0,0]
["浅色长款小西服 女 包邮",1,1,0,0]
["清仓大衣毛呢外套",4,0.5,0,0]
["秋 韩版",1,1,0,0]
["秋季外套",1,1,0,0]
["秋季新款女装",1,1,0,0]
["秋季休闲西装女",1,1,0,0]
["秋款 外套 百搭 韩版 修身 收腰 显瘦 小西装 休闲西服 女装大码",1,1,0,0]
["秋外套 女 韩版 潮",1,0,0,0]
["秋装新款女装秋季小西装中长款外套韩版修身型长袖三色",1,1,0,0]
["乳白色休闲小西装",1,1,0,0]
["瑞丽推荐 女装春装新款修身中长款休闲ol小西装",1,1,0,0]
["时尚韩版修身中长款雪纺小西服 春款女装西装 外套 女",3,0.33329999999999999,0,0]
["帅气雪纺拼接单扣修身短外套 小西装",1,1,0,0]
["唐狮白色小西装 女 修身",1,1,0,0]
["淘宝网购物女装",3,0.33329999999999999,0,0]
["淘宝网购物女装小西装",1,1,0,0]
["淘宝网秋装女装",1,1,0,0]
["淘宝网商城天猫女装",2,1,0,0]
["淘宝网首页天猫商城",3,0,0,0]
["特价春秋女外套包邮",1,1,0,0]
["特价韩版春秋女外套",1,1,0,0]
["通勤韩版小西装女",1,1,0,0]
["通勤西装长款",1,0,0,0]
["通勤小西装",1,0,0,0]
["驼色修身西装外套",1,1,0,0]
["外套",15,0.93330000000000002,0,0]
["外套 女 春秋 韩版",1,1,0,0]
["外套  女春装",1,1,0,0]
["外套  女装",3,0.66669999999999996,0,0]
["外套 -皮草 -羽绒 -呢 -棉",1,1,0,0]
["外套 白色",1,1,0,0]
["外套 白色 女",1,1,0,0]
["外套 春",2,1,0,0]
["外套 春 女",2,1,0,0]
["外套 春女  潮",1,1,0,0]
["外套 春秋 韩版女",1,1,0,0]
["外套 春秋 女",9,0.66669999999999996,0,0]
["外套 春秋 女 韩版",1,0,0,0]
["外套 黑色 女",1,1,0,0]
["外套 女",1,1,0,0]
["外套 女 春",6,1,0,0]
["外套 女 春秋",19,0.73680000000000001,0,0]
["外套 女 春秋 白色",1,0,1,1]
["外套 女 春秋 包邮",3,0.66669999999999996,0,0]
["外套 女 春秋 潮",5,0.6,0,0]
["外套 女 春秋 韩版",99,0.70709999999999995,2,2.0199999999999999E-2]
["外套 女 春秋 红",1,1,0,0]
["外套 女 春秋 西装",1,1,0,0]
["外套 女 春秋 新",2,1,0,0]
["外套 女 春秋 新款",1,1,0,0]
["外套 女 春秋 休闲",14,0.78569999999999995,0,0]
["外套 女 春秋长",1,0,0,0]
["外套 女 春秋小西装",1,1,0,0]
["外套 女 韩版",1,1,0,0]
["外套 女 韩版 潮",1,1,0,0]
["外套 女 西服",2,1,0,0]
["外套 休闲 女 春秋",2,1,0,0]
["外套春秋",1,1,0,0]
["外套春秋女",1,1,0,0]
["外套春秋女装",1,1,0,0]
["外套春秋女装韩版",1,1,0,0]
["外套春装",1,1,0,0]
["外套春装 女",1,1,0,0]
["外套春装女韩版",1,1,0,0]
["外套春装新款",4,0,0,0]
["外套女 春秋",6,1,0,0]
["外套女 春秋 韩版",51,0.62749999999999995,0,0]
["外套女 春秋 韩版 包邮",1,0,0,0]
["外套女 春秋 韩版包邮",1,1,0,0]
["外套女 春秋 外套",2,1,0,0]
["外套女春秋",2,1,0,0]
["外套女春秋 韩版",1,1,0,0]
["外套女春秋韩版",1,1,0,0]
["外套女春秋新款",2,0.5,0,0]
["外套女春新款包邮",1,1,0,0]
["外套女春装",1,1,0,0]
["外套女新款2013",1,1,0,0]
["外套女装",9,1,0,0]
["外套女装 春",2,1,0,0]
["外套女装 春秋",1,1,0,0]
["外套女装 春秋装",2,1,0,0]
["外套女装春装",1,1,0,0]
["外套女装韩版",1,1,0,0]
["外套西服 女",1,1,0,0]
["外套西装 女 春秋 韩版  包邮",1,1,0,0]
["外套西装女",1,1,0,0]
["外套小西装",2,1,0,0]
["外套小西装女修身",1,1,0,0]
["外套休闲西装女装",1,0,0,0]
["外套修身小西装 雪纺拼接西服外套女装 新款",1,0,0,0]
["屋塔房王世子世娜",1,1,0,0]
["西",1,1,0,0]
["西 女",1,1,0,0]
["西服",31,0.9032,0,0]
["西服 2013 春",1,1,0,0]
["西服 白色 女 长",1,1,0,0]
["西服 包邮",1,1,0,0]
["西服 潮 女",1,1,0,0]
["西服 春 女",1,1,0,0]
["西服 春 中长款",1,1,0,0]
["西服 韩版",1,1,0,0]
["西服 女",45,0.71109999999999995,1,2.2200000000000001E-2]
["西服 女 白色",1,1,0,0]
["西服 女 包邮",4,0.75,0,0]
["西服 女 春",2,1,0,0]
["西服 女 春秋",2,0.5,0,0]
["西服 女 翻袖 中长 -毛呢",1,0,0,0]
["西服 女 韩版",1,1,0,0]
["西服 女 韩版 潮",1,1,0,0]
["西服 女 韩修身 白色",1,0,0,0]
["西服 女 黑",1,1,0,0]
["西服 女 红色",1,1,0,0]
["西服 女 蝴蝶结 -毛呢",1,0,0,0]
["西服 女 蝴蝶结 翻袖 -毛呢",1,0,0,0]
["西服 女 休闲",1,0,0,0]
["西服 女 修身",3,0.66669999999999996,0,0]
["西服 女 修身 白色",1,0,0,0]
["西服 女 中长款",22,0.90910000000000002,0,0]
["西服 女 中长款 潮",1,0,0,0]
["西服 女 中长款 春",2,0,0,0]
["西服 女韩版 潮",1,1,0,0]
["西服 外套 女",2,0.5,0,0]
["西服 修身 韩版 女",85,0.76470000000000005,1,1.18E-2]
["西服 修身 韩版 女 包邮",1,0,0,0]
["西服 修身 女",1,1,0,0]
["西服 修身 女款",1,0,0,0]
["西服 修身 女款白色",1,1,0,0]
["西服 雪纺",1,1,0,0]
["西服 雪纺 春秋",1,1,0,0]
["西服 雪纺 女",1,1,0,0]
["西服 中长款 女",1,0,0,0]
["西服包邮女",2,1,0,0]
["西服韩版 女 修身",1,1,0,0]
["西服韩版 女 修身",8,0.75,0,0]
["西服款小外套",1,1,0,0]
["西服领春秋外套",1,1,0,0]
["西服女",19,0.78949999999999998,0,0]
["西服女 白",1,1,0,0]
["西服女 白色",1,1,0,0]
["西服女 修身 韩版",56,0.78569999999999995,0,0]
["西服女 修身 韩版 2013新春装",1,1,0,0]
["西服女 修身 韩版白色",1,1,0,0]
["西服女春",1,1,0,0]
["西服女黑色 包邮",1,0,0,0]
["西服女款 2013新款",1,1,0,0]
["西服女特价",1,1,0,0]
["西服女外套春秋",1,1,0,0]
["西服女修身",1,1,0,0]
["西服女修身包邮2013",1,1,0,0]
["西服女中长款",1,1,0,0]
["西服女中长款春装",2,0,0,0]
["西服女装 2012 新款",2,0.5,0,0]
["西服女装 2013 新款",4,0.5,0,0]
["西服女装 2013 新款包邮",1,1,0,0]
["西服女装 白色2013 新款",1,1,0,0]
["西服女装 中长款",4,0.5,0,0]
["西服外套",2,1,0,0]
["西服外套 女",3,1,0,0]
["西服外套 女 潮",1,1,0,0]
["西服外套 女 春秋",7,0.42859999999999998,0,0]
["西服外套 女 韩版",1,1,0,0]
["西服外套 女 中长款",2,1,0,0]
["西服外套 修身 韩版 女",1,1,0,0]
["西服外套 修身 女",1,1,0,0]
["西服外套韩版西装女中长款毛绒呢外套连帽休闲",1,1,0,0]
["西服外套女长款",1,1,0,0]
["西服小外套",1,1,0,0]
["西服小外套 女",1,1,0,0]
["西服新款女",1,1,0,0]
["西服休闲 女",1,1,0,0]
["西服休闲女",1,1,0,0]
["西服修身外套包邮 女",1,1,0,0]
["西服中长袖",1,1,0,0]
["西瓜家女装",1,1,0,0]
["西外",1,1,0,0]
["西装",52,0.90380000000000005,0,0]
["西装 -呢 --格 --肩 - -雪纺 - -花",1,1,0,0]
["西装 白 韩",1,1,0,0]
["西装 白色",3,1,0,0]
["西装 长款",2,0.5,0,0]
["西装 春秋 修身 女",1,1,0,0]
["西装 韩版 修身 女",1,1,0,0]
["西装 黑",1,1,0,0]
["西装 红",1,1,0,0]
["西装 女",41,0.78049999999999997,0,0]
["西装 女 包邮",1,1,0,0]
["西装 女 春",1,0,0,0]
["西装 女 春秋",2,0.5,0,0]
["西装 女 春秋 白",1,1,0,0]
["西装 女 韩版",1,0,0,0]
["西装 女 外套",74,0.79730000000000001,1,1.35E-2]
["西装 女 外套 春秋",3,0.66669999999999996,0,0]
["西装 女 修身",11,0.81820000000000004,0,0]
["西装 女 修身 白色",1,1,0,0]
["西装 女 修身 包邮",1,1,0,0]
["西装 女 修身 春秋",1,1,0,0]
["西装 女 修身 韩版",2,1,0,0]
["西装 女 修身 中长款 秋",1,1,0,0]
["西装 女 中长",2,1,0,0]
["西装 女 中长款",24,0.83330000000000004,0,0]
["西装 女 中长款 春",4,0.75,0,0]
["西装 女 中长款 春秋",3,0.33329999999999999,0,0]
["西装 女 中长款 春秋 包邮",1,0,0,0]
["西装 女 中长款 韩版",2,0,0,0]
["西装 女 中长款包邮",1,0,0,0]
["西装 女 中长款春秋",1,1,0,0]
["西装 女款 2013",1,1,0,0]
["西装 女修身黑色",1,1,0,0]
["西装 拼接 女",2,1,0,0]
["西装 拼接雪纺",1,0,0,0]
["西装 外套 女",7,0.85709999999999997,0,0]
["西装 修身",2,1,0,0]
["西装 修身 女",1,0,0,0]
["西装 修身 女 韩版",1,1,0,0]
["西装 雪纺",2,0,1,0.5]
["西装白色外套 女",1,0,0,0]
["西装潮女包邮",1,1,0,0]
["西装春秋",1,0,0,0]
["西装韩版",1,1,0,0]
["西装女",14,0.35709999999999997,0,0]
["西装女 韩版",1,1,0,0]
["西装女 韩版 修身白",1,1,0,0]
["西装女 修身长款",1,1,0,0]
["西装女2013新款",1,1,0,0]
["西装女款",1,1,0,0]
["西装女款2013新款",1,1,0,0]
["西装女士修身",1,1,0,0]
["西装女外套",1,1,0,0]
["西装女休闲",1,0,0,0]
["西装女修身包邮",1,0,0,0]
["西装女中长款",3,1,0,0]
["西装女中长款修身",1,0,0,0]
["西装女装韩版",2,0.5,0,0]
["西装拼接 女",1,1,0,0]
["西装外套",11,0.90910000000000002,0,0]
["西装外套 春",1,1,0,0]
["西装外套 春 女装",1,1,0,0]
["西装外套 女",56,0.80359999999999998,0,0]
["西装外套 女 包邮",1,0,1,1]
["西装外套 女 潮",1,1,0,0]
["西装外套 女 春秋",5,0.8,0,0]
["西装外套 女 春秋 包邮",1,1,0,0]
["西装外套 女 春秋 韩版",2,1,0,0]
["西装外套 女 春秋 韩版包邮",1,1,0,0]
["西装外套 女 春秋 中长款",1,1,0,0]
["西装外套 女 春装",1,1,0,0]
["西装外套 女 韩版",82,0.81710000000000005,1,1.2200000000000001E-2]
["西装外套 女 韩版白色",1,1,0,0]
["西装外套 女 休闲",1,1,0,0]
["西装外套 女 修身",8,1,0,0]
["西装外套 女 中长款",4,0.75,1,0.25]
["西装外套 女 中长款包邮",1,1,1,1]
["西装外套 女 中长款春",1,1,0,0]
["西装外套 女装",1,0,0,0]
["西装外套 中长款女 韩版",1,1,0,0]
["西装外套春秋款女",1,1,0,0]
["西装外套春秋女",1,1,0,0]
["西装外套女",15,0.93330000000000002,0,0]
["西装外套女 包邮",1,1,0,0]
["西装外套女 春秋 韩版",1,1,0,0]
["西装外套女2013",1,1,0,0]
["西装外套女春秋",1,1,0,0]
["西装外套女中长款雪纺",1,1,0,0]
["西装外套西服 女",1,1,0,0]
["西装外套小西服韩版修身外套",1,0,0,0]
["西装外套修身韩版女",1,1,0,0]
["西装西服",1,1,0,0]
["西装小外套 女",1,1,0,0]
["西装小外套女",1,1,0,0]
["西装休闲外套 女",1,1,0,0]
["西装修身",1,1,0,0]
["西装雪纺",1,1,0,0]
["西装雪纺修身中长款",1,1,0,0]
["西装中长款韩版女",1,1,0,0]
["西裝 女 雪紡",1,1,0,0]
["西裝外套",1,1,0,0]
["小 外套",1,1,0,0]
["小 西装 修身 韩版",1,1,0,0]
["小 西装 修身 韩版女",1,1,0,0]
["小艾*包邮*2012韩国秋装一粒扣修身卷袖小西装外套 中长款女西服",1,1,0,0]
["小太阳能 女装",1,0,0,0]
["小外套",15,0.73329999999999995,0,0]
["小外套 女",2,1,0,0]
["小外套 女 春秋",12,0.83330000000000004,0,0]
["小外套女",1,1,0,0]
["小西服",21,0.76190000000000002,1,4.7600000000000003E-2]
["小西服  女",1,1,0,0]
["小西服 长款",1,1,0,0]
["小西服 韩版 潮 女",1,1,0,0]
["小西服 韩版 女",3,0.66669999999999996,0,0]
["小西服 黑",1,1,0,0]
["小西服 女",28,0.85709999999999997,0,0]
["小西服 女 包邮",7,0.85709999999999997,0,0]
["小西服 女 韩版",1,1,0,0]
["小西服 女 韩版 潮",5,0.6,1,0.2]
["小西服 女 韩版 潮 包邮",1,0,0,0]
["小西服 女 休闲",1,1,0,0]
["小西服 女包邮",1,1,0,0]
["小西服 女韩版 潮",1,1,0,0]
["小西服 外套 女 春装",1,0,0,0]
["小西服 休闲 女",1,1,0,0]
["小西服 休闲 女款",1,1,0,0]
["小西服 修身 女款",23,0.52170000000000005,0,0]
["小西服 雪纺",1,0,0,0]
["小西服 中长款 女",1,1,0,0]
["小西服（女）",1,1,0,0]
["小西服白色",2,1,0,0]
["小西服包邮女",1,0,0,0]
["小西服韩版修身中长款",1,1,0,0]
["小西服女",5,0.8,0,0]
["小西服女韩版",1,1,0,0]
["小西服女款",1,1,0,0]
["小西服女款修身",11,0.72729999999999995,1,9.0899999999999995E-2]
["小西服女雪纺",1,1,0,0]
["小西服女装白色",1,1,0,0]
["小西服女装新款",12,0.5,0,0]
["小西服女装新款 中长款",1,0,0,0]
["小西服女装新款包邮",1,0,0,0]
["小西服女装中长款",1,0,0,0]
["小西服外套女修身",9,0.66669999999999996,0,0]
["小西服西装外套女装",1,1,0,0]
["小西装",172,0.64529999999999998,7,4.07E-2]
["小西装 白色",1,1,0,0]
["小西装 长款",1,1,0,0]
["小西装 长款 包邮",1,1,0,0]
["小西装 长款 修身",3,1,0,0]
["小西装 春",1,1,0,0]
["小西装 春秋",1,1,0,0]
["小西装 春秋 韩版",1,1,0,0]
["小西装 红色",1,1,0,0]
["小西装 帽",1,0,0,0]
["小西装 女",87,0.73560000000000003,0,0]
["小西装 女 2013新款",1,1,0,0]
["小西装 女 白色",1,1,0,0]
["小西装 女 包邮",6,1,0,0]
["小西装 女 包邮 春",2,1,0,0]
["小西装 女 春秋",4,0.75,0,0]
["小西装 女 春秋 新",1,1,0,0]
["小西装 女 韩版",11,0.81820000000000004,1,9.0899999999999995E-2]
["小西装 女 韩版 包邮",1,0,0,0]
["小西装 女 韩版 潮",4,1,0,0]
["小西装 女 韩版 春秋",2,1,0,0]
["小西装 女 韩版 休闲",1,1,0,0]
["小西装 女 韩版 修身",17,0.64710000000000001,0,0]
["小西装 女 韩版 修身包邮",1,1,0,0]
["小西装 女 黑色",1,1,0,0]
["小西装 女 修身",12,0.75,1,8.3299999999999999E-2]
["小西装 女 修身 长款",1,1,0,0]
["小西装 女 雪纺",1,1,0,0]
["小西装 女 中长款",2,0.5,0,0]
["小西装 女 中长款 韩版",1,0,0,0]
["小西装 女2013",1,1,0,0]
["小西装 女白色",1,1,0,0]
["小西装 女红色",1,1,0,0]
["小西装 女款",1,1,0,0]
["小西装 女修身中长款",1,1,0,0]
["小西装 拼接",1,1,0,0]
["小西装 拼接 雪纺",1,1,0,0]
["小西装 休闲 女 白色",1,1,0,0]
["小西装 休闲款 女",1,1,0,0]
["小西装 修身 韩版 女",1,1,0,0]
["小西装 修身 女",2,1,0,0]
["小西装 修身 女  白色休闲",1,0,1,1]
["小西装 修身 女 春",1,1,0,0]
["小西装 修身 女 韩版",94,0.74470000000000003,3,3.1899999999999998E-2]
["小西装 修身 女 韩版 白色",1,1,0,0]
["小西装 修身 女 韩版包邮",1,0,0,0]
["小西装 修身 女 韩版免运费",1,0,0,0]
["小西装 修身 女 雪纺",1,1,0,0]
["小西装 修身 女 中长款",1,1,0,0]
["小西装 修身 女款",1,0,0,0]
["小西装 修身 中长款 女",1,1,0,0]
["小西装 雪纺",1,1,0,0]
["小西装 雪纺 修身",1,0,0,0]
["小西装 雪纺拼接",1,1,0,0]
["小西装 一粒扣",2,0.5,0,0]
["小西装 中长款 女",1,1,0,0]
["小西装/西服",1,1,0,0]
["小西装2013",1,1,0,0]
["小西装2013 女春装",1,1,0,0]
["小西装2013新款女",1,1,0,0]
["小西装白",1,1,0,0]
["小西装白色",1,1,0,0]
["小西装包邮",3,0.66669999999999996,0,0]
["小西装长袖",1,1,0,0]
["小西装春装女",1,0,1,1]
["小西装服韩版外套",1,1,0,0]
["小西装韩版",1,0,0,0]
["小西装韩版休闲西装外套女 2013春装新款女装中长款修身西",1,1,0,0]
["小西装韩版休闲西装外套女 2013春装新款女装中长款修身西服",1,1,0,0]
["小西装韩版休闲西装外套女 2013春装新款女装中长款修身西服 西装",2,0,0,0]
["小西装韩版修身女",34,0.79410000000000003,0,0]
["小西装韩版修身女 春秋",1,1,0,0]
["小西装韩版修身中长款休闲西服",1,0,0,0]
["小西装免邮",1,1,0,0]
["小西装女",49,0.73470000000000002,2,4.0800000000000003E-2]
["小西装女 包邮",2,1,0,0]
["小西装女白色",1,1,0,0]
["小西装女包邮",6,0.5,0,0]
["小西装女长款",2,0,0,0]
["小西装女韩版",1,1,0,0]
["小西装女韩版外套身新款拼接",1,0,1,1]
["小西装女款",1,1,0,0]
["小西装女款韩版",4,1,0,0]
["小西装女款修身",1,1,0,0]
["小西装女生",1,1,0,0]
["小西装女士西装女装西服外套",1,1,0,0]
["小西装女式",2,1,0,0]
["小西装女外套",5,0.6,0,0]
["小西装女修身",1,1,0,0]
["小西装女修身长款",1,1,0,0]
["小西装女装",1,0,0,0]
["小西装特价",1,0,0,0]
["小西装外套",9,0.66669999999999996,0,0]
["小西装外套 女",64,0.73440000000000005,3,4.6899999999999997E-2]
["小西装外套 女 春秋",2,0,0,0]
["小西装外套 女包邮",32,0.8125,1,3.1300000000000001E-2]
["小西装外套 女装 春秋",1,1,0,0]
["小西装外套春秋 包邮",1,0,0,0]
["小西装外套春装",1,1,0,0]
["小西装外套女",28,0.78569999999999995,0,0]
["小西装外套女 红色",1,1,0,0]
["小西装外套女韩版",1,0,0,0]
["小西装外套女士",1,1,0,0]
["小西装外套女修身",1,1,0,0]
["小西装外套女修身春秋韩版",1,1,0,0]
["小西装外套女修身春秋韩版西服长袖",1,1,0,0]
["小西装外套修身休闲拼接雪纺",3,0,0,0]
["小西装外套修身休闲拼接雪纺长袖小西装",1,1,0,0]
["小西装销量最多",1,1,0,0]
["小西装修身韩版外套",1,1,0,0]
["小西装修身女",2,1,0,0]
["新款 春装小西服",1,1,0,0]
["新款 小西装",1,1,0,0]
["新款白色西服女装",1,1,0,0]
["新款春秋 外套 女",1,1,0,0]
["新款春秋女装韩版修身休闲一粒扣雪纺小西装西服女中长款外套",1,0,0,0]
["新款春外套女",1,1,0,0]
["新款春装女装外套 豹纹边 韩版耸肩修身",1,0,0,0]
["新款春装外套",3,0,0,0]
["新款春装外套2013女装",2,1,0,0]
["新款春装小西服",1,0,0,0]
["新款春裝小西服",1,1,0,0]
["新款加大码女装胖mm秋冬装韩版时尚休闲中长款显瘦小西装外套黑色包邮",1,1,0,0]
["新款女式春秋季小外套",1,1,0,0]
["新款女式休闲西服",1,1,0,0]
["新款女外套春装",1,1,0,0]
["新款女装外套 潮",1,1,0,0]
["新款女装外套韩版",1,1,0,0]
["新款女装西服外套",1,0,0,0]
["新款时尚女版西服",1,1,0,0]
["新款外套 女 潮",1,1,0,0]
["新款西服外套女",1,1,0,0]
["新款西服外套女2013",1,0,0,0]
["新款西装 女",1,1,0,0]
["新款西装2013女装",2,1,0,0]
["新款小西服",1,0,0,0]
["新款小西服外套",1,1,0,0]
["新款小西装 女 修身",1,1,0,0]
["新款小西装2013 女",2,1,0,0]
["新款小西装女春装",1,1,0,0]
["新款休闲外套 女 春秋",1,1,0,0]
["新款休闲小西装2013 女",1,0,0,0]
["休身西服 女",1,1,0,0]
["休闲 女 外套 春秋",1,0,0,0]
["休闲 女裤 春秋 白色",1,1,0,0]
["休闲 外套",1,1,0,0]
["休闲 西装 女",3,0.66669999999999996,0,0]
["休闲 小西装",1,0,0,0]
["休闲白色西装 女 春秋",1,0,1,1]
["休闲白色小西装 韩版",1,1,0,0]
["休闲白色小西装 女",1,1,0,0]
["休闲版西服 女",1,1,0,0]
["休闲长款西服韩版女",1,0,0,0]
["休闲长款西装 女",1,1,0,0]
["休闲黑色外套女",1,1,0,0]
["休闲款女外套春",1,1,0,0]
["休闲款小西装女",1,1,0,0]
["休闲女式西装",1,0,0,0]
["休闲女西服",1,1,0,0]
["休闲女西装",2,0.5,0,0]
["休闲女西装韩版",1,1,0,0]
["休闲女小西装",1,1,0,0]
["休闲女装春秋",2,1,0,0]
["休闲女装外套",1,1,0,0]
["休闲女装西服",1,1,0,0]
["休闲通勤西服 女",1,1,0,0]
["休闲外套 春秋 女",2,1,0,0]
["休闲外套 女",1,1,0,0]
["休闲外套 女 潮",1,1,0,0]
["休闲外套 女 春",1,1,0,0]
["休闲外套 女 春秋",2,1,0,0]
["休闲外套 女 韩版",5,1,0,0]
["休闲外套 女 韩版春秋",1,1,0,0]
["休闲外套春装女",1,0,0,0]
["休闲外套女春秋装",1,1,0,0]
["休闲外套女春装",2,1,0,0]
["休闲外套女装春秋",1,1,0,0]
["休闲西服",5,0.6,0,0]
["休闲西服 女",8,1,0,0]
["休闲西服 女 春季",1,1,0,0]
["休闲西服 女 春秋",1,1,0,0]
["休闲西服 女 韩版",1,1,0,0]
["休闲西服 女 修身",1,1,0,0]
["休闲西服 女 中长款",1,1,0,0]
["休闲西服 女韩版包邮",1,1,0,0]
["休闲西服 女装",1,1,0,0]
["休闲西服女",12,0.66669999999999996,0,0]
["休闲西服女 红色",1,1,0,0]
["休闲西服女韩版",3,0.66669999999999996,0,0]
["休闲西服女款",2,0.5,0,0]
["休闲西服外套 女",10,0.4,0,0]
["休闲西服外套 女 中长款",1,1,0,0]
["休闲西装 女",15,0.66669999999999996,1,6.6699999999999995E-2]
["休闲西装 女 白色",1,1,0,0]
["休闲西装 女 包邮",1,1,0,0]
["休闲西装 女 韩版",5,0.6,0,0]
["休闲西装 女 外套",2,0.5,0,0]
["休闲西装 外套 女",1,1,0,0]
["休闲西装 修身 女",1,1,0,0]
["休闲西装女",7,0.57140000000000002,1,0.1429]
["休闲西装女包邮",3,0.33329999999999999,0,0]
["休闲西装女春秋",2,1,0,0]
["休闲西装女外套",8,0.875,1,0.125]
["休闲西装女中长款",1,1,0,0]
["休闲西装女装",1,1,0,0]
["休闲西装外套 女",14,0.57140000000000002,0,0]
["休闲西装外套 女 修身",1,1,0,0]
["休闲西装外套女",1,1,0,0]
["休闲小外套",1,1,0,0]
["休闲小西服韩版女",5,1,0,0]
["休闲小西服女",2,0,0,0]
["休闲小西服女修身",2,0.5,0,0]
["休闲小西服女中",1,0,0,0]
["休闲小西服女装",1,1,0,0]
["休闲小西服外套女修身",1,1,0,0]
["休闲小西装",2,0.5,0,0]
["休闲小西装 女",4,0.75,0,0]
["休闲小西装 女 春",1,1,0,0]
["休闲小西装 女 韩版",8,0.75,0,0]
["休闲小西装女",3,1,0,0]
["休闲小西装女包邮",1,1,0,0]
["休闲小西装外套女包邮",1,1,0,0]
["休闲修身西装女",1,1,0,0]
["休闲修身小西装女",1,1,0,0]
["休闲修身小西装女式",1,1,0,0]
["休闲一粒扣中长款雪纺小西装西服外套",1,1,0,0]
["休闲装 女 春秋",1,1,0,0]
["修身 西装",1,1,0,0]
["修身 西装 女 春",1,0,0,0]
["修身 小 西装 西服 外套",1,1,0,0]
["修身 小西服 女",1,1,0,0]
["修身长款西装外套女",1,1,0,0]
["修身韩版西服女",1,1,0,0]
["修身韩版中长款西装",4,1,0,0]
["修身黑色西装女",1,0,0,0]
["修身女款西服",1,1,0,0]
["修身拼接雪纺西装女中长款休闲小西服",1,1,0,0]
["修身气质~纺一粒扣肩章开衫短袖西装",1,1,0,0]
["修身西服",1,1,0,0]
["修身西服 女",1,1,0,0]
["修身西服 女 包邮",2,0.5,0,0]
["修身西服女",2,1,0,0]
["修身西服女 白色",1,1,0,0]
["修身西服女韩版",1,0,0,0]
["修身西服女式",1,1,0,0]
["修身西服女中长款",1,0,0,0]
["修身西服外套 女",1,1,0,0]
["修身西装",3,1,0,0]
["修身西装 长款",1,1,0,0]
["修身西装 女",1,1,0,0]
["修身西装 女 春",1,1,0,0]
["修身西装 女 春秋",1,1,0,0]
["修身西装 外套 女",1,1,0,0]
["修身西装女",3,0.33329999999999999,0,0]
["修身西装女 白色",1,1,0,0]
["修身西装女中长款",3,1,0,0]
["修身西装女中长款2013春装",1,0,0,0]
["修身西装女中长款春装",1,1,0,0]
["修身西装外套",2,0.5,0,0]
["修身西装外套 女",1,1,0,0]
["修身西装外套女",1,1,0,0]
["修身西装外套女春",1,0,1,1]
["修身小西服 女",1,1,0,0]
["修身小西服女",3,0.66669999999999996,0,0]
["修身小西服女韩版",1,1,0,0]
["修身小西装",3,0.33329999999999999,0,0]
["修身小西装 女",2,1,0,0]
["修身小西装 女 韩版",2,0,0,0]
["修身小西装 中长款",1,1,0,0]
["修身小西装包邮",1,0,0,0]
["修身小西装女",3,1,0,0]
["修身小西装女中长款白色",1,1,0,0]
["修身小西装外套女",21,0.95240000000000002,0,0]
["修身小西装西服",1,1,0,0]
["修身小西装小外套 包邮",1,1,0,0]
["修身休闲白色小西装西服女中长款春秋外套潮",1,0,0,0]
["修身休闲西服白",1,1,0,0]
["修身雪纺小西装白色",1,1,0,0]
["修身一粒扣西服外套西装",1,0,0,0]
["修身一粒扣雪纺小西装女休闲西服中长款",1,0,0,0]
["修身中长款小西装 红色",1,1,0,0]
["修身中长西服",1,0,0,0]
["雪纺 长袖 外套",1,1,0,0]
["雪纺 拼接 西服",1,1,0,0]
["雪纺 外套 女 包邮",1,0,0,0]
["雪纺 西服",1,1,0,0]
["雪纺 西装 长款",1,1,0,0]
["雪纺 西装 外套",1,1,0,0]
["雪纺 小西装",3,0.66669999999999996,0,0]
["雪纺女装中长款小西装外套女装",1,1,0,0]
["雪纺拼接 小西服 外套",1,1,0,0]
["雪纺拼接女士修身中长款外套",1,1,0,0]
["雪纺拼接外套",3,1,0,0]
["雪纺拼接西服",3,0,0,0]
["雪纺拼接西装",4,0,0,0]
["雪纺拼接西装 女",1,1,0,0]
["雪纺拼接西装外套",2,0.5,0,0]
["雪纺拼接小西服",1,1,0,0]
["雪纺外套",5,0.6,1,0.2]
["雪纺外套 女",1,1,0,0]
["雪纺外套 女 春秋",2,1,0,0]
["雪纺外套 西装",1,1,0,0]
["雪纺外套西服",1,1,0,0]
["雪纺西服",2,1,0,0]
["雪纺西服女",1,1,0,0]
["雪纺西服外套",1,0,0,0]
["雪纺西服外套女",3,0.66669999999999996,0,0]
["雪纺西装",7,0.85709999999999997,0,0]
["雪纺西装 女",4,0.5,0,0]
["雪纺西装薄外套",1,0,0,0]
["雪纺西装外套",3,1,0,0]
["雪纺西装外套 女",1,1,0,0]
["雪纺西装外套中长",1,0,0,0]
["雪纺小外套",1,1,0,0]
["雪纺小西服",1,1,0,0]
["雪纺小西服 西装修身外套",1,1,0,0]
["雪纺小西服女",1,0,0,0]
["雪纺小西服拼接",1,1,0,0]
["雪纺小西服西装女",1,0,0,0]
["雪纺小西装",4,0.5,0,0]
["雪纺小西装 女",2,0.5,0,0]
["雪纺小西装女修身",1,1,0,0]
["雪纺小西装外套女",1,1,0,0]
["雪纺小西装西服外套",1,1,0,0]
["雪纺休闲西服",1,1,0,0]
["雪纺修身外套包邮女",1,0,0,0]
["雪纺中长款西服女修身",1,1,0,0]
["雪紡拼接 外套",2,0,0,0]
["羊羔绒春秋外套女",1,1,0,0]
["叶酸",1,1,0,0]
["一粒扣 女 西装",1,1,0,0]
["一粒扣 西服 修身 韩版 女",1,1,0,0]
["一粒扣 西装",1,1,0,0]
["一粒扣西装女",1,1,0,0]
["一粒扣修身小西装女",1,1,0,0]
["一粒扣中长款西装",1,1,0,0]
["以纯春秋女装小外套",1,1,0,0]
["折扣 红袖女装",1,1,0,0]
["中长 白西装 女",1,1,0,0]
["中长 小西装 女",1,1,0,0]
["中长白色小西服",1,0,0,0]
["中长版修身西服",1,1,0,0]
["中长款 西装",2,0.5,0,0]
["中长款 西装 春",1,1,0,0]
["中长款 小西装",1,1,0,0]
["中长款白色西装女",1,1,0,0]
["中长款韩版西装",1,1,0,0]
["中长款黑色修身西服长袖春秋",1,1,0,0]
["中长款拼接雪纺小西装",1,1,0,0]
["中长款外套 女 春秋",2,1,0,0]
["中长款西 女 修身",1,1,0,0]
["中长款西服",1,1,0,0]
["中长款西服 女",1,1,0,0]
["中长款西服 女 包邮",1,1,0,0]
["中长款西服女修身",1,1,0,0]
["中长款西服女装",1,0,0,0]
["中长款西装",4,1,0,0]
["中长款西装 女 春",2,1,0,0]
["中长款西装 女 红色",1,1,0,0]
["中长款西装春秋女",1,1,0,0]
["中长款西装女修身",1,1,0,0]
["中长款西装外套",1,0,0,0]
["中长款西装外套 女",21,0.76190000000000002,0,0]
["中长款西装外套 女 包邮",1,1,0,0]
["中长款西装外套 女春",1,1,0,0]
["中长款西装外套女",3,0.66669999999999996,0,0]
["中长款西装外套女红袖",1,1,0,0]
["中长款西装修身包邮",1,1,0,0]
["中长款小西服 修身 女款",1,1,0,0]
["中长款小西服外套",1,1,0,0]
["中长款小西服修身",1,1,0,0]
["中长款小西装",1,1,0,0]
["中长款小西装 女 韩版",1,1,0,0]
["中长款小西装 女 修身",1,1,0,0]
["中长款小西装女",1,1,0,0]
["中长款休闲西服女",1,1,0,0]
["中长款休闲西装 女 包邮",1,1,0,0]
["中长款修身西服",1,0,0,0]
["中长款修身西服小西装外套春秋",1,0,0,0]
["中长款修身西装",2,0.5,0,0]
["中长款修身小西女",1,1,0,0]
["中长款雪纺小西服",2,0,0,0]
["中长款一粒扣雪纺小西装西服外套",1,1,0,0]
["中长外套",1,1,0,0]
["中长外套 女 春秋",4,0.5,0,0]
["中长西服外套女",1,1,0,0]
["中长西装外套 女",1,1,0,0]
["中长西装外套 女 免邮",1,1,0,0]
["中长小西装修身",1,1,0,0]
["中长小西装修身韩版",1,1,0,0]
["中长休闲西服女",1,1,0,0]
["中长袖西装",1,1,0,0]

{"sheet":"源数据处理","index":1,"n_rows":65536,"n_cols":19,"rows_kept":4500,"cut":true,"hidden":true,"merged":[],"bounds":{"rows_first":2000,"rows_last":500,"rows_between":2000,"halvings":0}}
[{"$f":"IF(源数据!A1=\"\",\"\",源数据!A1)","v":"关键词"},{"$f":"IF(源数据!B1=\"\",\"\",源数据!B1)","v":"访客"},{"$f":"IF(源数据!C1=\"\",\"\",源数据!C1)","v":"跳失率"},{"$f":"IF(源数据!D1=\"\",\"\",源数据!D1)","v":"销量"},{"$f":"IF(关键词参数!$A1=\"\",\"\",关键词参数!$A1)","v":"潮"},{"$f":"IF(关键词参数!$A2=\"\",\"\",关键词参数!$A2)","v":"春装"},{"$f":"IF(关键词参数!$A3=\"\",\"\",关键词参数!$A3)","v":"女"},{"$f":"IF(关键词参数!$A4=\"\",\"\",关键词参数!$A4)","v":"女装"},{"$f":"IF(关键词参数!$A5=\"\",\"\",关键词参数!$A5)","v":"外套"},{"$f":"IF(关键词参数!$A6=\"\",\"\",关键词参数!$A6)","v":"小西装"},{"$f":"IF(关键词参数!$A7=\"\",\"\",关键词参数!$A7)","v":2013},{"$f":"IF(关键词参数!$A8=\"\",\"\",关键词参数!$A8)","v":"西服"},{"$f":"IF(关键词参数!$A9=\"\",\"\",关键词参数!$A9)","v":"休闲"},{"$f":"IF(关键词参数!$A10=\"\",\"\",关键词参数!$A10)","v":"修身"},{"$f":"IF(关键词参数!$A11=\"\",\"\",关键词参数!$A11)","v":"春季"},{"$f":"IF(关键词参数!$A12=\"\",\"\",关键词参数!$A12)","v":"春秋"},{"$f":"IF(关键词参数!$A13=\"\",\"\",关键词参数!$A13)","v":"白色"},{"$f":"IF(关键词参数!$A14=\"\",\"\",关键词参数!$A14)","v":"xxx"},{"$f":"IF(关键词参数!$A15=\"\",\"\",关键词参数!$A15)","v":"xxx"}]
[{"$f":"IF(源数据!A2=\"\",\"\",源数据!A2)","v":"013春装新款女装韩版中长款大码米色雪纺修身休闲耸肩薄西装外套"},{"$f":"IF(源数据!B2=\"\",\"\",源数据!B2)","v":1},{"$f":"IF(源数据!C2=\"\",\"\",源数据!C2)","v":0},{"$f":"IF(源数据!D2=\"\",\"\",源数据!D2)","v":0},{"$f":"IF($A1=\"\",\"\",IF(E$1=\"\",\"\",IF(IFERROR(SEARCH(E$1,$A2),0) >0,E$1,0)))","v":0},{"$f":"IF($A1=\"\",\"\",IF(F$1=\"\",\"\",IF(IFERROR(SEARCH(F$1,$A2),0) >0,F$1,0)))","v":"春装"},"女","女装","外套",0,0,{"$f":"IF($A1=\"\",\"\",IF(L$1=\"\",\"\",IF(IFERROR(SEARCH(L$1,$A2),0) >0,L$1,0)))","v":0},{"$f":"IF($A1=\"\",\"\",IF(M$1=\"\",\"\",IF(IFERROR(SEARCH(M$1,$A2),0) >0,M$1,0)))","v":"休闲"},{"$f":"IF($A1=\"\",\"\",IF(N$1=\"\",\"\",IF(IFERROR(SEARCH(N$1,$A2),0) >0,N$1,0)))","v":"修身"},{"$f":"IF($A1=\"\",\"\",IF(O$1=\"\",\"\",IF(IFERROR(SEARCH(O$1,$A2),0) >0,O$1,0)))","v":0},{"$f":"IF($A1=\"\",\"\",IF(P$1=\"\",\"\",IF(IFERROR(SEARCH(P$1,$A2),0) >0,P$1,0)))","v":0},0,{"$f":"IF($A1=\"\",\"\",IF(R$1=\"\",\"\",IF(IFERROR(SEARCH(R$1,$A2),0) >0,R$1,0)))","v":0},{"$f":"IF($A1=\"\",\"\",IF(S$1=\"\",\"\",IF(IFERROR(SEARCH(S$1,$A2),0) >0,S$1,0)))","v":0}]
[{"$f":"IF(源数据!A3=\"\",\"\",源数据!A3)","v":"2012春秋新款通勤修身小西服长袖小西装外套 女装韩版休闲中长款"},{"$f":"IF(源数据!B3=\"\",\"\",源数据!B3)","v":1},{"$f":"IF(源数据!C3=\"\",\"\",源数据!C3)","v":0},{"$f":"IF(源数据!D3=\"\",\"\",源数据!D3)","v":1},{"$f":"IF($A2=\"\",\"\",IF(E$1=\"\",\"\",IF(IFERROR(SEARCH(E$1,$A3),0) >0,E$1,0)))","v":0},{"$f":"IF($A2=\"\",\"\",IF(F$1=\"\",\"\",IF(IFERROR(SEARCH(F$1,$A3),0) >0,F$1,0)))","v":0},{"$f":"IF($A2=\"\",\"\",IF(G$1=\"\",\"\",IF(IFERROR(SEARCH(G$1,$A3),0) >0,G$1,0)))","v":"女"},{"$f":"IF($A2=\"\",\"\",IF(H$1=\"\",\"\",IF(IFERROR(SEARCH(H$1,$A3),0) >0,H$1,0)))","v":"女装"},{"$f":"IF($A2=\"\",\"\",IF(I$1=\"\",\"\",IF(IFERROR(SEARCH(I$1,$A3),0) >0,I$1,0)))","v":"外套"},{"$f":"IF($A2=\"\",\"\",IF(J$1=\"\",\"\",IF(IFERROR(SEARCH(J$1,$A3),0) >0,J$1,0)))","v":"小西装"},{"$f":"IF($A2=\"\",\"\",IF(K$1=\"\",\"\",IF(IFERROR(SEARCH(K$1,$A3),0) >0,K$1,0)))","v":0},{"$f":"IF($A2=\"\",\"\",IF(L$1=\"\",\"\",IF(IFERROR(SEARCH(L$1,$A3),0) >0,L$1,0)))","v":"西服"},{"$f":"IF($A2=\"\",\"\",IF(M$1=\"\",\"\",IF(IFERROR(SEARCH(M$1,$A3),0) >0,M$1,0)))","v":"休闲"},{"$f":"IF($A2=\"\",\"\",IF(N$1=\"\",\"\",IF(IFERROR(SEARCH(N$1,$A3),0) >0,N$1,0)))","v":"修身"},{"$f":"IF($A2=\"\",\"\",IF(O$1=\"\",\"\",IF(IFERROR(SEARCH(O$1,$A3),0) >0,O$1,0)))","v":0},{"$f":"IF($A2=\"\",\"\",IF(P$1=\"\",\"\",IF(IFERROR(SEARCH(P$1,$A3),0) >0,P$1,0)))","v":"春秋"},{"$f":"IF($A2=\"\",\"\",IF(Q$1=\"\",\"\",IF(IFERROR(SEARCH(Q$1,$A3),0) >0,Q$1,0)))","v":0},{"$f":"IF($A2=\"\",\"\",IF(R$1=\"\",\"\",IF(IFERROR(SEARCH(R$1,$A3),0) >0,R$1,0)))","v":0},{"$f":"IF($A2=\"\",\"\",IF(S$1=\"\",\"\",IF(IFERROR(SEARCH(S$1,$A3),0) >0,S$1,0)))","v":0}]
[{"$f":"IF(源数据!A4=\"\",\"\",源数据!A4)","v":"2012秋装韩版最新款修身百搭小西装 雪纺拼接女装长袖西服外套"},{"$f":"IF(源数据!B4=\"\",\"\",源数据!B4)","v":1},{"$f":"IF(源数据!C4=\"\",\"\",源数据!C4)","v":1},{"$f":"IF(源数据!D4=\"\",\"\",源数据!D4)","v":0},0,0,"女","女装","外套","小西装",0,"西服",0,"修身",0,0,0,0,0]
[{"$f":"IF(源数据!A5=\"\",\"\",源数据!A5)","v":"2012外套新款 潮 女"},{"$f":"IF(源数据!B5=\"\",\"\",源数据!B5)","v":4},{"$f":"IF(源数据!C5=\"\",\"\",源数据!C5)","v":0.75},{"$f":"IF(源数据!D5=\"\",\"\",源数据!D5)","v":0},"潮",0,"女",0,"外套",0,0,0,0,0,0,0,0,0,0]
[{"$f":"IF(源数据!A6=\"\",\"\",源数据!A6)","v":"2012外套新款 小西服女"},{"$f":"IF(源数据!B6=\"\",\"\",源数据!B6)","v":1},{"$f":"IF(源数据!C6=\"\",\"\",源数据!C6)","v":1},{"$f":"IF(源数据!D6=\"\",\"\",源数据!D6)","v":0},0,0,"女",0,"外套",0,0,"西服",0,0,0,0,0,0,0]
[{"$f":"IF(源数据!A7=\"\",\"\",源数据!A7)","v":"2012新款春秋女装"},{"$f":"IF(源数据!B7=\"\",\"\",源数据!B7)","v":1},{"$f":"IF(源数据!C7=\"\",\"\",源数据!C7)","v":0},{"$f":"IF(源数据!D7=\"\",\"\",源数据!D7)","v":0},0,0,"女","女装",0,0,0,0,0,0,0,"春秋",0,0,0]
[{"$f":"IF(源数据!A8=\"\",\"\",源数据!A8)","v":"2012新款春秋女装韩版修身休闲一粒扣雪纺小西装西服女中长款外套"},{"$f":"IF(源数据!B8=\"\",\"\",源数据!B8)","v":4},{"$f":"IF(源数据!C8=\"\",\"\",源数据!C8)","v":0.25},{"$f":"IF(源数据!D8=\"\",\"\",源数据!D8)","v":0},0,0,"女","女装","外套","小西装",0,"西服","休闲","修身",0,"春秋",0,0,0]
[{"$f":"IF(源数据!A9=\"\",\"\",源数据!A9)","v":"2013 春装 女装 外套"},{"$f":"IF(源数据!B9=\"\",\"\",源数据!B9)","v":1},{"$f":"IF(源数据!C9=\"\",\"\",源数据!C9)","v":1},{"$f":"IF(源数据!D9=\"\",\"\",源数据!D9)","v":0},0,"春装","女","女装","外套",0,2013,0,0,0,0,0,0,0,0]
[{"$f":"IF(源数据!A10=\"\",\"\",源数据!A10)","v":"2013 春装 小西装"},{"$f":"IF(源数据!B10=\"\",\"\",源数据!B10)","v":1},{"$f":"IF(源数据!C10=\"\",\"\",源数据!C10)","v":1},{"$f":"IF(源数据!D10=\"\",\"\",源数据!D10)","v":0},0,"春装",0,0,0,"小西装",2013,0,0,0,0,0,0,0,0]
[{"$f":"IF(源数据!A11=\"\",\"\",源数据!A11)","v":"2013 春装"},{"$f":"IF(源数据!B11=\"\",\"\",源数据!B11)","v":1},{"$f":"IF(源数据!C11=\"\",\"\",源数据!C11)","v":1},{"$f":"IF(源数据!D11=\"\",\"\",源数据!D11)","v":0},0,"春装",0,0,0,0,2013,0,0,0,0,0,0,0,0]
[{"$f":"IF(源数据!A12=\"\",\"\",源数据!A12)","v":"2013 春装 韩版修身长袖小西装"},{"$f":"IF(源数据!B12=\"\",\"\",源数据!B12)","v":1},{"$f":"IF(源数据!C12=\"\",\"\",源数据!C12)","v":1},{"$f":"IF(源数据!D12=\"\",\"\",源数据!D12)","v":0},0,"春装",0,0,0,"小西装",2013,0,0,"修身",0,0,0,0,0]
[{"$f":"IF(源数据!A13=\"\",\"\",源数据!A13)","v":"2013 春装 女西装."},{"$f":"IF(源数据!B13=\"\",\"\",源数据!B13)","v":1},{"$f":"IF(源数据!C13=\"\",\"\",源数据!C13)","v":1},{"$f":"IF(源数据!D13=\"\",\"\",源数据!D13)","v":0},0,"春装","女",0,0,0,2013,0,0,0,0,0,0,0,0]
[{"$f":"IF(源数据!A14=\"\",\"\",源数据!A14)","v":"2013 春装 女装"},{"$f":"IF(源数据!B14=\"\",\"\",源数据!B14)","v":18},{"$f":"IF(源数据!C14=\"\",\"\",源数据!C14)","v":0.83330000000000004},{"$f":"IF(源数据!D14=\"\",\"\",源数据!D14)","v":0},0,"春装","女","女装",0,0,2013,0,0,0,0,0,0,0,0]
[{"$f":"IF(源数据!A15=\"\",\"\",源数据!A15)","v":"2013 春装 女装 外套"},{"$f":"IF(源数据!B15=\"\",\"\",源数据!B15)","v":27},{"$f":"IF(源数据!C15=\"\",\"\",源数据!C15)","v":0.66669999999999996},{"$f":"IF(源数据!D15=\"\",\"\",源数据!D15)","v":0},0,"春装","女","女装","外套",0,2013,0,0,0,0,0,0,0,0]
[{"$f":"IF(源数据!A16=\"\",\"\",源数据!A16)","v":"2013 春装 女装外套"},{"$f":"IF(源数据!B16=\"\",\"\",源数据!B16)","v":27},{"$f":"IF(源数据!C16=\"\",\"\",源数据!C16)","v":0.70369999999999999},{"$f":"IF(源数据!D16=\"\",\"\",源数据!D16)","v":1},0,"春装","女","女装","外套",0,2013,0,0,0,0,0,0,0,0]
[{"$f":"IF(源数据!A17=\"\",\"\",源数据!A17)","v":"2013 春装 女装外套 小西装"},{"$f":"IF(源数据!B17=\"\",\"\",源数据!B17)","v":1},{"$f":"IF(源数据!C17=\"\",\"\",源数据!C17)","v":1},{"$f":"IF(源数据!D17=\"\",\"\",源数据!D17)","v":0},0,"春装","女","女装","外套","小西装",2013,0,0,0,0,0,0,0,0]
[{"$f":"IF(源数据!A18=\"\",\"\",源数据!A18)","v":"2013 春装 女装小外套"},{"$f":"IF(源数据!B18=\"\",\"\",源数据!B18)","v":1},{"$f":"IF(源数据!C18=\"\",\"\",源数据!C18)","v":0},{"$f":"IF(源数据!D18=\"\",\"\",源数据!D18)","v":0},0,"春装","女","女装","外套",0,2013,0,0,0,0,0,0,0,0]
[{"$f":"IF(源数据!A19=\"\",\"\",源数据!A19)","v":"2013 春装 女装小西装"},{"$f":"IF(源数据!B19=\"\",\"\",源数据!B19)","v":3},{"$f":"IF(源数据!C19=\"\",\"\",源数据!C19)","v":0.33329999999999999},{"$f":"IF(源数据!D19=\"\",\"\",源数据!D19)","v":1},0,"春装","女","女装",0,"小西装",2013,0,0,0,0,0,0,0,0]
[{"$f":"IF(源数据!A20=\"\",\"\",源数据!A20)","v":"2013 春装 女装休闲西服"},{"$f":"IF(源数据!B20=\"\",\"\",源数据!B20)","v":1},{"$f":"IF(源数据!C20=\"\",\"\",源数据!C20)","v":1},{"$f":"IF(源数据!D20=\"\",\"\",源数据!D20)","v":0},0,"春装","女","女装",0,0,2013,"西服","休闲",0,0,0,0,0,0]
[{"$f":"IF(源数据!A21=\"\",\"\",源数据!A21)","v":"2013 春装 女装修身西服"},{"$f":"IF(源数据!B21=\"\",\"\",源数据!B21)","v":1},{"$f":"IF(源数据!C21=\"\",\"\",源数据!C21)","v":1},{"$f":"IF(源数据!D21=\"\",\"\",源数据!D21)","v":0},0,"春装","女","女装",0,0,2013,"西服",0,"修身",0,0,0,0,0]
[{"$f":"IF(源数据!A22=\"\",\"\",源数据!A22)","v":"2013 春装 西装外套"},{"$f":"IF(源数据!B22=\"\",\"\",源数据!B22)","v":1},{"$f":"IF(源数据!C22=\"\",\"\",源数据!C22)","v":1},{"$f":"IF(源数据!D22=\"\",\"\",源数据!D22)","v":0},0,"春装",0,0,"外套",0,2013,0,0,0,0,0,0,0,0]
[{"$f":"IF(源数据!A23=\"\",\"\",源数据!A23)","v":"2013 春装 小西装女装"},{"$f":"IF(源数据!B23=\"\",\"\",源数据!B23)","v":1},{"$f":"IF(源数据!C23=\"\",\"\",源数据!C23)","v":1},{"$f":"IF(源数据!D23=\"\",\"\",源数据!D23)","v":0},0,"春装","女","女装",0,"小西装",2013,0,0,0,0,0,0,0,0]
[{"$f":"IF(源数据!A24=\"\",\"\",源数据!A24)","v":"2013 春装 中场款小西装"},{"$f":"IF(源数据!B24=\"\",\"\",源数据!B24)","v":1},{"$f":"IF(源数据!C24=\"\",\"\",源数据!C24)","v":1},{"$f":"IF(源数据!D24=\"\",\"\",源数据!D24)","v":0},0,"春装",0,0,0,"小西装",2013,0,0,0,0,0,0,0,0]
[{"$f":"IF(源数据!A25=\"\",\"\",源数据!A25)","v":"2013 春装外套 女装"},{"$f":"IF(源数据!B25=\"\",\"\",源数据!B25)","v":7},{"$f":"IF(源数据!C25=\"\",\"\",源数据!C25)","v":0.71430000000000005},{"$f":"IF(源数据!D25=\"\",\"\",源数据!D25)","v":0},0,"春装","女","女装","外套",0,2013,0,0,0,0,0,0,0,0]
[{"$f":"IF(源数据!A26=\"\",\"\",源数据!A26)","v":"2013 春装外套 女装春装"},{"$f":"IF(源数据!B26=\"\",\"\",源数据!B26)","v":1},{"$f":"IF(源数据!C26=\"\",\"\",源数据!C26)","v":1},{"$f":"IF(源数据!D26=\"\",\"\",源数据!D26)","v":0},0,"春装","女","女装","外套",0,2013,0,0,0,0,0,0,0,0]
[{"$f":"IF(源数据!A27=\"\",\"\",源数据!A27)","v":"2013 春装西服"},{"$f":"IF(源数据!B27=\"\",\"\",源数据!B27)","v":1},{"$f":"IF(源数据!C27=\"\",\"\",源数据!C27)","v":1},{"$f":"IF(源数据!D27=\"\",\"\",源数据!D27)","v":0},0,"春装",0,0,0,0,2013,"西服",0,0,0,0,0,0,0]
[{"$f":"IF(源数据!A28=\"\",\"\",源数据!A28)","v":"2013 韩版小西服外套女"},{"$f":"IF(源数据!B28=\"\",\"\",源数据!B28)","v":1},{"$f":"IF(源数据!C28=\"\",\"\",源数据!C28)","v":0},{"$f":"IF(源数据!D28=\"\",\"\",源数据!D28)","v":0},0,0,"女",0,"外套",0,2013,"西服",0,0,0,0,0,0,0]
[{"$f":"IF(源数据!A29=\"\",\"\",源数据!A29)","v":"2013 女装 西装外套 中长款"},{"$f":"IF(源数据!B29=\"\",\"\",源数据!B29)","v":1},{"$f":"IF(源数据!C29=\"\",\"\",源数据!C29)","v":1},{"$f":"IF(源数据!D29=\"\",\"\",源数据!D29)","v":0},0,0,"女","女装","外套",0,2013,0,0,0,0,0,0,0,0]
[{"$f":"IF(源数据!A30=\"\",\"\",源数据!A30)","v":"2013 西服"},{"$f":"IF(源数据!B30=\"\",\"\",源数据!B30)","v":1},{"$f":"IF(源数据!C30=\"\",\"\",源数据!C30)","v":1},{"$f":"IF(源数据!D30=\"\",\"\",源数据!D30)","v":0},0,0,0,0,0,0,2013,"西服",0,0,0,0,0,0,0]
[{"$f":"IF(源数据!A31=\"\",\"\",源数据!A31)","v":"2013 西服 女"},{"$f":"IF(源数据!B31=\"\",\"\",源数据!B31)","v":1},{"$f":"IF(源数据!C31=\"\",\"\",源数据!C31)","v":1},{"$f":"IF(源数据!D31=\"\",\"\",源数据!D31)","v":0},0,0,"女",0,0,0,2013,"西服",0,0,0,0,0,0,0]
[{"$f":"IF(源数据!A32=\"\",\"\",源数据!A32)","v":"2013 西装 女 韩版 修身"},{"$f":"IF(源数据!B32=\"\",\"\",源数据!B32)","v":1},{"$f":"IF(源数据!C32=\"\",\"\",源数据!C32)","v":1},{"$f":"IF(源数据!D32=\"\",\"\",源数据!D32)","v":0},0,0,"女",0,0,0,2013,0,0,"修身",0,0,0,0,0]
[{"$f":"IF(源数据!A33=\"\",\"\",源数据!A33)","v":"2013 西装外套 女 修身"},{"$f":"IF(源数据!B33=\"\",\"\",源数据!B33)","v":1},{"$f":"IF(源数据!C33=\"\",\"\",源数据!C33)","v":1},{"$f":"IF(源数据!D33=\"\",\"\",源数据!D33)","v":0},0,0,"女",0,"外套",0,2013,0,0,"修身",0,0,0,0,0]
[{"$f":"IF(源数据!A34=\"\",\"\",源数据!A34)","v":"2013 小西装 女装"},{"$f":"IF(源数据!B34=\"\",\"\",源数据!B34)","v":2},{"$f":"IF(源数据!C34=\"\",\"\",源数据!C34)","v":1},{"$f":"IF(源数据!D34=\"\",\"\",源数据!D34)","v":0},0,0,"女","女装",0,"小西装",2013,0,0,0,0,0,0,0,0]
[{"$f":"IF(源数据!A35=\"\",\"\",源数据!A35)","v":"2013 新款西服 女装"},{"$f":"IF(源数据!B35=\"\",\"\",源数据!B35)","v":1},{"$f":"IF(源数据!C35=\"\",\"\",源数据!C35)","v":1},{"$f":"IF(源数据!D35=\"\",\"\",源数据!D35)","v":0},0,0,"女","女装",0,0,2013,"西服",0,0,0,0,0,0,0]
[{"$f":"IF(源数据!A36=\"\",\"\",源数据!A36)","v":"2013 新款西装 长款 女"},{"$f":"IF(源数据!B36=\"\",\"\",源数据!B36)","v":1},{"$f":"IF(源数据!C36=\"\",\"\",源数据!C36)","v":1},{"$f":"IF(源数据!D36=\"\",\"\",源数据!D36)","v":0},0,0,"女",0,0,0,2013,0,0,0,0,0,0,0,0]
[{"$f":"IF(源数据!A37=\"\",\"\",源数据!A37)","v":"2013 休闲西服 女"},{"$f":"IF(源数据!B37=\"\",\"\",源数据!B37)","v":1},{"$f":"IF(源数据!C37=\"\",\"\",源数据!C37)","v":0},{"$f":"IF(源数据!D37=\"\",\"\",源数据!D37)","v":0},0,0,"女",0,0,0,2013,"西服","休闲",0,0,0,0,0,0]
[{"$f":"IF(源数据!A38=\"\",\"\",源数据!A38)","v":"2013hanbannvxifu"},{"$f":"IF(源数据!B38=\"\",\"\",源数据!B38)","v":1},{"$f":"IF(源数据!C38=\"\",\"\",源数据!C38)","v":1},{"$f":"IF(源数据!D38=\"\",\"\",源数据!D38)","v":0},0,0,0,0,0,0,2013,0,0,0,0,0,0,0,0]
[{"$f":"IF(源数据!A39=\"\",\"\",源数据!A39)","v":"2013白色西服"},{"$f":"IF(源数据!B39=\"\",\"\",源数据!B39)","v":1},{"$f":"IF(源数据!C39=\"\",\"\",源数据!C39)","v":1},{"$f":"IF(源数据!D39=\"\",\"\",源数据!D39)","v":0},0,0,0,0,0,0,2013,"西服",0,0,0,0,"白色",0,0]
[{"$f":"IF(源数据!A40=\"\",\"\",源数据!A40)","v":"2013白色中长款西装 女"},{"$f":"IF(源数据!B40=\"\",\"\",源数据!B40)","v":1},{"$f":"IF(源数据!C40=\"\",\"\",源数据!C40)","v":1},{"$f":"IF(源数据!D40=\"\",\"\",源数据!D40)","v":0},0,0,"女",0,0,0,2013,0,0,0,0,0,"白色",0,0]
[{"$f":"IF(源数据!A41=\"\",\"\",源数据!A41)","v":"2013白色中长小西装"},{"$f":"IF(源数据!B41=\"\",\"\",源数据!B41)","v":1},{"$f":"IF(源数据!C41=\"\",\"\",源数据!C41)","v":1},{"$f":"IF(源数据!D41=\"\",\"\",源数据!D41)","v":0},0,0,0,0,0,"小西装",2013,0,0,0,0,0,"白色",0,0]
[{"$f":"IF(源数据!A42=\"\",\"\",源数据!A42)","v":"2013长款西服"},{"$f":"IF(源数据!B42=\"\",\"\",源数据!B42)","v":1},{"$f":"IF(源数据!C42=\"\",\"\",源数据!C42)","v":1},{"$f":"IF(源数据!D42=\"\",\"\",源数据!D42)","v":0},0,0,0,0,0,0,2013,"西服",0,0,0,0,0,0,0]
[{"$f":"IF(源数据!A43=\"\",\"\",源数据!A43)","v":"2013长款小西装白色"},{"$f":"IF(源数据!B43=\"\",\"\",源数据!B43)","v":1},{"$f":"IF(源数据!C43=\"\",\"\",源数据!C43)","v":1},{"$f":"IF(源数据!D43=\"\",\"\",源数据!D43)","v":0},0,0,0,0,0,"小西装",2013,0,0,0,0,0,"白色",0,0]
[{"$f":"IF(源数据!A44=\"\",\"\",源数据!A44)","v":"2013春 外套"},{"$f":"IF(源数据!B44=\"\",\"\",源数据!B44)","v":1},{"$f":"IF(源数据!C44=\"\",\"\",源数据!C44)","v":1},{"$f":"IF(源数据!D44=\"\",\"\",源数据!D44)","v":0},0,0,0,0,"外套",0,2013,0,0,0,0,0,0,0,0]
[{"$f":"IF(源数据!A45=\"\",\"\",源数据!A45)","v":"2013春 西装外套"},{"$f":"IF(源数据!B45=\"\",\"\",源数据!B45)","v":1},{"$f":"IF(源数据!C45=\"\",\"\",源数据!C45)","v":1},{"$f":"IF(源数据!D45=\"\",\"\",源数据!D45)","v":0},0,0,0,0,"外套",0,2013,0,0,0,0,0,0,0,0]
[{"$f":"IF(源数据!A46=\"\",\"\",源数据!A46)","v":"2013春 小西装"},{"$f":"IF(源数据!B46=\"\",\"\",源数据!B46)","v":1},{"$f":"IF(源数据!C46=\"\",\"\",源数据!C46)","v":1},{"$f":"IF(源数据!D46=\"\",\"\",源数据!D46)","v":0},0,0,0,0,0,"小西装",2013,0,0,0,0,0,0,0,0]
[{"$f":"IF(源数据!A47=\"\",\"\",源数据!A47)","v":"2013春 新款外套"},{"$f":"IF(源数据!B47=\"\",\"\",源数据!B47)","v":1},{"$f":"IF(源数据!C47=\"\",\"\",源数据!C47)","v":0},{"$f":"IF(源数据!D47=\"\",\"\",源数据!D47)","v":0},0,0,0,0,"外套",0,2013,0,0,0,0,0,0,0,0]
[{"$f":"IF(源数据!A48=\"\",\"\",源数据!A48)","v":"2013春季韩版修身小西装女"},{"$f":"IF(源数据!B48=\"\",\"\",源数据!B48)","v":1},{"$f":"IF(源数据!C48=\"\",\"\",源数据!C48)","v":1},{"$f":"IF(源数据!D48=\"\",\"\",源数据!D48)","v":0},0,0,"女",0,0,"小西装",2013,0,0,"修身","春季",0,0,0,0]
[{"$f":"IF(源数据!A49=\"\",\"\",源数据!A49)","v":"2013春季女装新款修身中长款小西装小外套"},{"$f":"IF(源数据!B49=\"\",\"\",源数据!B49)","v":1},{"$f":"IF(源数据!C49=\"\",\"\",源数据!C49)","v":0},{"$f":"IF(源数据!D49=\"\",\"\",源数据!D49)","v":0},0,0,"女","女装","外套","小西装",2013,0,0,"修身","春季",0,0,0,0]
[{"$f":"IF(源数据!A50=\"\",\"\",源数据!A50)","v":"2013春季外套女"},{"$f":"IF(源数据!B50=\"\",\"\",源数据!B50)","v":1},{"$f":"IF(源数据!C50=\"\",\"\",源数据!C50)","v":1},{"$f":"IF(源数据!D50=\"\",\"\",源数据!D50)","v":0},0,0,"女",0,"外套",0,2013,0,0,0,"春季",0,0,0,0]
[{"$f":"IF(源数据!A51=\"\",\"\",源数据!A51)","v":"2013春季西裝"},{"$f":"IF(源数据!B51=\"\",\"\",源数据!B51)","v":1},{"$f":"IF(源数据!C51=\"\",\"\",源数据!C51)","v":1},{"$f":"IF(源数据!D51=\"\",\"\",源数据!D51)","v":0},0,0,0,0,0,0,2013,0,0,0,"春季",0,0,0,0]
[{"$f":"IF(源数据!A52=\"\",\"\",源数据!A52)","v":"2013春季新款韩版女装"},{"$f":"IF(源数据!B52=\"\",\"\",源数据!B52)","v":1},{"$f":"IF(源数据!C52=\"\",\"\",源数据!C52)","v":0},{"$f":"IF(源数据!D52=\"\",\"\",源数据!D52)","v":0},0,0,"女","女装",0,0,2013,0,0,0,"春季",0,0,0,0]
[{"$f":"IF(源数据!A53=\"\",\"\",源数据!A53)","v":"2013春季新款韩版休闲西装外套 中长款"},{"$f":"IF(源数据!B53=\"\",\"\",源数据!B53)","v":1},{"$f":"IF(源数据!C53=\"\",\"\",源数据!C53)","v":1},{"$f":"IF(源数据!D53=\"\",\"\",源数据!D53)","v":0},0,0,0,0,"外套",0,2013,0,"休闲",0,"春季",0,0,0,0]
[{"$f":"IF(源数据!A54=\"\",\"\",源数据!A54)","v":"2013春秋 小西装 修身 女"},{"$f":"IF(源数据!B54=\"\",\"\",源数据!B54)","v":1},{"$f":"IF(源数据!C54=\"\",\"\",源数据!C54)","v":1},{"$f":"IF(源数据!D54=\"\",\"\",源数据!D54)","v":0},0,0,"女",0,0,"小西装",2013,0,0,"修身",0,"春秋",0,0,0]
[{"$f":"IF(源数据!A55=\"\",\"\",源数据!A55)","v":"2013春秋款女装中长外套"},{"$f":"IF(源数据!B55=\"\",\"\",源数据!B55)","v":1},{"$f":"IF(源数据!C55=\"\",\"\",源数据!C55)","v":1},{"$f":"IF(源数据!D55=\"\",\"\",源数据!D55)","v":0},0,0,"女","女装","外套",0,2013,0,0,0,0,"春秋",0,0,0]
[{"$f":"IF(源数据!A56=\"\",\"\",源数据!A56)","v":"2013春秋款西服外套女"},{"$f":"IF(源数据!B56=\"\",\"\",源数据!B56)","v":1},{"$f":"IF(源数据!C56=\"\",\"\",源数据!C56)","v":1},{"$f":"IF(源数据!D56=\"\",\"\",源数据!D56)","v":0},0,0,"女",0,"外套",0,2013,"西服",0,0,0,"春秋",0,0,0]
[{"$f":"IF(源数据!A57=\"\",\"\",源数据!A57)","v":"2013春秋女装"},{"$f":"IF(源数据!B57=\"\",\"\",源数据!B57)","v":1},{"$f":"IF(源数据!C57=\"\",\"\",源数据!C57)","v":1},{"$f":"IF(源数据!D57=\"\",\"\",源数据!D57)","v":0},0,0,"女","女装",0,0,2013,0,0,0,0,"春秋",0,0,0]
[{"$f":"IF(源数据!A58=\"\",\"\",源数据!A58)","v":"2013春秋女装外套休闲小西服韩版修身小西装"},{"$f":"IF(源数据!B58=\"\",\"\",源数据!B58)","v":1},{"$f":"IF(源数据!C58=\"\",\"\",源数据!C58)","v":1},{"$f":"IF(源数据!D58=\"\",\"\",源数据!D58)","v":0},0,0,"女","女装","外套","小西装",2013,"西服","休闲","修身",0,"春秋",0,0,0]
[{"$f":"IF(源数据!A59=\"\",\"\",源数据!A59)","v":"2013春秋女装西服"},{"$f":"IF(源数据!B59=\"\",\"\",源数据!B59)","v":1},{"$f":"IF(源数据!C59=\"\",\"\",源数据!C59)","v":1},{"$f":"IF(源数据!D59=\"\",\"\",源数据!D59)","v":0},0,0,"女","女装",0,0,2013,"西服",0,0,0,"春秋",0,0,0]
[{"$f":"IF(源数据!A60=\"\",\"\",源数据!A60)","v":"2013春秋外套"},{"$f":"IF(源数据!B60=\"\",\"\",源数据!B60)","v":1},{"$f":"IF(源数据!C60=\"\",\"\",源数据!C60)","v":1},{"$f":"IF(源数据!D60=\"\",\"\",源数据!D60)","v":0},0,0,0,0,"外套",0,2013,0,0,0,0,"春秋",0,0,0]
[{"$f":"IF(源数据!A61=\"\",\"\",源数据!A61)","v":"2013春秋外套 女 韩版"},{"$f":"IF(源数据!B61=\"\",\"\",源数据!B61)","v":1},{"$f":"IF(源数据!C61=\"\",\"\",源数据!C61)","v":1},{"$f":"IF(源数据!D61=\"\",\"\",源数据!D61)","v":0},0,0,"女",0,"外套",0,2013,0,0,0,0,"春秋",0,0,0]
[{"$f":"IF(源数据!A62=\"\",\"\",源数据!A62)","v":"2013春秋外套韩版 女"},{"$f":"IF(源数据!B62=\"\",\"\",源数据!B62)","v":1},{"$f":"IF(源数据!C62=\"\",\"\",源数据!C62)","v":1},{"$f":"IF(源数据!D62=\"\",\"\",源数据!D62)","v":0},0,0,"女",0,"外套",0,2013,0,0,0,0,"春秋",0,0,0]
[{"$f":"IF(源数据!A63=\"\",\"\",源数据!A63)","v":"2013春秋小西装"},{"$f":"IF(源数据!B63=\"\",\"\",源数据!B63)","v":1},{"$f":"IF(源数据!C63=\"\",\"\",源数据!C63)","v":1},{"$f":"IF(源数据!D63=\"\",\"\",源数据!D63)","v":0},0,0,0,0,0,"小西装",2013,0,0,0,0,"春秋",0,0,0]
[{"$f":"IF(源数据!A64=\"\",\"\",源数据!A64)","v":"2013春秋新款女外套"},{"$f":"IF(源数据!B64=\"\",\"\",源数据!B64)","v":2},{"$f":"IF(源数据!C64=\"\",\"\",源数据!C64)","v":1},{"$f":"IF(源数据!D64=\"\",\"\",源数据!D64)","v":0},0,0,"女",0,"外套",0,2013,0,0,0,0,"春秋",0,0,0]
[{"$f":"IF(源数据!A65=\"\",\"\",源数据!A65)","v":"2013春秋新款女装韩版修身显瘦小西装中长款雪纺大码拼接西服外套"},{"$f":"IF(源数据!B65=\"\",\"\",源数据!B65)","v":1},{"$f":"IF(源数据!C65=\"\",\"\",源数据!C65)","v":1},{"$f":"IF(源数据!D65=\"\",\"\",源数据!D65)","v":0},0,0,"女","女装","外套","小西装",2013,"西服",0,"修身",0,"春秋",0,0,0]
[{"$f":"IF(源数据!A66=\"\",\"\",源数据!A66)","v":"2013春秋新款女装韩版中长款修身显瘦小西服 雪纺拼接小西装外套"},{"$f":"IF(源数据!B66=\"\",\"\",源数据!B66)","v":4},{"$f":"IF(源数据!C66=\"\",\"\",源数据!C66)","v":0},{"$f":"IF(源数据!D66=\"\",\"\",源数据!D66)","v":1},0,0,"女","女装","外套","小西装",2013,"西服",0,"修身",0,"春秋",0,0,0]
[{"$f":"IF(源数据!A67=\"\",\"\",源数据!A67)","v":"2013春秋修身小西装"},{"$f":"IF(源数据!B67=\"\",\"\",源数据!B67)","v":1},{"$f":"IF(源数据!C67=\"\",\"\",源数据!C67)","v":1},{"$f":"IF(源数据!D67=\"\",\"\",源数据!D67)","v":0},{"$f":"IF($A66=\"\",\"\",IF(E$1=\"\",\"\",IF(IFERROR(SEARCH(E$1,$A67),0) >0,E$1,0)))","v":0},{"$f":"IF($A66=\"\",\"\",IF(F$1=\"\",\"\",IF(IFERROR(SEARCH(F$1,$A67),0) >0,F$1,0)))","v":0},{"$f":"IF($A66=\"\",\"\",IF(G$1=\"\",\"\",IF(IFERROR(SEARCH(G$1,$A67),0) >0,G$1,0)))","v":0},{"$f":"IF($A66=\"\",\"\",IF(H$1=\"\",\"\",IF(IFERROR(SEARCH(H$1,$A67),0) >0,H$1,0)))","v":0},{"$f":"IF($A66=\"\",\"\",IF(I$1=\"\",\"\",IF(IFERROR(SEARCH(I$1,$A67),0) >0,I$1,0)))","v":0},{"$f":"IF($A66=\"\",\"\",IF(J$1=\"\",\"\",IF(IFERROR(SEARCH(J$1,$A67),0) >0,J$1,0)))","v":"小西装"},{"$f":"IF($A66=\"\",\"\",IF(K$1=\"\",\"\",IF(IFERROR(SEARCH(K$1,$A67),0) >0,K$1,0)))","v":2013},{"$f":"IF($A66=\"\",\"\",IF(L$1=\"\",\"\",IF(IFERROR(SEARCH(L$1,$A67),0) >0,L$1,0)))","v":0},{"$f":"IF($A66=\"\",\"\",IF(M$1=\"\",\"\",IF(IFERROR(SEARCH(M$1,$A67),0) >0,M$1,0)))","v":0},{"$f":"IF($A66=\"\",\"\",IF(N$1=\"\",\"\",IF(IFERROR(SEARCH(N$1,$A67),0) >0,N$1,0)))","v":"修身"},{"$f":"IF($A66=\"\",\"\",IF(O$1=\"\",\"\",IF(IFERROR(SEARCH(O$1,$A67),0) >0,O$1,0)))","v":0},{"$f":"IF($A66=\"\",\"\",IF(P$1=\"\",\"\",IF(IFERROR(SEARCH(P$1,$A67),0) >0,P$1,0)))","v":"春秋"},{"$f":"IF($A66=\"\",\"\",IF(Q$1=\"\",\"\",IF(IFERROR(SEARCH(Q$1,$A67),0) >0,Q$1,0)))","v":0},{"$f":"IF($A66=\"\",\"\",IF(R$1=\"\",\"\",IF(IFERROR(SEARCH(R$1,$A67),0) >0,R$1,0)))","v":0},{"$f":"IF($A66=\"\",\"\",IF(S$1=\"\",\"\",IF(IFERROR(SEARCH(S$1,$A67),0) >0,S$1,0)))","v":0}]
[{"$f":"IF(源数据!A68=\"\",\"\",源数据!A68)","v":"2013春秋装新款韩版中长款修身小西装"},{"$f":"IF(源数据!B68=\"\",\"\",源数据!B68)","v":1},{"$f":"IF(源数据!C68=\"\",\"\",源数据!C68)","v":1},{"$f":"IF(源数据!D68=\"\",\"\",源数据!D68)","v":0},0,0,0,0,0,"小西装",2013,0,0,"修身",0,"春秋",0,0,0]
[{"$f":"IF(源数据!A69=\"\",\"\",源数据!A69)","v":"2013春秋装新款西服小西装外套女"},{"$f":"IF(源数据!B69=\"\",\"\",源数据!B69)","v":1},{"$f":"IF(源数据!C69=\"\",\"\",源数据!C69)","v":1},{"$f":"IF(源数据!D69=\"\",\"\",源数据!D69)","v":0},0,0,"女",0,"外套","小西装",2013,"西服",0,0,0,"春秋",0,0,0]
[{"$f":"IF(源数据!A70=\"\",\"\",源数据!A70)","v":"2013春外套"},{"$f":"IF(源数据!B70=\"\",\"\",源数据!B70)","v":1},{"$f":"IF(源数据!C70=\"\",\"\",源数据!C70)","v":0},{"$f":"IF(源数据!D70=\"\",\"\",源数据!D70)","v":1},0,0,0,0,"外套",0,2013,0,0,0,0,0,0,0,0]
[{"$f":"IF(源数据!A71=\"\",\"\",源数据!A71)","v":"2013春外套女新款"},{"$f":"IF(源数据!B71=\"\",\"\",源数据!B71)","v":1},{"$f":"IF(源数据!C71=\"\",\"\",源数据!C71)","v":1},{"$f":"IF(源数据!D71=\"\",\"\",源数据!D71)","v":0},0,0,"女",0,"外套",0,2013,0,0,0,0,0,0,0,0]
[{"$f":"IF(源数据!A72=\"\",\"\",源数据!A72)","v":"2013春西服外套女"},{"$f":"IF(源数据!B72=\"\",\"\",源数据!B72)","v":1},{"$f":"IF(源数据!C72=\"\",\"\",源数据!C72)","v":1},{"$f":"IF(源数据!D72=\"\",\"\",源数据!D72)","v":0},0,0,"女",0,"外套",0,2013,"西服",0,0,0,0,0,0,0]
[{"$f":"IF(源数据!A73=\"\",\"\",源数据!A73)","v":"2013春新款外套"},{"$f":"IF(源数据!B73=\"\",\"\",源数据!B73)","v":1},{"$f":"IF(源数据!C73=\"\",\"\",源数据!C73)","v":1},{"$f":"IF(源数据!D73=\"\",\"\",源数据!D73)","v":0},0,0,0,0,"外套",0,2013,0,0,0,0,0,0,0,0]
[{"$f":"IF(源数据!A74=\"\",\"\",源数据!A74)","v":"2013春中长款外套"},{"$f":"IF(源数据!B74=\"\",\"\",源数据!B74)","v":1},{"$f":"IF(源数据!C74=\"\",\"\",源数据!C74)","v":1},{"$f":"IF(源数据!D74=\"\",\"\",源数据!D74)","v":0},0,0,0,0,"外套",0,2013,0,0,0,0,0,0,0,0]
[{"$f":"IF(源数据!A75=\"\",\"\",源数据!A75)","v":"2013春装"},{"$f":"IF(源数据!B75=\"\",\"\",源数据!B75)","v":2},{"$f":"IF(源数据!C75=\"\",\"\",源数据!C75)","v":1},{"$f":"IF(源数据!D75=\"\",\"\",源数据!D75)","v":0},0,"春装",0,0,0,0,2013,0,0,0,0,0,0,0,0]
[{"$f":"IF(源数据!A76=\"\",\"\",源数据!A76)","v":"2013春装 白色小西装外套"},{"$f":"IF(源数据!B76=\"\",\"\",源数据!B76)","v":1},{"$f":"IF(源数据!C76=\"\",\"\",源数据!C76)","v":1},{"$f":"IF(源数据!D76=\"\",\"\",源数据!D76)","v":0},0,"春装",0,0,"外套","小西装",2013,0,0,0,0,0,"白色",0,0]
[{"$f":"IF(源数据!A77=\"\",\"\",源数据!A77)","v":"2013春装 外套 女"},{"$f":"IF(源数据!B77=\"\",\"\",源数据!B77)","v":1},{"$f":"IF(源数据!C77=\"\",\"\",源数据!C77)","v":0},{"$f":"IF(源数据!D77=\"\",\"\",源数据!D77)","v":0},0,"春装","女",0,"外套",0,2013,0,0,0,0,0,0,0,0]
[{"$f":"IF(源数据!A78=\"\",\"\",源数据!A78)","v":"2013春装 外套 女 韩版"},{"$f":"IF(源数据!B78=\"\",\"\",源数据!B78)","v":4},{"$f":"IF(源数据!C78=\"\",\"\",源数据!C78)","v":0.75},{"$f":"IF(源数据!D78=\"\",\"\",源数据!D78)","v":0},0,"春装","女",0,"外套",0,2013,0,0,0,0,0,0,0,0]
[{"$f":"IF(源数据!A79=\"\",\"\",源数据!A79)","v":"2013春装 小西服 女 韩版修身中长款雪纺 包邮"},{"$f":"IF(源数据!B79=\"\",\"\",源数据!B79)","v":1},{"$f":"IF(源数据!C79=\"\",\"\",源数据!C79)","v":0},{"$f":"IF(源数据!D79=\"\",\"\",源数据!D79)","v":0},0,"春装","女",0,0,0,2013,"西服",0,"修身",0,0,0,0,0]
[{"$f":"IF(源数据!A80=\"\",\"\",源数据!A80)","v":"2013春装 新款女西服"},{"$f":"IF(源数据!B80=\"\",\"\",源数据!B80)","v":2},{"$f":"IF(源数据!C80=\"\",\"\",源数据!C80)","v":0},{"$f":"IF(源数据!D80=\"\",\"\",源数据!D80)","v":1},0,"春装","女",0,0,0,2013,"西服",0,0,0,0,0,0,0]
[{"$f":"IF(源数据!A81=\"\",\"\",源数据!A81)","v":"2013春装 新款女装"},{"$f":"IF(源数据!B81=\"\",\"\",源数据!B81)","v":4},{"$f":"IF(源数据!C81=\"\",\"\",源数据!C81)","v":1},{"$f":"IF(源数据!D81=\"\",\"\",源数据!D81)","v":0},0,"春装","女","女装",0,0,2013,0,0,0,0,0,0,0,0]
[{"$f":"IF(源数据!A82=\"\",\"\",源数据!A82)","v":"2013春装 新外套女装"},{"$f":"IF(源数据!B82=\"\",\"\",源数据!B82)","v":1},{"$f":"IF(源数据!C82=\"\",\"\",源数据!C82)","v":0},{"$f":"IF(源数据!D82=\"\",\"\",源数据!D82)","v":0},0,"春装","女","女装","外套",0,2013,0,0,0,0,0,0,0,0]
[{"$f":"IF(源数据!A83=\"\",\"\",源数据!A83)","v":"2013春装韩版女装"},{"$f":"IF(源数据!B83=\"\",\"\",源数据!B83)","v":2},{"$f":"IF(源数据!C83=\"\",\"\",源数据!C83)","v":1},{"$f":"IF(源数据!D83=\"\",\"\",源数据!D83)","v":0},0,"春装","女","女装",0,0,2013,0,0,0,0,0,0,0,0]
[{"$f":"IF(源数据!A84=\"\",\"\",源数据!A84)","v":"2013春装韩版女装 西装"},{"$f":"IF(源数据!B84=\"\",\"\",源数据!B84)","v":1},{"$f":"IF(源数据!C84=\"\",\"\",源数据!C84)","v":1},{"$f":"IF(源数据!D84=\"\",\"\",源数据!D84)","v":0},0,"春装","女","女装",0,0,2013,0,0,0,0,0,0,0,0]
[{"$f":"IF(源数据!A85=\"\",\"\",源数据!A85)","v":"2013春装韩版女装小西装"},{"$f":"IF(源数据!B85=\"\",\"\",源数据!B85)","v":1},{"$f":"IF(源数据!C85=\"\",\"\",源数据!C85)","v":1},{"$f":"IF(源数据!D85=\"\",\"\",源数据!D85)","v":0},0,"春装","女","女装",0,"小西装",2013,0,0,0,0,0,0,0,0]
[{"$f":"IF(源数据!A86=\"\",\"\",源数据!A86)","v":"2013春装韩版女装修身小西装中长款"},{"$f":"IF(源数据!B86=\"\",\"\",源数据!B86)","v":1},{"$f":"IF(源数据!C86=\"\",\"\",源数据!C86)","v":1},{"$f":"IF(源数据!D86=\"\",\"\",源数据!D86)","v":0},0,"春装","女","女装",0,"小西装",2013,0,0,"修身",0,0,0,0,0]
[{"$f":"IF(源数据!A87=\"\",\"\",源数据!A87)","v":"2013春装女 外套"},{"$f":"IF(源数据!B87=\"\",\"\",源数据!B87)","v":1},{"$f":"IF(源数据!C87=\"\",\"\",源数据!C87)","v":1},{"$f":"IF(源数据!D87=\"\",\"\",源数据!D87)","v":0},0,"春装","女",0,"外套",0,2013,0,0,0,0,0,0,0,0]
[{"$f":"IF(源数据!A88=\"\",\"\",源数据!A88)","v":"2013春装女小西服外套"},{"$f":"IF(源数据!B88=\"\",\"\",源数据!B88)","v":1},{"$f":"IF(源数据!C88=\"\",\"\",源数据!C88)","v":1},{"$f":"IF(源数据!D88=\"\",\"\",源数据!D88)","v":0},0,"春装","女",0,"外套",0,2013,"西服",0,0,0,0,0,0,0]
[{"$f":"IF(源数据!A89=\"\",\"\",源数据!A89)","v":"2013春装女装外套"},{"$f":"IF(源数据!B89=\"\",\"\",源数据!B89)","v":1},{"$f":"IF(源数据!C89=\"\",\"\",源数据!C89)","v":1},{"$f":"IF(源数据!D89=\"\",\"\",源数据!D89)","v":0},0,"春装","女","女装","外套",0,2013,0,0,0,0,0,0,0,0]
[{"$f":"IF(源数据!A90=\"\",\"\",源数据!A90)","v":"2013春装女装小外套"},{"$f":"IF(源数据!B90=\"\",\"\",源数据!B90)","v":1},{"$f":"IF(源数据!C90=\"\",\"\",源数据!C90)","v":1},{"$f":"IF(源数据!D90=\"\",\"\",源数据!D90)","v":0},0,"春装","女","女装","外套",0,2013,0,0,0,0,0,0,0,0]
[{"$f":"IF(源数据!A91=\"\",\"\",源数据!A91)","v":"2013春装女装新款红色小西服外套"},{"$f":"IF(源数据!B91=\"\",\"\",源数据!B91)","v":1},{"$f":"IF(源数据!C91=\"\",\"\",源数据!C91)","v":1},{"$f":"IF(源数据!D91=\"\",\"\",源数据!D91)","v":0},0,"春装","女","女装","外套",0,2013,"西服",0,0,0,0,0,0,0]
[{"$f":"IF(源数据!A92=\"\",\"\",源数据!A92)","v":"2013春装女装新款外套"},{"$f":"IF(源数据!B92=\"\",\"\",源数据!B92)","v":1},{"$f":"IF(源数据!C92=\"\",\"\",源数据!C92)","v":1},{"$f":"IF(源数据!D92=\"\",\"\",源数据!D92)","v":0},0,"春装","女","女装","外套",0,2013,0,0,0,0,0,0,0,0]
[{"$f":"IF(源数据!A93=\"\",\"\",源数据!A93)","v":"2013春装女装新款小西装"},{"$f":"IF(源数据!B93=\"\",\"\",源数据!B93)","v":1},{"$f":"IF(源数据!C93=\"\",\"\",源数据!C93)","v":0},{"$f":"IF(源数据!D93=\"\",\"\",源数据!D93)","v":0},0,"春装","女","女装",0,"小西装",2013,0,0,0,0,0,0,0,0]
[{"$f":"IF(源数据!A94=\"\",\"\",源数据!A94)","v":"2013春装外套"},{"$f":"IF(源数据!B94=\"\",\"\",源数据!B94)","v":37},{"$f":"IF(源数据!C94=\"\",\"\",源数据!C94)","v":0.75680000000000003},{"$f":"IF(源数据!D94=\"\",\"\",源数据!D94)","v":0},0,"春装",0,0,"外套",0,2013,0,0,0,0,0,0,0,0]
[{"$f":"IF(源数据!A95=\"\",\"\",源数据!A95)","v":"2013春装外套 女款"},{"$f":"IF(源数据!B95=\"\",\"\",源数据!B95)","v":1},{"$f":"IF(源数据!C95=\"\",\"\",源数据!C95)","v":1},{"$f":"IF(源数据!D95=\"\",\"\",源数据!D95)","v":0},0,"春装","女",0,"外套",0,2013,0,0,0,0,0,0,0,0]
[{"$f":"IF(源数据!A96=\"\",\"\",源数据!A96)","v":"2013春装外套女装新款"},{"$f":"IF(源数据!B96=\"\",\"\",源数据!B96)","v":1},{"$f":"IF(源数据!C96=\"\",\"\",源数据!C96)","v":1},{"$f":"IF(源数据!D96=\"\",\"\",源数据!D96)","v":0},0,"春装","女","女装","外套",0,2013,0,0,0,0,0,0,0,0]
[{"$f":"IF(源数据!A97=\"\",\"\",源数据!A97)","v":"2013春装外套新款"},{"$f":"IF(源数据!B97=\"\",\"\",源数据!B97)","v":1},{"$f":"IF(源数据!C97=\"\",\"\",源数据!C97)","v":1},{"$f":"IF(源数据!D97=\"\",\"\",源数据!D97)","v":0},0,"春装",0,0,"外套",0,2013,0,0,0,0,0,0,0,0]
[{"$f":"IF(源数据!A98=\"\",\"\",源数据!A98)","v":"2013春装西服"},{"$f":"IF(源数据!B98=\"\",\"\",源数据!B98)","v":1},{"$f":"IF(源数据!C98=\"\",\"\",源数据!C98)","v":1},{"$f":"IF(源数据!D98=\"\",\"\",源数据!D98)","v":0},0,"春装",0,0,0,0,2013,"西服",0,0,0,0,0,0,0]
[{"$f":"IF(源数据!A99=\"\",\"\",源数据!A99)","v":"2013春装西服外套"},{"$f":"IF(源数据!B99=\"\",\"\",源数据!B99)","v":1},{"$f":"IF(源数据!C99=\"\",\"\",源数据!C99)","v":0},{"$f":"IF(源数据!D99=\"\",\"\",源数据!D99)","v":0},0,"春装",0,0,"外套",0,2013,"西服",0,0,0,0,0,0,0]
[{"$f":"IF(源数据!A100=\"\",\"\",源数据!A100)","v":"2013春装西服外套女款"},{"$f":"IF(源数据!B100=\"\",\"\",源数据!B100)","v":1},{"$f":"IF(源数据!C100=\"\",\"\",源数据!C100)","v":1},{"$f":"IF(源数据!D100=\"\",\"\",源数据!D100)","v":0},0,"春装","女",0,"外套",0,2013,"西服",0,0,0,0,0,0,0]
[{"$f":"IF(源数据!A101=\"\",\"\",源数据!A101)","v":"2013春装西装"},{"$f":"IF(源数据!B101=\"\",\"\",源数据!B101)","v":1},{"$f":"IF(源数据!C101=\"\",\"\",源数据!C101)","v":1},{"$f":"IF(源数据!D101=\"\",\"\",源数据!D101)","v":0},0,"春装",0,0,0,0,2013,0,0,0,0,0,0,0,0]
[{"$f":"IF(源数据!A102=\"\",\"\",源数据!A102)","v":"2013春装西装外套 女"},{"$f":"IF(源数据!B102=\"\",\"\",源数据!B102)","v":1},{"$f":"IF(源数据!C102=\"\",\"\",源数据!C102)","v":0},{"$f":"IF(源数据!D102=\"\",\"\",源数据!D102)","v":0},0,"春装","女",0,"外套",0,2013,0,0,0,0,0,0,0,0]
[{"$f":"IF(源数据!A103=\"\",\"\",源数据!A103)","v":"2013春装西装外套女"},{"$f":"IF(源数据!B103=\"\",\"\",源数据!B103)","v":1},{"$f":"IF(源数据!C103=\"\",\"\",源数据!C103)","v":1},{"$f":"IF(源数据!D103=\"\",\"\",源数据!D103)","v":0},0,"春装","女",0,"外套",0,2013,0,0,0,0,0,0,0,0]
[{"$f":"IF(源数据!A104=\"\",\"\",源数据!A104)","v":"2013春装小西装女"},{"$f":"IF(源数据!B104=\"\",\"\",源数据!B104)","v":2},{"$f":"IF(源数据!C104=\"\",\"\",源数据!C104)","v":1},{"$f":"IF(源数据!D104=\"\",\"\",源数据!D104)","v":0},0,"春装","女",0,0,"小西装",2013,0,0,0,0,0,0,0,0]
[{"$f":"IF(源数据!A105=\"\",\"\",源数据!A105)","v":"2013春装新款长款西装超大码包邮"},{"$f":"IF(源数据!B105=\"\",\"\",源数据!B105)","v":1},{"$f":"IF(源数据!C105=\"\",\"\",源数据!C105)","v":1},{"$f":"IF(源数据!D105=\"\",\"\",源数据!D105)","v":0},0,"春装",0,0,0,0,2013,0,0,0,0,0,0,0,0]
[{"$f":"IF(源数据!A106=\"\",\"\",源数据!A106)","v":"2013春装新款韩版"},{"$f":"IF(源数据!B106=\"\",\"\",源数据!B106)","v":1},{"$f":"IF(源数据!C106=\"\",\"\",源数据!C106)","v":0},{"$f":"IF(源数据!D106=\"\",\"\",源数据!D106)","v":0},0,"春装",0,0,0,0,2013,0,0,0,0,0,0,0,0]
[{"$f":"IF(源数据!A107=\"\",\"\",源数据!A107)","v":"2013春装新款女式修身后背雪纺拼接韩版小西装大码西装女装"},{"$f":"IF(源数据!B107=\"\",\"\",源数据!B107)","v":2},{"$f":"IF(源数据!C107=\"\",\"\",源数据!C107)","v":0},{"$f":"IF(源数据!D107=\"\",\"\",源数据!D107)","v":0},0,"春装","女","女装",0,"小西装",2013,0,0,"修身",0,0,0,0,0]
[{"$f":"IF(源数据!A108=\"\",\"\",源数据!A108)","v":"2013春装新款女装"},{"$f":"IF(源数据!B108=\"\",\"\",源数据!B108)","v":3},{"$f":"IF(源数据!C108=\"\",\"\",源数据!C108)","v":0.66669999999999996},{"$f":"IF(源数据!D108=\"\",\"\",源数据!D108)","v":0},0,"春装","女","女装",0,0,2013,0,0,0,0,0,0,0,0]
[{"$f":"IF(源数据!A109=\"\",\"\",源数据!A109)","v":"2013春装新款女装 中长款休闲西服女"},{"$f":"IF(源数据!B109=\"\",\"\",源数据!B109)","v":1},{"$f":"IF(源数据!C109=\"\",\"\",源数据!C109)","v":1},{"$f":"IF(源数据!D109=\"\",\"\",源数据!D109)","v":0},0,"春装","女","女装",0,0,2013,"西服","休闲",0,0,0,0,0,0]
[{"$f":"IF(源数据!A110=\"\",\"\",源数据!A110)","v":"2013春装新款女装修身外套韩版修身小西装女装小外套西服"},{"$f":"IF(源数据!B110=\"\",\"\",源数据!B110)","v":1},{"$f":"IF(源数据!C110=\"\",\"\",源数据!C110)","v":1},{"$f":"IF(源数据!D110=\"\",\"\",源数据!D110)","v":0},0,"春装","女","女装","外套","小西装",2013,"西服",0,"修身",0,0,0,0,0]
[{"$f":"IF(源数据!A111=\"\",\"\",源数据!A111)","v":"2013春装新款女装中长款一粒扣小西服"},{"$f":"IF(源数据!B111=\"\",\"\",源数据!B111)","v":1},{"$f":"IF(源数据!C111=\"\",\"\",源数据!C111)","v":1},{"$f":"IF(源数据!D111=\"\",\"\",源数据!D111)","v":0},0,"春装","女","女装",0,0,2013,"西服",0,0,0,0,0,0,0]
[{"$f":"IF(源数据!A112=\"\",\"\",源数据!A112)","v":"2013春装新款外套"},{"$f":"IF(源数据!B112=\"\",\"\",源数据!B112)","v":2},{"$f":"IF(源数据!C112=\"\",\"\",源数据!C112)","v":1},{"$f":"IF(源数据!D112=\"\",\"\",源数据!D112)","v":0},0,"春装",0,0,"外套",0,2013,0,0,0,0,0,0,0,0]
[{"$f":"IF(源数据!A113=\"\",\"\",源数据!A113)","v":"2013春装新款西装女"},{"$f":"IF(源数据!B113=\"\",\"\",源数据!B113)","v":1},{"$f":"IF(源数据!C113=\"\",\"\",源数据!C113)","v":1},{"$f":"IF(源数据!D113=\"\",\"\",源数据!D113)","v":0},0,"春装","女",0,0,0,2013,0,0,0,0,0,0,0,0]
[{"$f":"IF(源数据!A114=\"\",\"\",源数据!A114)","v":"2013春装新款小西装韩版"},{"$f":"IF(源数据!B114=\"\",\"\",源数据!B114)","v":1},{"$f":"IF(源数据!C114=\"\",\"\",源数据!C114)","v":1},{"$f":"IF(源数据!D114=\"\",\"\",源数据!D114)","v":0},0,"春装",0,0,0,"小西装",2013,0,0,0,0,0,0,0,0]
[{"$f":"IF(源数据!A115=\"\",\"\",源数据!A115)","v":"2013春装新款小西装外套女韩版修身中长西服"},{"$f":"IF(源数据!B115=\"\",\"\",源数据!B115)","v":1},{"$f":"IF(源数据!C115=\"\",\"\",源数据!C115)","v":1},{"$f":"IF(源数据!D115=\"\",\"\",源数据!D115)","v":0},0,"春装","女",0,"外套","小西装",2013,"西服",0,"修身",0,0,0,0,0]
[{"$f":"IF(源数据!A116=\"\",\"\",源数据!A116)","v":"2013春装新款修身小西服外套女装"},{"$f":"IF(源数据!B116=\"\",\"\",源数据!B116)","v":1},{"$f":"IF(源数据!C116=\"\",\"\",源数据!C116)","v":0},{"$f":"IF(源数据!D116=\"\",\"\",源数据!D116)","v":0},0,"春装","女","女装","外套",0,2013,"西服",0,"修身",0,0,0,0,0]
[{"$f":"IF(源数据!A117=\"\",\"\",源数据!A117)","v":"2013春装新款中长款小西装外套女韩版修身小西装一粒扣"},{"$f":"IF(源数据!B117=\"\",\"\",源数据!B117)","v":1},{"$f":"IF(源数据!C117=\"\",\"\",源数据!C117)","v":1},{"$f":"IF(源数据!D117=\"\",\"\",源数据!D117)","v":0},0,"春装","女",0,"外套","小西装",2013,0,0,"修身",0,0,0,0,0]
[{"$f":"IF(源数据!A118=\"\",\"\",源数据!A118)","v":"2013韩版春装"},{"$f":"IF(源数据!B118=\"\",\"\",源数据!B118)","v":1},{"$f":"IF(源数据!C118=\"\",\"\",源数据!C118)","v":0},{"$f":"IF(源数据!D118=\"\",\"\",源数据!D118)","v":1},0,"春装",0,0,0,0,2013,0,0,0,0,0,0,0,0]
[{"$f":"IF(源数据!A119=\"\",\"\",源数据!A119)","v":"2013韩版女装外套"},{"$f":"IF(源数据!B119=\"\",\"\",源数据!B119)","v":1},{"$f":"IF(源数据!C119=\"\",\"\",源数据!C119)","v":1},{"$f":"IF(源数据!D119=\"\",\"\",源数据!D119)","v":0},0,0,"女","女装","外套",0,2013,0,0,0,0,0,0,0,0]
[{"$f":"IF(源数据!A120=\"\",\"\",源数据!A120)","v":"2013韩版小西装女"},{"$f":"IF(源数据!B120=\"\",\"\",源数据!B120)","v":2},{"$f":"IF(源数据!C120=\"\",\"\",源数据!C120)","v":1},{"$f":"IF(源数据!D120=\"\",\"\",源数据!D120)","v":0},0,0,"女",0,0,"小西装",2013,0,0,0,0,0,0,0,0]
[{"$f":"IF(源数据!A121=\"\",\"\",源数据!A121)","v":"2013流行女西装"},{"$f":"IF(源数据!B121=\"\",\"\",源数据!B121)","v":1},{"$f":"IF(源数据!C121=\"\",\"\",源数据!C121)","v":1},{"$f":"IF(源数据!D121=\"\",\"\",源数据!D121)","v":0},0,0,"女",0,0,0,2013,0,0,0,0,0,0,0,0]
[{"$f":"IF(源数据!A122=\"\",\"\",源数据!A122)","v":"2013女款春装外套"},{"$f":"IF(源数据!B122=\"\",\"\",源数据!B122)","v":1},{"$f":"IF(源数据!C122=\"\",\"\",源数据!C122)","v":1},{"$f":"IF(源数据!D122=\"\",\"\",源数据!D122)","v":0},0,"春装","女",0,"外套",0,2013,0,0,0,0,0,0,0,0]
[{"$f":"IF(源数据!A123=\"\",\"\",源数据!A123)","v":"2013女款西装"},{"$f":"IF(源数据!B123=\"\",\"\",源数据!B123)","v":1},{"$f":"IF(源数据!C123=\"\",\"\",源数据!C123)","v":1},{"$f":"IF(源数据!D123=\"\",\"\",源数据!D123)","v":0},0,0,"女",0,0,0,2013,0,0,0,0,0,0,0,0]
[{"$f":"IF(源数据!A124=\"\",\"\",源数据!A124)","v":"2013女士外套新款"},{"$f":"IF(源数据!B124=\"\",\"\",源数据!B124)","v":1},{"$f":"IF(源数据!C124=\"\",\"\",源数据!C124)","v":1},{"$f":"IF(源数据!D124=\"\",\"\",源数据!D124)","v":0},0,0,"女",0,"外套",0,2013,0,0,0,0,0,0,0,0]
[{"$f":"IF(源数据!A125=\"\",\"\",源数据!A125)","v":"2013女士小西服"},{"$f":"IF(源数据!B125=\"\",\"\",源数据!B125)","v":1},{"$f":"IF(源数据!C125=\"\",\"\",源数据!C125)","v":1},{"$f":"IF(源数据!D125=\"\",\"\",源数据!D125)","v":0},0,0,"女",0,0,0,2013,"西服",0,0,0,0,0,0,0]
[{"$f":"IF(源数据!A126=\"\",\"\",源数据!A126)","v":"2013女士休闲韩版西服"},{"$f":"IF(源数据!B126=\"\",\"\",源数据!B126)","v":1},{"$f":"IF(源数据!C126=\"\",\"\",源数据!C126)","v":1},{"$f":"IF(源数据!D126=\"\",\"\",源数据!D126)","v":0},0,0,"女",0,0,0,2013,"西服","休闲",0,0,0,0,0,0]
[{"$f":"IF(源数据!A127=\"\",\"\",源数据!A127)","v":"2013女装长款修身春装"},{"$f":"IF(源数据!B127=\"\",\"\",源数据!B127)","v":1},{"$f":"IF(源数据!C127=\"\",\"\",源数据!C127)","v":1},{"$f":"IF(源数据!D127=\"\",\"\",源数据!D127)","v":0},0,"春装","女","女装",0,0,2013,0,0,"修身",0,0,0,0,0]
[{"$f":"IF(源数据!A128=\"\",\"\",源数据!A128)","v":"2013女装春装外套"},{"$f":"IF(源数据!B128=\"\",\"\",源数据!B128)","v":1},{"$f":"IF(源数据!C128=\"\",\"\",源数据!C128)","v":1},{"$f":"IF(源数据!D128=\"\",\"\",源数据!D128)","v":0},0,"春装","女","女装","外套",0,2013,0,0,0,0,0,0,0,0]
[{"$f":"IF(源数据!A129=\"\",\"\",源数据!A129)","v":"2013女装新款外套"},{"$f":"IF(源数据!B129=\"\",\"\",源数据!B129)","v":11},{"$f":"IF(源数据!C129=\"\",\"\",源数据!C129)","v":0.72729999999999995},{"$f":"IF(源数据!D129=\"\",\"\",源数据!D129)","v":0},0,0,"女","女装","外套",0,2013,0,0,0,0,0,0,0,0]
[{"$f":"IF(源数据!A130=\"\",\"\",源数据!A130)","v":"2013女装新款外套包邮"},{"$f":"IF(源数据!B130=\"\",\"\",源数据!B130)","v":1},{"$f":"IF(源数据!C130=\"\",\"\",源数据!C130)","v":1},{"$f":"IF(源数据!D130=\"\",\"\",源数据!D130)","v":0},0,0,"女","女装","外套",0,2013,0,0,0,0,0,0,0,0]
[{"$f":"IF(源数据!A131=\"\",\"\",源数据!A131)","v":"2013女装新款西装"},{"$f":"IF(源数据!B131=\"\",\"\",源数据!B131)","v":1},{"$f":"IF(源数据!C131=\"\",\"\",源数据!C131)","v":1},{"$f":"IF(源数据!D131=\"\",\"\",源数据!D131)","v":0},{"$f":"IF($A130=\"\",\"\",IF(E$1=\"\",\"\",IF(IFERROR(SEARCH(E$1,$A131),0) >0,E$1,0)))","v":0},{"$f":"IF($A130=\"\",\"\",IF(F$1=\"\",\"\",IF(IFERROR(SEARCH(F$1,$A131),0) >0,F$1,0)))","v":0},{"$f":"IF($A130=\"\",\"\",IF(G$1=\"\",\"\",IF(IFERROR(SEARCH(G$1,$A131),0) >0,G$1,0)))","v":"女"},{"$f":"IF($A130=\"\",\"\",IF(H$1=\"\",\"\",IF(IFERROR(SEARCH(H$1,$A131),0) >0,H$1,0)))","v":"女装"},{"$f":"IF($A130=\"\",\"\",IF(I$1=\"\",\"\",IF(IFERROR(SEARCH(I$1,$A131),0) >0,I$1,0)))","v":0},{"$f":"IF($A130=\"\",\"\",IF(J$1=\"\",\"\",IF(IFERROR(SEARCH(J$1,$A131),0) >0,J$1,0)))","v":0},{"$f":"IF($A130=\"\",\"\",IF(K$1=\"\",\"\",IF(IFERROR(SEARCH(K$1,$A131),0) >0,K$1,0)))","v":2013},{"$f":"IF($A130=\"\",\"\",IF(L$1=\"\",\"\",IF(IFERROR(SEARCH(L$1,$A131),0) >0,L$1,0)))","v":0},{"$f":"IF($A130=\"\",\"\",IF(M$1=\"\",\"\",IF(IFERROR(SEARCH(M$1,$A131),0) >0,M$1,0)))","v":0},{"$f":"IF($A130=\"\",\"\",IF(N$1=\"\",\"\",IF(IFERROR(SEARCH(N$1,$A131),0) >0,N$1,0)))","v":0},{"$f":"IF($A130=\"\",\"\",IF(O$1=\"\",\"\",IF(IFERROR(SEARCH(O$1,$A131),0) >0,O$1,0)))","v":0},{"$f":"IF($A130=\"\",\"\",IF(P$1=\"\",\"\",IF(IFERROR(SEARCH(P$1,$A131),0) >0,P$1,0)))","v":0},{"$f":"IF($A130=\"\",\"\",IF(Q$1=\"\",\"\",IF(IFERROR(SEARCH(Q$1,$A131),0) >0,Q$1,0)))","v":0},{"$f":"IF($A130=\"\",\"\",IF(R$1=\"\",\"\",IF(IFERROR(SEARCH(R$1,$A131),0) >0,R$1,0)))","v":0},{"$f":"IF($A130=\"\",\"\",IF(S$1=\"\",\"\",IF(IFERROR(SEARCH(S$1,$A131),0) >0,S$1,0)))","v":0}]
[{"$f":"IF(源数据!A132=\"\",\"\",源数据!A132)","v":"2013外套新款 潮 女"},{"$f":"IF(源数据!B132=\"\",\"\",源数据!B132)","v":14},{"$f":"IF(源数据!C132=\"\",\"\",源数据!C132)","v":1},{"$f":"IF(源数据!D132=\"\",\"\",源数据!D132)","v":0},"潮",0,"女",0,"外套",0,2013,0,0,0,0,0,0,0,0]
[{"$f":"IF(源数据!A133=\"\",\"\",源数据!A133)","v":"2013西服"},{"$f":"IF(源数据!B133=\"\",\"\",源数据!B133)","v":1},{"$f":"IF(源数据!C133=\"\",\"\",源数据!C133)","v":1},{"$f":"IF(源数据!D133=\"\",\"\",源数据!D133)","v":0},0,0,0,0,0,0,2013,"西服",0,0,0,0,0,0,0]
[{"$f":"IF(源数据!A134=\"\",\"\",源数据!A134)","v":"2013西服新款女"},{"$f":"IF(源数据!B134=\"\",\"\",源数据!B134)","v":1},{"$f":"IF(源数据!C134=\"\",\"\",源数据!C134)","v":1},{"$f":"IF(源数据!D134=\"\",\"\",源数据!D134)","v":0},0,0,"女",0,0,0,2013,"西服",0,0,0,0,0,0,0]
[{"$f":"IF(源数据!A135=\"\",\"\",源数据!A135)","v":"2013西装"},{"$f":"IF(源数据!B135=\"\",\"\",源数据!B135)","v":1},{"$f":"IF(源数据!C135=\"\",\"\",源数据!C135)","v":1},{"$f":"IF(源数据!D135=\"\",\"\",源数据!D135)","v":0},0,0,0,0,0,0,2013,0,0,0,0,0,0,0,0]
[{"$f":"IF(源数据!A136=\"\",\"\",源数据!A136)","v":"2013西装 女 外套"},{"$f":"IF(源数据!B136=\"\",\"\",源数据!B136)","v":1},{"$f":"IF(源数据!C136=\"\",\"\",源数据!C136)","v":1},{"$f":"IF(源数据!D136=\"\",\"\",源数据!D136)","v":0},0,0,"女",0,"外套",0,2013,0,0,0,0,0,0,0,0]
[{"$f":"IF(源数据!A137=\"\",\"\",源数据!A137)","v":"2013西装女款"},{"$f":"IF(源数据!B137=\"\",\"\",源数据!B137)","v":1},{"$f":"IF(源数据!C137=\"\",\"\",源数据!C137)","v":1},{"$f":"IF(源数据!D137=\"\",\"\",源数据!D137)","v":0},0,0,"女",0,0,0,2013,0,0,0,0,0,0,0,0]
[{"$f":"IF(源数据!A138=\"\",\"\",源数据!A138)","v":"2013西装外套韩版女 春装"},{"$f":"IF(源数据!B138=\"\",\"\",源数据!B138)","v":1},{"$f":"IF(源数据!C138=\"\",\"\",源数据!C138)","v":1},{"$f":"IF(源数据!D138=\"\",\"\",源数据!D138)","v":0},0,"春装","女",0,"外套",0,2013,0,0,0,0,0,0,0,0]
[{"$f":"IF(源数据!A139=\"\",\"\",源数据!A139)","v":"2013西装外套女"},{"$f":"IF(源数据!B139=\"\",\"\",源数据!B139)","v":2},{"$f":"IF(源数据!C139=\"\",\"\",源数据!C139)","v":1},{"$f":"IF(源数据!D139=\"\",\"\",源数据!D139)","v":0},0,0,"女",0,"外套",0,2013,0,0,0,0,0,0,0,0]
[{"$f":"IF(源数据!A140=\"\",\"\",源数据!A140)","v":"2013西装外套女装新款"},{"$f":"IF(源数据!B140=\"\",\"\",源数据!B140)","v":1},{"$f":"IF(源数据!C140=\"\",\"\",源数据!C140)","v":1},{"$f":"IF(源数据!D140=\"\",\"\",源数据!D140)","v":0},0,0,"女","女装","外套",0,2013,0,0,0,0,0,0,0,0]
[{"$f":"IF(源数据!A141=\"\",\"\",源数据!A141)","v":"2013小西服韩版女"},{"$f":"IF(源数据!B141=\"\",\"\",源数据!B141)","v":1},{"$f":"IF(源数据!C141=\"\",\"\",源数据!C141)","v":1},{"$f":"IF(源数据!D141=\"\",\"\",源数据!D141)","v":0},0,0,"女",0,0,0,2013,"西服",0,0,0,0,0,0,0]
[{"$f":"IF(源数据!A142=\"\",\"\",源数据!A142)","v":"2013小西装春秋装新款西服韩版修身小外套"},{"$f":"IF(源数据!B142=\"\",\"\",源数据!B142)","v":1},{"$f":"IF(源数据!C142=\"\",\"\",源数据!C142)","v":1},{"$f":"IF(源数据!D142=\"\",\"\",源数据!D142)","v":0},0,0,0,0,"外套","小西装",2013,"西服",0,"修身",0,"春秋",0,0,0]
[{"$f":"IF(源数据!A143=\"\",\"\",源数据!A143)","v":"2013小西装外套"},{"$f":"IF(源数据!B143=\"\",\"\",源数据!B143)","v":1},{"$f":"IF(源数据!C143=\"\",\"\",源数据!C143)","v":0},{"$f":"IF(源数据!D143=\"\",\"\",源数据!D143)","v":0},0,0,0,0,"外套","小西装",2013,0,0,0,0,0,0,0,0]
[{"$f":"IF(源数据!A144=\"\",\"\",源数据!A144)","v":"2013小西装外套 女"},{"$f":"IF(源数据!B144=\"\",\"\",源数据!B144)","v":6},{"$f":"IF(源数据!C144=\"\",\"\",源数据!C144)","v":0.66669999999999996},{"$f":"IF(源数据!D144=\"\",\"\",源数据!D144)","v":1},0,0,"女",0,"外套","小西装",2013,0,0,0,0,0,0,0,0]
[{"$f":"IF(源数据!A145=\"\",\"\",源数据!A145)","v":"2013小西装新款 潮 女"},{"$f":"IF(源数据!B145=\"\",\"\",源数据!B145)","v":11},{"$f":"IF(源数据!C145=\"\",\"\",源数据!C145)","v":0.90910000000000002},{"$f":"IF(源数据!D145=\"\",\"\",源数据!D145)","v":0},"潮",0,"女",0,0,"小西装",2013,0,0,0,0,0,0,0,0]
[{"$f":"IF(源数据!A146=\"\",\"\",源数据!A146)","v":"2013新款"},{"$f":"IF(源数据!B146=\"\",\"\",源数据!B146)","v":5},{"$f":"IF(源数据!C146=\"\",\"\",源数据!C146)","v":0.8},{"$f":"IF(源数据!D146=\"\",\"\",源数据!D146)","v":0},0,0,0,0,0,0,2013,0,0,0,0,0,0,0,0]
[{"$f":"IF(源数据!A147=\"\",\"\",源数据!A147)","v":"2013新款 潮 女外套"},{"$f":"IF(源数据!B147=\"\",\"\",源数据!B147)","v":3},{"$f":"IF(源数据!C147=\"\",\"\",源数据!C147)","v":0.66669999999999996},{"$f":"IF(源数据!D147=\"\",\"\",源数据!D147)","v":1},"潮",0,"女",0,"外套",0,2013,0,0,0,0,0,0,0,0]
[{"$f":"IF(源数据!A148=\"\",\"\",源数据!A148)","v":"2013新款 潮 女装"},{"$f":"IF(源数据!B148=\"\",\"\",源数据!B148)","v":2},{"$f":"IF(源数据!C148=\"\",\"\",源数据!C148)","v":0.5},{"$f":"IF(源数据!D148=\"\",\"\",源数据!D148)","v":0},"潮",0,"女","女装",0,0,2013,0,0,0,0,0,0,0,0]
[{"$f":"IF(源数据!A149=\"\",\"\",源数据!A149)","v":"2013新款 春装 女装"},{"$f":"IF(源数据!B149=\"\",\"\",源数据!B149)","v":1},{"$f":"IF(源数据!C149=\"\",\"\",源数据!C149)","v":1},{"$f":"IF(源数据!D149=\"\",\"\",源数据!D149)","v":0},0,"春装","女","女装",0,0,2013,0,0,0,0,0,0,0,0]
[{"$f":"IF(源数据!A150=\"\",\"\",源数据!A150)","v":"2013新款春秋装韩版女装修身休闲白色小西服女中长款春秋外套潮"},{"$f":"IF(源数据!B150=\"\",\"\",源数据!B150)","v":1},{"$f":"IF(源数据!C150=\"\",\"\",源数据!C150)","v":1},{"$f":"IF(源数据!D150=\"\",\"\",源数据!D150)","v":0},"潮",0,"女","女装","外套",0,2013,"西服","休闲","修身",0,"春秋","白色",0,0]
[{"$f":"IF(源数据!A151=\"\",\"\",源数据!A151)","v":"2013新款春装 小西装"},{"$f":"IF(源数据!B151=\"\",\"\",源数据!B151)","v":1},{"$f":"IF(源数据!C151=\"\",\"\",源数据!C151)","v":1},{"$f":"IF(源数据!D151=\"\",\"\",源数据!D151)","v":0},0,"春装",0,0,0,"小西装",2013,0,0,0,0,0,0,0,0]
[{"$f":"IF(源数据!A152=\"\",\"\",源数据!A152)","v":"2013新款春装韩版女装休闲白色小西服中长款春秋外套"},{"$f":"IF(源数据!B152=\"\",\"\",源数据!B152)","v":1},{"$f":"IF(源数据!C152=\"\",\"\",源数据!C152)","v":0},{"$f":"IF(源数据!D152=\"\",\"\",源数据!D152)","v":0},0,"春装","女","女装","外套",0,2013,"西服","休闲",0,0,"春秋","白色",0,0]
[{"$f":"IF(源数据!A153=\"\",\"\",源数据!A153)","v":"2013新款春装韩版女装修身休闲白色小西装西服女中长款春秋外套潮"},{"$f":"IF(源数据!B153=\"\",\"\",源数据!B153)","v":8},{"$f":"IF(源数据!C153=\"\",\"\",源数据!C153)","v":0.375},{"$f":"IF(源数据!D153=\"\",\"\",源数据!D153)","v":0},"潮","春装","女","女装","外套","小西装",2013,"西服","休闲","修身",0,"春秋","白色",0,0]
[{"$f":"IF(源数据!A154=\"\",\"\",源数据!A154)","v":"2013新款春装韩版女装修身休闲白色小西装西服女中长款春秋外套潮 西装"},{"$f":"IF(源数据!B154=\"\",\"\",源数据!B154)","v":1},{"$f":"IF(源数据!C154=\"\",\"\",源数据!C154)","v":1},{"$f":"IF(源数据!D154=\"\",\"\",源数据!D154)","v":0},"潮","春装","女","女装","外套","小西装",2013,"西服","休闲","修身",0,"春秋","白色",0,0]
[{"$f":"IF(源数据!A155=\"\",\"\",源数据!A155)","v":"2013新款春装韩版小西装女一粒扣中长款外套女西装"},{"$f":"IF(源数据!B155=\"\",\"\",源数据!B155)","v":1},{"$f":"IF(源数据!C155=\"\",\"\",源数据!C155)","v":0},{"$f":"IF(源数据!D155=\"\",\"\",源数据!D155)","v":0},0,"春装","女",0,"外套","小西装",2013,0,0,0,0,0,0,0,0]
[{"$f":"IF(源数据!A156=\"\",\"\",源数据!A156)","v":"2013新款春装女装外套"},{"$f":"IF(源数据!B156=\"\",\"\",源数据!B156)","v":2},{"$f":"IF(源数据!C156=\"\",\"\",源数据!C156)","v":1},{"$f":"IF(源数据!D156=\"\",\"\",源数据!D156)","v":0},0,"春装","女","女装","外套",0,2013,0,0,0,0,0,0,0,0]
[{"$f":"IF(源数据!A157=\"\",\"\",源数据!A157)","v":"2013新款春装外套"},{"$f":"IF(源数据!B157=\"\",\"\",源数据!B157)","v":11},{"$f":"IF(源数据!C157=\"\",\"\",源数据!C157)","v":0.81820000000000004},{"$f":"IF(源数据!D157=\"\",\"\",源数据!D157)","v":0},0,"春装",0,0,"外套",0,2013,0,0,0,0,0,0,0,0]
[{"$f":"IF(源数据!A158=\"\",\"\",源数据!A158)","v":"2013新款春装外套女"},{"$f":"IF(源数据!B158=\"\",\"\",源数据!B158)","v":2},{"$f":"IF(源数据!C158=\"\",\"\",源数据!C158)","v":0.5},{"$f":"IF(源数据!D158=\"\",\"\",源数据!D158)","v":0},0,"春装","女",0,"外套",0,2013,0,0,0,0,0,0,0,0]
[{"$f":"IF(源数据!A159=\"\",\"\",源数据!A159)","v":"2013新款春装外套女 小西装"},{"$f":"IF(源数据!B159=\"\",\"\",源数据!B159)","v":1},{"$f":"IF(源数据!C159=\"\",\"\",源数据!C159)","v":1},{"$f":"IF(源数据!D159=\"\",\"\",源数据!D159)","v":0},0,"春装","女",0,"外套","小西装",2013,0,0,0,0,0,0,0,0]
[{"$f":"IF(源数据!A160=\"\",\"\",源数据!A160)","v":"2013新款春装小西服"},{"$f":"IF(源数据!B160=\"\",\"\",源数据!B160)","v":2},{"$f":"IF(源数据!C160=\"\",\"\",源数据!C160)","v":0.5},{"$f":"IF(源数据!D160=\"\",\"\",源数据!D160)","v":0},0,"春装",0,0,0,0,2013,"西服",0,0,0,0,0,0,0]
[{"$f":"IF(源数据!A161=\"\",\"\",源数据!A161)","v":"2013新款春装小西服潮"},{"$f":"IF(源数据!B161=\"\",\"\",源数据!B161)","v":1},{"$f":"IF(源数据!C161=\"\",\"\",源数据!C161)","v":1},{"$f":"IF(源数据!D161=\"\",\"\",源数据!D161)","v":0},"潮","春装",0,0,0,0,2013,"西服",0,0,0,0,0,0,0]
[{"$f":"IF(源数据!A162=\"\",\"\",源数据!A162)","v":"2013新款春装修身小外套"},{"$f":"IF(源数据!B162=\"\",\"\",源数据!B162)","v":1},{"$f":"IF(源数据!C162=\"\",\"\",源数据!C162)","v":1},{"$f":"IF(源数据!D162=\"\",\"\",源数据!D162)","v":0},0,"春装",0,0,"外套",0,2013,0,0,"修身",0,0,0,0,0]
[{"$f":"IF(源数据!A163=\"\",\"\",源数据!A163)","v":"2013新款春装中长款西装女"},{"$f":"IF(源数据!B163=\"\",\"\",源数据!B163)","v":1},{"$f":"IF(源数据!C163=\"\",\"\",源数据!C163)","v":1},{"$f":"IF(源数据!D163=\"\",\"\",源数据!D163)","v":0},0,"春装","女",0,0,0,2013,0,0,0,0,0,0,0,0]
[{"$f":"IF(源数据!A164=\"\",\"\",源数据!A164)","v":"2013新款韩版 春装 女装"},{"$f":"IF(源数据!B164=\"\",\"\",源数据!B164)","v":1},{"$f":"IF(源数据!C164=\"\",\"\",源数据!C164)","v":1},{"$f":"IF(源数据!D164=\"\",\"\",源数据!D164)","v":0},0,"春装","女","女装",0,0,2013,0,0,0,0,0,0,0,0]
[{"$f":"IF(源数据!A165=\"\",\"\",源数据!A165)","v":"2013新款韩版毛呢短款西装外套女"},{"$f":"IF(源数据!B165=\"\",\"\",源数据!B165)","v":1},{"$f":"IF(源数据!C165=\"\",\"\",源数据!C165)","v":1},{"$f":"IF(源数据!D165=\"\",\"\",源数据!D165)","v":0},0,0,"女",0,"外套",0,2013,0,0,0,0,0,0,0,0]
[{"$f":"IF(源数据!A166=\"\",\"\",源数据!A166)","v":"2013新款韩版休闲西服潮"},{"$f":"IF(源数据!B166=\"\",\"\",源数据!B166)","v":1},{"$f":"IF(源数据!C166=\"\",\"\",源数据!C166)","v":1},{"$f":"IF(源数据!D166=\"\",\"\",源数据!D166)","v":0},"潮",0,0,0,0,0,2013,"西服","休闲",0,0,0,0,0,0]
[{"$f":"IF(源数据!A167=\"\",\"\",源数据!A167)","v":"2013新款韩版修身小西装中长款外套 女装小西服"},{"$f":"IF(源数据!B167=\"\",\"\",源数据!B167)","v":1},{"$f":"IF(源数据!C167=\"\",\"\",源数据!C167)","v":1},{"$f":"IF(源数据!D167=\"\",\"\",源数据!D167)","v":0},0,0,"女","女装","外套","小西装",2013,"西服",0,"修身",0,0,0,0,0]
[{"$f":"IF(源数据!A168=\"\",\"\",源数据!A168)","v":"2013新款女白色小西服"},{"$f":"IF(源数据!B168=\"\",\"\",源数据!B168)","v":1},{"$f":"IF(源数据!C168=\"\",\"\",源数据!C168)","v":1},{"$f":"IF(源数据!D168=\"\",\"\",源数据!D168)","v":0},0,0,"女",0,0,0,2013,"西服",0,0,0,0,"白色",0,0]
[{"$f":"IF(源数据!A169=\"\",\"\",源数据!A169)","v":"2013新款女式西装"},{"$f":"IF(源数据!B169=\"\",\"\",源数据!B169)","v":1},{"$f":"IF(源数据!C169=\"\",\"\",源数据!C169)","v":1},{"$f":"IF(源数据!D169=\"\",\"\",源数据!D169)","v":0},0,0,"女",0,0,0,2013,0,0,0,0,0,0,0,0]
[{"$f":"IF(源数据!A170=\"\",\"\",源数据!A170)","v":"2013新款女装"},{"$f":"IF(源数据!B170=\"\",\"\",源数据!B170)","v":1},{"$f":"IF(源数据!C170=\"\",\"\",源数据!C170)","v":1},{"$f":"IF(源数据!D170=\"\",\"\",源数据!D170)","v":0},0,0,"女","女装",0,0,2013,0,0,0,0,0,0,0,0]
[{"$f":"IF(源数据!A171=\"\",\"\",源数据!A171)","v":"2013新款女装外套"},{"$f":"IF(源数据!B171=\"\",\"\",源数据!B171)","v":4},{"$f":"IF(源数据!C171=\"\",\"\",源数据!C171)","v":0.75},{"$f":"IF(源数据!D171=\"\",\"\",源数据!D171)","v":0},0,0,"女","女装","外套",0,2013,0,0,0,0,0,0,0,0]
[{"$f":"IF(源数据!A172=\"\",\"\",源数据!A172)","v":"2013新款外套 潮"},{"$f":"IF(源数据!B172=\"\",\"\",源数据!B172)","v":1},{"$f":"IF(源数据!C172=\"\",\"\",源数据!C172)","v":1},{"$f":"IF(源数据!D172=\"\",\"\",源数据!D172)","v":0},"潮",0,0,0,"外套",0,2013,0,0,0,0,0,0,0,0]
[{"$f":"IF(源数据!A173=\"\",\"\",源数据!A173)","v":"2013新款外套 西服"},{"$f":"IF(源数据!B173=\"\",\"\",源数据!B173)","v":1},{"$f":"IF(源数据!C173=\"\",\"\",源数据!C173)","v":0},{"$f":"IF(源数据!D173=\"\",\"\",源数据!D173)","v":0},0,0,0,0,"外套",0,2013,"西服",0,0,0,0,0,0,0]
[{"$f":"IF(源数据!A174=\"\",\"\",源数据!A174)","v":"2013新款外套女"},{"$f":"IF(源数据!B174=\"\",\"\",源数据!B174)","v":3},{"$f":"IF(源数据!C174=\"\",\"\",源数据!C174)","v":0.33329999999999999},{"$f":"IF(源数据!D174=\"\",\"\",源数据!D174)","v":0},0,0,"女",0,"外套",0,2013,0,0,0,0,0,0,0,0]
[{"$f":"IF(源数据!A175=\"\",\"\",源数据!A175)","v":"2013新款外套女潮"},{"$f":"IF(源数据!B175=\"\",\"\",源数据!B175)","v":3},{"$f":"IF(源数据!C175=\"\",\"\",源数据!C175)","v":0.33329999999999999},{"$f":"IF(源数据!D175=\"\",\"\",源数据!D175)","v":0},"潮",0,"女",0,"外套",0,2013,0,0,0,0,0,0,0,0]
[{"$f":"IF(源数据!A176=\"\",\"\",源数据!A176)","v":"2013新款外套女春装"},{"$f":"IF(源数据!B176=\"\",\"\",源数据!B176)","v":1},{"$f":"IF(源数据!C176=\"\",\"\",源数据!C176)","v":1},{"$f":"IF(源数据!D176=\"\",\"\",源数据!D176)","v":0},0,"春装","女",0,"外套",0,2013,0,0,0,0,0,0,0,0]
[{"$f":"IF(源数据!A177=\"\",\"\",源数据!A177)","v":"2013新款西服"},{"$f":"IF(源数据!B177=\"\",\"\",源数据!B177)","v":2},{"$f":"IF(源数据!C177=\"\",\"\",源数据!C177)","v":0.5},{"$f":"IF(源数据!D177=\"\",\"\",源数据!D177)","v":0},0,0,0,0,0,0,2013,"西服",0,0,0,0,0,0,0]
[{"$f":"IF(源数据!A178=\"\",\"\",源数据!A178)","v":"2013新款西服女"},{"$f":"IF(源数据!B178=\"\",\"\",源数据!B178)","v":1},{"$f":"IF(源数据!C178=\"\",\"\",源数据!C178)","v":0},{"$f":"IF(源数据!D178=\"\",\"\",源数据!D178)","v":0},0,0,"女",0,0,0,2013,"西服",0,0,0,0,0,0,0]
[{"$f":"IF(源数据!A179=\"\",\"\",源数据!A179)","v":"2013新款西服女装"},{"$f":"IF(源数据!B179=\"\",\"\",源数据!B179)","v":1},{"$f":"IF(源数据!C179=\"\",\"\",源数据!C179)","v":1},{"$f":"IF(源数据!D179=\"\",\"\",源数据!D179)","v":0},0,0,"女","女装",0,0,2013,"西服",0,0,0,0,0,0,0]
[{"$f":"IF(源数据!A180=\"\",\"\",源数据!A180)","v":"2013新款西装"},{"$f":"IF(源数据!B180=\"\",\"\",源数据!B180)","v":1},{"$f":"IF(源数据!C180=\"\",\"\",源数据!C180)","v":1},{"$f":"IF(源数据!D180=\"\",\"\",源数据!D180)","v":0},0,0,0,0,0,0,2013,0,0,0,0,0,0,0,0]
[{"$f":"IF(源数据!A181=\"\",\"\",源数据!A181)","v":"2013新款西装女"},{"$f":"IF(源数据!B181=\"\",\"\",源数据!B181)","v":1},{"$f":"IF(源数据!C181=\"\",\"\",源数据!C181)","v":1},{"$f":"IF(源数据!D181=\"\",\"\",源数据!D181)","v":0},0,0,"女",0,0,0,2013,0,0,0,0,0,0,0,0]
[{"$f":"IF(源数据!A182=\"\",\"\",源数据!A182)","v":"2013新款西装小外套"},{"$f":"IF(源数据!B182=\"\",\"\",源数据!B182)","v":1},{"$f":"IF(源数据!C182=\"\",\"\",源数据!C182)","v":1},{"$f":"IF(源数据!D182=\"\",\"\",源数据!D182)","v":0},0,0,0,0,"外套",0,2013,0,0,0,0,0,0,0,0]
[{"$f":"IF(源数据!A183=\"\",\"\",源数据!A183)","v":"2013新款小西服"},{"$f":"IF(源数据!B183=\"\",\"\",源数据!B183)","v":1},{"$f":"IF(源数据!C183=\"\",\"\",源数据!C183)","v":1},{"$f":"IF(源数据!D183=\"\",\"\",源数据!D183)","v":0},0,0,0,0,0,0,2013,"西服",0,0,0,0,0,0,0]
[{"$f":"IF(源数据!A184=\"\",\"\",源数据!A184)","v":"2013新款小西服女"},{"$f":"IF(源数据!B184=\"\",\"\",源数据!B184)","v":2},{"$f":"IF(源数据!C184=\"\",\"\",源数据!C184)","v":1},{"$f":"IF(源数据!D184=\"\",\"\",源数据!D184)","v":0},0,0,"女",0,0,0,2013,"西服",0,0,0,0,0,0,0]
[{"$f":"IF(源数据!A185=\"\",\"\",源数据!A185)","v":"2013新款小西装"},{"$f":"IF(源数据!B185=\"\",\"\",源数据!B185)","v":1},{"$f":"IF(源数据!C185=\"\",\"\",源数据!C185)","v":1},{"$f":"IF(源数据!D185=\"\",\"\",源数据!D185)","v":0},0,0,0,0,0,"小西装",2013,0,0,0,0,0,0,0,0]
[{"$f":"IF(源数据!A186=\"\",\"\",源数据!A186)","v":"2013新款小西装女"},{"$f":"IF(源数据!B186=\"\",\"\",源数据!B186)","v":1},{"$f":"IF(源数据!C186=\"\",\"\",源数据!C186)","v":1},{"$f":"IF(源数据!D186=\"\",\"\",源数据!D186)","v":0},0,0,"女",0,0,"小西装",2013,0,0,0,0,0,0,0,0]
[{"$f":"IF(源数据!A187=\"\",\"\",源数据!A187)","v":"2013修身小西装"},{"$f":"IF(源数据!B187=\"\",\"\",源数据!B187)","v":1},{"$f":"IF(源数据!C187=\"\",\"\",源数据!C187)","v":0},{"$f":"IF(源数据!D187=\"\",\"\",源数据!D187)","v":0},0,0,0,0,0,"小西装",2013,0,0,"修身",0,0,0,0,0]
[{"$f":"IF(源数据!A188=\"\",\"\",源数据!A188)","v":"2013修身中长款小西服女"},{"$f":"IF(源数据!B188=\"\",\"\",源数据!B188)","v":2},{"$f":"IF(源数据!C188=\"\",\"\",源数据!C188)","v":0},{"$f":"IF(源数据!D188=\"\",\"\",源数据!D188)","v":0},0,0,"女",0,0,0,2013,"西服",0,"修身",0,0,0,0,0]
[{"$f":"IF(源数据!A189=\"\",\"\",源数据!A189)","v":"2013中长款西服女"},{"$f":"IF(源数据!B189=\"\",\"\",源数据!B189)","v":1},{"$f":"IF(源数据!C189=\"\",\"\",源数据!C189)","v":1},{"$f":"IF(源数据!D189=\"\",\"\",源数据!D189)","v":0},0,0,"女",0,0,0,2013,"西服",0,0,0,0,0,0,0]
[{"$f":"IF(源数据!A190=\"\",\"\",源数据!A190)","v":"2013中长款西装女"},{"$f":"IF(源数据!B190=\"\",\"\",源数据!B190)","v":1},{"$f":"IF(源数据!C190=\"\",\"\",源数据!C190)","v":1},{"$f":"IF(源数据!D190=\"\",\"\",源数据!D190)","v":0},0,0,"女",0,0,0,2013,0,0,0,0,0,0,0,0]
[{"$f":"IF(源数据!A191=\"\",\"\",源数据!A191)","v":"chunzhuangxizhuang"},{"$f":"IF(源数据!B191=\"\",\"\",源数据!B191)","v":1},{"$f":"IF(源数据!C191=\"\",\"\",源数据!C191)","v":1},{"$f":"IF(源数据!D191=\"\",\"\",源数据!D191)","v":0},0,0,0,0,0,0,0,0,0,0,0,0,0,0,0]
[{"$f":"IF(源数据!A192=\"\",\"\",源数据!A192)","v":"gotnil女西服外套"},{"$f":"IF(源数据!B192=\"\",\"\",源数据!B192)","v":1},{"$f":"IF(源数据!C192=\"\",\"\",源数据!C192)","v":1},{"$f":"IF(源数据!D192=\"\",\"\",源数据!D192)","v":0},0,0,"女",0,"外套",0,0,"西服",0,0,0,0,0,0,0]
[{"$f":"IF(源数据!A193=\"\",\"\",源数据!A193)","v":"h.only2013春正品代购原单新款女装韩版修身小西装西服女 举报中心"},{"$f":"IF(源数据!B193=\"\",\"\",源数据!B193)","v":1},{"$f":"IF(源数据!C193=\"\",\"\",源数据!C193)","v":0},{"$f":"IF(源数据!D193=\"\",\"\",源数据!D193)","v":0},0,0,"女","女装",0,"小西装",2013,"西服",0,"修身",0,0,0,0,0]
[{"$f":"IF(源数据!A194=\"\",\"\",源数据!A194)","v":"hongxiu"},{"$f":"IF(源数据!B194=\"\",\"\",源数据!B194)","v":1},{"$f":"IF(源数据!C194=\"\",\"\",源数据!C194)","v":1},{"$f":"IF(源数据!D194=\"\",\"\",源数据!D194)","v":0},0,0,0,0,0,0,0,0,0,0,0,0,0,0,0]
[{"$f":"IF(源数据!A195=\"\",\"\",源数据!A195)","v":"hongxiujiangnan"},{"$f":"IF(源数据!B195=\"\",\"\",源数据!B195)","v":2},{"$f":"IF(源数据!C195=\"\",\"\",源数据!C195)","v":0.5},{"$f":"IF(源数据!D195=\"\",\"\",源数据!D195)","v":0},{"$f":"IF($A194=\"\",\"\",IF(E$1=\"\",\"\",IF(IFERROR(SEARCH(E$1,$A195),0) >0,E$1,0)))","v":0},{"$f":"IF($A194=\"\",\"\",IF(F$1=\"\",\"\",IF(IFERROR(SEARCH(F$1,$A195),0) >0,F$1,0)))","v":0},{"$f":"IF($A194=\"\",\"\",IF(G$1=\"\",\"\",IF(IFERROR(SEARCH(G$1,$A195),0) >0,G$1,0)))","v":0},{"$f":"IF($A194=\"\",\"\",IF(H$1=\"\",\"\",IF(IFERROR(SEARCH(H$1,$A195),0) >0,H$1,0)))","v":0},{"$f":"IF($A194=\"\",\"\",IF(I$1=\"\",\"\",IF(IFERROR(SEARCH(I$1,$A195),0) >0,I$1,0)))","v":0},{"$f":"IF($A194=\"\",\"\",IF(J$1=\"\",\"\",IF(IFERROR(SEARCH(J$1,$A195),0) >0,J$1,0)))","v":0},{"$f":"IF($A194=\"\",\"\",IF(K$1=\"\",\"\",IF(IFERROR(SEARCH(K$1,$A195),0) >0,K$1,0)))","v":0},{"$f":"IF($A194=\"\",\"\",IF(L$1=\"\",\"\",IF(IFERROR(SEARCH(L$1,$A195),0) >0,L$1,0)))","v":0},{"$f":"IF($A194=\"\",\"\",IF(M$1=\"\",\"\",IF(IFERROR(SEARCH(M$1,$A195),0) >0,M$1,0)))","v":0},{"$f":"IF($A194=\"\",\"\",IF(N$1=\"\",\"\",IF(IFERROR(SEARCH(N$1,$A195),0) >0,N$1,0)))","v":0},{"$f":"IF($A194=\"\",\"\",IF(O$1=\"\",\"\",IF(IFERROR(SEARCH(O$1,$A195),0) >0,O$1,0)))","v":0},{"$f":"IF($A194=\"\",\"\",IF(P$1=\"\",\"\",IF(IFERROR(SEARCH(P$1,$A195),0) >0,P$1,0)))","v":0},{"$f":"IF($A194=\"\",\"\",IF(Q$1=\"\",\"\",IF(IFERROR(SEARCH(Q$1,$A195),0) >0,Q$1,0)))","v":0},{"$f":"IF($A194=\"\",\"\",IF(R$1=\"\",\"\",IF(IFERROR(SEARCH(R$1,$A195),0) >0,R$1,0)))","v":0},{"$f":"IF($A194=\"\",\"\",IF(S$1=\"\",\"\",IF(IFERROR(SEARCH(S$1,$A195),0) >0,S$1,0)))","v":0}]
[{"$f":"IF(源数据!A196=\"\",\"\",源数据!A196)","v":"r d 2012 正品"},{"$f":"IF(源数据!B196=\"\",\"\",源数据!B196)","v":1},{"$f":"IF(源数据!C196=\"\",\"\",源数据!C196)","v":0},{"$f":"IF(源数据!D196=\"\",\"\",源数据!D196)","v":0},0,0,0,0,0,0,0,0,0,0,0,0,0,0,0]
[{"$f":"IF(源数据!A197=\"\",\"\",源数据!A197)","v":"waitao"},{"$f":"IF(源数据!B197=\"\",\"\",源数据!B197)","v":1},{"$f":"IF(源数据!C197=\"\",\"\",源数据!C197)","v":1},{"$f":"IF(源数据!D197=\"\",\"\",源数据!D197)","v":0},0,0,0,0,0,0,0,0,0,0,0,0,0,0,0]
[{"$f":"IF(源数据!A198=\"\",\"\",源数据!A198)","v":"白 西服 女"},{"$f":"IF(源数据!B198=\"\",\"\",源数据!B198)","v":1},{"$f":"IF(源数据!C198=\"\",\"\",源数据!C198)","v":0},{"$f":"IF(源数据!D198=\"\",\"\",源数据!D198)","v":0},0,0,"女",0,0,0,0,"西服",0,0,0,0,0,0,0]
[{"$f":"IF(源数据!A199=\"\",\"\",源数据!A199)","v":"白 西服 女 春秋"},{"$f":"IF(源数据!B199=\"\",\"\",源数据!B199)","v":1},{"$f":"IF(源数据!C199=\"\",\"\",源数据!C199)","v":1},{"$f":"IF(源数据!D199=\"\",\"\",源数据!D199)","v":0},0,0,"女",0,0,0,0,"西服",0,0,0,"春秋",0,0,0]
[{"$f":"IF(源数据!A200=\"\",\"\",源数据!A200)","v":"白 西服 修身"},{"$f":"IF(源数据!B200=\"\",\"\",源数据!B200)","v":1},{"$f":"IF(源数据!C200=\"\",\"\",源数据!C200)","v":1},{"$f":"IF(源数据!D200=\"\",\"\",源数据!D200)","v":0},0,0,0,0,0,0,0,"西服",0,"修身",0,0,0,0,0]
[{"$f":"IF(源数据!A201=\"\",\"\",源数据!A201)","v":"白 西装"},{"$f":"IF(源数据!B201=\"\",\"\",源数据!B201)","v":3},{"$f":"IF(源数据!C201=\"\",\"\",源数据!C201)","v":0.33329999999999999},{"$f":"IF(源数据!D201=\"\",\"\",源数据!D201)","v":0},0,0,0,0,0,0,0,0,0,0,0,0,0,0,0]
[{"$f":"IF(源数据!A202=\"\",\"\",源数据!A202)","v":"白色"},{"$f":"IF(源数据!B202=\"\",\"\",源数据!B202)","v":1},{"$f":"IF(源数据!C202=\"\",\"\",源数据!C202)","v":1},{"$f":"IF(源数据!D202=\"\",\"\",源数据!D202)","v":0},0,0,0,0,0,0,0,0,0,0,0,0,"白色",0,0]
[{"$f":"IF(源数据!A203=\"\",\"\",源数据!A203)","v":"白色 外套"},{"$f":"IF(源数据!B203=\"\",\"\",源数据!B203)","v":1},{"$f":"IF(源数据!C203=\"\",\"\",源数据!C203)","v":1},{"$f":"IF(源数据!D203=\"\",\"\",源数据!D203)","v":0},0,0,0,0,"外套",0,0,0,0,0,0,0,"白色",0,0]
[{"$f":"IF(源数据!A204=\"\",\"\",源数据!A204)","v":"白色 西服"},{"$f":"IF(源数据!B204=\"\",\"\",源数据!B204)","v":2},{"$f":"IF(源数据!C204=\"\",\"\",源数据!C204)","v":1},{"$f":"IF(源数据!D204=\"\",\"\",源数据!D204)","v":0},0,0,0,0,0,0,0,"西服",0,0,0,0,"白色",0,0]
[{"$f":"IF(源数据!A205=\"\",\"\",源数据!A205)","v":"白色 西服 外套"},{"$f":"IF(源数据!B205=\"\",\"\",源数据!B205)","v":1},{"$f":"IF(源数据!C205=\"\",\"\",源数据!C205)","v":1},{"$f":"IF(源数据!D205=\"\",\"\",源数据!D205)","v":0},0,0,0,0,"外套",0,0,"西服",0,0,0,0,"白色",0,0]
[{"$f":"IF(源数据!A206=\"\",\"\",源数据!A206)","v":"白色 西装"},{"$f":"IF(源数据!B206=\"\",\"\",源数据!B206)","v":3},{"$f":"IF(源数据!C206=\"\",\"\",源数据!C206)","v":0.33329999999999999},{"$f":"IF(源数据!D206=\"\",\"\",源数据!D206)","v":0},0,0,0,0,0,0,0,0,0,0,0,0,"白色",0,0]
[{"$f":"IF(源数据!A207=\"\",\"\",源数据!A207)","v":"白色 西装 修身 女"},{"$f":"IF(源数据!B207=\"\",\"\",源数据!B207)","v":1},{"$f":"IF(源数据!C207=\"\",\"\",源数据!C207)","v":1},{"$f":"IF(源数据!D207=\"\",\"\",源数据!D207)","v":0},0,0,"女",0,0,0,0,0,0,"修身",0,0,"白色",0,0]
[{"$f":"IF(源数据!A208=\"\",\"\",源数据!A208)","v":"白色 西装中长款"},{"$f":"IF(源数据!B208=\"\",\"\",源数据!B208)","v":2},{"$f":"IF(源数据!C208=\"\",\"\",源数据!C208)","v":0},{"$f":"IF(源数据!D208=\"\",\"\",源数据!D208)","v":0},0,0,0,0,0,0,0,0,0,0,0,0,"白色",0,0]
[{"$f":"IF(源数据!A209=\"\",\"\",源数据!A209)","v":"白色 小西服 女"},{"$f":"IF(源数据!B209=\"\",\"\",源数据!B209)","v":1},{"$f":"IF(源数据!C209=\"\",\"\",源数据!C209)","v":0},{"$f":"IF(源数据!D209=\"\",\"\",源数据!D209)","v":0},0,0,"女",0,0,0,0,"西服",0,0,0,0,"白色",0,0]
[{"$f":"IF(源数据!A210=\"\",\"\",源数据!A210)","v":"白色 小西装 女"},{"$f":"IF(源数据!B210=\"\",\"\",源数据!B210)","v":2},{"$f":"IF(源数据!C210=\"\",\"\",源数据!C210)","v":1},{"$f":"IF(源数据!D210=\"\",\"\",源数据!D210)","v":0},0,0,"女",0,0,"小西装",0,0,0,0,0,0,"白色",0,0]
[{"$f":"IF(源数据!A211=\"\",\"\",源数据!A211)","v":"白色 小西装 女 春"},{"$f":"IF(源数据!B211=\"\",\"\",源数据!B211)","v":1},{"$f":"IF(源数据!C211=\"\",\"\",源数据!C211)","v":1},{"$f":"IF(源数据!D211=\"\",\"\",源数据!D211)","v":0},0,0,"女",0,0,"小西装",0,0,0,0,0,0,"白色",0,0]
[{"$f":"IF(源数据!A212=\"\",\"\",源数据!A212)","v":"白色长款西服"},{"$f":"IF(源数据!B212=\"\",\"\",源数据!B212)","v":1},{"$f":"IF(源数据!C212=\"\",\"\",源数据!C212)","v":1},{"$f":"IF(源数据!D212=\"\",\"\",源数据!D212)","v":0},0,0,0,0,0,0,0,"西服",0,0,0,0,"白色",0,0]
[{"$f":"IF(源数据!A213=\"\",\"\",源数据!A213)","v":"白色长款西服女"},{"$f":"IF(源数据!B213=\"\",\"\",源数据!B213)","v":1},{"$f":"IF(源数据!C213=\"\",\"\",源数据!C213)","v":1},{"$f":"IF(源数据!D213=\"\",\"\",源数据!D213)","v":0},0,0,"女",0,0,0,0,"西服",0,0,0,0,"白色",0,0]
[{"$f":"IF(源数据!A214=\"\",\"\",源数据!A214)","v":"白色长款西装外套"},{"$f":"IF(源数据!B214=\"\",\"\",源数据!B214)","v":1},{"$f":"IF(源数据!C214=\"\",\"\",源数据!C214)","v":0},{"$f":"IF(源数据!D214=\"\",\"\",源数据!D214)","v":0},0,0,0,0,"外套",0,0,0,0,0,0,0,"白色",0,0]
[{"$f":"IF(源数据!A215=\"\",\"\",源数据!A215)","v":"白色长款小西装 韩版"},{"$f":"IF(源数据!B215=\"\",\"\",源数据!B215)","v":1},{"$f":"IF(源数据!C215=\"\",\"\",源数据!C215)","v":1},{"$f":"IF(源数据!D215=\"\",\"\",源数据!D215)","v":0},0,0,0,0,0,"小西装",0,0,0,0,0,0,"白色",0,0]
[{"$f":"IF(源数据!A216=\"\",\"\",源数据!A216)","v":"白色长款修身小西装"},{"$f":"IF(源数据!B216=\"\",\"\",源数据!B216)","v":1},{"$f":"IF(源数据!C216=\"\",\"\",源数据!C216)","v":1},{"$f":"IF(源数据!D216=\"\",\"\",源数据!D216)","v":0},0,0,0,0,0,"小西装",0,0,0,"修身",0,0,"白色",0,0]
[{"$f":"IF(源数据!A217=\"\",\"\",源数据!A217)","v":"白色长小西装"},{"$f":"IF(源数据!B217=\"\",\"\",源数据!B217)","v":1},{"$f":"IF(源数据!C217=\"\",\"\",源数据!C217)","v":1},{"$f":"IF(源数据!D217=\"\",\"\",源数据!D217)","v":0},0,0,0,0,0,"小西装",0,0,0,0,0,0,"白色",0,0]
[{"$f":"IF(源数据!A218=\"\",\"\",源数据!A218)","v":"白色女款西服"},{"$f":"IF(源数据!B218=\"\",\"\",源数据!B218)","v":1},{"$f":"IF(源数据!C218=\"\",\"\",源数据!C218)","v":1},{"$f":"IF(源数据!D218=\"\",\"\",源数据!D218)","v":0},0,0,"女",0,0,0,0,"西服",0,0,0,0,"白色",0,0]
[{"$f":"IF(源数据!A219=\"\",\"\",源数据!A219)","v":"白色女士小西服 2013款"},{"$f":"IF(源数据!B219=\"\",\"\",源数据!B219)","v":1},{"$f":"IF(源数据!C219=\"\",\"\",源数据!C219)","v":1},{"$f":"IF(源数据!D219=\"\",\"\",源数据!D219)","v":0},0,0,"女",0,0,0,2013,"西服",0,0,0,0,"白色",0,0]
[{"$f":"IF(源数据!A220=\"\",\"\",源数据!A220)","v":"白色女西服外套韩版"},{"$f":"IF(源数据!B220=\"\",\"\",源数据!B220)","v":1},{"$f":"IF(源数据!C220=\"\",\"\",源数据!C220)","v":1},{"$f":"IF(源数据!D220=\"\",\"\",源数据!D220)","v":0},0,0,"女",0,"外套",0,0,"西服",0,0,0,0,"白色",0,0]
[{"$f":"IF(源数据!A221=\"\",\"\",源数据!A221)","v":"白色外套"},{"$f":"IF(源数据!B221=\"\",\"\",源数据!B221)","v":5},{"$f":"IF(源数据!C221=\"\",\"\",源数据!C221)","v":0.2},{"$f":"IF(源数据!D221=\"\",\"\",源数据!D221)","v":0},0,0,0,0,"外套",0,0,0,0,0,0,0,"白色",0,0]
[{"$f":"IF(源数据!A222=\"\",\"\",源数据!A222)","v":"白色外套 春秋"},{"$f":"IF(源数据!B222=\"\",\"\",源数据!B222)","v":1},{"$f":"IF(源数据!C222=\"\",\"\",源数据!C222)","v":1},{"$f":"IF(源数据!D222=\"\",\"\",源数据!D222)","v":0},0,0,0,0,"外套",0,0,0,0,0,0,"春秋","白色",0,0]
[{"$f":"IF(源数据!A223=\"\",\"\",源数据!A223)","v":"白色外套 女 春秋"},{"$f":"IF(源数据!B223=\"\",\"\",源数据!B223)","v":6},{"$f":"IF(源数据!C223=\"\",\"\",源数据!C223)","v":0.83330000000000004},{"$f":"IF(源数据!D223=\"\",\"\",源数据!D223)","v":0},0,0,"女",0,"外套",0,0,0,0,0,0,"春秋","白色",0,0]
[{"$f":"IF(源数据!A224=\"\",\"\",源数据!A224)","v":"白色西服"},{"$f":"IF(源数据!B224=\"\",\"\",源数据!B224)","v":9},{"$f":"IF(源数据!C224=\"\",\"\",源数据!C224)","v":0.55559999999999998},{"$f":"IF(源数据!D224=\"\",\"\",源数据!D224)","v":0},0,0,0,0,0,0,0,"西服",0,0,0,0,"白色",0,0]
[{"$f":"IF(源数据!A225=\"\",\"\",源数据!A225)","v":"白色西服 韩 版 女"},{"$f":"IF(源数据!B225=\"\",\"\",源数据!B225)","v":6},{"$f":"IF(源数据!C225=\"\",\"\",源数据!C225)","v":0.83330000000000004},{"$f":"IF(源数据!D225=\"\",\"\",源数据!D225)","v":0},0,0,"女",0,0,0,0,"西服",0,0,0,0,"白色",0,0]
[{"$f":"IF(源数据!A226=\"\",\"\",源数据!A226)","v":"白色西服 女 春秋"},{"$f":"IF(源数据!B226=\"\",\"\",源数据!B226)","v":1},{"$f":"IF(源数据!C226=\"\",\"\",源数据!C226)","v":1},{"$f":"IF(源数据!D226=\"\",\"\",源数据!D226)","v":0},0,0,"女",0,0,0,0,"西服",0,0,0,"春秋","白色",0,0]
[{"$f":"IF(源数据!A227=\"\",\"\",源数据!A227)","v":"白色西服 夏季 女"},{"$f":"IF(源数据!B227=\"\",\"\",源数据!B227)","v":1},{"$f":"IF(源数据!C227=\"\",\"\",源数据!C227)","v":1},{"$f":"IF(源数据!D227=\"\",\"\",源数据!D227)","v":0},0,0,"女",0,0,0,0,"西服",0,0,0,0,"白色",0,0]
[{"$f":"IF(源数据!A228=\"\",\"\",源数据!A228)","v":"白色西服 修身 女"},{"$f":"IF(源数据!B228=\"\",\"\",源数据!B228)","v":7},{"$f":"IF(源数据!C228=\"\",\"\",源数据!C228)","v":1},{"$f":"IF(源数据!D228=\"\",\"\",源数据!D228)","v":0},0,0,"女",0,0,0,0,"西服",0,"修身",0,0,"白色",0,0]
[{"$f":"IF(源数据!A229=\"\",\"\",源数据!A229)","v":"白色西服 中长版"},{"$f":"IF(源数据!B229=\"\",\"\",源数据!B229)","v":1},{"$f":"IF(源数据!C229=\"\",\"\",源数据!C229)","v":0},{"$f":"IF(源数据!D229=\"\",\"\",源数据!D229)","v":0},0,0,0,0,0,0,0,"西服",0,0,0,0,"白色",0,0]
[{"$f":"IF(源数据!A230=\"\",\"\",源数据!A230)","v":"白色西服厚款女"},{"$f":"IF(源数据!B230=\"\",\"\",源数据!B230)","v":1},{"$f":"IF(源数据!C230=\"\",\"\",源数据!C230)","v":1},{"$f":"IF(源数据!D230=\"\",\"\",源数据!D230)","v":0},0,0,"女",0,0,0,0,"西服",0,0,0,0,"白色",0,0]
[{"$f":"IF(源数据!A231=\"\",\"\",源数据!A231)","v":"白色西服女"},{"$f":"IF(源数据!B231=\"\",\"\",源数据!B231)","v":3},{"$f":"IF(源数据!C231=\"\",\"\",源数据!C231)","v":0.66669999999999996},{"$f":"IF(源数据!D231=\"\",\"\",源数据!D231)","v":0},0,0,"女",0,0,0,0,"西服",0,0,0,0,"白色",0,0]
[{"$f":"IF(源数据!A232=\"\",\"\",源数据!A232)","v":"白色西服女潮"},{"$f":"IF(源数据!B232=\"\",\"\",源数据!B232)","v":1},{"$f":"IF(源数据!C232=\"\",\"\",源数据!C232)","v":1},{"$f":"IF(源数据!D232=\"\",\"\",源数据!D232)","v":0},"潮",0,"女",0,0,0,0,"西服",0,0,0,0,"白色",0,0]
[{"$f":"IF(源数据!A233=\"\",\"\",源数据!A233)","v":"白色西服女修身"},{"$f":"IF(源数据!B233=\"\",\"\",源数据!B233)","v":7},{"$f":"IF(源数据!C233=\"\",\"\",源数据!C233)","v":0.85709999999999997},{"$f":"IF(源数据!D233=\"\",\"\",源数据!D233)","v":0},0,0,"女",0,0,0,0,"西服",0,"修身",0,0,"白色",0,0]
[{"$f":"IF(源数据!A234=\"\",\"\",源数据!A234)","v":"白色西服外套 女"},{"$f":"IF(源数据!B234=\"\",\"\",源数据!B234)","v":3},{"$f":"IF(源数据!C234=\"\",\"\",源数据!C234)","v":1},{"$f":"IF(源数据!D234=\"\",\"\",源数据!D234)","v":0},0,0,"女",0,"外套",0,0,"西服",0,0,0,0,"白色",0,0]
[{"$f":"IF(源数据!A235=\"\",\"\",源数据!A235)","v":"白色西装"},{"$f":"IF(源数据!B235=\"\",\"\",源数据!B235)","v":9},{"$f":"IF(源数据!C235=\"\",\"\",源数据!C235)","v":0.88890000000000002},{"$f":"IF(源数据!D235=\"\",\"\",源数据!D235)","v":0},0,0,0,0,0,0,0,0,0,0,0,0,"白色",0,0]
[{"$f":"IF(源数据!A236=\"\",\"\",源数据!A236)","v":"白色西装 女"},{"$f":"IF(源数据!B236=\"\",\"\",源数据!B236)","v":2},{"$f":"IF(源数据!C236=\"\",\"\",源数据!C236)","v":1},{"$f":"IF(源数据!D236=\"\",\"\",源数据!D236)","v":0},0,0,"女",0,0,0,0,0,0,0,0,0,"白色",0,0]
[{"$f":"IF(源数据!A237=\"\",\"\",源数据!A237)","v":"白色西装 女 外套"},{"$f":"IF(源数据!B237=\"\",\"\",源数据!B237)","v":5},{"$f":"IF(源数据!C237=\"\",\"\",源数据!C237)","v":1},{"$f":"IF(源数据!D237=\"\",\"\",源数据!D237)","v":0},0,0,"女",0,"外套",0,0,0,0,0,0,0,"白色",0,0]
[{"$f":"IF(源数据!A238=\"\",\"\",源数据!A238)","v":"白色西装 女 修身"},{"$f":"IF(源数据!B238=\"\",\"\",源数据!B238)","v":14},{"$f":"IF(源数据!C238=\"\",\"\",源数据!C238)","v":0.92859999999999998},{"$f":"IF(源数据!D238=\"\",\"\",源数据!D238)","v":0},0,0,"女",0,0,0,0,0,0,"修身",0,0,"白色",0,0]
[{"$f":"IF(源数据!A239=\"\",\"\",源数据!A239)","v":"白色西装 女 修身中款"},{"$f":"IF(源数据!B239=\"\",\"\",源数据!B239)","v":1},{"$f":"IF(源数据!C239=\"\",\"\",源数据!C239)","v":1},{"$f":"IF(源数据!D239=\"\",\"\",源数据!D239)","v":0},0,0,"女",0,0,0,0,0,0,"修身",0,0,"白色",0,0]
[{"$f":"IF(源数据!A240=\"\",\"\",源数据!A240)","v":"白色西装 女 中长款"},{"$f":"IF(源数据!B240=\"\",\"\",源数据!B240)","v":4},{"$f":"IF(源数据!C240=\"\",\"\",源数据!C240)","v":1},{"$f":"IF(源数据!D240=\"\",\"\",源数据!D240)","v":0},0,0,"女",0,0,0,0,0,0,0,0,0,"白色",0,0]
[{"$f":"IF(源数据!A241=\"\",\"\",源数据!A241)","v":"白色西装 修身 女"},{"$f":"IF(源数据!B241=\"\",\"\",源数据!B241)","v":1},{"$f":"IF(源数据!C241=\"\",\"\",源数据!C241)","v":1},{"$f":"IF(源数据!D241=\"\",\"\",源数据!D241)","v":0},0,0,"女",0,0,0,0,0,0,"修身",0,0,"白色",0,0]
[{"$f":"IF(源数据!A242=\"\",\"\",源数据!A242)","v":"白色西装女"},{"$f":"IF(源数据!B242=\"\",\"\",源数据!B242)","v":2},{"$f":"IF(源数据!C242=\"\",\"\",源数据!C242)","v":0.5},{"$f":"IF(源数据!D242=\"\",\"\",源数据!D242)","v":0},0,0,"女",0,0,0,0,0,0,0,0,0,"白色",0,0]
[{"$f":"IF(源数据!A243=\"\",\"\",源数据!A243)","v":"白色西装女春"},{"$f":"IF(源数据!B243=\"\",\"\",源数据!B243)","v":1},{"$f":"IF(源数据!C243=\"\",\"\",源数据!C243)","v":0},{"$f":"IF(源数据!D243=\"\",\"\",源数据!D243)","v":0},0,0,"女",0,0,0,0,0,0,0,0,0,"白色",0,0]
[{"$f":"IF(源数据!A244=\"\",\"\",源数据!A244)","v":"白色西装女款"},{"$f":"IF(源数据!B244=\"\",\"\",源数据!B244)","v":1},{"$f":"IF(源数据!C244=\"\",\"\",源数据!C244)","v":1},{"$f":"IF(源数据!D244=\"\",\"\",源数据!D244)","v":0},0,0,"女",0,0,0,0,0,0,0,0,0,"白色",0,0]
[{"$f":"IF(源数据!A245=\"\",\"\",源数据!A245)","v":"白色西装外套"},{"$f":"IF(源数据!B245=\"\",\"\",源数据!B245)","v":6},{"$f":"IF(源数据!C245=\"\",\"\",源数据!C245)","v":0.83330000000000004},{"$f":"IF(源数据!D245=\"\",\"\",源数据!D245)","v":0},0,0,0,0,"外套",0,0,0,0,0,0,0,"白色",0,0]
[{"$f":"IF(源数据!A246=\"\",\"\",源数据!A246)","v":"白色西装外套  女  修身"},{"$f":"IF(源数据!B246=\"\",\"\",源数据!B246)","v":1},{"$f":"IF(源数据!C246=\"\",\"\",源数据!C246)","v":1},{"$f":"IF(源数据!D246=\"\",\"\",源数据!D246)","v":0},0,0,"女",0,"外套",0,0,0,0,"修身",0,0,"白色",0,0]
[{"$f":"IF(源数据!A247=\"\",\"\",源数据!A247)","v":"白色西装外套 春"},{"$f":"IF(源数据!B247=\"\",\"\",源数据!B247)","v":1},{"$f":"IF(源数据!C247=\"\",\"\",源数据!C247)","v":1},{"$f":"IF(源数据!D247=\"\",\"\",源数据!D247)","v":0},0,0,0,0,"外套",0,0,0,0,0,0,0,"白色",0,0]
[{"$f":"IF(源数据!A248=\"\",\"\",源数据!A248)","v":"白色西装外套 女"},{"$f":"IF(源数据!B248=\"\",\"\",源数据!B248)","v":9},{"$f":"IF(源数据!C248=\"\",\"\",源数据!C248)","v":1},{"$f":"IF(源数据!D248=\"\",\"\",源数据!D248)","v":0},0,0,"女",0,"外套",0,0,0,0,0,0,0,"白色",0,0]
[{"$f":"IF(源数据!A249=\"\",\"\",源数据!A249)","v":"白色西装外套 女 韩版"},{"$f":"IF(源数据!B249=\"\",\"\",源数据!B249)","v":1},{"$f":"IF(源数据!C249=\"\",\"\",源数据!C249)","v":1},{"$f":"IF(源数据!D249=\"\",\"\",源数据!D249)","v":0},0,0,"女",0,"外套",0,0,0,0,0,0,0,"白色",0,0]
[{"$f":"IF(源数据!A250=\"\",\"\",源数据!A250)","v":"白色西装外套女"},{"$f":"IF(源数据!B250=\"\",\"\",源数据!B250)","v":1},{"$f":"IF(源数据!C250=\"\",\"\",源数据!C250)","v":1},{"$f":"IF(源数据!D250=\"\",\"\",源数据!D250)","v":0},0,0,"女",0,"外套",0,0,0,0,0,0,0,"白色",0,0]
[{"$f":"IF(源数据!A251=\"\",\"\",源数据!A251)","v":"白色小外套 韩版"},{"$f":"IF(源数据!B251=\"\",\"\",源数据!B251)","v":1},{"$f":"IF(源数据!C251=\"\",\"\",源数据!C251)","v":1},{"$f":"IF(源数据!D251=\"\",\"\",源数据!D251)","v":0},0,0,0,0,"外套",0,0,0,0,0,0,0,"白色",0,0]
[{"$f":"IF(源数据!A252=\"\",\"\",源数据!A252)","v":"白色小西服"},{"$f":"IF(源数据!B252=\"\",\"\",源数据!B252)","v":7},{"$f":"IF(源数据!C252=\"\",\"\",源数据!C252)","v":1},{"$f":"IF(源数据!D252=\"\",\"\",源数据!D252)","v":0},0,0,0,0,0,0,0,"西服",0,0,0,0,"白色",0,0]
[{"$f":"IF(源数据!A253=\"\",\"\",源数据!A253)","v":"白色小西服 女"},{"$f":"IF(源数据!B253=\"\",\"\",源数据!B253)","v":1},{"$f":"IF(源数据!C253=\"\",\"\",源数据!C253)","v":1},{"$f":"IF(源数据!D253=\"\",\"\",源数据!D253)","v":0},0,0,"女",0,0,0,0,"西服",0,0,0,0,"白色",0,0]
[{"$f":"IF(源数据!A254=\"\",\"\",源数据!A254)","v":"白色小西服女修身"},{"$f":"IF(源数据!B254=\"\",\"\",源数据!B254)","v":7},{"$f":"IF(源数据!C254=\"\",\"\",源数据!C254)","v":1},{"$f":"IF(源数据!D254=\"\",\"\",源数据!D254)","v":0},0,0,"女",0,0,0,0,"西服",0,"修身",0,0,"白色",0,0]
[{"$f":"IF(源数据!A255=\"\",\"\",源数据!A255)","v":"白色小西服女修身春秋"},{"$f":"IF(源数据!B255=\"\",\"\",源数据!B255)","v":3},{"$f":"IF(源数据!C255=\"\",\"\",源数据!C255)","v":1},{"$f":"IF(源数据!D255=\"\",\"\",源数据!D255)","v":0},0,0,"女",0,0,0,0,"西服",0,"修身",0,"春秋","白色",0,0]
[{"$f":"IF(源数据!A256=\"\",\"\",源数据!A256)","v":"白色小西服雪纺"},{"$f":"IF(源数据!B256=\"\",\"\",源数据!B256)","v":3},{"$f":"IF(源数据!C256=\"\",\"\",源数据!C256)","v":0},{"$f":"IF(源数据!D256=\"\",\"\",源数据!D256)","v":0},0,0,0,0,0,0,0,"西服",0,0,0,0,"白色",0,0]
[{"$f":"IF(源数据!A257=\"\",\"\",源数据!A257)","v":"白色小西装"},{"$f":"IF(源数据!B257=\"\",\"\",源数据!B257)","v":29},{"$f":"IF(源数据!C257=\"\",\"\",源数据!C257)","v":0.72409999999999997},{"$f":"IF(源数据!D257=\"\",\"\",源数据!D257)","v":2},0,0,0,0,0,"小西装",0,0,0,0,0,0,"白色",0,0]
[{"$f":"IF(源数据!A258=\"\",\"\",源数据!A258)","v":"白色小西装 女 修身"},{"$f":"IF(源数据!B258=\"\",\"\",源数据!B258)","v":1},{"$f":"IF(源数据!C258=\"\",\"\",源数据!C258)","v":1},{"$f":"IF(源数据!D258=\"\",\"\",源数据!D258)","v":0},0,0,"女",0,0,"小西装",0,0,0,"修身",0,0,"白色",0,0]
[{"$f":"IF(源数据!A259=\"\",\"\",源数据!A259)","v":"白色小西装  女"},{"$f":"IF(源数据!B259=\"\",\"\",源数据!B259)","v":1},{"$f":"IF(源数据!C259=\"\",\"\",源数据!C259)","v":1},{"$f":"IF(源数据!D259=\"\",\"\",源数据!D259)","v":0},{"$f":"IF($A258=\"\",\"\",IF(E$1=\"\",\"\",IF(IFERROR(SEARCH(E$1,$A259),0) >0,E$1,0)))","v":0},{"$f":"IF($A258=\"\",\"\",IF(F$1=\"\",\"\",IF(IFERROR(SEARCH(F$1,$A259),0) >0,F$1,0)))","v":0},{"$f":"IF($A258=\"\",\"\",IF(G$1=\"\",\"\",IF(IFERROR(SEARCH(G$1,$A259),0) >0,G$1,0)))","v":"女"},{"$f":"IF($A258=\"\",\"\",IF(H$1=\"\",\"\",IF(IFERROR(SEARCH(H$1,$A259),0) >0,H$1,0)))","v":0},{"$f":"IF($A258=\"\",\"\",IF(I$1=\"\",\"\",IF(IFERROR(SEARCH(I$1,$A259),0) >0,I$1,0)))","v":0},{"$f":"IF($A258=\"\",\"\",IF(J$1=\"\",\"\",IF(IFERROR(SEARCH(J$1,$A259),0) >0,J$1,0)))","v":"小西装"},{"$f":"IF($A258=\"\",\"\",IF(K$1=\"\",\"\",IF(IFERROR(SEARCH(K$1,$A259),0) >0,K$1,0)))","v":0},{"$f":"IF($A258=\"\",\"\",IF(L$1=\"\",\"\",IF(IFERROR(SEARCH(L$1,$A259),0) >0,L$1,0)))","v":0},{"$f":"IF($A258=\"\",\"\",IF(M$1=\"\",\"\",IF(IFERROR(SEARCH(M$1,$A259),0) >0,M$1,0)))","v":0},{"$f":"IF($A258=\"\",\"\",IF(N$1=\"\",\"\",IF(IFERROR(SEARCH(N$1,$A259),0) >0,N$1,0)))","v":0},{"$f":"IF($A258=\"\",\"\",IF(O$1=\"\",\"\",IF(IFERROR(SEARCH(O$1,$A259),0) >0,O$1,0)))","v":0},{"$f":"IF($A258=\"\",\"\",IF(P$1=\"\",\"\",IF(IFERROR(SEARCH(P$1,$A259),0) >0,P$1,0)))","v":0},{"$f":"IF($A258=\"\",\"\",IF(Q$1=\"\",\"\",IF(IFERROR(SEARCH(Q$1,$A259),0) >0,Q$1,0)))","v":"白色"},{"$f":"IF($A258=\"\",\"\",IF(R$1=\"\",\"\",IF(IFERROR(SEARCH(R$1,$A259),0) >0,R$1,0)))","v":0},{"$f":"IF($A258=\"\",\"\",IF(S$1=\"\",\"\",IF(IFERROR(SEARCH(S$1,$A259),0) >0,S$1,0)))","v":0}]
[{"$f":"IF(源数据!A260=\"\",\"\",源数据!A260)","v":"白色小西装 长"},{"$f":"IF(源数据!B260=\"\",\"\",源数据!B260)","v":1},{"$f":"IF(源数据!C260=\"\",\"\",源数据!C260)","v":1},{"$f":"IF(源数据!D260=\"\",\"\",源数据!D260)","v":0},0,0,0,0,0,"小西装",0,0,0,0,0,0,"白色",0,0]
[{"$f":"IF(源数据!A261=\"\",\"\",源数据!A261)","v":"白色小西装 韩版"},{"$f":"IF(源数据!B261=\"\",\"\",源数据!B261)","v":3},{"$f":"IF(源数据!C261=\"\",\"\",源数据!C261)","v":0.66669999999999996},{"$f":"IF(源数据!D261=\"\",\"\",源数据!D261)","v":0},0,0,0,0,0,"小西装",0,0,0,0,0,0,"白色",0,0]
[{"$f":"IF(源数据!A262=\"\",\"\",源数据!A262)","v":"白色小西装 韩版女"},{"$f":"IF(源数据!B262=\"\",\"\",源数据!B262)","v":1},{"$f":"IF(源数据!C262=\"\",\"\",源数据!C262)","v":1},{"$f":"IF(源数据!D262=\"\",\"\",源数据!D262)","v":0},0,0,"女",0,0,"小西装",0,0,0,0,0,0,"白色",0,0]
[{"$f":"IF(源数据!A263=\"\",\"\",源数据!A263)","v":"白色小西装 女"},{"$f":"IF(源数据!B263=\"\",\"\",源数据!B263)","v":1},{"$f":"IF(源数据!C263=\"\",\"\",源数据!C263)","v":1},{"$f":"IF(源数据!D263=\"\",\"\",源数据!D263)","v":0},0,0,"女",0,0,"小西装",0,0,0,0,0,0,"白色",0,0]
[{"$f":"IF(源数据!A264=\"\",\"\",源数据!A264)","v":"白色小西装 女 韩版"},{"$f":"IF(源数据!B264=\"\",\"\",源数据!B264)","v":1},{"$f":"IF(源数据!C264=\"\",\"\",源数据!C264)","v":1},{"$f":"IF(源数据!D264=\"\",\"\",源数据!D264)","v":0},0,0,"女",0,0,"小西装",0,0,0,0,0,0,"白色",0,0]
[{"$f":"IF(源数据!A265=\"\",\"\",源数据!A265)","v":"白色小西装 女 修身"},{"$f":"IF(源数据!B265=\"\",\"\",源数据!B265)","v":30},{"$f":"IF(源数据!C265=\"\",\"\",源数据!C265)","v":0.8},{"$f":"IF(源数据!D265=\"\",\"\",源数据!D265)","v":1},0,0,"女",0,0,"小西装",0,0,0,"修身",0,0,"白色",0,0]
[{"$f":"IF(源数据!A266=\"\",\"\",源数据!A266)","v":"白色小西装 女 修身 包邮"},{"$f":"IF(源数据!B266=\"\",\"\",源数据!B266)","v":2},{"$f":"IF(源数据!C266=\"\",\"\",源数据!C266)","v":0},{"$f":"IF(源数据!D266=\"\",\"\",源数据!D266)","v":0},0,0,"女",0,0,"小西装",0,0,0,"修身",0,0,"白色",0,0]
[{"$f":"IF(源数据!A267=\"\",\"\",源数据!A267)","v":"白色小西装 修身 女 韩版  包邮"},{"$f":"IF(源数据!B267=\"\",\"\",源数据!B267)","v":1},{"$f":"IF(源数据!C267=\"\",\"\",源数据!C267)","v":1},{"$f":"IF(源数据!D267=\"\",\"\",源数据!D267)","v":0},0,0,"女",0,0,"小西装",0,0,0,"修身",0,0,"白色",0,0]
[{"$f":"IF(源数据!A268=\"\",\"\",源数据!A268)","v":"白色小西装女"},{"$f":"IF(源数据!B268=\"\",\"\",源数据!B268)","v":1},{"$f":"IF(源数据!C268=\"\",\"\",源数据!C268)","v":1},{"$f":"IF(源数据!D268=\"\",\"\",源数据!D268)","v":0},0,0,"女",0,0,"小西装",0,0,0,0,0,0,"白色",0,0]
[{"$f":"IF(源数据!A269=\"\",\"\",源数据!A269)","v":"白色小西装女包邮"},{"$f":"IF(源数据!B269=\"\",\"\",源数据!B269)","v":1},{"$f":"IF(源数据!C269=\"\",\"\",源数据!C269)","v":0},{"$f":"IF(源数据!D269=\"\",\"\",源数据!D269)","v":0},0,0,"女",0,0,"小西装",0,0,0,0,0,0,"白色",0,0]
[{"$f":"IF(源数据!A270=\"\",\"\",源数据!A270)","v":"白色小西装女潮"},{"$f":"IF(源数据!B270=\"\",\"\",源数据!B270)","v":1},{"$f":"IF(源数据!C270=\"\",\"\",源数据!C270)","v":1},{"$f":"IF(源数据!D270=\"\",\"\",源数据!D270)","v":0},"潮",0,"女",0,0,"小西装",0,0,0,0,0,0,"白色",0,0]
[{"$f":"IF(源数据!A271=\"\",\"\",源数据!A271)","v":"白色小西装女士"},{"$f":"IF(源数据!B271=\"\",\"\",源数据!B271)","v":1},{"$f":"IF(源数据!C271=\"\",\"\",源数据!C271)","v":1},{"$f":"IF(源数据!D271=\"\",\"\",源数据!D271)","v":0},0,0,"女",0,0,"小西装",0,0,0,0,0,0,"白色",0,0]
[{"$f":"IF(源数据!A272=\"\",\"\",源数据!A272)","v":"白色小西装女修身韩版 包邮"},{"$f":"IF(源数据!B272=\"\",\"\",源数据!B272)","v":1},{"$f":"IF(源数据!C272=\"\",\"\",源数据!C272)","v":0},{"$f":"IF(源数据!D272=\"\",\"\",源数据!D272)","v":0},0,0,"女",0,0,"小西装",0,0,0,"修身",0,0,"白色",0,0]
[{"$f":"IF(源数据!A273=\"\",\"\",源数据!A273)","v":"白色小西装外套女"},{"$f":"IF(源数据!B273=\"\",\"\",源数据!B273)","v":2},{"$f":"IF(源数据!C273=\"\",\"\",源数据!C273)","v":0},{"$f":"IF(源数据!D273=\"\",\"\",源数据!D273)","v":0},0,0,"女",0,"外套","小西装",0,0,0,0,0,0,"白色",0,0]
[{"$f":"IF(源数据!A274=\"\",\"\",源数据!A274)","v":"白色小西装夏"},{"$f":"IF(源数据!B274=\"\",\"\",源数据!B274)","v":1},{"$f":"IF(源数据!C274=\"\",\"\",源数据!C274)","v":1},{"$f":"IF(源数据!D274=\"\",\"\",源数据!D274)","v":0},0,0,0,0,0,"小西装",0,0,0,0,0,0,"白色",0,0]
[{"$f":"IF(源数据!A275=\"\",\"\",源数据!A275)","v":"白色休闲女西服"},{"$f":"IF(源数据!B275=\"\",\"\",源数据!B275)","v":1},{"$f":"IF(源数据!C275=\"\",\"\",源数据!C275)","v":1},{"$f":"IF(源数据!D275=\"\",\"\",源数据!D275)","v":0},0,0,"女",0,0,0,0,"西服","休闲",0,0,0,"白色",0,0]
[{"$f":"IF(源数据!A276=\"\",\"\",源数据!A276)","v":"白色休闲西服女"},{"$f":"IF(源数据!B276=\"\",\"\",源数据!B276)","v":2},{"$f":"IF(源数据!C276=\"\",\"\",源数据!C276)","v":1},{"$f":"IF(源数据!D276=\"\",\"\",源数据!D276)","v":0},0,0,"女",0,0,0,0,"西服","休闲",0,0,0,"白色",0,0]
[{"$f":"IF(源数据!A277=\"\",\"\",源数据!A277)","v":"白色休闲西装外套女"},{"$f":"IF(源数据!B277=\"\",\"\",源数据!B277)","v":1},{"$f":"IF(源数据!C277=\"\",\"\",源数据!C277)","v":1},{"$f":"IF(源数据!D277=\"\",\"\",源数据!D277)","v":0},0,0,"女",0,"外套",0,0,0,"休闲",0,0,0,"白色",0,0]
[{"$f":"IF(源数据!A278=\"\",\"\",源数据!A278)","v":"白色休闲小西服女"},{"$f":"IF(源数据!B278=\"\",\"\",源数据!B278)","v":1},{"$f":"IF(源数据!C278=\"\",\"\",源数据!C278)","v":1},{"$f":"IF(源数据!D278=\"\",\"\",源数据!D278)","v":0},0,0,"女",0,0,0,0,"西服","休闲",0,0,0,"白色",0,0]
[{"$f":"IF(源数据!A279=\"\",\"\",源数据!A279)","v":"白色休闲小西装女"},{"$f":"IF(源数据!B279=\"\",\"\",源数据!B279)","v":1},{"$f":"IF(源数据!C279=\"\",\"\",源数据!C279)","v":1},{"$f":"IF(源数据!D279=\"\",\"\",源数据!D279)","v":0},0,0,"女",0,0,"小西装",0,0,"休闲",0,0,0,"白色",0,0]
[{"$f":"IF(源数据!A280=\"\",\"\",源数据!A280)","v":"白色修身长款西装"},{"$f":"IF(源数据!B280=\"\",\"\",源数据!B280)","v":1},{"$f":"IF(源数据!C280=\"\",\"\",源数据!C280)","v":1},{"$f":"IF(源数据!D280=\"\",\"\",源数据!D280)","v":0},0,0,0,0,0,0,0,0,0,"修身",0,0,"白色",0,0]
[{"$f":"IF(源数据!A281=\"\",\"\",源数据!A281)","v":"白色修身长款小西装"},{"$f":"IF(源数据!B281=\"\",\"\",源数据!B281)","v":1},{"$f":"IF(源数据!C281=\"\",\"\",源数据!C281)","v":1},{"$f":"IF(源数据!D281=\"\",\"\",源数据!D281)","v":0},0,0,0,0,0,"小西装",0,0,0,"修身",0,0,"白色",0,0]
[{"$f":"IF(源数据!A282=\"\",\"\",源数据!A282)","v":"白色修身女款西服"},{"$f":"IF(源数据!B282=\"\",\"\",源数据!B282)","v":1},{"$f":"IF(源数据!C282=\"\",\"\",源数据!C282)","v":0},{"$f":"IF(源数据!D282=\"\",\"\",源数据!D282)","v":0},0,0,"女",0,0,0,0,"西服",0,"修身",0,0,"白色",0,0]
[{"$f":"IF(源数据!A283=\"\",\"\",源数据!A283)","v":"白色修身外套女"},{"$f":"IF(源数据!B283=\"\",\"\",源数据!B283)","v":1},{"$f":"IF(源数据!C283=\"\",\"\",源数据!C283)","v":1},{"$f":"IF(源数据!D283=\"\",\"\",源数据!D283)","v":0},0,0,"女",0,"外套",0,0,0,0,"修身",0,0,"白色",0,0]
[{"$f":"IF(源数据!A284=\"\",\"\",源数据!A284)","v":"白色修身西服女"},{"$f":"IF(源数据!B284=\"\",\"\",源数据!B284)","v":1},{"$f":"IF(源数据!C284=\"\",\"\",源数据!C284)","v":0},{"$f":"IF(源数据!D284=\"\",\"\",源数据!D284)","v":0},0,0,"女",0,0,0,0,"西服",0,"修身",0,0,"白色",0,0]
[{"$f":"IF(源数据!A285=\"\",\"\",源数据!A285)","v":"白色修身西装"},{"$f":"IF(源数据!B285=\"\",\"\",源数据!B285)","v":1},{"$f":"IF(源数据!C285=\"\",\"\",源数据!C285)","v":0},{"$f":"IF(源数据!D285=\"\",\"\",源数据!D285)","v":1},0,0,0,0,0,0,0,0,0,"修身",0,0,"白色",0,0]
[{"$f":"IF(源数据!A286=\"\",\"\",源数据!A286)","v":"白色修身西装外套"},{"$f":"IF(源数据!B286=\"\",\"\",源数据!B286)","v":1},{"$f":"IF(源数据!C286=\"\",\"\",源数据!C286)","v":1},{"$f":"IF(源数据!D286=\"\",\"\",源数据!D286)","v":0},0,0,0,0,"外套",0,0,0,0,"修身",0,0,"白色",0,0]
[{"$f":"IF(源数据!A287=\"\",\"\",源数据!A287)","v":"白色修身西装外套  包邮"},{"$f":"IF(源数据!B287=\"\",\"\",源数据!B287)","v":1},{"$f":"IF(源数据!C287=\"\",\"\",源数据!C287)","v":0},{"$f":"IF(源数据!D287=\"\",\"\",源数据!D287)","v":0},0,0,0,0,"外套",0,0,0,0,"修身",0,0,"白色",0,0]
[{"$f":"IF(源数据!A288=\"\",\"\",源数据!A288)","v":"白色修身小西服女"},{"$f":"IF(源数据!B288=\"\",\"\",源数据!B288)","v":1},{"$f":"IF(源数据!C288=\"\",\"\",源数据!C288)","v":1},{"$f":"IF(源数据!D288=\"\",\"\",源数据!D288)","v":0},0,0,"女",0,0,0,0,"西服",0,"修身",0,0,"白色",0,0]
[{"$f":"IF(源数据!A289=\"\",\"\",源数据!A289)","v":"白色修身小西装春装"},{"$f":"IF(源数据!B289=\"\",\"\",源数据!B289)","v":1},{"$f":"IF(源数据!C289=\"\",\"\",源数据!C289)","v":0},{"$f":"IF(源数据!D289=\"\",\"\",源数据!D289)","v":0},0,"春装",0,0,0,"小西装",0,0,0,"修身",0,0,"白色",0,0]
[{"$f":"IF(源数据!A290=\"\",\"\",源数据!A290)","v":"白色修身小西装女"},{"$f":"IF(源数据!B290=\"\",\"\",源数据!B290)","v":1},{"$f":"IF(源数据!C290=\"\",\"\",源数据!C290)","v":1},{"$f":"IF(源数据!D290=\"\",\"\",源数据!D290)","v":0},0,0,"女",0,0,"小西装",0,0,0,"修身",0,0,"白色",0,0]
[{"$f":"IF(源数据!A291=\"\",\"\",源数据!A291)","v":"白色修身中长款西装"},{"$f":"IF(源数据!B291=\"\",\"\",源数据!B291)","v":1},{"$f":"IF(源数据!C291=\"\",\"\",源数据!C291)","v":1},{"$f":"IF(源数据!D291=\"\",\"\",源数据!D291)","v":0},0,0,0,0,0,0,0,0,0,"修身",0,0,"白色",0,0]
[{"$f":"IF(源数据!A292=\"\",\"\",源数据!A292)","v":"白色雪纺拼接小西装"},{"$f":"IF(源数据!B292=\"\",\"\",源数据!B292)","v":1},{"$f":"IF(源数据!C292=\"\",\"\",源数据!C292)","v":0},{"$f":"IF(源数据!D292=\"\",\"\",源数据!D292)","v":1},0,0,0,0,0,"小西装",0,0,0,0,0,0,"白色",0,0]
[{"$f":"IF(源数据!A293=\"\",\"\",源数据!A293)","v":"白色雪纺小西装"},{"$f":"IF(源数据!B293=\"\",\"\",源数据!B293)","v":1},{"$f":"IF(源数据!C293=\"\",\"\",源数据!C293)","v":1},{"$f":"IF(源数据!D293=\"\",\"\",源数据!D293)","v":0},0,0,0,0,0,"小西装",0,0,0,0,0,0,"白色",0,0]
[{"$f":"IF(源数据!A294=\"\",\"\",源数据!A294)","v":"白色中长款小西装女春"},{"$f":"IF(源数据!B294=\"\",\"\",源数据!B294)","v":1},{"$f":"IF(源数据!C294=\"\",\"\",源数据!C294)","v":1},{"$f":"IF(源数据!D294=\"\",\"\",源数据!D294)","v":0},0,0,"女",0,0,"小西装",0,0,0,0,0,0,"白色",0,0]
[{"$f":"IF(源数据!A295=\"\",\"\",源数据!A295)","v":"白色中长外套"},{"$f":"IF(源数据!B295=\"\",\"\",源数据!B295)","v":1},{"$f":"IF(源数据!C295=\"\",\"\",源数据!C295)","v":1},{"$f":"IF(源数据!D295=\"\",\"\",源数据!D295)","v":0},0,0,0,0,"外套",0,0,0,0,0,0,0,"白色",0,0]
[{"$f":"IF(源数据!A296=\"\",\"\",源数据!A296)","v":"白西服"},{"$f":"IF(源数据!B296=\"\",\"\",源数据!B296)","v":3},{"$f":"IF(源数据!C296=\"\",\"\",源数据!C296)","v":0.66669999999999996},{"$f":"IF(源数据!D296=\"\",\"\",源数据!D296)","v":0},0,0,0,0,0,0,0,"西服",0,0,0,0,0,0,0]
[{"$f":"IF(源数据!A297=\"\",\"\",源数据!A297)","v":"白西服 韩版 女"},{"$f":"IF(源数据!B297=\"\",\"\",源数据!B297)","v":4},{"$f":"IF(源数据!C297=\"\",\"\",源数据!C297)","v":0.5},{"$f":"IF(源数据!D297=\"\",\"\",源数据!D297)","v":1},0,0,"女",0,0,0,0,"西服",0,0,0,0,0,0,0]
[{"$f":"IF(源数据!A298=\"\",\"\",源数据!A298)","v":"白西服 女 休闲款"},{"$f":"IF(源数据!B298=\"\",\"\",源数据!B298)","v":1},{"$f":"IF(源数据!C298=\"\",\"\",源数据!C298)","v":0},{"$f":"IF(源数据!D298=\"\",\"\",源数据!D298)","v":0},0,0,"女",0,0,0,0,"西服","休闲",0,0,0,0,0,0]
[{"$f":"IF(源数据!A299=\"\",\"\",源数据!A299)","v":"白西服女"},{"$f":"IF(源数据!B299=\"\",\"\",源数据!B299)","v":2},{"$f":"IF(源数据!C299=\"\",\"\",源数据!C299)","v":0.5},{"$f":"IF(源数据!D299=\"\",\"\",源数据!D299)","v":0},0,0,"女",0,0,0,0,"西服",0,0,0,0,0,0,0]
[{"$f":"IF(源数据!A300=\"\",\"\",源数据!A300)","v":"白西服套装女 白"},{"$f":"IF(源数据!B300=\"\",\"\",源数据!B300)","v":1},{"$f":"IF(源数据!C300=\"\",\"\",源数据!C300)","v":0},{"$f":"IF(源数据!D300=\"\",\"\",源数据!D300)","v":0},0,0,"女",0,0,0,0,"西服",0,0,0,0,0,0,0]
[{"$f":"IF(源数据!A301=\"\",\"\",源数据!A301)","v":"白西装"},{"$f":"IF(源数据!B301=\"\",\"\",源数据!B301)","v":3},{"$f":"IF(源数据!C301=\"\",\"\",源数据!C301)","v":1},{"$f":"IF(源数据!D301=\"\",\"\",源数据!D301)","v":0},0,0,0,0,0,0,0,0,0,0,0,0,0,0,0]
[{"$f":"IF(源数据!A302=\"\",\"\",源数据!A302)","v":"白西装 女"},{"$f":"IF(源数据!B302=\"\",\"\",源数据!B302)","v":1},{"$f":"IF(源数据!C302=\"\",\"\",源数据!C302)","v":1},{"$f":"IF(源数据!D302=\"\",\"\",源数据!D302)","v":0},0,0,"女",0,0,0,0,0,0,0,0,0,0,0,0]
[{"$f":"IF(源数据!A303=\"\",\"\",源数据!A303)","v":"白西装 女 韩版"},{"$f":"IF(源数据!B303=\"\",\"\",源数据!B303)","v":1},{"$f":"IF(源数据!C303=\"\",\"\",源数据!C303)","v":1},{"$f":"IF(源数据!D303=\"\",\"\",源数据!D303)","v":0},0,0,"女",0,0,0,0,0,0,0,0,0,0,0,0]
[{"$f":"IF(源数据!A304=\"\",\"\",源数据!A304)","v":"白西装 女 修身"},{"$f":"IF(源数据!B304=\"\",\"\",源数据!B304)","v":1},{"$f":"IF(源数据!C304=\"\",\"\",源数据!C304)","v":1},{"$f":"IF(源数据!D304=\"\",\"\",源数据!D304)","v":0},0,0,"女",0,0,0,0,0,0,"修身",0,0,0,0,0]
[{"$f":"IF(源数据!A305=\"\",\"\",源数据!A305)","v":"白西装 女 中长款"},{"$f":"IF(源数据!B305=\"\",\"\",源数据!B305)","v":2},{"$f":"IF(源数据!C305=\"\",\"\",源数据!C305)","v":1},{"$f":"IF(源数据!D305=\"\",\"\",源数据!D305)","v":0},0,0,"女",0,0,0,0,0,0,0,0,0,0,0,0]
[{"$f":"IF(源数据!A306=\"\",\"\",源数据!A306)","v":"白西装 女、"},{"$f":"IF(源数据!B306=\"\",\"\",源数据!B306)","v":1},{"$f":"IF(源数据!C306=\"\",\"\",源数据!C306)","v":1},{"$f":"IF(源数据!D306=\"\",\"\",源数据!D306)","v":0},0,0,"女",0,0,0,0,0,0,0,0,0,0,0,0]
[{"$f":"IF(源数据!A307=\"\",\"\",源数据!A307)","v":"白西装 女修身 韩版"},{"$f":"IF(源数据!B307=\"\",\"\",源数据!B307)","v":1},{"$f":"IF(源数据!C307=\"\",\"\",源数据!C307)","v":1},{"$f":"IF(源数据!D307=\"\",\"\",源数据!D307)","v":0},0,0,"女",0,0,0,0,0,0,"修身",0,0,0,0,0]
[{"$f":"IF(源数据!A308=\"\",\"\",源数据!A308)","v":"白小西服女"},{"$f":"IF(源数据!B308=\"\",\"\",源数据!B308)","v":1},{"$f":"IF(源数据!C308=\"\",\"\",源数据!C308)","v":1},{"$f":"IF(源数据!D308=\"\",\"\",源数据!D308)","v":0},0,0,"女",0,0,0,0,"西服",0,0,0,0,0,0,0]
[{"$f":"IF(源数据!A309=\"\",\"\",源数据!A309)","v":"包邮 小西装"},{"$f":"IF(源数据!B309=\"\",\"\",源数据!B309)","v":1},{"$f":"IF(源数据!C309=\"\",\"\",源数据!C309)","v":1},{"$f":"IF(源数据!D309=\"\",\"\",源数据!D309)","v":0},0,0,0,0,0,"小西装",0,0,0,0,0,0,0,0,0]
[{"$f":"IF(源数据!A310=\"\",\"\",源数据!A310)","v":"包邮韩版小西装女"},{"$f":"IF(源数据!B310=\"\",\"\",源数据!B310)","v":1},{"$f":"IF(源数据!C310=\"\",\"\",源数据!C310)","v":1},{"$f":"IF(源数据!D310=\"\",\"\",源数据!D310)","v":0},0,0,"女",0,0,"小西装",0,0,0,0,0,0,0,0,0]
[{"$f":"IF(源数据!A311=\"\",\"\",源数据!A311)","v":"包邮小西装外套女"},{"$f":"IF(源数据!B311=\"\",\"\",源数据!B311)","v":1},{"$f":"IF(源数据!C311=\"\",\"\",源数据!C311)","v":1},{"$f":"IF(源数据!D311=\"\",\"\",源数据!D311)","v":0},0,0,"女",0,"外套","小西装",0,0,0,0,0,0,0,0,0]
[{"$f":"IF(源数据!A312=\"\",\"\",源数据!A312)","v":"长款 西服"},{"$f":"IF(源数据!B312=\"\",\"\",源数据!B312)","v":1},{"$f":"IF(源数据!C312=\"\",\"\",源数据!C312)","v":1},{"$f":"IF(源数据!D312=\"\",\"\",源数据!D312)","v":0},0,0,0,0,0,0,0,"西服",0,0,0,0,0,0,0]
[{"$f":"IF(源数据!A313=\"\",\"\",源数据!A313)","v":"长款 小西服"},{"$f":"IF(源数据!B313=\"\",\"\",源数据!B313)","v":1},{"$f":"IF(源数据!C313=\"\",\"\",源数据!C313)","v":1},{"$f":"IF(源数据!D313=\"\",\"\",源数据!D313)","v":0},0,0,0,0,0,0,0,"西服",0,0,0,0,0,0,0]
[{"$f":"IF(源数据!A314=\"\",\"\",源数据!A314)","v":"长款 修身 西装"},{"$f":"IF(源数据!B314=\"\",\"\",源数据!B314)","v":1},{"$f":"IF(源数据!C314=\"\",\"\",源数据!C314)","v":1},{"$f":"IF(源数据!D314=\"\",\"\",源数据!D314)","v":0},0,0,0,0,0,0,0,0,0,"修身",0,0,0,0,0]
[{"$f":"IF(源数据!A315=\"\",\"\",源数据!A315)","v":"长款白色西装"},{"$f":"IF(源数据!B315=\"\",\"\",源数据!B315)","v":1},{"$f":"IF(源数据!C315=\"\",\"\",源数据!C315)","v":1},{"$f":"IF(源数据!D315=\"\",\"\",源数据!D315)","v":0},0,0,0,0,0,0,0,0,0,0,0,0,"白色",0,0]
[{"$f":"IF(源数据!A316=\"\",\"\",源数据!A316)","v":"长款白色小西装外套女"},{"$f":"IF(源数据!B316=\"\",\"\",源数据!B316)","v":1},{"$f":"IF(源数据!C316=\"\",\"\",源数据!C316)","v":1},{"$f":"IF(源数据!D316=\"\",\"\",源数据!D316)","v":0},0,0,"女",0,"外套","小西装",0,0,0,0,0,0,"白色",0,0]
[{"$f":"IF(源数据!A317=\"\",\"\",源数据!A317)","v":"长款黑色修身小西装"},{"$f":"IF(源数据!B317=\"\",\"\",源数据!B317)","v":1},{"$f":"IF(源数据!C317=\"\",\"\",源数据!C317)","v":1},{"$f":"IF(源数据!D317=\"\",\"\",源数据!D317)","v":0},0,0,0,0,0,"小西装",0,0,0,"修身",0,0,0,0,0]
[{"$f":"IF(源数据!A318=\"\",\"\",源数据!A318)","v":"长款女 春"},{"$f":"IF(源数据!B318=\"\",\"\",源数据!B318)","v":1},{"$f":"IF(源数据!C318=\"\",\"\",源数据!C318)","v":1},{"$f":"IF(源数据!D318=\"\",\"\",源数据!D318)","v":0},0,0,"女",0,0,0,0,0,0,0,0,0,0,0,0]
[{"$f":"IF(源数据!A319=\"\",\"\",源数据!A319)","v":"长款女西服"},{"$f":"IF(源数据!B319=\"\",\"\",源数据!B319)","v":2},{"$f":"IF(源数据!C319=\"\",\"\",源数据!C319)","v":1},{"$f":"IF(源数据!D319=\"\",\"\",源数据!D319)","v":0},0,0,"女",0,0,0,0,"西服",0,0,0,0,0,0,0]
[{"$f":"IF(源数据!A320=\"\",\"\",源数据!A320)","v":"长款外套 女 春秋"},{"$f":"IF(源数据!B320=\"\",\"\",源数据!B320)","v":1},{"$f":"IF(源数据!C320=\"\",\"\",源数据!C320)","v":1},{"$f":"IF(源数据!D320=\"\",\"\",源数据!D320)","v":0},0,0,"女",0,"外套",0,0,0,0,0,0,"春秋",0,0,0]
[{"$f":"IF(源数据!A321=\"\",\"\",源数据!A321)","v":"长款西服"},{"$f":"IF(源数据!B321=\"\",\"\",源数据!B321)","v":1},{"$f":"IF(源数据!C321=\"\",\"\",源数据!C321)","v":0},{"$f":"IF(源数据!D321=\"\",\"\",源数据!D321)","v":0},0,0,0,0,0,0,0,"西服",0,0,0,0,0,0,0]
[{"$f":"IF(源数据!A322=\"\",\"\",源数据!A322)","v":"长款西服 白"},{"$f":"IF(源数据!B322=\"\",\"\",源数据!B322)","v":1},{"$f":"IF(源数据!C322=\"\",\"\",源数据!C322)","v":1},{"$f":"IF(源数据!D322=\"\",\"\",源数据!D322)","v":0},0,0,0,0,0,0,0,"西服",0,0,0,0,0,0,0]
[{"$f":"IF(源数据!A323=\"\",\"\",源数据!A323)","v":"长款西服 包邮 女"},{"$f":"IF(源数据!B323=\"\",\"\",源数据!B323)","v":1},{"$f":"IF(源数据!C323=\"\",\"\",源数据!C323)","v":0},{"$f":"IF(源数据!D323=\"\",\"\",源数据!D323)","v":0},{"$f":"IF($A322=\"\",\"\",IF(E$1=\"\",\"\",IF(IFERROR(SEARCH(E$1,$A323),0) >0,E$1,0)))","v":0},{"$f":"IF($A322=\"\",\"\",IF(F$1=\"\",\"\",IF(IFERROR(SEARCH(F$1,$A323),0) >0,F$1,0)))","v":0},{"$f":"IF($A322=\"\",\"\",IF(G$1=\"\",\"\",IF(IFERROR(SEARCH(G$1,$A323),0) >0,G$1,0)))","v":"女"},{"$f":"IF($A322=\"\",\"\",IF(H$1=\"\",\"\",IF(IFERROR(SEARCH(H$1,$A323),0) >0,H$1,0)))","v":0},{"$f":"IF($A322=\"\",\"\",IF(I$1=\"\",\"\",IF(IFERROR(SEARCH(I$1,$A323),0) >0,I$1,0)))","v":0},{"$f":"IF($A322=\"\",\"\",IF(J$1=\"\",\"\",IF(IFERROR(SEARCH(J$1,$A323),0) >0,J$1,0)))","v":0},{"$f":"IF($A322=\"\",\"\",IF(K$1=\"\",\"\",IF(IFERROR(SEARCH(K$1,$A323),0) >0,K$1,0)))","v":0},{"$f":"IF($A322=\"\",\"\",IF(L$1=\"\",\"\",IF(IFERROR(SEARCH(L$1,$A323),0) >0,L$1,0)))","v":"西服"},{"$f":"IF($A322=\"\",\"\",IF(M$1=\"\",\"\",IF(IFERROR(SEARCH(M$1,$A323),0) >0,M$1,0)))","v":0},{"$f":"IF($A322=\"\",\"\",IF(N$1=\"\",\"\",IF(IFERROR(SEARCH(N$1,$A323),0) >0,N$1,0)))","v":0},{"$f":"IF($A322=\"\",\"\",IF(O$1=\"\",\"\",IF(IFERROR(SEARCH(O$1,$A323),0) >0,O$1,0)))","v":0},{"$f":"IF($A322=\"\",\"\",IF(P$1=\"\",\"\",IF(IFERROR(SEARCH(P$1,$A323),0) >0,P$1,0)))","v":0},{"$f":"IF($A322=\"\",\"\",IF(Q$1=\"\",\"\",IF(IFERROR(SEARCH(Q$1,$A323),0) >0,Q$1,0)))","v":0},{"$f":"IF($A322=\"\",\"\",IF(R$1=\"\",\"\",IF(IFERROR(SEARCH(R$1,$A323),0) >0,R$1,0)))","v":0},{"$f":"IF($A322=\"\",\"\",IF(S$1=\"\",\"\",IF(IFERROR(SEARCH(S$1,$A323),0) >0,S$1,0)))","v":0}]
[{"$f":"IF(源数据!A324=\"\",\"\",源数据!A324)","v":"长款西服 女 韩版"},{"$f":"IF(源数据!B324=\"\",\"\",源数据!B324)","v":3},{"$f":"IF(源数据!C324=\"\",\"\",源数据!C324)","v":1},{"$f":"IF(源数据!D324=\"\",\"\",源数据!D324)","v":0},0,0,"女",0,0,0,0,"西服",0,0,0,0,0,0,0]
[{"$f":"IF(源数据!A325=\"\",\"\",源数据!A325)","v":"长款西服 女 修身"},{"$f":"IF(源数据!B325=\"\",\"\",源数据!B325)","v":3},{"$f":"IF(源数据!C325=\"\",\"\",源数据!C325)","v":1},{"$f":"IF(源数据!D325=\"\",\"\",源数据!D325)","v":0},0,0,"女",0,0,0,0,"西服",0,"修身",0,0,0,0,0]
[{"$f":"IF(源数据!A326=\"\",\"\",源数据!A326)","v":"长款西服 女 修身雪纺"},{"$f":"IF(源数据!B326=\"\",\"\",源数据!B326)","v":1},{"$f":"IF(源数据!C326=\"\",\"\",源数据!C326)","v":0},{"$f":"IF(源数据!D326=\"\",\"\",源数据!D326)","v":0},0,0,"女",0,0,0,0,"西服",0,"修身",0,0,0,0,0]
[{"$f":"IF(源数据!A327=\"\",\"\",源数据!A327)","v":"长款西服女"},{"$f":"IF(源数据!B327=\"\",\"\",源数据!B327)","v":2},{"$f":"IF(源数据!C327=\"\",\"\",源数据!C327)","v":0.5},{"$f":"IF(源数据!D327=\"\",\"\",源数据!D327)","v":0},0,0,"女",0,0,0,0,"西服",0,0,0,0,0,0,0]
[{"$f":"IF(源数据!A328=\"\",\"\",源数据!A328)","v":"长款西服外套"},{"$f":"IF(源数据!B328=\"\",\"\",源数据!B328)","v":1},{"$f":"IF(源数据!C328=\"\",\"\",源数据!C328)","v":0},{"$f":"IF(源数据!D328=\"\",\"\",源数据!D328)","v":0},0,0,0,0,"外套",0,0,"西服",0,0,0,0,0,0,0]
[{"$f":"IF(源数据!A329=\"\",\"\",源数据!A329)","v":"长款西服外套 女"},{"$f":"IF(源数据!B329=\"\",\"\",源数据!B329)","v":1},{"$f":"IF(源数据!C329=\"\",\"\",源数据!C329)","v":1},{"$f":"IF(源数据!D329=\"\",\"\",源数据!D329)","v":0},0,0,"女",0,"外套",0,0,"西服",0,0,0,0,0,0,0]
[{"$f":"IF(源数据!A330=\"\",\"\",源数据!A330)","v":"长款西服外套女"},{"$f":"IF(源数据!B330=\"\",\"\",源数据!B330)","v":1},{"$f":"IF(源数据!C330=\"\",\"\",源数据!C330)","v":1},{"$f":"IF(源数据!D330=\"\",\"\",源数据!D330)","v":0},0,0,"女",0,"外套",0,0,"西服",0,0,0,0,0,0,0]
[{"$f":"IF(源数据!A331=\"\",\"\",源数据!A331)","v":"长款西装"},{"$f":"IF(源数据!B331=\"\",\"\",源数据!B331)","v":3},{"$f":"IF(源数据!C331=\"\",\"\",源数据!C331)","v":0.33329999999999999},{"$f":"IF(源数据!D331=\"\",\"\",源数据!D331)","v":0},0,0,0,0,0,0,0,0,0,0,0,0,0,0,0]
[{"$f":"IF(源数据!A332=\"\",\"\",源数据!A332)","v":"长款西装 女 外套"},{"$f":"IF(源数据!B332=\"\",\"\",源数据!B332)","v":1},{"$f":"IF(源数据!C332=\"\",\"\",源数据!C332)","v":1},{"$f":"IF(源数据!D332=\"\",\"\",源数据!D332)","v":0},0,0,"女",0,"外套",0,0,0,0,0,0,0,0,0,0]
[{"$f":"IF(源数据!A333=\"\",\"\",源数据!A333)","v":"长款西装 新款 包邮"},{"$f":"IF(源数据!B333=\"\",\"\",源数据!B333)","v":1},{"$f":"IF(源数据!C333=\"\",\"\",源数据!C333)","v":1},{"$f":"IF(源数据!D333=\"\",\"\",源数据!D333)","v":0},0,0,0,0,0,0,0,0,0,0,0,0,0,0,0]
[{"$f":"IF(源数据!A334=\"\",\"\",源数据!A334)","v":"长款西装 修身 女"},{"$f":"IF(源数据!B334=\"\",\"\",源数据!B334)","v":1},{"$f":"IF(源数据!C334=\"\",\"\",源数据!C334)","v":1},{"$f":"IF(源数据!D334=\"\",\"\",源数据!D334)","v":0},0,0,"女",0,0,0,0,0,0,"修身",0,0,0,0,0]
[{"$f":"IF(源数据!A335=\"\",\"\",源数据!A335)","v":"长款西装秋天女"},{"$f":"IF(源数据!B335=\"\",\"\",源数据!B335)","v":1},{"$f":"IF(源数据!C335=\"\",\"\",源数据!C335)","v":0},{"$f":"IF(源数据!D335=\"\",\"\",源数据!D335)","v":0},0,0,"女",0,0,0,0,0,0,0,0,0,0,0,0]
[{"$f":"IF(源数据!A336=\"\",\"\",源数据!A336)","v":"长款西装外套"},{"$f":"IF(源数据!B336=\"\",\"\",源数据!B336)","v":2},{"$f":"IF(源数据!C336=\"\",\"\",源数据!C336)","v":0.5},{"$f":"IF(源数据!D336=\"\",\"\",源数据!D336)","v":0},0,0,0,0,"外套",0,0,0,0,0,0,0,0,0,0]
[{"$f":"IF(源数据!A337=\"\",\"\",源数据!A337)","v":"长款西装外套 女"},{"$f":"IF(源数据!B337=\"\",\"\",源数据!B337)","v":3},{"$f":"IF(源数据!C337=\"\",\"\",源数据!C337)","v":1},{"$f":"IF(源数据!D337=\"\",\"\",源数据!D337)","v":0},0,0,"女",0,"外套",0,0,0,0,0,0,0,0,0,0]
[{"$f":"IF(源数据!A338=\"\",\"\",源数据!A338)","v":"长款西装外套韩版"},{"$f":"IF(源数据!B338=\"\",\"\",源数据!B338)","v":5},{"$f":"IF(源数据!C338=\"\",\"\",源数据!C338)","v":1},{"$f":"IF(源数据!D338=\"\",\"\",源数据!D338)","v":0},0,0,0,0,"外套",0,0,0,0,0,0,0,0,0,0]
[{"$f":"IF(源数据!A339=\"\",\"\",源数据!A339)","v":"长款西装外套韩版修身"},{"$f":"IF(源数据!B339=\"\",\"\",源数据!B339)","v":1},{"$f":"IF(源数据!C339=\"\",\"\",源数据!C339)","v":0},{"$f":"IF(源数据!D339=\"\",\"\",源数据!D339)","v":0},0,0,0,0,"外套",0,0,0,0,"修身",0,0,0,0,0]
[{"$f":"IF(源数据!A340=\"\",\"\",源数据!A340)","v":"长款西装小西服"},{"$f":"IF(源数据!B340=\"\",\"\",源数据!B340)","v":1},{"$f":"IF(源数据!C340=\"\",\"\",源数据!C340)","v":1},{"$f":"IF(源数据!D340=\"\",\"\",源数据!D340)","v":0},0,0,0,0,0,0,0,"西服",0,0,0,0,0,0,0]
[{"$f":"IF(源数据!A341=\"\",\"\",源数据!A341)","v":"长款西装修身"},{"$f":"IF(源数据!B341=\"\",\"\",源数据!B341)","v":1},{"$f":"IF(源数据!C341=\"\",\"\",源数据!C341)","v":1},{"$f":"IF(源数据!D341=\"\",\"\",源数据!D341)","v":0},0,0,0,0,0,0,0,0,0,"修身",0,0,0,0,0]
[{"$f":"IF(源数据!A342=\"\",\"\",源数据!A342)","v":"长款小西服外套"},{"$f":"IF(源数据!B342=\"\",\"\",源数据!B342)","v":1},{"$f":"IF(源数据!C342=\"\",\"\",源数据!C342)","v":0},{"$f":"IF(源数据!D342=\"\",\"\",源数据!D342)","v":0},0,0,0,0,"外套",0,0,"西服",0,0,0,0,0,0,0]
[{"$f":"IF(源数据!A343=\"\",\"\",源数据!A343)","v":"长款小西装"},{"$f":"IF(源数据!B343=\"\",\"\",源数据!B343)","v":4},{"$f":"IF(源数据!C343=\"\",\"\",源数据!C343)","v":0.5},{"$f":"IF(源数据!D343=\"\",\"\",源数据!D343)","v":0},0,0,0,0,0,"小西装",0,0,0,0,0,0,0,0,0]
[{"$f":"IF(源数据!A344=\"\",\"\",源数据!A344)","v":"长款小西装 女"},{"$f":"IF(源数据!B344=\"\",\"\",源数据!B344)","v":1},{"$f":"IF(源数据!C344=\"\",\"\",源数据!C344)","v":1},{"$f":"IF(源数据!D344=\"\",\"\",源数据!D344)","v":0},0,0,"女",0,0,"小西装",0,0,0,0,0,0,0,0,0]
[{"$f":"IF(源数据!A345=\"\",\"\",源数据!A345)","v":"长款小西装 女 春"},{"$f":"IF(源数据!B345=\"\",\"\",源数据!B345)","v":1},{"$f":"IF(源数据!C345=\"\",\"\",源数据!C345)","v":1},{"$f":"IF(源数据!D345=\"\",\"\",源数据!D345)","v":0},0,0,"女",0,0,"小西装",0,0,0,0,0,0,0,0,0]
[{"$f":"IF(源数据!A346=\"\",\"\",源数据!A346)","v":"长款小西装韩版修身女"},{"$f":"IF(源数据!B346=\"\",\"\",源数据!B346)","v":1},{"$f":"IF(源数据!C346=\"\",\"\",源数据!C346)","v":1},{"$f":"IF(源数据!D346=\"\",\"\",源数据!D346)","v":0},0,0,"女",0,0,"小西装",0,0,0,"修身",0,0,0,0,0]
[{"$f":"IF(源数据!A347=\"\",\"\",源数据!A347)","v":"长款小西装女"},{"$f":"IF(源数据!B347=\"\",\"\",源数据!B347)","v":1},{"$f":"IF(源数据!C347=\"\",\"\",源数据!C347)","v":1},{"$f":"IF(源数据!D347=\"\",\"\",源数据!D347)","v":0},0,0,"女",0,0,"小西装",0,0,0,0,0,0,0,0,0]
[{"$f":"IF(源数据!A348=\"\",\"\",源数据!A348)","v":"长款小西装女修身"},{"$f":"IF(源数据!B348=\"\",\"\",源数据!B348)","v":3},{"$f":"IF(源数据!C348=\"\",\"\",源数据!C348)","v":0.66669999999999996},{"$f":"IF(源数据!D348=\"\",\"\",源数据!D348)","v":0},0,0,"女",0,0,"小西装",0,0,0,"修身",0,0,0,0,0]
[{"$f":"IF(源数据!A349=\"\",\"\",源数据!A349)","v":"长款小西装外套 女"},{"$f":"IF(源数据!B349=\"\",\"\",源数据!B349)","v":1},{"$f":"IF(源数据!C349=\"\",\"\",源数据!C349)","v":1},{"$f":"IF(源数据!D349=\"\",\"\",源数据!D349)","v":0},0,0,"女",0,"外套","小西装",0,0,0,0,0,0,0,0,0]
[{"$f":"IF(源数据!A350=\"\",\"\",源数据!A350)","v":"长款休闲女西服"},{"$f":"IF(源数据!B350=\"\",\"\",源数据!B350)","v":1},{"$f":"IF(源数据!C350=\"\",\"\",源数据!C350)","v":1},{"$f":"IF(源数据!D350=\"\",\"\",源数据!D350)","v":0},0,0,"女",0,0,0,0,"西服","休闲",0,0,0,0,0,0]
[{"$f":"IF(源数据!A351=\"\",\"\",源数据!A351)","v":"长款休闲西服女"},{"$f":"IF(源数据!B351=\"\",\"\",源数据!B351)","v":1},{"$f":"IF(源数据!C351=\"\",\"\",源数据!C351)","v":1},{"$f":"IF(源数据!D351=\"\",\"\",源数据!D351)","v":0},0,0,"女",0,0,0,0,"西服","休闲",0,0,0,0,0,0]
[{"$f":"IF(源数据!A352=\"\",\"\",源数据!A352)","v":"长款休闲西装外套"},{"$f":"IF(源数据!B352=\"\",\"\",源数据!B352)","v":1},{"$f":"IF(源数据!C352=\"\",\"\",源数据!C352)","v":1},{"$f":"IF(源数据!D352=\"\",\"\",源数据!D352)","v":0},0,0,0,0,"外套",0,0,0,"休闲",0,0,0,0,0,0]
[{"$f":"IF(源数据!A353=\"\",\"\",源数据!A353)","v":"长款修身西服 女"},{"$f":"IF(源数据!B353=\"\",\"\",源数据!B353)","v":1},{"$f":"IF(源数据!C353=\"\",\"\",源数据!C353)","v":0},{"$f":"IF(源数据!D353=\"\",\"\",源数据!D353)","v":0},0,0,"女",0,0,0,0,"西服",0,"修身",0,0,0,0,0]
[{"$f":"IF(源数据!A354=\"\",\"\",源数据!A354)","v":"长款修身西服小西装外套"},{"$f":"IF(源数据!B354=\"\",\"\",源数据!B354)","v":1},{"$f":"IF(源数据!C354=\"\",\"\",源数据!C354)","v":0},{"$f":"IF(源数据!D354=\"\",\"\",源数据!D354)","v":0},0,0,0,0,"外套","小西装",0,"西服",0,"修身",0,0,0,0,0]
[{"$f":"IF(源数据!A355=\"\",\"\",源数据!A355)","v":"长西服"},{"$f":"IF(源数据!B355=\"\",\"\",源数据!B355)","v":1},{"$f":"IF(源数据!C355=\"\",\"\",源数据!C355)","v":1},{"$f":"IF(源数据!D355=\"\",\"\",源数据!D355)","v":0},0,0,0,0,0,0,0,"西服",0,0,0,0,0,0,0]
[{"$f":"IF(源数据!A356=\"\",\"\",源数据!A356)","v":"长西服 女 修身"},{"$f":"IF(源数据!B356=\"\",\"\",源数据!B356)","v":1},{"$f":"IF(源数据!C356=\"\",\"\",源数据!C356)","v":0},{"$f":"IF(源数据!D356=\"\",\"\",源数据!D356)","v":0},0,0,"女",0,0,0,0,"西服",0,"修身",0,0,0,0,0]
[{"$f":"IF(源数据!A357=\"\",\"\",源数据!A357)","v":"长西装外套 女 春秋"},{"$f":"IF(源数据!B357=\"\",\"\",源数据!B357)","v":1},{"$f":"IF(源数据!C357=\"\",\"\",源数据!C357)","v":1},{"$f":"IF(源数据!D357=\"\",\"\",源数据!D357)","v":0},0,0,"女",0,"外套",0,0,0,0,0,0,"春秋",0,0,0]
[{"$f":"IF(源数据!A358=\"\",\"\",源数据!A358)","v":"长袖小西装 修身 女款"},{"$f":"IF(源数据!B358=\"\",\"\",源数据!B358)","v":1},{"$f":"IF(源数据!C358=\"\",\"\",源数据!C358)","v":1},{"$f":"IF(源数据!D358=\"\",\"\",源数据!D358)","v":0},0,0,"女",0,0,"小西装",0,0,0,"修身",0,0,0,0,0]
[{"$f":"IF(源数据!A359=\"\",\"\",源数据!A359)","v":"长袖雪纺"},{"$f":"IF(源数据!B359=\"\",\"\",源数据!B359)","v":1},{"$f":"IF(源数据!C359=\"\",\"\",源数据!C359)","v":1},{"$f":"IF(源数据!D359=\"\",\"\",源数据!D359)","v":0},0,0,0,0,0,0,0,0,0,0,0,0,0,0,0]
[{"$f":"IF(源数据!A360=\"\",\"\",源数据!A360)","v":"潮2013春秋女装 韩版新款 修身一粒扣休闲小西服小西装"},{"$f":"IF(源数据!B360=\"\",\"\",源数据!B360)","v":1},{"$f":"IF(源数据!C360=\"\",\"\",源数据!C360)","v":1},{"$f":"IF(源数据!D360=\"\",\"\",源数据!D360)","v":0},"潮",0,"女","女装",0,"小西装",2013,"西服","休闲","修身",0,"春秋",0,0,0]
[{"$f":"IF(源数据!A361=\"\",\"\",源数据!A361)","v":"潮女装2013新款"},{"$f":"IF(源数据!B361=\"\",\"\",源数据!B361)","v":1},{"$f":"IF(源数据!C361=\"\",\"\",源数据!C361)","v":0},{"$f":"IF(源数据!D361=\"\",\"\",源数据!D361)","v":0},"潮",0,"女","女装",0,0,2013,0,0,0,0,0,0,0,0]
[{"$f":"IF(源数据!A362=\"\",\"\",源数据!A362)","v":"春"},{"$f":"IF(源数据!B362=\"\",\"\",源数据!B362)","v":1},{"$f":"IF(源数据!C362=\"\",\"\",源数据!C362)","v":1},{"$f":"IF(源数据!D362=\"\",\"\",源数据!D362)","v":0},0,0,0,0,0,0,0,0,0,0,0,0,0,0,0]
[{"$f":"IF(源数据!A363=\"\",\"\",源数据!A363)","v":"春 白色西装 拼"},{"$f":"IF(源数据!B363=\"\",\"\",源数据!B363)","v":1},{"$f":"IF(源数据!C363=\"\",\"\",源数据!C363)","v":1},{"$f":"IF(源数据!D363=\"\",\"\",源数据!D363)","v":0},0,0,0,0,0,0,0,0,0,0,0,0,"白色",0,0]
[{"$f":"IF(源数据!A364=\"\",\"\",源数据!A364)","v":"春 长款"},{"$f":"IF(源数据!B364=\"\",\"\",源数据!B364)","v":2},{"$f":"IF(源数据!C364=\"\",\"\",源数据!C364)","v":0},{"$f":"IF(源数据!D364=\"\",\"\",源数据!D364)","v":0},0,0,0,0,0,0,0,0,0,0,0,0,0,0,0]
[{"$f":"IF(源数据!A365=\"\",\"\",源数据!A365)","v":"春 女装2013 外套"},{"$f":"IF(源数据!B365=\"\",\"\",源数据!B365)","v":1},{"$f":"IF(源数据!C365=\"\",\"\",源数据!C365)","v":0},{"$f":"IF(源数据!D365=\"\",\"\",源数据!D365)","v":0},0,0,"女","女装","外套",0,2013,0,0,0,0,0,0,0,0]
[{"$f":"IF(源数据!A366=\"\",\"\",源数据!A366)","v":"春 外套 女"},{"$f":"IF(源数据!B366=\"\",\"\",源数据!B366)","v":2},{"$f":"IF(源数据!C366=\"\",\"\",源数据!C366)","v":1},{"$f":"IF(源数据!D366=\"\",\"\",源数据!D366)","v":0},0,0,"女",0,"外套",0,0,0,0,0,0,0,0,0,0]
[{"$f":"IF(源数据!A367=\"\",\"\",源数据!A367)","v":"春 外套 女 2013"},{"$f":"IF(源数据!B367=\"\",\"\",源数据!B367)","v":1},{"$f":"IF(源数据!C367=\"\",\"\",源数据!C367)","v":1},{"$f":"IF(源数据!D367=\"\",\"\",源数据!D367)","v":0},0,0,"女",0,"外套",0,2013,0,0,0,0,0,0,0,0]
[{"$f":"IF(源数据!A368=\"\",\"\",源数据!A368)","v":"春 西 女 白"},{"$f":"IF(源数据!B368=\"\",\"\",源数据!B368)","v":1},{"$f":"IF(源数据!C368=\"\",\"\",源数据!C368)","v":0},{"$f":"IF(源数据!D368=\"\",\"\",源数据!D368)","v":0},0,0,"女",0,0,0,0,0,0,0,0,0,0,0,0]
[{"$f":"IF(源数据!A369=\"\",\"\",源数据!A369)","v":"春 西装 外套 女"},{"$f":"IF(源数据!B369=\"\",\"\",源数据!B369)","v":1},{"$f":"IF(源数据!C369=\"\",\"\",源数据!C369)","v":1},{"$f":"IF(源数据!D369=\"\",\"\",源数据!D369)","v":0},0,0,"女",0,"外套",0,0,0,0,0,0,0,0,0,0]
[{"$f":"IF(源数据!A370=\"\",\"\",源数据!A370)","v":"春 西裝"},{"$f":"IF(源数据!B370=\"\",\"\",源数据!B370)","v":1},{"$f":"IF(源数据!C370=\"\",\"\",源数据!C370)","v":1},{"$f":"IF(源数据!D370=\"\",\"\",源数据!D370)","v":0},0,0,0,0,0,0,0,0,0,0,0,0,0,0,0]
[{"$f":"IF(源数据!A371=\"\",\"\",源数据!A371)","v":"春 小西装 女"},{"$f":"IF(源数据!B371=\"\",\"\",源数据!B371)","v":1},{"$f":"IF(源数据!C371=\"\",\"\",源数据!C371)","v":1},{"$f":"IF(源数据!D371=\"\",\"\",源数据!D371)","v":0},0,0,"女",0,0,"小西装",0,0,0,0,0,0,0,0,0]
[{"$f":"IF(源数据!A372=\"\",\"\",源数据!A372)","v":"春长款外套"},{"$f":"IF(源数据!B372=\"\",\"\",源数据!B372)","v":1},{"$f":"IF(源数据!C372=\"\",\"\",源数据!C372)","v":0},{"$f":"IF(源数据!D372=\"\",\"\",源数据!D372)","v":0},0,0,0,0,"外套",0,0,0,0,0,0,0,0,0,0]
[{"$f":"IF(源数据!A373=\"\",\"\",源数据!A373)","v":"春季 女 外套"},{"$f":"IF(源数据!B373=\"\",\"\",源数据!B373)","v":1},{"$f":"IF(源数据!C373=\"\",\"\",源数据!C373)","v":1},{"$f":"IF(源数据!D373=\"\",\"\",源数据!D373)","v":0},0,0,"女",0,"外套",0,0,0,0,0,"春季",0,0,0,0]
[{"$f":"IF(源数据!A374=\"\",\"\",源数据!A374)","v":"春季 女 西服"},{"$f":"IF(源数据!B374=\"\",\"\",源数据!B374)","v":1},{"$f":"IF(源数据!C374=\"\",\"\",源数据!C374)","v":0},{"$f":"IF(源数据!D374=\"\",\"\",源数据!D374)","v":0},0,0,"女",0,0,0,0,"西服",0,0,"春季",0,0,0,0]
[{"$f":"IF(源数据!A375=\"\",\"\",源数据!A375)","v":"春季 外套 女"},{"$f":"IF(源数据!B375=\"\",\"\",源数据!B375)","v":1},{"$f":"IF(源数据!C375=\"\",\"\",源数据!C375)","v":1},{"$f":"IF(源数据!D375=\"\",\"\",源数据!D375)","v":0},0,0,"女",0,"外套",0,0,0,0,0,"春季",0,0,0,0]
[{"$f":"IF(源数据!A376=\"\",\"\",源数据!A376)","v":"春季 外套 女包邮"},{"$f":"IF(源数据!B376=\"\",\"\",源数据!B376)","v":1},{"$f":"IF(源数据!C376=\"\",\"\",源数据!C376)","v":1},{"$f":"IF(源数据!D376=\"\",\"\",源数据!D376)","v":0},0,0,"女",0,"外套",0,0,0,0,0,"春季",0,0,0,0]
[{"$f":"IF(源数据!A377=\"\",\"\",源数据!A377)","v":"春季2013新款小西服"},{"$f":"IF(源数据!B377=\"\",\"\",源数据!B377)","v":1},{"$f":"IF(源数据!C377=\"\",\"\",源数据!C377)","v":1},{"$f":"IF(源数据!D377=\"\",\"\",源数据!D377)","v":0},0,0,0,0,0,0,2013,"西服",0,0,"春季",0,0,0,0]
[{"$f":"IF(源数据!A378=\"\",\"\",源数据!A378)","v":"春季女士小西服"},{"$f":"IF(源数据!B378=\"\",\"\",源数据!B378)","v":1},{"$f":"IF(源数据!C378=\"\",\"\",源数据!C378)","v":1},{"$f":"IF(源数据!D378=\"\",\"\",源数据!D378)","v":0},0,0,"女",0,0,0,0,"西服",0,0,"春季",0,0,0,0]
[{"$f":"IF(源数据!A379=\"\",\"\",源数据!A379)","v":"春季女西服"},{"$f":"IF(源数据!B379=\"\",\"\",源数据!B379)","v":1},{"$f":"IF(源数据!C379=\"\",\"\",源数据!C379)","v":1},{"$f":"IF(源数据!D379=\"\",\"\",源数据!D379)","v":0},0,0,"女",0,0,0,0,"西服",0,0,"春季",0,0,0,0]
[{"$f":"IF(源数据!A380=\"\",\"\",源数据!A380)","v":"春季女装外套"},{"$f":"IF(源数据!B380=\"\",\"\",源数据!B380)","v":1},{"$f":"IF(源数据!C380=\"\",\"\",源数据!C380)","v":0},{"$f":"IF(源数据!D380=\"\",\"\",源数据!D380)","v":0},0,0,"女","女装","外套",0,0,0,0,0,"春季",0,0,0,0]
[{"$f":"IF(源数据!A381=\"\",\"\",源数据!A381)","v":"春季女装外套2013"},{"$f":"IF(源数据!B381=\"\",\"\",源数据!B381)","v":2},{"$f":"IF(源数据!C381=\"\",\"\",源数据!C381)","v":1},{"$f":"IF(源数据!D381=\"\",\"\",源数据!D381)","v":0},0,0,"女","女装","外套",0,2013,0,0,0,"春季",0,0,0,0]
[{"$f":"IF(源数据!A382=\"\",\"\",源数据!A382)","v":"春季女装外套新款"},{"$f":"IF(源数据!B382=\"\",\"\",源数据!B382)","v":1},{"$f":"IF(源数据!C382=\"\",\"\",源数据!C382)","v":0},{"$f":"IF(源数据!D382=\"\",\"\",源数据!D382)","v":0},0,0,"女","女装","外套",0,0,0,0,0,"春季",0,0,0,0]
[{"$f":"IF(源数据!A383=\"\",\"\",源数据!A383)","v":"春季女装小西服"},{"$f":"IF(源数据!B383=\"\",\"\",源数据!B383)","v":1},{"$f":"IF(源数据!C383=\"\",\"\",源数据!C383)","v":1},{"$f":"IF(源数据!D383=\"\",\"\",源数据!D383)","v":0},0,0,"女","女装",0,0,0,"西服",0,0,"春季",0,0,0,0]
[{"$f":"IF(源数据!A384=\"\",\"\",源数据!A384)","v":"春季外套"},{"$f":"IF(源数据!B384=\"\",\"\",源数据!B384)","v":3},{"$f":"IF(源数据!C384=\"\",\"\",源数据!C384)","v":0.33329999999999999},{"$f":"IF(源数据!D384=\"\",\"\",源数据!D384)","v":0},0,0,0,0,"外套",0,0,0,0,0,"春季",0,0,0,0]
[{"$f":"IF(源数据!A385=\"\",\"\",源数据!A385)","v":"春季外套 女"},{"$f":"IF(源数据!B385=\"\",\"\",源数据!B385)","v":1},{"$f":"IF(源数据!C385=\"\",\"\",源数据!C385)","v":1},{"$f":"IF(源数据!D385=\"\",\"\",源数据!D385)","v":0},0,0,"女",0,"外套",0,0,0,0,0,"春季",0,0,0,0]
[{"$f":"IF(源数据!A386=\"\",\"\",源数据!A386)","v":"春季外套 女 韩版"},{"$f":"IF(源数据!B386=\"\",\"\",源数据!B386)","v":4},{"$f":"IF(源数据!C386=\"\",\"\",源数据!C386)","v":1},{"$f":"IF(源数据!D386=\"\",\"\",源数据!D386)","v":0},0,0,"女",0,"外套",0,0,0,0,0,"春季",0,0,0,0]
[{"$f":"IF(源数据!A387=\"\",\"\",源数据!A387)","v":"春季外套韩版 女"},{"$f":"IF(源数据!B387=\"\",\"\",源数据!B387)","v":1},{"$f":"IF(源数据!C387=\"\",\"\",源数据!C387)","v":1},{"$f":"IF(源数据!D387=\"\",\"\",源数据!D387)","v":0},{"$f":"IF($A386=\"\",\"\",IF(E$1=\"\",\"\",IF(IFERROR(SEARCH(E$1,$A387),0) >0,E$1,0)))","v":0},{"$f":"IF($A386=\"\",\"\",IF(F$1=\"\",\"\",IF(IFERROR(SEARCH(F$1,$A387),0) >0,F$1,0)))","v":0},{"$f":"IF($A386=\"\",\"\",IF(G$1=\"\",\"\",IF(IFERROR(SEARCH(G$1,$A387),0) >0,G$1,0)))","v":"女"},{"$f":"IF($A386=\"\",\"\",IF(H$1=\"\",\"\",IF(IFERROR(SEARCH(H$1,$A387),0) >0,H$1,0)))","v":0},{"$f":"IF($A386=\"\",\"\",IF(I$1=\"\",\"\",IF(IFERROR(SEARCH(I$1,$A387),0) >0,I$1,0)))","v":"外套"},{"$f":"IF($A386=\"\",\"\",IF(J$1=\"\",\"\",IF(IFERROR(SEARCH(J$1,$A387),0) >0,J$1,0)))","v":0},{"$f":"IF($A386=\"\",\"\",IF(K$1=\"\",\"\",IF(IFERROR(SEARCH(K$1,$A387),0) >0,K$1,0)))","v":0},{"$f":"IF($A386=\"\",\"\",IF(L$1=\"\",\"\",IF(IFERROR(SEARCH(L$1,$A387),0) >0,L$1,0)))","v":0},{"$f":"IF($A386=\"\",\"\",IF(M$1=\"\",\"\",IF(IFERROR(SEARCH(M$1,$A387),0) >0,M$1,0)))","v":0},{"$f":"IF($A386=\"\",\"\",IF(N$1=\"\",\"\",IF(IFERROR(SEARCH(N$1,$A387),0) >0,N$1,0)))","v":0},{"$f":"IF($A386=\"\",\"\",IF(O$1=\"\",\"\",IF(IFERROR(SEARCH(O$1,$A387),0) >0,O$1,0)))","v":"春季"},{"$f":"IF($A386=\"\",\"\",IF(P$1=\"\",\"\",IF(IFERROR(SEARCH(P$1,$A387),0) >0,P$1,0)))","v":0},{"$f":"IF($A386=\"\",\"\",IF(Q$1=\"\",\"\",IF(IFERROR(SEARCH(Q$1,$A387),0) >0,Q$1,0)))","v":0},{"$f":"IF($A386=\"\",\"\",IF(R$1=\"\",\"\",IF(IFERROR(SEARCH(R$1,$A387),0) >0,R$1,0)))","v":0},{"$f":"IF($A386=\"\",\"\",IF(S$1=\"\",\"\",IF(IFERROR(SEARCH(S$1,$A387),0) >0,S$1,0)))","v":0}]
[{"$f":"IF(源数据!A388=\"\",\"\",源数据!A388)","v":"春季外套女"},{"$f":"IF(源数据!B388=\"\",\"\",源数据!B388)","v":8},{"$f":"IF(源数据!C388=\"\",\"\",源数据!C388)","v":0.625},{"$f":"IF(源数据!D388=\"\",\"\",源数据!D388)","v":0},0,0,"女",0,"外套",0,0,0,0,0,"春季",0,0,0,0]
[{"$f":"IF(源数据!A389=\"\",\"\",源数据!A389)","v":"春季外套女  包邮"},{"$f":"IF(源数据!B389=\"\",\"\",源数据!B389)","v":1},{"$f":"IF(源数据!C389=\"\",\"\",源数据!C389)","v":1},{"$f":"IF(源数据!D389=\"\",\"\",源数据!D389)","v":0},0,0,"女",0,"外套",0,0,0,0,0,"春季",0,0,0,0]
[{"$f":"IF(源数据!A390=\"\",\"\",源数据!A390)","v":"春季外套女包邮"},{"$f":"IF(源数据!B390=\"\",\"\",源数据!B390)","v":1},{"$f":"IF(源数据!C390=\"\",\"\",源数据!C390)","v":1},{"$f":"IF(源数据!D390=\"\",\"\",源数据!D390)","v":0},0,0,"女",0,"外套",0,0,0,0,0,"春季",0,0,0,0]
[{"$f":"IF(源数据!A391=\"\",\"\",源数据!A391)","v":"春季外套女款"},{"$f":"IF(源数据!B391=\"\",\"\",源数据!B391)","v":1},{"$f":"IF(源数据!C391=\"\",\"\",源数据!C391)","v":0},{"$f":"IF(源数据!D391=\"\",\"\",源数据!D391)","v":0},0,0,"女",0,"外套",0,0,0,0,0,"春季",0,0,0,0]
[{"$f":"IF(源数据!A392=\"\",\"\",源数据!A392)","v":"春季外套女装"},{"$f":"IF(源数据!B392=\"\",\"\",源数据!B392)","v":1},{"$f":"IF(源数据!C392=\"\",\"\",源数据!C392)","v":1},{"$f":"IF(源数据!D392=\"\",\"\",源数据!D392)","v":0},0,0,"女","女装","外套",0,0,0,0,0,"春季",0,0,0,0]
[{"$f":"IF(源数据!A393=\"\",\"\",源数据!A393)","v":"春季西服 女 韩版"},{"$f":"IF(源数据!B393=\"\",\"\",源数据!B393)","v":1},{"$f":"IF(源数据!C393=\"\",\"\",源数据!C393)","v":1},{"$f":"IF(源数据!D393=\"\",\"\",源数据!D393)","v":0},0,0,"女",0,0,0,0,"西服",0,0,"春季",0,0,0,0]
[{"$f":"IF(源数据!A394=\"\",\"\",源数据!A394)","v":"春季西服 女 中长款"},{"$f":"IF(源数据!B394=\"\",\"\",源数据!B394)","v":1},{"$f":"IF(源数据!C394=\"\",\"\",源数据!C394)","v":1},{"$f":"IF(源数据!D394=\"\",\"\",源数据!D394)","v":0},0,0,"女",0,0,0,0,"西服",0,0,"春季",0,0,0,0]
[{"$f":"IF(源数据!A395=\"\",\"\",源数据!A395)","v":"春季西服女"},{"$f":"IF(源数据!B395=\"\",\"\",源数据!B395)","v":1},{"$f":"IF(源数据!C395=\"\",\"\",源数据!C395)","v":1},{"$f":"IF(源数据!D395=\"\",\"\",源数据!D395)","v":0},0,0,"女",0,0,0,0,"西服",0,0,"春季",0,0,0,0]
[{"$f":"IF(源数据!A396=\"\",\"\",源数据!A396)","v":"春季西装 女士"},{"$f":"IF(源数据!B396=\"\",\"\",源数据!B396)","v":1},{"$f":"IF(源数据!C396=\"\",\"\",源数据!C396)","v":1},{"$f":"IF(源数据!D396=\"\",\"\",源数据!D396)","v":0},0,0,"女",0,0,0,0,0,0,0,"春季",0,0,0,0]
[{"$f":"IF(源数据!A397=\"\",\"\",源数据!A397)","v":"春季西装女韩版"},{"$f":"IF(源数据!B397=\"\",\"\",源数据!B397)","v":1},{"$f":"IF(源数据!C397=\"\",\"\",源数据!C397)","v":1},{"$f":"IF(源数据!D397=\"\",\"\",源数据!D397)","v":0},0,0,"女",0,0,0,0,0,0,0,"春季",0,0,0,0]
[{"$f":"IF(源数据!A398=\"\",\"\",源数据!A398)","v":"春季小外套女"},{"$f":"IF(源数据!B398=\"\",\"\",源数据!B398)","v":1},{"$f":"IF(源数据!C398=\"\",\"\",源数据!C398)","v":1},{"$f":"IF(源数据!D398=\"\",\"\",源数据!D398)","v":0},0,0,"女",0,"外套",0,0,0,0,0,"春季",0,0,0,0]
[{"$f":"IF(源数据!A399=\"\",\"\",源数据!A399)","v":"春季小西装女"},{"$f":"IF(源数据!B399=\"\",\"\",源数据!B399)","v":2},{"$f":"IF(源数据!C399=\"\",\"\",源数据!C399)","v":0.5},{"$f":"IF(源数据!D399=\"\",\"\",源数据!D399)","v":0},0,0,"女",0,0,"小西装",0,0,0,0,"春季",0,0,0,0]
[{"$f":"IF(源数据!A400=\"\",\"\",源数据!A400)","v":"春季小西装女装 2013"},{"$f":"IF(源数据!B400=\"\",\"\",源数据!B400)","v":2},{"$f":"IF(源数据!C400=\"\",\"\",源数据!C400)","v":1},{"$f":"IF(源数据!D400=\"\",\"\",源数据!D400)","v":0},0,0,"女","女装",0,"小西装",2013,0,0,0,"春季",0,0,0,0]
[{"$f":"IF(源数据!A401=\"\",\"\",源数据!A401)","v":"春季新款女装西装"},{"$f":"IF(源数据!B401=\"\",\"\",源数据!B401)","v":1},{"$f":"IF(源数据!C401=\"\",\"\",源数据!C401)","v":0},{"$f":"IF(源数据!D401=\"\",\"\",源数据!D401)","v":0},0,0,"女","女装",0,0,0,0,0,0,"春季",0,0,0,0]
[{"$f":"IF(源数据!A402=\"\",\"\",源数据!A402)","v":"春季休闲女装外套"},{"$f":"IF(源数据!B402=\"\",\"\",源数据!B402)","v":1},{"$f":"IF(源数据!C402=\"\",\"\",源数据!C402)","v":1},{"$f":"IF(源数据!D402=\"\",\"\",源数据!D402)","v":0},0,0,"女","女装","外套",0,0,0,"休闲",0,"春季",0,0,0,0]
[{"$f":"IF(源数据!A403=\"\",\"\",源数据!A403)","v":"春季休闲西装外套女中长款"},{"$f":"IF(源数据!B403=\"\",\"\",源数据!B403)","v":1},{"$f":"IF(源数据!C403=\"\",\"\",源数据!C403)","v":1},{"$f":"IF(源数据!D403=\"\",\"\",源数据!D403)","v":0},0,0,"女",0,"外套",0,0,0,"休闲",0,"春季",0,0,0,0]
[{"$f":"IF(源数据!A404=\"\",\"\",源数据!A404)","v":"春季修身外套女"},{"$f":"IF(源数据!B404=\"\",\"\",源数据!B404)","v":1},{"$f":"IF(源数据!C404=\"\",\"\",源数据!C404)","v":0},{"$f":"IF(源数据!D404=\"\",\"\",源数据!D404)","v":0},0,0,"女",0,"外套",0,0,0,0,"修身","春季",0,0,0,0]
[{"$f":"IF(源数据!A405=\"\",\"\",源数据!A405)","v":"春季修身中长款西装外套"},{"$f":"IF(源数据!B405=\"\",\"\",源数据!B405)","v":1},{"$f":"IF(源数据!C405=\"\",\"\",源数据!C405)","v":1},{"$f":"IF(源数据!D405=\"\",\"\",源数据!D405)","v":0},0,0,0,0,"外套",0,0,0,0,"修身","春季",0,0,0,0]
[{"$f":"IF(源数据!A406=\"\",\"\",源数据!A406)","v":"春款 女装 2013外套西装"},{"$f":"IF(源数据!B406=\"\",\"\",源数据!B406)","v":1},{"$f":"IF(源数据!C406=\"\",\"\",源数据!C406)","v":1},{"$f":"IF(源数据!D406=\"\",\"\",源数据!D406)","v":0},0,0,"女","女装","外套",0,2013,0,0,0,0,0,0,0,0]
[{"$f":"IF(源数据!A407=\"\",\"\",源数据!A407)","v":"春款新品 韩版甜美修身显瘦双排扣撞色拼接中长款小西装外套"},{"$f":"IF(源数据!B407=\"\",\"\",源数据!B407)","v":1},{"$f":"IF(源数据!C407=\"\",\"\",源数据!C407)","v":1},{"$f":"IF(源数据!D407=\"\",\"\",源数据!D407)","v":0},0,0,0,0,"外套","小西装",0,0,0,"修身",0,0,0,0,0]
[{"$f":"IF(源数据!A408=\"\",\"\",源数据!A408)","v":"春女式长款西装外套"},{"$f":"IF(源数据!B408=\"\",\"\",源数据!B408)","v":1},{"$f":"IF(源数据!C408=\"\",\"\",源数据!C408)","v":1},{"$f":"IF(源数据!D408=\"\",\"\",源数据!D408)","v":0},0,0,"女",0,"外套",0,0,0,0,0,0,0,0,0,0]
[{"$f":"IF(源数据!A409=\"\",\"\",源数据!A409)","v":"春女装白色外套"},{"$f":"IF(源数据!B409=\"\",\"\",源数据!B409)","v":1},{"$f":"IF(源数据!C409=\"\",\"\",源数据!C409)","v":1},{"$f":"IF(源数据!D409=\"\",\"\",源数据!D409)","v":0},0,0,"女","女装","外套",0,0,0,0,0,0,0,"白色",0,0]
[{"$f":"IF(源数据!A410=\"\",\"\",源数据!A410)","v":"春女装外套新款"},{"$f":"IF(源数据!B410=\"\",\"\",源数据!B410)","v":2},{"$f":"IF(源数据!C410=\"\",\"\",源数据!C410)","v":1},{"$f":"IF(源数据!D410=\"\",\"\",源数据!D410)","v":0},0,0,"女","女装","外套",0,0,0,0,0,0,0,0,0,0]
[{"$f":"IF(源数据!A411=\"\",\"\",源数据!A411)","v":"春秋"},{"$f":"IF(源数据!B411=\"\",\"\",源数据!B411)","v":3},{"$f":"IF(源数据!C411=\"\",\"\",源数据!C411)","v":0.66669999999999996},{"$f":"IF(源数据!D411=\"\",\"\",源数据!D411)","v":0},0,0,0,0,0,0,0,0,0,0,0,"春秋",0,0,0]
[{"$f":"IF(源数据!A412=\"\",\"\",源数据!A412)","v":"春秋 女"},{"$f":"IF(源数据!B412=\"\",\"\",源数据!B412)","v":5},{"$f":"IF(源数据!C412=\"\",\"\",源数据!C412)","v":1},{"$f":"IF(源数据!D412=\"\",\"\",源数据!D412)","v":0},0,0,"女",0,0,0,0,0,0,0,0,"春秋",0,0,0]
[{"$f":"IF(源数据!A413=\"\",\"\",源数据!A413)","v":"春秋 女 外套"},{"$f":"IF(源数据!B413=\"\",\"\",源数据!B413)","v":58},{"$f":"IF(源数据!C413=\"\",\"\",源数据!C413)","v":0.63790000000000002},{"$f":"IF(源数据!D413=\"\",\"\",源数据!D413)","v":2},0,0,"女",0,"外套",0,0,0,0,0,0,"春秋",0,0,0]
[{"$f":"IF(源数据!A414=\"\",\"\",源数据!A414)","v":"春秋 女 外套 休闲"},{"$f":"IF(源数据!B414=\"\",\"\",源数据!B414)","v":1},{"$f":"IF(源数据!C414=\"\",\"\",源数据!C414)","v":1},{"$f":"IF(源数据!D414=\"\",\"\",源数据!D414)","v":0},0,0,"女",0,"外套",0,0,0,"休闲",0,0,"春秋",0,0,0]
[{"$f":"IF(源数据!A415=\"\",\"\",源数据!A415)","v":"春秋 女装"},{"$f":"IF(源数据!B415=\"\",\"\",源数据!B415)","v":8},{"$f":"IF(源数据!C415=\"\",\"\",源数据!C415)","v":1},{"$f":"IF(源数据!D415=\"\",\"\",源数据!D415)","v":0},0,0,"女","女装",0,0,0,0,0,0,0,"春秋",0,0,0]
[{"$f":"IF(源数据!A416=\"\",\"\",源数据!A416)","v":"春秋 女装 新款"},{"$f":"IF(源数据!B416=\"\",\"\",源数据!B416)","v":1},{"$f":"IF(源数据!C416=\"\",\"\",源数据!C416)","v":1},{"$f":"IF(源数据!D416=\"\",\"\",源数据!D416)","v":0},0,0,"女","女装",0,0,0,0,0,0,0,"春秋",0,0,0]
[{"$f":"IF(源数据!A417=\"\",\"\",源数据!A417)","v":"春秋 外套"},{"$f":"IF(源数据!B417=\"\",\"\",源数据!B417)","v":3},{"$f":"IF(源数据!C417=\"\",\"\",源数据!C417)","v":1},{"$f":"IF(源数据!D417=\"\",\"\",源数据!D417)","v":0},0,0,0,0,"外套",0,0,0,0,0,0,"春秋",0,0,0]
[{"$f":"IF(源数据!A418=\"\",\"\",源数据!A418)","v":"春秋 外套 女"},{"$f":"IF(源数据!B418=\"\",\"\",源数据!B418)","v":20},{"$f":"IF(源数据!C418=\"\",\"\",源数据!C418)","v":0.85},{"$f":"IF(源数据!D418=\"\",\"\",源数据!D418)","v":0},0,0,"女",0,"外套",0,0,0,0,0,0,"春秋",0,0,0]
[{"$f":"IF(源数据!A419=\"\",\"\",源数据!A419)","v":"春秋 外套 女 中长"},{"$f":"IF(源数据!B419=\"\",\"\",源数据!B419)","v":1},{"$f":"IF(源数据!C419=\"\",\"\",源数据!C419)","v":1},{"$f":"IF(源数据!D419=\"\",\"\",源数据!D419)","v":0},0,0,"女",0,"外套",0,0,0,0,0,0,"春秋",0,0,0]
[{"$f":"IF(源数据!A420=\"\",\"\",源数据!A420)","v":"春秋 西服外套 女"},{"$f":"IF(源数据!B420=\"\",\"\",源数据!B420)","v":1},{"$f":"IF(源数据!C420=\"\",\"\",源数据!C420)","v":1},{"$f":"IF(源数据!D420=\"\",\"\",源数据!D420)","v":0},0,0,"女",0,"外套",0,0,"西服",0,0,0,"春秋",0,0,0]
[{"$f":"IF(源数据!A421=\"\",\"\",源数据!A421)","v":"春秋 西装 女"},{"$f":"IF(源数据!B421=\"\",\"\",源数据!B421)","v":1},{"$f":"IF(源数据!C421=\"\",\"\",源数据!C421)","v":1},{"$f":"IF(源数据!D421=\"\",\"\",源数据!D421)","v":0},0,0,"女",0,0,0,0,0,0,0,0,"春秋",0,0,0]
[{"$f":"IF(源数据!A422=\"\",\"\",源数据!A422)","v":"春秋 小西服"},{"$f":"IF(源数据!B422=\"\",\"\",源数据!B422)","v":1},{"$f":"IF(源数据!C422=\"\",\"\",源数据!C422)","v":0},{"$f":"IF(源数据!D422=\"\",\"\",源数据!D422)","v":0},0,0,0,0,0,0,0,"西服",0,0,0,"春秋",0,0,0]
[{"$f":"IF(源数据!A423=\"\",\"\",源数据!A423)","v":"春秋 休闲外套 女"},{"$f":"IF(源数据!B423=\"\",\"\",源数据!B423)","v":1},{"$f":"IF(源数据!C423=\"\",\"\",源数据!C423)","v":1},{"$f":"IF(源数据!D423=\"\",\"\",源数据!D423)","v":0},0,0,"女",0,"外套",0,0,0,"休闲",0,0,"春秋",0,0,0]
[{"$f":"IF(源数据!A424=\"\",\"\",源数据!A424)","v":"春秋2012新款春秋女装韩版修身耸肩西装"},{"$f":"IF(源数据!B424=\"\",\"\",源数据!B424)","v":2},{"$f":"IF(源数据!C424=\"\",\"\",源数据!C424)","v":1},{"$f":"IF(源数据!D424=\"\",\"\",源数据!D424)","v":0},0,0,"女","女装",0,0,0,0,0,"修身",0,"春秋",0,0,0]
[{"$f":"IF(源数据!A425=\"\",\"\",源数据!A425)","v":"春秋　女　长款"},{"$f":"IF(源数据!B425=\"\",\"\",源数据!B425)","v":1},{"$f":"IF(源数据!C425=\"\",\"\",源数据!C425)","v":1},{"$f":"IF(源数据!D425=\"\",\"\",源数据!D425)","v":0},0,0,"女",0,0,0,0,0,0,0,0,"春秋",0,0,0]
[{"$f":"IF(源数据!A426=\"\",\"\",源数据!A426)","v":"春秋白色外套"},{"$f":"IF(源数据!B426=\"\",\"\",源数据!B426)","v":2},{"$f":"IF(源数据!C426=\"\",\"\",源数据!C426)","v":1},{"$f":"IF(源数据!D426=\"\",\"\",源数据!D426)","v":0},0,0,0,0,"外套",0,0,0,0,0,0,"春秋","白色",0,0]
[{"$f":"IF(源数据!A427=\"\",\"\",源数据!A427)","v":"春秋韩版外套 女"},{"$f":"IF(源数据!B427=\"\",\"\",源数据!B427)","v":1},{"$f":"IF(源数据!C427=\"\",\"\",源数据!C427)","v":0},{"$f":"IF(源数据!D427=\"\",\"\",源数据!D427)","v":0},0,0,"女",0,"外套",0,0,0,0,0,0,"春秋",0,0,0]
[{"$f":"IF(源数据!A428=\"\",\"\",源数据!A428)","v":"春秋季外套 女"},{"$f":"IF(源数据!B428=\"\",\"\",源数据!B428)","v":1},{"$f":"IF(源数据!C428=\"\",\"\",源数据!C428)","v":1},{"$f":"IF(源数据!D428=\"\",\"\",源数据!D428)","v":0},0,0,"女",0,"外套",0,0,0,0,0,0,"春秋",0,0,0]
[{"$f":"IF(源数据!A429=\"\",\"\",源数据!A429)","v":"春秋季外套打折款"},{"$f":"IF(源数据!B429=\"\",\"\",源数据!B429)","v":1},{"$f":"IF(源数据!C429=\"\",\"\",源数据!C429)","v":1},{"$f":"IF(源数据!D429=\"\",\"\",源数据!D429)","v":0},0,0,0,0,"外套",0,0,0,0,0,0,"春秋",0,0,0]
[{"$f":"IF(源数据!A430=\"\",\"\",源数据!A430)","v":"春秋季中长款西装"},{"$f":"IF(源数据!B430=\"\",\"\",源数据!B430)","v":1},{"$f":"IF(源数据!C430=\"\",\"\",源数据!C430)","v":1},{"$f":"IF(源数据!D430=\"\",\"\",源数据!D430)","v":0},0,0,0,0,0,0,0,0,0,0,0,"春秋",0,0,0]
[{"$f":"IF(源数据!A431=\"\",\"\",源数据!A431)","v":"春秋季装韩版女小西装"},{"$f":"IF(源数据!B431=\"\",\"\",源数据!B431)","v":1},{"$f":"IF(源数据!C431=\"\",\"\",源数据!C431)","v":1},{"$f":"IF(源数据!D431=\"\",\"\",源数据!D431)","v":0},0,0,"女",0,0,"小西装",0,0,0,0,0,"春秋",0,0,0]
[{"$f":"IF(源数据!A432=\"\",\"\",源数据!A432)","v":"春秋款"},{"$f":"IF(源数据!B432=\"\",\"\",源数据!B432)","v":1},{"$f":"IF(源数据!C432=\"\",\"\",源数据!C432)","v":1},{"$f":"IF(源数据!D432=\"\",\"\",源数据!D432)","v":0},0,0,0,0,0,0,0,0,0,0,0,"春秋",0,0,0]
[{"$f":"IF(源数据!A433=\"\",\"\",源数据!A433)","v":"春秋款女士小西服"},{"$f":"IF(源数据!B433=\"\",\"\",源数据!B433)","v":1},{"$f":"IF(源数据!C433=\"\",\"\",源数据!C433)","v":1},{"$f":"IF(源数据!D433=\"\",\"\",源数据!D433)","v":0},0,0,"女",0,0,0,0,"西服",0,0,0,"春秋",0,0,0]
[{"$f":"IF(源数据!A434=\"\",\"\",源数据!A434)","v":"春秋款女装外套"},{"$f":"IF(源数据!B434=\"\",\"\",源数据!B434)","v":2},{"$f":"IF(源数据!C434=\"\",\"\",源数据!C434)","v":0.5},{"$f":"IF(源数据!D434=\"\",\"\",源数据!D434)","v":0},0,0,"女","女装","外套",0,0,0,0,0,0,"春秋",0,0,0]
[{"$f":"IF(源数据!A435=\"\",\"\",源数据!A435)","v":"春秋款西装 女"},{"$f":"IF(源数据!B435=\"\",\"\",源数据!B435)","v":1},{"$f":"IF(源数据!C435=\"\",\"\",源数据!C435)","v":1},{"$f":"IF(源数据!D435=\"\",\"\",源数据!D435)","v":0},0,0,"女",0,0,0,0,0,0,0,0,"春秋",0,0,0]
[{"$f":"IF(源数据!A436=\"\",\"\",源数据!A436)","v":"春秋款小西装女"},{"$f":"IF(源数据!B436=\"\",\"\",源数据!B436)","v":1},{"$f":"IF(源数据!C436=\"\",\"\",源数据!C436)","v":1},{"$f":"IF(源数据!D436=\"\",\"\",源数据!D436)","v":0},0,0,"女",0,0,"小西装",0,0,0,0,0,"春秋",0,0,0]
[{"$f":"IF(源数据!A437=\"\",\"\",源数据!A437)","v":"春秋女 外套"},{"$f":"IF(源数据!B437=\"\",\"\",源数据!B437)","v":1},{"$f":"IF(源数据!C437=\"\",\"\",源数据!C437)","v":0},{"$f":"IF(源数据!D437=\"\",\"\",源数据!D437)","v":0},0,0,"女",0,"外套",0,0,0,0,0,0,"春秋",0,0,0]
[{"$f":"IF(源数据!A438=\"\",\"\",源数据!A438)","v":"春秋女款纯色西服包邮"},{"$f":"IF(源数据!B438=\"\",\"\",源数据!B438)","v":1},{"$f":"IF(源数据!C438=\"\",\"\",源数据!C438)","v":1},{"$f":"IF(源数据!D438=\"\",\"\",源数据!D438)","v":0},0,0,"女",0,0,0,0,"西服",0,0,0,"春秋",0,0,0]
[{"$f":"IF(源数据!A439=\"\",\"\",源数据!A439)","v":"春秋女外套"},{"$f":"IF(源数据!B439=\"\",\"\",源数据!B439)","v":2},{"$f":"IF(源数据!C439=\"\",\"\",源数据!C439)","v":1},{"$f":"IF(源数据!D439=\"\",\"\",源数据!D439)","v":0},0,0,"女",0,"外套",0,0,0,0,0,0,"春秋",0,0,0]
[{"$f":"IF(源数据!A440=\"\",\"\",源数据!A440)","v":"春秋女外套新款"},{"$f":"IF(源数据!B440=\"\",\"\",源数据!B440)","v":1},{"$f":"IF(源数据!C440=\"\",\"\",源数据!C440)","v":1},{"$f":"IF(源数据!D440=\"\",\"\",源数据!D440)","v":0},0,0,"女",0,"外套",0,0,0,0,0,0,"春秋",0,0,0]
[{"$f":"IF(源数据!A441=\"\",\"\",源数据!A441)","v":"春秋女西装"},{"$f":"IF(源数据!B441=\"\",\"\",源数据!B441)","v":1},{"$f":"IF(源数据!C441=\"\",\"\",源数据!C441)","v":1},{"$f":"IF(源数据!D441=\"\",\"\",源数据!D441)","v":0},0,0,"女",0,0,0,0,0,0,0,0,"春秋",0,0,0]
[{"$f":"IF(源数据!A442=\"\",\"\",源数据!A442)","v":"春秋女西装外套"},{"$f":"IF(源数据!B442=\"\",\"\",源数据!B442)","v":2},{"$f":"IF(源数据!C442=\"\",\"\",源数据!C442)","v":1},{"$f":"IF(源数据!D442=\"\",\"\",源数据!D442)","v":0},0,0,"女",0,"外套",0,0,0,0,0,0,"春秋",0,0,0]
[{"$f":"IF(源数据!A443=\"\",\"\",源数据!A443)","v":"春秋女装"},{"$f":"IF(源数据!B443=\"\",\"\",源数据!B443)","v":14},{"$f":"IF(源数据!C443=\"\",\"\",源数据!C443)","v":0.85709999999999997},{"$f":"IF(源数据!D443=\"\",\"\",源数据!D443)","v":0},0,0,"女","女装",0,0,0,0,0,0,0,"春秋",0,0,0]
[{"$f":"IF(源数据!A444=\"\",\"\",源数据!A444)","v":"春秋女装 韩版"},{"$f":"IF(源数据!B444=\"\",\"\",源数据!B444)","v":3},{"$f":"IF(源数据!C444=\"\",\"\",源数据!C444)","v":1},{"$f":"IF(源数据!D444=\"\",\"\",源数据!D444)","v":0},0,0,"女","女装",0,0,0,0,0,0,0,"春秋",0,0,0]
[{"$f":"IF(源数据!A445=\"\",\"\",源数据!A445)","v":"春秋女装外套"},{"$f":"IF(源数据!B445=\"\",\"\",源数据!B445)","v":2},{"$f":"IF(源数据!C445=\"\",\"\",源数据!C445)","v":1},{"$f":"IF(源数据!D445=\"\",\"\",源数据!D445)","v":0},0,0,"女","女装","外套",0,0,0,0,0,0,"春秋",0,0,0]
[{"$f":"IF(源数据!A446=\"\",\"\",源数据!A446)","v":"春秋女装外套新款"},{"$f":"IF(源数据!B446=\"\",\"\",源数据!B446)","v":47},{"$f":"IF(源数据!C446=\"\",\"\",源数据!C446)","v":0.68089999999999995},{"$f":"IF(源数据!D446=\"\",\"\",源数据!D446)","v":2},0,0,"女","女装","外套",0,0,0,0,0,0,"春秋",0,0,0]
[{"$f":"IF(源数据!A447=\"\",\"\",源数据!A447)","v":"春秋女装外套新款韩版"},{"$f":"IF(源数据!B447=\"\",\"\",源数据!B447)","v":2},{"$f":"IF(源数据!C447=\"\",\"\",源数据!C447)","v":0.5},{"$f":"IF(源数据!D447=\"\",\"\",源数据!D447)","v":0},0,0,"女","女装","外套",0,0,0,0,0,0,"春秋",0,0,0]
[{"$f":"IF(源数据!A448=\"\",\"\",源数据!A448)","v":"春秋女装外套休闲"},{"$f":"IF(源数据!B448=\"\",\"\",源数据!B448)","v":1},{"$f":"IF(源数据!C448=\"\",\"\",源数据!C448)","v":1},{"$f":"IF(源数据!D448=\"\",\"\",源数据!D448)","v":0},0,0,"女","女装","外套",0,0,0,"休闲",0,0,"春秋",0,0,0]
[{"$f":"IF(源数据!A449=\"\",\"\",源数据!A449)","v":"春秋女装外套中长款"},{"$f":"IF(源数据!B449=\"\",\"\",源数据!B449)","v":1},{"$f":"IF(源数据!C449=\"\",\"\",源数据!C449)","v":1},{"$f":"IF(源数据!D449=\"\",\"\",源数据!D449)","v":0},0,0,"女","女装","外套",0,0,0,0,0,0,"春秋",0,0,0]
[{"$f":"IF(源数据!A450=\"\",\"\",源数据!A450)","v":"春秋女装小西装"},{"$f":"IF(源数据!B450=\"\",\"\",源数据!B450)","v":1},{"$f":"IF(源数据!C450=\"\",\"\",源数据!C450)","v":0},{"$f":"IF(源数据!D450=\"\",\"\",源数据!D450)","v":0},0,0,"女","女装",0,"小西装",0,0,0,0,0,"春秋",0,0,0]
[{"$f":"IF(源数据!A451=\"\",\"\",源数据!A451)","v":"春秋女装新款"},{"$f":"IF(源数据!B451=\"\",\"\",源数据!B451)","v":1},{"$f":"IF(源数据!C451=\"\",\"\",源数据!C451)","v":1},{"$f":"IF(源数据!D451=\"\",\"\",源数据!D451)","v":0},{"$f":"IF($A450=\"\",\"\",IF(E$1=\"\",\"\",IF(IFERROR(SEARCH(E$1,$A451),0) >0,E$1,0)))","v":0},{"$f":"IF($A450=\"\",\"\",IF(F$1=\"\",\"\",IF(IFERROR(SEARCH(F$1,$A451),0) >0,F$1,0)))","v":0},{"$f":"IF($A450=\"\",\"\",IF(G$1=\"\",\"\",IF(IFERROR(SEARCH(G$1,$A451),0) >0,G$1,0)))","v":"女"},{"$f":"IF($A450=\"\",\"\",IF(H$1=\"\",\"\",IF(IFERROR(SEARCH(H$1,$A451),0) >0,H$1,0)))","v":"女装"},{"$f":"IF($A450=\"\",\"\",IF(I$1=\"\",\"\",IF(IFERROR(SEARCH(I$1,$A451),0) >0,I$1,0)))","v":0},{"$f":"IF($A450=\"\",\"\",IF(J$1=\"\",\"\",IF(IFERROR(SEARCH(J$1,$A451),0) >0,J$1,0)))","v":0},{"$f":"IF($A450=\"\",\"\",IF(K$1=\"\",\"\",IF(IFERROR(SEARCH(K$1,$A451),0) >0,K$1,0)))","v":0},{"$f":"IF($A450=\"\",\"\",IF(L$1=\"\",\"\",IF(IFERROR(SEARCH(L$1,$A451),0) >0,L$1,0)))","v":0},{"$f":"IF($A450=\"\",\"\",IF(M$1=\"\",\"\",IF(IFERROR(SEARCH(M$1,$A451),0) >0,M$1,0)))","v":0},{"$f":"IF($A450=\"\",\"\",IF(N$1=\"\",\"\",IF(IFERROR(SEARCH(N$1,$A451),0) >0,N$1,0)))","v":0},{"$f":"IF($A450=\"\",\"\",IF(O$1=\"\",\"\",IF(IFERROR(SEARCH(O$1,$A451),0) >0,O$1,0)))","v":0},{"$f":"IF($A450=\"\",\"\",IF(P$1=\"\",\"\",IF(IFERROR(SEARCH(P$1,$A451),0) >0,P$1,0)))","v":"春秋"},{"$f":"IF($A450=\"\",\"\",IF(Q$1=\"\",\"\",IF(IFERROR(SEARCH(Q$1,$A451),0) >0,Q$1,0)))","v":0},{"$f":"IF($A450=\"\",\"\",IF(R$1=\"\",\"\",IF(IFERROR(SEARCH(R$1,$A451),0) >0,R$1,0)))","v":0},{"$f":"IF($A450=\"\",\"\",IF(S$1=\"\",\"\",IF(IFERROR(SEARCH(S$1,$A451),0) >0,S$1,0)))","v":0}]
[{"$f":"IF(源数据!A452=\"\",\"\",源数据!A452)","v":"春秋女装修身款小西装"},{"$f":"IF(源数据!B452=\"\",\"\",源数据!B452)","v":1},{"$f":"IF(源数据!C452=\"\",\"\",源数据!C452)","v":1},{"$f":"IF(源数据!D452=\"\",\"\",源数据!D452)","v":0},0,0,"女","女装",0,"小西装",0,0,0,"修身",0,"春秋",0,0,0]
[{"$f":"IF(源数据!A453=\"\",\"\",源数据!A453)","v":"春秋女装中长款西服"},{"$f":"IF(源数据!B453=\"\",\"\",源数据!B453)","v":1},{"$f":"IF(源数据!C453=\"\",\"\",源数据!C453)","v":0},{"$f":"IF(源数据!D453=\"\",\"\",源数据!D453)","v":0},0,0,"女","女装",0,0,0,"西服",0,0,0,"春秋",0,0,0]
[{"$f":"IF(源数据!A454=\"\",\"\",源数据!A454)","v":"春秋外套"},{"$f":"IF(源数据!B454=\"\",\"\",源数据!B454)","v":11},{"$f":"IF(源数据!C454=\"\",\"\",源数据!C454)","v":0.90910000000000002},{"$f":"IF(源数据!D454=\"\",\"\",源数据!D454)","v":0},0,0,0,0,"外套",0,0,0,0,0,0,"春秋",0,0,0]
[{"$f":"IF(源数据!A455=\"\",\"\",源数据!A455)","v":"春秋外套 女"},{"$f":"IF(源数据!B455=\"\",\"\",源数据!B455)","v":1},{"$f":"IF(源数据!C455=\"\",\"\",源数据!C455)","v":0},{"$f":"IF(源数据!D455=\"\",\"\",源数据!D455)","v":0},0,0,"女",0,"外套",0,0,0,0,0,0,"春秋",0,0,0]
[{"$f":"IF(源数据!A456=\"\",\"\",源数据!A456)","v":"春秋外套 女"},{"$f":"IF(源数据!B456=\"\",\"\",源数据!B456)","v":80},{"$f":"IF(源数据!C456=\"\",\"\",源数据!C456)","v":0.72499999999999998},{"$f":"IF(源数据!D456=\"\",\"\",源数据!D456)","v":4},0,0,"女",0,"外套",0,0,0,0,0,0,"春秋",0,0,0]
[{"$f":"IF(源数据!A457=\"\",\"\",源数据!A457)","v":"春秋外套 女 包邮"},{"$f":"IF(源数据!B457=\"\",\"\",源数据!B457)","v":2},{"$f":"IF(源数据!C457=\"\",\"\",源数据!C457)","v":1},{"$f":"IF(源数据!D457=\"\",\"\",源数据!D457)","v":0},0,0,"女",0,"外套",0,0,0,0,0,0,"春秋",0,0,0]
[{"$f":"IF(源数据!A458=\"\",\"\",源数据!A458)","v":"春秋外套 女 潮"},{"$f":"IF(源数据!B458=\"\",\"\",源数据!B458)","v":2},{"$f":"IF(源数据!C458=\"\",\"\",源数据!C458)","v":1},{"$f":"IF(源数据!D458=\"\",\"\",源数据!D458)","v":0},"潮",0,"女",0,"外套",0,0,0,0,0,0,"春秋",0,0,0]
[{"$f":"IF(源数据!A459=\"\",\"\",源数据!A459)","v":"春秋外套 女 韩版"},{"$f":"IF(源数据!B459=\"\",\"\",源数据!B459)","v":2},{"$f":"IF(源数据!C459=\"\",\"\",源数据!C459)","v":1},{"$f":"IF(源数据!D459=\"\",\"\",源数据!D459)","v":0},0,0,"女",0,"外套",0,0,0,0,0,0,"春秋",0,0,0]
[{"$f":"IF(源数据!A460=\"\",\"\",源数据!A460)","v":"春秋外套 女 中长款"},{"$f":"IF(源数据!B460=\"\",\"\",源数据!B460)","v":2},{"$f":"IF(源数据!C460=\"\",\"\",源数据!C460)","v":0},{"$f":"IF(源数据!D460=\"\",\"\",源数据!D460)","v":0},0,0,"女",0,"外套",0,0,0,0,0,0,"春秋",0,0,0]
[{"$f":"IF(源数据!A461=\"\",\"\",源数据!A461)","v":"春秋外套 女包邮"},{"$f":"IF(源数据!B461=\"\",\"\",源数据!B461)","v":1},{"$f":"IF(源数据!C461=\"\",\"\",源数据!C461)","v":1},{"$f":"IF(源数据!D461=\"\",\"\",源数据!D461)","v":0},0,0,"女",0,"外套",0,0,0,0,0,0,"春秋",0,0,0]
[{"$f":"IF(源数据!A462=\"\",\"\",源数据!A462)","v":"春秋外套 女潮"},{"$f":"IF(源数据!B462=\"\",\"\",源数据!B462)","v":1},{"$f":"IF(源数据!C462=\"\",\"\",源数据!C462)","v":0},{"$f":"IF(源数据!D462=\"\",\"\",源数据!D462)","v":0},"潮",0,"女",0,"外套",0,0,0,0,0,0,"春秋",0,0,0]
[{"$f":"IF(源数据!A463=\"\",\"\",源数据!A463)","v":"春秋外套韩版 女"},{"$f":"IF(源数据!B463=\"\",\"\",源数据!B463)","v":1},{"$f":"IF(源数据!C463=\"\",\"\",源数据!C463)","v":0},{"$f":"IF(源数据!D463=\"\",\"\",源数据!D463)","v":0},0,0,"女",0,"外套",0,0,0,0,0,0,"春秋",0,0,0]
[{"$f":"IF(源数据!A464=\"\",\"\",源数据!A464)","v":"春秋外套韩版西装 女"},{"$f":"IF(源数据!B464=\"\",\"\",源数据!B464)","v":1},{"$f":"IF(源数据!C464=\"\",\"\",源数据!C464)","v":0},{"$f":"IF(源数据!D464=\"\",\"\",源数据!D464)","v":0},0,0,"女",0,"外套",0,0,0,0,0,0,"春秋",0,0,0]
[{"$f":"IF(源数据!A465=\"\",\"\",源数据!A465)","v":"春秋外套女"},{"$f":"IF(源数据!B465=\"\",\"\",源数据!B465)","v":16},{"$f":"IF(源数据!C465=\"\",\"\",源数据!C465)","v":0.875},{"$f":"IF(源数据!D465=\"\",\"\",源数据!D465)","v":0},0,0,"女",0,"外套",0,0,0,0,0,0,"春秋",0,0,0]
[{"$f":"IF(源数据!A466=\"\",\"\",源数据!A466)","v":"春秋外套女装"},{"$f":"IF(源数据!B466=\"\",\"\",源数据!B466)","v":1},{"$f":"IF(源数据!C466=\"\",\"\",源数据!C466)","v":0},{"$f":"IF(源数据!D466=\"\",\"\",源数据!D466)","v":0},0,0,"女","女装","外套",0,0,0,0,0,0,"春秋",0,0,0]
[{"$f":"IF(源数据!A467=\"\",\"\",源数据!A467)","v":"春秋外套女装韩版"},{"$f":"IF(源数据!B467=\"\",\"\",源数据!B467)","v":3},{"$f":"IF(源数据!C467=\"\",\"\",源数据!C467)","v":1},{"$f":"IF(源数据!D467=\"\",\"\",源数据!D467)","v":0},0,0,"女","女装","外套",0,0,0,0,0,0,"春秋",0,0,0]
[{"$f":"IF(源数据!A468=\"\",\"\",源数据!A468)","v":"春秋外套西服女"},{"$f":"IF(源数据!B468=\"\",\"\",源数据!B468)","v":1},{"$f":"IF(源数据!C468=\"\",\"\",源数据!C468)","v":1},{"$f":"IF(源数据!D468=\"\",\"\",源数据!D468)","v":0},0,0,"女",0,"外套",0,0,"西服",0,0,0,"春秋",0,0,0]
[{"$f":"IF(源数据!A469=\"\",\"\",源数据!A469)","v":"春秋外套新款女"},{"$f":"IF(源数据!B469=\"\",\"\",源数据!B469)","v":2},{"$f":"IF(源数据!C469=\"\",\"\",源数据!C469)","v":1},{"$f":"IF(源数据!D469=\"\",\"\",源数据!D469)","v":0},0,0,"女",0,"外套",0,0,0,0,0,0,"春秋",0,0,0]
[{"$f":"IF(源数据!A470=\"\",\"\",源数据!A470)","v":"春秋外套修身小西装 雪纺拼接西服外套 韩版修身女装"},{"$f":"IF(源数据!B470=\"\",\"\",源数据!B470)","v":1},{"$f":"IF(源数据!C470=\"\",\"\",源数据!C470)","v":1},{"$f":"IF(源数据!D470=\"\",\"\",源数据!D470)","v":0},0,0,"女","女装","外套","小西装",0,"西服",0,"修身",0,"春秋",0,0,0]
[{"$f":"IF(源数据!A471=\"\",\"\",源数据!A471)","v":"春秋西装 女 外套"},{"$f":"IF(源数据!B471=\"\",\"\",源数据!B471)","v":2},{"$f":"IF(源数据!C471=\"\",\"\",源数据!C471)","v":1},{"$f":"IF(源数据!D471=\"\",\"\",源数据!D471)","v":0},0,0,"女",0,"外套",0,0,0,0,0,0,"春秋",0,0,0]
[{"$f":"IF(源数据!A472=\"\",\"\",源数据!A472)","v":"春秋西装 女 中长款"},{"$f":"IF(源数据!B472=\"\",\"\",源数据!B472)","v":1},{"$f":"IF(源数据!C472=\"\",\"\",源数据!C472)","v":1},{"$f":"IF(源数据!D472=\"\",\"\",源数据!D472)","v":0},0,0,"女",0,0,0,0,0,0,0,0,"春秋",0,0,0]
[{"$f":"IF(源数据!A473=\"\",\"\",源数据!A473)","v":"春秋西装 外套 女"},{"$f":"IF(源数据!B473=\"\",\"\",源数据!B473)","v":1},{"$f":"IF(源数据!C473=\"\",\"\",源数据!C473)","v":1},{"$f":"IF(源数据!D473=\"\",\"\",源数据!D473)","v":0},0,0,"女",0,"外套",0,0,0,0,0,0,"春秋",0,0,0]
[{"$f":"IF(源数据!A474=\"\",\"\",源数据!A474)","v":"春秋西装女"},{"$f":"IF(源数据!B474=\"\",\"\",源数据!B474)","v":2},{"$f":"IF(源数据!C474=\"\",\"\",源数据!C474)","v":0},{"$f":"IF(源数据!D474=\"\",\"\",源数据!D474)","v":0},0,0,"女",0,0,0,0,0,0,0,0,"春秋",0,0,0]
[{"$f":"IF(源数据!A475=\"\",\"\",源数据!A475)","v":"春秋西装外套"},{"$f":"IF(源数据!B475=\"\",\"\",源数据!B475)","v":3},{"$f":"IF(源数据!C475=\"\",\"\",源数据!C475)","v":0.33329999999999999},{"$f":"IF(源数据!D475=\"\",\"\",源数据!D475)","v":0},0,0,0,0,"外套",0,0,0,0,0,0,"春秋",0,0,0]
[{"$f":"IF(源数据!A476=\"\",\"\",源数据!A476)","v":"春秋西装外套 女"},{"$f":"IF(源数据!B476=\"\",\"\",源数据!B476)","v":4},{"$f":"IF(源数据!C476=\"\",\"\",源数据!C476)","v":0.5},{"$f":"IF(源数据!D476=\"\",\"\",源数据!D476)","v":0},0,0,"女",0,"外套",0,0,0,0,0,0,"春秋",0,0,0]
[{"$f":"IF(源数据!A477=\"\",\"\",源数据!A477)","v":"春秋西装外套 女 红色"},{"$f":"IF(源数据!B477=\"\",\"\",源数据!B477)","v":1},{"$f":"IF(源数据!C477=\"\",\"\",源数据!C477)","v":1},{"$f":"IF(源数据!D477=\"\",\"\",源数据!D477)","v":0},0,0,"女",0,"外套",0,0,0,0,0,0,"春秋",0,0,0]
[{"$f":"IF(源数据!A478=\"\",\"\",源数据!A478)","v":"春秋西装外套女"},{"$f":"IF(源数据!B478=\"\",\"\",源数据!B478)","v":1},{"$f":"IF(源数据!C478=\"\",\"\",源数据!C478)","v":1},{"$f":"IF(源数据!D478=\"\",\"\",源数据!D478)","v":0},0,0,"女",0,"外套",0,0,0,0,0,0,"春秋",0,0,0]
[{"$f":"IF(源数据!A479=\"\",\"\",源数据!A479)","v":"春秋小西服"},{"$f":"IF(源数据!B479=\"\",\"\",源数据!B479)","v":3},{"$f":"IF(源数据!C479=\"\",\"\",源数据!C479)","v":0},{"$f":"IF(源数据!D479=\"\",\"\",源数据!D479)","v":0},0,0,0,0,0,0,0,"西服",0,0,0,"春秋",0,0,0]
[{"$f":"IF(源数据!A480=\"\",\"\",源数据!A480)","v":"春秋小西服 长款"},{"$f":"IF(源数据!B480=\"\",\"\",源数据!B480)","v":3},{"$f":"IF(源数据!C480=\"\",\"\",源数据!C480)","v":0},{"$f":"IF(源数据!D480=\"\",\"\",源数据!D480)","v":0},0,0,0,0,0,0,0,"西服",0,0,0,"春秋",0,0,0]
[{"$f":"IF(源数据!A481=\"\",\"\",源数据!A481)","v":"春秋小西服 女"},{"$f":"IF(源数据!B481=\"\",\"\",源数据!B481)","v":2},{"$f":"IF(源数据!C481=\"\",\"\",源数据!C481)","v":1},{"$f":"IF(源数据!D481=\"\",\"\",源数据!D481)","v":0},0,0,"女",0,0,0,0,"西服",0,0,0,"春秋",0,0,0]
[{"$f":"IF(源数据!A482=\"\",\"\",源数据!A482)","v":"春秋小西服女"},{"$f":"IF(源数据!B482=\"\",\"\",源数据!B482)","v":1},{"$f":"IF(源数据!C482=\"\",\"\",源数据!C482)","v":1},{"$f":"IF(源数据!D482=\"\",\"\",源数据!D482)","v":0},0,0,"女",0,0,0,0,"西服",0,0,0,"春秋",0,0,0]
[{"$f":"IF(源数据!A483=\"\",\"\",源数据!A483)","v":"春秋小西服女装新款"},{"$f":"IF(源数据!B483=\"\",\"\",源数据!B483)","v":1},{"$f":"IF(源数据!C483=\"\",\"\",源数据!C483)","v":1},{"$f":"IF(源数据!D483=\"\",\"\",源数据!D483)","v":0},0,0,"女","女装",0,0,0,"西服",0,0,0,"春秋",0,0,0]
[{"$f":"IF(源数据!A484=\"\",\"\",源数据!A484)","v":"春秋小西装"},{"$f":"IF(源数据!B484=\"\",\"\",源数据!B484)","v":1},{"$f":"IF(源数据!C484=\"\",\"\",源数据!C484)","v":1},{"$f":"IF(源数据!D484=\"\",\"\",源数据!D484)","v":0},0,0,0,0,0,"小西装",0,0,0,0,0,"春秋",0,0,0]
[{"$f":"IF(源数据!A485=\"\",\"\",源数据!A485)","v":"春秋小西装 包邮"},{"$f":"IF(源数据!B485=\"\",\"\",源数据!B485)","v":1},{"$f":"IF(源数据!C485=\"\",\"\",源数据!C485)","v":1},{"$f":"IF(源数据!D485=\"\",\"\",源数据!D485)","v":0},0,0,0,0,0,"小西装",0,0,0,0,0,"春秋",0,0,0]
[{"$f":"IF(源数据!A486=\"\",\"\",源数据!A486)","v":"春秋小西装 女 韩版"},{"$f":"IF(源数据!B486=\"\",\"\",源数据!B486)","v":1},{"$f":"IF(源数据!C486=\"\",\"\",源数据!C486)","v":0},{"$f":"IF(源数据!D486=\"\",\"\",源数据!D486)","v":0},0,0,"女",0,0,"小西装",0,0,0,0,0,"春秋",0,0,0]
[{"$f":"IF(源数据!A487=\"\",\"\",源数据!A487)","v":"春秋小西装 女 修身"},{"$f":"IF(源数据!B487=\"\",\"\",源数据!B487)","v":1},{"$f":"IF(源数据!C487=\"\",\"\",源数据!C487)","v":1},{"$f":"IF(源数据!D487=\"\",\"\",源数据!D487)","v":0},0,0,"女",0,0,"小西装",0,0,0,"修身",0,"春秋",0,0,0]
[{"$f":"IF(源数据!A488=\"\",\"\",源数据!A488)","v":"春秋小西装 女 中长款"},{"$f":"IF(源数据!B488=\"\",\"\",源数据!B488)","v":3},{"$f":"IF(源数据!C488=\"\",\"\",源数据!C488)","v":0},{"$f":"IF(源数据!D488=\"\",\"\",源数据!D488)","v":0},0,0,"女",0,0,"小西装",0,0,0,0,0,"春秋",0,0,0]
[{"$f":"IF(源数据!A489=\"\",\"\",源数据!A489)","v":"春秋小西装外套"},{"$f":"IF(源数据!B489=\"\",\"\",源数据!B489)","v":1},{"$f":"IF(源数据!C489=\"\",\"\",源数据!C489)","v":1},{"$f":"IF(源数据!D489=\"\",\"\",源数据!D489)","v":0},0,0,0,0,"外套","小西装",0,0,0,0,0,"春秋",0,0,0]
[{"$f":"IF(源数据!A490=\"\",\"\",源数据!A490)","v":"春秋小西装外套女"},{"$f":"IF(源数据!B490=\"\",\"\",源数据!B490)","v":6},{"$f":"IF(源数据!C490=\"\",\"\",源数据!C490)","v":0.33329999999999999},{"$f":"IF(源数据!D490=\"\",\"\",源数据!D490)","v":0},0,0,"女",0,"外套","小西装",0,0,0,0,0,"春秋",0,0,0]
[{"$f":"IF(源数据!A491=\"\",\"\",源数据!A491)","v":"春秋小西装西服外套女装"},{"$f":"IF(源数据!B491=\"\",\"\",源数据!B491)","v":1},{"$f":"IF(源数据!C491=\"\",\"\",源数据!C491)","v":1},{"$f":"IF(源数据!D491=\"\",\"\",源数据!D491)","v":0},0,0,"女","女装","外套","小西装",0,"西服",0,0,0,"春秋",0,0,0]
[{"$f":"IF(源数据!A492=\"\",\"\",源数据!A492)","v":"春秋小西装西服小外套"},{"$f":"IF(源数据!B492=\"\",\"\",源数据!B492)","v":1},{"$f":"IF(源数据!C492=\"\",\"\",源数据!C492)","v":1},{"$f":"IF(源数据!D492=\"\",\"\",源数据!D492)","v":0},0,0,0,0,"外套","小西装",0,"西服",0,0,0,"春秋",0,0,0]
[{"$f":"IF(源数据!A493=\"\",\"\",源数据!A493)","v":"春秋新款女装"},{"$f":"IF(源数据!B493=\"\",\"\",源数据!B493)","v":1},{"$f":"IF(源数据!C493=\"\",\"\",源数据!C493)","v":1},{"$f":"IF(源数据!D493=\"\",\"\",源数据!D493)","v":0},0,0,"女","女装",0,0,0,0,0,0,0,"春秋",0,0,0]
[{"$f":"IF(源数据!A494=\"\",\"\",源数据!A494)","v":"春秋新款女装外套"},{"$f":"IF(源数据!B494=\"\",\"\",源数据!B494)","v":1},{"$f":"IF(源数据!C494=\"\",\"\",源数据!C494)","v":0},{"$f":"IF(源数据!D494=\"\",\"\",源数据!D494)","v":0},0,0,"女","女装","外套",0,0,0,0,0,0,"春秋",0,0,0]
[{"$f":"IF(源数据!A495=\"\",\"\",源数据!A495)","v":"春秋新款女装修身西装外套"},{"$f":"IF(源数据!B495=\"\",\"\",源数据!B495)","v":1},{"$f":"IF(源数据!C495=\"\",\"\",源数据!C495)","v":0},{"$f":"IF(源数据!D495=\"\",\"\",源数据!D495)","v":0},0,0,"女","女装","外套",0,0,0,0,"修身",0,"春秋",0,0,0]
[{"$f":"IF(源数据!A496=\"\",\"\",源数据!A496)","v":"春秋休闲小西服女"},{"$f":"IF(源数据!B496=\"\",\"\",源数据!B496)","v":1},{"$f":"IF(源数据!C496=\"\",\"\",源数据!C496)","v":1},{"$f":"IF(源数据!D496=\"\",\"\",源数据!D496)","v":0},0,0,"女",0,0,0,0,"西服","休闲",0,0,"春秋",0,0,0]
[{"$f":"IF(源数据!A497=\"\",\"\",源数据!A497)","v":"春秋修身西服女"},{"$f":"IF(源数据!B497=\"\",\"\",源数据!B497)","v":1},{"$f":"IF(源数据!C497=\"\",\"\",源数据!C497)","v":1},{"$f":"IF(源数据!D497=\"\",\"\",源数据!D497)","v":0},0,0,"女",0,0,0,0,"西服",0,"修身",0,"春秋",0,0,0]
[{"$f":"IF(源数据!A498=\"\",\"\",源数据!A498)","v":"春秋装"},{"$f":"IF(源数据!B498=\"\",\"\",源数据!B498)","v":2},{"$f":"IF(源数据!C498=\"\",\"\",源数据!C498)","v":1},{"$f":"IF(源数据!D498=\"\",\"\",源数据!D498)","v":0},0,0,0,0,0,0,0,0,0,0,0,"春秋",0,0,0]
[{"$f":"IF(源数据!A499=\"\",\"\",源数据!A499)","v":"春秋装 女"},{"$f":"IF(源数据!B499=\"\",\"\",源数据!B499)","v":4},{"$f":"IF(源数据!C499=\"\",\"\",源数据!C499)","v":1},{"$f":"IF(源数据!D499=\"\",\"\",源数据!D499)","v":0},0,0,"女",0,0,0,0,0,0,0,0,"春秋",0,0,0]
[{"$f":"IF(源数据!A500=\"\",\"\",源数据!A500)","v":"春秋装 女 韩版"},{"$f":"IF(源数据!B500=\"\",\"\",源数据!B500)","v":2},{"$f":"IF(源数据!C500=\"\",\"\",源数据!C500)","v":0.5},{"$f":"IF(源数据!D500=\"\",\"\",源数据!D500)","v":0},0,0,"女",0,0,0,0,0,0,0,0,"春秋",0,0,0]
[{"$f":"IF(源数据!A501=\"\",\"\",源数据!A501)","v":"春秋装2013外套女"},{"$f":"IF(源数据!B501=\"\",\"\",源数据!B501)","v":1},{"$f":"IF(源数据!C501=\"\",\"\",源数据!C501)","v":1},{"$f":"IF(源数据!D501=\"\",\"\",源数据!D501)","v":0},0,0,"女",0,"外套",0,2013,0,0,0,0,"春秋",0,0,0]
[{"$f":"IF(源数据!A502=\"\",\"\",源数据!A502)","v":"春秋装外套 新款 女装"},{"$f":"IF(源数据!B502=\"\",\"\",源数据!B502)","v":1},{"$f":"IF(源数据!C502=\"\",\"\",源数据!C502)","v":1},{"$f":"IF(源数据!D502=\"\",\"\",源数据!D502)","v":0},0,0,"女","女装","外套",0,0,0,0,0,0,"春秋",0,0,0]
[{"$f":"IF(源数据!A503=\"\",\"\",源数据!A503)","v":"春秋装外套女"},{"$f":"IF(源数据!B503=\"\",\"\",源数据!B503)","v":1},{"$f":"IF(源数据!C503=\"\",\"\",源数据!C503)","v":0},{"$f":"IF(源数据!D503=\"\",\"\",源数据!D503)","v":0},0,0,"女",0,"外套",0,0,0,0,0,0,"春秋",0,0,0]
[{"$f":"IF(源数据!A504=\"\",\"\",源数据!A504)","v":"春外套"},{"$f":"IF(源数据!B504=\"\",\"\",源数据!B504)","v":4},{"$f":"IF(源数据!C504=\"\",\"\",源数据!C504)","v":0.5},{"$f":"IF(源数据!D504=\"\",\"\",源数据!D504)","v":0},0,0,0,0,"外套",0,0,0,0,0,0,0,0,0,0]
[{"$f":"IF(源数据!A505=\"\",\"\",源数据!A505)","v":"春外套 女 包邮"},{"$f":"IF(源数据!B505=\"\",\"\",源数据!B505)","v":1},{"$f":"IF(源数据!C505=\"\",\"\",源数据!C505)","v":0},{"$f":"IF(源数据!D505=\"\",\"\",源数据!D505)","v":0},0,0,"女",0,"外套",0,0,0,0,0,0,0,0,0,0]
[{"$f":"IF(源数据!A506=\"\",\"\",源数据!A506)","v":"春外套 女 韩版 潮"},{"$f":"IF(源数据!B506=\"\",\"\",源数据!B506)","v":1},{"$f":"IF(源数据!C506=\"\",\"\",源数据!C506)","v":1},{"$f":"IF(源数据!D506=\"\",\"\",源数据!D506)","v":0},"潮",0,"女",0,"外套",0,0,0,0,0,0,0,0,0,0]
[{"$f":"IF(源数据!A507=\"\",\"\",源数据!A507)","v":"春外套 女2013"},{"$f":"IF(源数据!B507=\"\",\"\",源数据!B507)","v":4},{"$f":"IF(源数据!C507=\"\",\"\",源数据!C507)","v":0.5},{"$f":"IF(源数据!D507=\"\",\"\",源数据!D507)","v":1},0,0,"女",0,"外套",0,2013,0,0,0,0,0,0,0,0]
[{"$f":"IF(源数据!A508=\"\",\"\",源数据!A508)","v":"春外套 女2013小西服 白色修身长款"},{"$f":"IF(源数据!B508=\"\",\"\",源数据!B508)","v":1},{"$f":"IF(源数据!C508=\"\",\"\",源数据!C508)","v":1},{"$f":"IF(源数据!D508=\"\",\"\",源数据!D508)","v":0},0,0,"女",0,"外套",0,2013,"西服",0,"修身",0,0,"白色",0,0]
[{"$f":"IF(源数据!A509=\"\",\"\",源数据!A509)","v":"春外套女"},{"$f":"IF(源数据!B509=\"\",\"\",源数据!B509)","v":2},{"$f":"IF(源数据!C509=\"\",\"\",源数据!C509)","v":1},{"$f":"IF(源数据!D509=\"\",\"\",源数据!D509)","v":0},0,0,"女",0,"外套",0,0,0,0,0,0,0,0,0,0]
[{"$f":"IF(源数据!A510=\"\",\"\",源数据!A510)","v":"春外套女2013"},{"$f":"IF(源数据!B510=\"\",\"\",源数据!B510)","v":1},{"$f":"IF(源数据!C510=\"\",\"\",源数据!C510)","v":1},{"$f":"IF(源数据!D510=\"\",\"\",源数据!D510)","v":0},0,0,"女",0,"外套",0,2013,0,0,0,0,0,0,0,0]
[{"$f":"IF(源数据!A511=\"\",\"\",源数据!A511)","v":"春西服女"},{"$f":"IF(源数据!B511=\"\",\"\",源数据!B511)","v":1},{"$f":"IF(源数据!C511=\"\",\"\",源数据!C511)","v":1},{"$f":"IF(源数据!D511=\"\",\"\",源数据!D511)","v":0},0,0,"女",0,0,0,0,"西服",0,0,0,0,0,0,0]
[{"$f":"IF(源数据!A512=\"\",\"\",源数据!A512)","v":"春西装外套女"},{"$f":"IF(源数据!B512=\"\",\"\",源数据!B512)","v":1},{"$f":"IF(源数据!C512=\"\",\"\",源数据!C512)","v":0},{"$f":"IF(源数据!D512=\"\",\"\",源数据!D512)","v":0},0,0,"女",0,"外套",0,0,0,0,0,0,0,0,0,0]
[{"$f":"IF(源数据!A513=\"\",\"\",源数据!A513)","v":"春小西装外套女"},{"$f":"IF(源数据!B513=\"\",\"\",源数据!B513)","v":1},{"$f":"IF(源数据!C513=\"\",\"\",源数据!C513)","v":0},{"$f":"IF(源数据!D513=\"\",\"\",源数据!D513)","v":0},0,0,"女",0,"外套","小西装",0,0,0,0,0,0,0,0,0]
[{"$f":"IF(源数据!A514=\"\",\"\",源数据!A514)","v":"春装"},{"$f":"IF(源数据!B514=\"\",\"\",源数据!B514)","v":9},{"$f":"IF(源数据!C514=\"\",\"\",源数据!C514)","v":0.77780000000000005},{"$f":"IF(源数据!D514=\"\",\"\",源数据!D514)","v":0},0,"春装",0,0,0,0,0,0,0,0,0,0,0,0,0]
[{"$f":"IF(源数据!A515=\"\",\"\",源数据!A515)","v":"春装  女外套"},{"$f":"IF(源数据!B515=\"\",\"\",源数据!B515)","v":5},{"$f":"IF(源数据!C515=\"\",\"\",源数据!C515)","v":0.8},{"$f":"IF(源数据!D515=\"\",\"\",源数据!D515)","v":0},{"$f":"IF($A514=\"\",\"\",IF(E$1=\"\",\"\",IF(IFERROR(SEARCH(E$1,$A515),0) >0,E$1,0)))","v":0},{"$f":"IF($A514=\"\",\"\",IF(F$1=\"\",\"\",IF(IFERROR(SEARCH(F$1,$A515),0) >0,F$1,0)))","v":"春装"},{"$f":"IF($A514=\"\",\"\",IF(G$1=\"\",\"\",IF(IFERROR(SEARCH(G$1,$A515),0) >0,G$1,0)))","v":"女"},{"$f":"IF($A514=\"\",\"\",IF(H$1=\"\",\"\",IF(IFERROR(SEARCH(H$1,$A515),0) >0,H$1,0)))","v":0},{"$f":"IF($A514=\"\",\"\",IF(I$1=\"\",\"\",IF(IFERROR(SEARCH(I$1,$A515),0) >0,I$1,0)))","v":"外套"},{"$f":"IF($A514=\"\",\"\",IF(J$1=\"\",\"\",IF(IFERROR(SEARCH(J$1,$A515),0) >0,J$1,0)))","v":0},{"$f":"IF($A514=\"\",\"\",IF(K$1=\"\",\"\",IF(IFERROR(SEARCH(K$1,$A515),0) >0,K$1,0)))","v":0},{"$f":"IF($A514=\"\",\"\",IF(L$1=\"\",\"\",IF(IFERROR(SEARCH(L$1,$A515),0) >0,L$1,0)))","v":0},{"$f":"IF($A514=\"\",\"\",IF(M$1=\"\",\"\",IF(IFERROR(SEARCH(M$1,$A515),0) >0,M$1,0)))","v":0},{"$f":"IF($A514=\"\",\"\",IF(N$1=\"\",\"\",IF(IFERROR(SEARCH(N$1,$A515),0) >0,N$1,0)))","v":0},{"$f":"IF($A514=\"\",\"\",IF(O$1=\"\",\"\",IF(IFERROR(SEARCH(O$1,$A515),0) >0,O$1,0)))","v":0},{"$f":"IF($A514=\"\",\"\",IF(P$1=\"\",\"\",IF(IFERROR(SEARCH(P$1,$A515),0) >0,P$1,0)))","v":0},{"$f":"IF($A514=\"\",\"\",IF(Q$1=\"\",\"\",IF(IFERROR(SEARCH(Q$1,$A515),0) >0,Q$1,0)))","v":0},{"$f":"IF($A514=\"\",\"\",IF(R$1=\"\",\"\",IF(IFERROR(SEARCH(R$1,$A515),0) >0,R$1,0)))","v":0},{"$f":"IF($A514=\"\",\"\",IF(S$1=\"\",\"\",IF(IFERROR(SEARCH(S$1,$A515),0) >0,S$1,0)))","v":0}]
[{"$f":"IF(源数据!A516=\"\",\"\",源数据!A516)","v":"春装 2013新款"},{"$f":"IF(源数据!B516=\"\",\"\",源数据!B516)","v":4},{"$f":"IF(源数据!C516=\"\",\"\",源数据!C516)","v":0.75},{"$f":"IF(源数据!D516=\"\",\"\",源数据!D516)","v":0},0,"春装",0,0,0,0,2013,0,0,0,0,0,0,0,0]
[{"$f":"IF(源数据!A517=\"\",\"\",源数据!A517)","v":"春装 白色 小西装 女款"},{"$f":"IF(源数据!B517=\"\",\"\",源数据!B517)","v":1},{"$f":"IF(源数据!C517=\"\",\"\",源数据!C517)","v":1},{"$f":"IF(源数据!D517=\"\",\"\",源数据!D517)","v":0},0,"春装","女",0,0,"小西装",0,0,0,0,0,0,"白色",0,0]
[{"$f":"IF(源数据!A518=\"\",\"\",源数据!A518)","v":"春装 长款 女"},{"$f":"IF(源数据!B518=\"\",\"\",源数据!B518)","v":1},{"$f":"IF(源数据!C518=\"\",\"\",源数据!C518)","v":1},{"$f":"IF(源数据!D518=\"\",\"\",源数据!D518)","v":0},0,"春装","女",0,0,0,0,0,0,0,0,0,0,0,0]
[{"$f":"IF(源数据!A519=\"\",\"\",源数据!A519)","v":"春装 长款西装 女"},{"$f":"IF(源数据!B519=\"\",\"\",源数据!B519)","v":1},{"$f":"IF(源数据!C519=\"\",\"\",源数据!C519)","v":1},{"$f":"IF(源数据!D519=\"\",\"\",源数据!D519)","v":0},0,"春装","女",0,0,0,0,0,0,0,0,0,0,0,0]
[{"$f":"IF(源数据!A520=\"\",\"\",源数据!A520)","v":"春装 韩版外套 女"},{"$f":"IF(源数据!B520=\"\",\"\",源数据!B520)","v":6},{"$f":"IF(源数据!C520=\"\",\"\",源数据!C520)","v":0.83330000000000004},{"$f":"IF(源数据!D520=\"\",\"\",源数据!D520)","v":0},0,"春装","女",0,"外套",0,0,0,0,0,0,0,0,0,0]
[{"$f":"IF(源数据!A521=\"\",\"\",源数据!A521)","v":"春装 女"},{"$f":"IF(源数据!B521=\"\",\"\",源数据!B521)","v":7},{"$f":"IF(源数据!C521=\"\",\"\",源数据!C521)","v":0.57140000000000002},{"$f":"IF(源数据!D521=\"\",\"\",源数据!D521)","v":0},0,"春装","女",0,0,0,0,0,0,0,0,0,0,0,0]
[{"$f":"IF(源数据!A522=\"\",\"\",源数据!A522)","v":"春装 女 韩版 潮"},{"$f":"IF(源数据!B522=\"\",\"\",源数据!B522)","v":1},{"$f":"IF(源数据!C522=\"\",\"\",源数据!C522)","v":1},{"$f":"IF(源数据!D522=\"\",\"\",源数据!D522)","v":0},"潮","春装","女",0,0,0,0,0,0,0,0,0,0,0,0]
[{"$f":"IF(源数据!A523=\"\",\"\",源数据!A523)","v":"春装 女 外套"},{"$f":"IF(源数据!B523=\"\",\"\",源数据!B523)","v":1},{"$f":"IF(源数据!C523=\"\",\"\",源数据!C523)","v":1},{"$f":"IF(源数据!D523=\"\",\"\",源数据!D523)","v":0},0,"春装","女",0,"外套",0,0,0,0,0,0,0,0,0,0]
[{"$f":"IF(源数据!A524=\"\",\"\",源数据!A524)","v":"春装 女款2013外套"},{"$f":"IF(源数据!B524=\"\",\"\",源数据!B524)","v":1},{"$f":"IF(源数据!C524=\"\",\"\",源数据!C524)","v":1},{"$f":"IF(源数据!D524=\"\",\"\",源数据!D524)","v":0},0,"春装","女",0,"外套",0,2013,0,0,0,0,0,0,0,0]
[{"$f":"IF(源数据!A525=\"\",\"\",源数据!A525)","v":"春装 女款2013修身"},{"$f":"IF(源数据!B525=\"\",\"\",源数据!B525)","v":1},{"$f":"IF(源数据!C525=\"\",\"\",源数据!C525)","v":1},{"$f":"IF(源数据!D525=\"\",\"\",源数据!D525)","v":0},0,"春装","女",0,0,0,2013,0,0,"修身",0,0,0,0,0]
[{"$f":"IF(源数据!A526=\"\",\"\",源数据!A526)","v":"春装 女外套"},{"$f":"IF(源数据!B526=\"\",\"\",源数据!B526)","v":1},{"$f":"IF(源数据!C526=\"\",\"\",源数据!C526)","v":1},{"$f":"IF(源数据!D526=\"\",\"\",源数据!D526)","v":0},0,"春装","女",0,"外套",0,0,0,0,0,0,0,0,0,0]
[{"$f":"IF(源数据!A527=\"\",\"\",源数据!A527)","v":"春装 女外套 黑"},{"$f":"IF(源数据!B527=\"\",\"\",源数据!B527)","v":1},{"$f":"IF(源数据!C527=\"\",\"\",源数据!C527)","v":1},{"$f":"IF(源数据!D527=\"\",\"\",源数据!D527)","v":0},0,"春装","女",0,"外套",0,0,0,0,0,0,0,0,0,0]
[{"$f":"IF(源数据!A528=\"\",\"\",源数据!A528)","v":"春装 女小西服"},{"$f":"IF(源数据!B528=\"\",\"\",源数据!B528)","v":1},{"$f":"IF(源数据!C528=\"\",\"\",源数据!C528)","v":0},{"$f":"IF(源数据!D528=\"\",\"\",源数据!D528)","v":0},0,"春装","女",0,0,0,0,"西服",0,0,0,0,0,0,0]
[{"$f":"IF(源数据!A529=\"\",\"\",源数据!A529)","v":"春装 女装 韩版潮"},{"$f":"IF(源数据!B529=\"\",\"\",源数据!B529)","v":1},{"$f":"IF(源数据!C529=\"\",\"\",源数据!C529)","v":1},{"$f":"IF(源数据!D529=\"\",\"\",源数据!D529)","v":0},"潮","春装","女","女装",0,0,0,0,0,0,0,0,0,0,0]
[{"$f":"IF(源数据!A530=\"\",\"\",源数据!A530)","v":"春装 外套"},{"$f":"IF(源数据!B530=\"\",\"\",源数据!B530)","v":2},{"$f":"IF(源数据!C530=\"\",\"\",源数据!C530)","v":1},{"$f":"IF(源数据!D530=\"\",\"\",源数据!D530)","v":0},0,"春装",0,0,"外套",0,0,0,0,0,0,0,0,0,0]
[{"$f":"IF(源数据!A531=\"\",\"\",源数据!A531)","v":"春装 外套 潮 女"},{"$f":"IF(源数据!B531=\"\",\"\",源数据!B531)","v":1},{"$f":"IF(源数据!C531=\"\",\"\",源数据!C531)","v":1},{"$f":"IF(源数据!D531=\"\",\"\",源数据!D531)","v":0},"潮","春装","女",0,"外套",0,0,0,0,0,0,0,0,0,0]
[{"$f":"IF(源数据!A532=\"\",\"\",源数据!A532)","v":"春装 外套 女"},{"$f":"IF(源数据!B532=\"\",\"\",源数据!B532)","v":9},{"$f":"IF(源数据!C532=\"\",\"\",源数据!C532)","v":0.77780000000000005},{"$f":"IF(源数据!D532=\"\",\"\",源数据!D532)","v":1},0,"春装","女",0,"外套",0,0,0,0,0,0,0,0,0,0]
[{"$f":"IF(源数据!A533=\"\",\"\",源数据!A533)","v":"春装 外套 女 韩版"},{"$f":"IF(源数据!B533=\"\",\"\",源数据!B533)","v":4},{"$f":"IF(源数据!C533=\"\",\"\",源数据!C533)","v":0.25},{"$f":"IF(源数据!D533=\"\",\"\",源数据!D533)","v":1},0,"春装","女",0,"外套",0,0,0,0,0,0,0,0,0,0]
[{"$f":"IF(源数据!A534=\"\",\"\",源数据!A534)","v":"春装 西服 女"},{"$f":"IF(源数据!B534=\"\",\"\",源数据!B534)","v":1},{"$f":"IF(源数据!C534=\"\",\"\",源数据!C534)","v":1},{"$f":"IF(源数据!D534=\"\",\"\",源数据!D534)","v":0},0,"春装","女",0,0,0,0,"西服",0,0,0,0,0,0,0]
[{"$f":"IF(源数据!A535=\"\",\"\",源数据!A535)","v":"春装 西装 修身 女"},{"$f":"IF(源数据!B535=\"\",\"\",源数据!B535)","v":1},{"$f":"IF(源数据!C535=\"\",\"\",源数据!C535)","v":1},{"$f":"IF(源数据!D535=\"\",\"\",源数据!D535)","v":0},0,"春装","女",0,0,0,0,0,0,"修身",0,0,0,0,0]
[{"$f":"IF(源数据!A536=\"\",\"\",源数据!A536)","v":"春装 西装外套 女 韩版"},{"$f":"IF(源数据!B536=\"\",\"\",源数据!B536)","v":1},{"$f":"IF(源数据!C536=\"\",\"\",源数据!C536)","v":1},{"$f":"IF(源数据!D536=\"\",\"\",源数据!D536)","v":0},0,"春装","女",0,"外套",0,0,0,0,0,0,0,0,0,0]
[{"$f":"IF(源数据!A537=\"\",\"\",源数据!A537)","v":"春装 小外套"},{"$f":"IF(源数据!B537=\"\",\"\",源数据!B537)","v":1},{"$f":"IF(源数据!C537=\"\",\"\",源数据!C537)","v":1},{"$f":"IF(源数据!D537=\"\",\"\",源数据!D537)","v":0},0,"春装",0,0,"外套",0,0,0,0,0,0,0,0,0,0]
[{"$f":"IF(源数据!A538=\"\",\"\",源数据!A538)","v":"春装 小西服 女"},{"$f":"IF(源数据!B538=\"\",\"\",源数据!B538)","v":1},{"$f":"IF(源数据!C538=\"\",\"\",源数据!C538)","v":1},{"$f":"IF(源数据!D538=\"\",\"\",源数据!D538)","v":0},0,"春装","女",0,0,0,0,"西服",0,0,0,0,0,0,0]
[{"$f":"IF(源数据!A539=\"\",\"\",源数据!A539)","v":"春装 小西装潮 女"},{"$f":"IF(源数据!B539=\"\",\"\",源数据!B539)","v":2},{"$f":"IF(源数据!C539=\"\",\"\",源数据!C539)","v":0},{"$f":"IF(源数据!D539=\"\",\"\",源数据!D539)","v":1},"潮","春装","女",0,0,"小西装",0,0,0,0,0,0,0,0,0]
[{"$f":"IF(源数据!A540=\"\",\"\",源数据!A540)","v":"春装 新款外套"},{"$f":"IF(源数据!B540=\"\",\"\",源数据!B540)","v":1},{"$f":"IF(源数据!C540=\"\",\"\",源数据!C540)","v":1},{"$f":"IF(源数据!D540=\"\",\"\",源数据!D540)","v":0},0,"春装",0,0,"外套",0,0,0,0,0,0,0,0,0,0]
[{"$f":"IF(源数据!A541=\"\",\"\",源数据!A541)","v":"春装 修身西服 女"},{"$f":"IF(源数据!B541=\"\",\"\",源数据!B541)","v":1},{"$f":"IF(源数据!C541=\"\",\"\",源数据!C541)","v":1},{"$f":"IF(源数据!D541=\"\",\"\",源数据!D541)","v":0},0,"春装","女",0,0,0,0,"西服",0,"修身",0,0,0,0,0]
[{"$f":"IF(源数据!A542=\"\",\"\",源数据!A542)","v":"春装2013"},{"$f":"IF(源数据!B542=\"\",\"\",源数据!B542)","v":7},{"$f":"IF(源数据!C542=\"\",\"\",源数据!C542)","v":0.85709999999999997},{"$f":"IF(源数据!D542=\"\",\"\",源数据!D542)","v":0},0,"春装",0,0,0,0,2013,0,0,0,0,0,0,0,0]
[{"$f":"IF(源数据!A543=\"\",\"\",源数据!A543)","v":"春装2013 休闲西装 女"},{"$f":"IF(源数据!B543=\"\",\"\",源数据!B543)","v":2},{"$f":"IF(源数据!C543=\"\",\"\",源数据!C543)","v":0},{"$f":"IF(源数据!D543=\"\",\"\",源数据!D543)","v":0},0,"春装","女",0,0,0,2013,0,"休闲",0,0,0,0,0,0]
[{"$f":"IF(源数据!A544=\"\",\"\",源数据!A544)","v":"春装2013女休闲西装 包邮"},{"$f":"IF(源数据!B544=\"\",\"\",源数据!B544)","v":1},{"$f":"IF(源数据!C544=\"\",\"\",源数据!C544)","v":0},{"$f":"IF(源数据!D544=\"\",\"\",源数据!D544)","v":0},0,"春装","女",0,0,0,2013,0,"休闲",0,0,0,0,0,0]
[{"$f":"IF(源数据!A545=\"\",\"\",源数据!A545)","v":"春装2013外套女"},{"$f":"IF(源数据!B545=\"\",\"\",源数据!B545)","v":1},{"$f":"IF(源数据!C545=\"\",\"\",源数据!C545)","v":1},{"$f":"IF(源数据!D545=\"\",\"\",源数据!D545)","v":0},0,"春装","女",0,"外套",0,2013,0,0,0,0,0,0,0,0]
[{"$f":"IF(源数据!A546=\"\",\"\",源数据!A546)","v":"春装2013小西装女"},{"$f":"IF(源数据!B546=\"\",\"\",源数据!B546)","v":1},{"$f":"IF(源数据!C546=\"\",\"\",源数据!C546)","v":0},{"$f":"IF(源数据!D546=\"\",\"\",源数据!D546)","v":0},0,"春装","女",0,0,"小西装",2013,0,0,0,0,0,0,0,0]
[{"$f":"IF(源数据!A547=\"\",\"\",源数据!A547)","v":"春装2013新款"},{"$f":"IF(源数据!B547=\"\",\"\",源数据!B547)","v":2},{"$f":"IF(源数据!C547=\"\",\"\",源数据!C547)","v":1},{"$f":"IF(源数据!D547=\"\",\"\",源数据!D547)","v":0},0,"春装",0,0,0,0,2013,0,0,0,0,0,0,0,0]
[{"$f":"IF(源数据!A548=\"\",\"\",源数据!A548)","v":"春装2013新款外套"},{"$f":"IF(源数据!B548=\"\",\"\",源数据!B548)","v":4},{"$f":"IF(源数据!C548=\"\",\"\",源数据!C548)","v":0.75},{"$f":"IF(源数据!D548=\"\",\"\",源数据!D548)","v":0},0,"春装",0,0,"外套",0,2013,0,0,0,0,0,0,0,0]
[{"$f":"IF(源数据!A549=\"\",\"\",源数据!A549)","v":"春装白色外套"},{"$f":"IF(源数据!B549=\"\",\"\",源数据!B549)","v":2},{"$f":"IF(源数据!C549=\"\",\"\",源数据!C549)","v":0.5},{"$f":"IF(源数据!D549=\"\",\"\",源数据!D549)","v":0},0,"春装",0,0,"外套",0,0,0,0,0,0,0,"白色",0,0]
[{"$f":"IF(源数据!A550=\"\",\"\",源数据!A550)","v":"春装白色小西服"},{"$f":"IF(源数据!B550=\"\",\"\",源数据!B550)","v":1},{"$f":"IF(源数据!C550=\"\",\"\",源数据!C550)","v":1},{"$f":"IF(源数据!D550=\"\",\"\",源数据!D550)","v":0},0,"春装",0,0,0,0,0,"西服",0,0,0,0,"白色",0,0]
[{"$f":"IF(源数据!A551=\"\",\"\",源数据!A551)","v":"春装长外套"},{"$f":"IF(源数据!B551=\"\",\"\",源数据!B551)","v":1},{"$f":"IF(源数据!C551=\"\",\"\",源数据!C551)","v":1},{"$f":"IF(源数据!D551=\"\",\"\",源数据!D551)","v":0},0,"春装",0,0,"外套",0,0,0,0,0,0,0,0,0,0]
[{"$f":"IF(源数据!A552=\"\",\"\",源数据!A552)","v":"春装潮"},{"$f":"IF(源数据!B552=\"\",\"\",源数据!B552)","v":1},{"$f":"IF(源数据!C552=\"\",\"\",源数据!C552)","v":0},{"$f":"IF(源数据!D552=\"\",\"\",源数据!D552)","v":0},"潮","春装",0,0,0,0,0,0,0,0,0,0,0,0,0]
[{"$f":"IF(源数据!A553=\"\",\"\",源数据!A553)","v":"春装韩版外套 女"},{"$f":"IF(源数据!B553=\"\",\"\",源数据!B553)","v":4},{"$f":"IF(源数据!C553=\"\",\"\",源数据!C553)","v":0.5},{"$f":"IF(源数据!D553=\"\",\"\",源数据!D553)","v":0},0,"春装","女",0,"外套",0,0,0,0,0,0,0,0,0,0]
[{"$f":"IF(源数据!A554=\"\",\"\",源数据!A554)","v":"春装韩版外套 女 包邮"},{"$f":"IF(源数据!B554=\"\",\"\",源数据!B554)","v":1},{"$f":"IF(源数据!C554=\"\",\"\",源数据!C554)","v":0},{"$f":"IF(源数据!D554=\"\",\"\",源数据!D554)","v":0},0,"春装","女",0,"外套",0,0,0,0,0,0,0,0,0,0]
[{"$f":"IF(源数据!A555=\"\",\"\",源数据!A555)","v":"春装黑色西装中长款"},{"$f":"IF(源数据!B555=\"\",\"\",源数据!B555)","v":1},{"$f":"IF(源数据!C555=\"\",\"\",源数据!C555)","v":1},{"$f":"IF(源数据!D555=\"\",\"\",源数据!D555)","v":0},0,"春装",0,0,0,0,0,0,0,0,0,0,0,0,0]
[{"$f":"IF(源数据!A556=\"\",\"\",源数据!A556)","v":"春装女"},{"$f":"IF(源数据!B556=\"\",\"\",源数据!B556)","v":2},{"$f":"IF(源数据!C556=\"\",\"\",源数据!C556)","v":1},{"$f":"IF(源数据!D556=\"\",\"\",源数据!D556)","v":0},0,"春装","女",0,0,0,0,0,0,0,0,0,0,0,0]
[{"$f":"IF(源数据!A557=\"\",\"\",源数据!A557)","v":"春装女外套"},{"$f":"IF(源数据!B557=\"\",\"\",源数据!B557)","v":1},{"$f":"IF(源数据!C557=\"\",\"\",源数据!C557)","v":1},{"$f":"IF(源数据!D557=\"\",\"\",源数据!D557)","v":0},0,"春装","女",0,"外套",0,0,0,0,0,0,0,0,0,0]
[{"$f":"IF(源数据!A558=\"\",\"\",源数据!A558)","v":"春装女外套2013新款"},{"$f":"IF(源数据!B558=\"\",\"\",源数据!B558)","v":1},{"$f":"IF(源数据!C558=\"\",\"\",源数据!C558)","v":1},{"$f":"IF(源数据!D558=\"\",\"\",源数据!D558)","v":0},0,"春装","女",0,"外套",0,2013,0,0,0,0,0,0,0,0]
[{"$f":"IF(源数据!A559=\"\",\"\",源数据!A559)","v":"春装女外套新款"},{"$f":"IF(源数据!B559=\"\",\"\",源数据!B559)","v":1},{"$f":"IF(源数据!C559=\"\",\"\",源数据!C559)","v":1},{"$f":"IF(源数据!D559=\"\",\"\",源数据!D559)","v":0},0,"春装","女",0,"外套",0,0,0,0,0,0,0,0,0,0]
[{"$f":"IF(源数据!A560=\"\",\"\",源数据!A560)","v":"春装女西服长款"},{"$f":"IF(源数据!B560=\"\",\"\",源数据!B560)","v":1},{"$f":"IF(源数据!C560=\"\",\"\",源数据!C560)","v":1},{"$f":"IF(源数据!D560=\"\",\"\",源数据!D560)","v":0},0,"春装","女",0,0,0,0,"西服",0,0,0,0,0,0,0]
[{"$f":"IF(源数据!A561=\"\",\"\",源数据!A561)","v":"春装女休闲西装"},{"$f":"IF(源数据!B561=\"\",\"\",源数据!B561)","v":1},{"$f":"IF(源数据!C561=\"\",\"\",源数据!C561)","v":0},{"$f":"IF(源数据!D561=\"\",\"\",源数据!D561)","v":0},0,"春装","女",0,0,0,0,0,"休闲",0,0,0,0,0,0]
[{"$f":"IF(源数据!A562=\"\",\"\",源数据!A562)","v":"春装女装韩版"},{"$f":"IF(源数据!B562=\"\",\"\",源数据!B562)","v":1},{"$f":"IF(源数据!C562=\"\",\"\",源数据!C562)","v":1},{"$f":"IF(源数据!D562=\"\",\"\",源数据!D562)","v":0},0,"春装","女","女装",0,0,0,0,0,0,0,0,0,0,0]
[{"$f":"IF(源数据!A563=\"\",\"\",源数据!A563)","v":"春装女装外套"},{"$f":"IF(源数据!B563=\"\",\"\",源数据!B563)","v":2},{"$f":"IF(源数据!C563=\"\",\"\",源数据!C563)","v":1},{"$f":"IF(源数据!D563=\"\",\"\",源数据!D563)","v":0},0,"春装","女","女装","外套",0,0,0,0,0,0,0,0,0,0]
[{"$f":"IF(源数据!A564=\"\",\"\",源数据!A564)","v":"春装女装小西装"},{"$f":"IF(源数据!B564=\"\",\"\",源数据!B564)","v":1},{"$f":"IF(源数据!C564=\"\",\"\",源数据!C564)","v":0},{"$f":"IF(源数据!D564=\"\",\"\",源数据!D564)","v":0},0,"春装","女","女装",0,"小西装",0,0,0,0,0,0,0,0,0]
[{"$f":"IF(源数据!A565=\"\",\"\",源数据!A565)","v":"春装女装新款"},{"$f":"IF(源数据!B565=\"\",\"\",源数据!B565)","v":1},{"$f":"IF(源数据!C565=\"\",\"\",源数据!C565)","v":0},{"$f":"IF(源数据!D565=\"\",\"\",源数据!D565)","v":0},0,"春装","女","女装",0,0,0,0,0,0,0,0,0,0,0]
[{"$f":"IF(源数据!A566=\"\",\"\",源数据!A566)","v":"春装女装新款外套"},{"$f":"IF(源数据!B566=\"\",\"\",源数据!B566)","v":4},{"$f":"IF(源数据!C566=\"\",\"\",源数据!C566)","v":0.25},{"$f":"IF(源数据!D566=\"\",\"\",源数据!D566)","v":0},0,"春装","女","女装","外套",0,0,0,0,0,0,0,0,0,0]
[{"$f":"IF(源数据!A567=\"\",\"\",源数据!A567)","v":"春装外套"},{"$f":"IF(源数据!B567=\"\",\"\",源数据!B567)","v":22},{"$f":"IF(源数据!C567=\"\",\"\",源数据!C567)","v":0.77270000000000005},{"$f":"IF(源数据!D567=\"\",\"\",源数据!D567)","v":0},0,"春装",0,0,"外套",0,0,0,0,0,0,0,0,0,0]
[{"$f":"IF(源数据!A568=\"\",\"\",源数据!A568)","v":"春装外套 女款2013"},{"$f":"IF(源数据!B568=\"\",\"\",源数据!B568)","v":2},{"$f":"IF(源数据!C568=\"\",\"\",源数据!C568)","v":1},{"$f":"IF(源数据!D568=\"\",\"\",源数据!D568)","v":0},0,"春装","女",0,"外套",0,2013,0,0,0,0,0,0,0,0]
[{"$f":"IF(源数据!A569=\"\",\"\",源数据!A569)","v":"春装外套 包邮"},{"$f":"IF(源数据!B569=\"\",\"\",源数据!B569)","v":1},{"$f":"IF(源数据!C569=\"\",\"\",源数据!C569)","v":1},{"$f":"IF(源数据!D569=\"\",\"\",源数据!D569)","v":0},0,"春装",0,0,"外套",0,0,0,0,0,0,0,0,0,0]
[{"$f":"IF(源数据!A570=\"\",\"\",源数据!A570)","v":"春装外套 潮 女"},{"$f":"IF(源数据!B570=\"\",\"\",源数据!B570)","v":1},{"$f":"IF(源数据!C570=\"\",\"\",源数据!C570)","v":0},{"$f":"IF(源数据!D570=\"\",\"\",源数据!D570)","v":0},"潮","春装","女",0,"外套",0,0,0,0,0,0,0,0,0,0]
[{"$f":"IF(源数据!A571=\"\",\"\",源数据!A571)","v":"春装外套 韩版 女"},{"$f":"IF(源数据!B571=\"\",\"\",源数据!B571)","v":1},{"$f":"IF(源数据!C571=\"\",\"\",源数据!C571)","v":1},{"$f":"IF(源数据!D571=\"\",\"\",源数据!D571)","v":0},0,"春装","女",0,"外套",0,0,0,0,0,0,0,0,0,0]
[{"$f":"IF(源数据!A572=\"\",\"\",源数据!A572)","v":"春装外套 女"},{"$f":"IF(源数据!B572=\"\",\"\",源数据!B572)","v":7},{"$f":"IF(源数据!C572=\"\",\"\",源数据!C572)","v":0.71430000000000005},{"$f":"IF(源数据!D572=\"\",\"\",源数据!D572)","v":0},0,"春装","女",0,"外套",0,0,0,0,0,0,0,0,0,0]
[{"$f":"IF(源数据!A573=\"\",\"\",源数据!A573)","v":"春装外套 女 韩版"},{"$f":"IF(源数据!B573=\"\",\"\",源数据!B573)","v":14},{"$f":"IF(源数据!C573=\"\",\"\",源数据!C573)","v":0.85709999999999997},{"$f":"IF(源数据!D573=\"\",\"\",源数据!D573)","v":0},0,"春装","女",0,"外套",0,0,0,0,0,0,0,0,0,0]
[{"$f":"IF(源数据!A574=\"\",\"\",源数据!A574)","v":"春装外套 女 西装 拼接"},{"$f":"IF(源数据!B574=\"\",\"\",源数据!B574)","v":1},{"$f":"IF(源数据!C574=\"\",\"\",源数据!C574)","v":0},{"$f":"IF(源数据!D574=\"\",\"\",源数据!D574)","v":0},0,"春装","女",0,"外套",0,0,0,0,0,0,0,0,0,0]
[{"$f":"IF(源数据!A575=\"\",\"\",源数据!A575)","v":"春装外套 女款"},{"$f":"IF(源数据!B575=\"\",\"\",源数据!B575)","v":1},{"$f":"IF(源数据!C575=\"\",\"\",源数据!C575)","v":1},{"$f":"IF(源数据!D575=\"\",\"\",源数据!D575)","v":0},0,"春装","女",0,"外套",0,0,0,0,0,0,0,0,0,0]
[{"$f":"IF(源数据!A576=\"\",\"\",源数据!A576)","v":"春装外套 女款2013"},{"$f":"IF(源数据!B576=\"\",\"\",源数据!B576)","v":55},{"$f":"IF(源数据!C576=\"\",\"\",源数据!C576)","v":0.81820000000000004},{"$f":"IF(源数据!D576=\"\",\"\",源数据!D576)","v":2},0,"春装","女",0,"外套",0,2013,0,0,0,0,0,0,0,0]
[{"$f":"IF(源数据!A577=\"\",\"\",源数据!A577)","v":"春装外套 女款2013 包邮"},{"$f":"IF(源数据!B577=\"\",\"\",源数据!B577)","v":1},{"$f":"IF(源数据!C577=\"\",\"\",源数据!C577)","v":1},{"$f":"IF(源数据!D577=\"\",\"\",源数据!D577)","v":0},0,"春装","女",0,"外套",0,2013,0,0,0,0,0,0,0,0]
[{"$f":"IF(源数据!A578=\"\",\"\",源数据!A578)","v":"春装外套 女款2013 潮"},{"$f":"IF(源数据!B578=\"\",\"\",源数据!B578)","v":1},{"$f":"IF(源数据!C578=\"\",\"\",源数据!C578)","v":1},{"$f":"IF(源数据!D578=\"\",\"\",源数据!D578)","v":0},"潮","春装","女",0,"外套",0,2013,0,0,0,0,0,0,0,0]
[{"$f":"IF(源数据!A579=\"\",\"\",源数据!A579)","v":"春装外套 女款2013包邮"},{"$f":"IF(源数据!B579=\"\",\"\",源数据!B579)","v":1},{"$f":"IF(源数据!C579=\"\",\"\",源数据!C579)","v":1},{"$f":"IF(源数据!D579=\"\",\"\",源数据!D579)","v":0},{"$f":"IF($A578=\"\",\"\",IF(E$1=\"\",\"\",IF(IFERROR(SEARCH(E$1,$A579),0) >0,E$1,0)))","v":0},{"$f":"IF($A578=\"\",\"\",IF(F$1=\"\",\"\",IF(IFERROR(SEARCH(F$1,$A579),0) >0,F$1,0)))","v":"春装"},{"$f":"IF($A578=\"\",\"\",IF(G$1=\"\",\"\",IF(IFERROR(SEARCH(G$1,$A579),0) >0,G$1,0)))","v":"女"},{"$f":"IF($A578=\"\",\"\",IF(H$1=\"\",\"\",IF(IFERROR(SEARCH(H$1,$A579),0) >0,H$1,0)))","v":0},{"$f":"IF($A578=\"\",\"\",IF(I$1=\"\",\"\",IF(IFERROR(SEARCH(I$1,$A579),0) >0,I$1,0)))","v":"外套"},{"$f":"IF($A578=\"\",\"\",IF(J$1=\"\",\"\",IF(IFERROR(SEARCH(J$1,$A579),0) >0,J$1,0)))","v":0},{"$f":"IF($A578=\"\",\"\",IF(K$1=\"\",\"\",IF(IFERROR(SEARCH(K$1,$A579),0) >0,K$1,0)))","v":2013},{"$f":"IF($A578=\"\",\"\",IF(L$1=\"\",\"\",IF(IFERROR(SEARCH(L$1,$A579),0) >0,L$1,0)))","v":0},{"$f":"IF($A578=\"\",\"\",IF(M$1=\"\",\"\",IF(IFERROR(SEARCH(M$1,$A579),0) >0,M$1,0)))","v":0},{"$f":"IF($A578=\"\",\"\",IF(N$1=\"\",\"\",IF(IFERROR(SEARCH(N$1,$A579),0) >0,N$1,0)))","v":0},{"$f":"IF($A578=\"\",\"\",IF(O$1=\"\",\"\",IF(IFERROR(SEARCH(O$1,$A579),0) >0,O$1,0)))","v":0},{"$f":"IF($A578=\"\",\"\",IF(P$1=\"\",\"\",IF(IFERROR(SEARCH(P$1,$A579),0) >0,P$1,0)))","v":0},{"$f":"IF($A578=\"\",\"\",IF(Q$1=\"\",\"\",IF(IFERROR(SEARCH(Q$1,$A579),0) >0,Q$1,0)))","v":0},{"$f":"IF($A578=\"\",\"\",IF(R$1=\"\",\"\",IF(IFERROR(SEARCH(R$1,$A579),0) >0,R$1,0)))","v":0},{"$f":"IF($A578=\"\",\"\",IF(S$1=\"\",\"\",IF(IFERROR(SEARCH(S$1,$A579),0) >0,S$1,0)))","v":0}]
[{"$f":"IF(源数据!A580=\"\",\"\",源数据!A580)","v":"春装外套 女款休闲小西服"},{"$f":"IF(源数据!B580=\"\",\"\",源数据!B580)","v":1},{"$f":"IF(源数据!C580=\"\",\"\",源数据!C580)","v":0},{"$f":"IF(源数据!D580=\"\",\"\",源数据!D580)","v":0},0,"春装","女",0,"外套",0,0,"西服","休闲",0,0,0,0,0,0]
[{"$f":"IF(源数据!A581=\"\",\"\",源数据!A581)","v":"春装外套 小西装"},{"$f":"IF(源数据!B581=\"\",\"\",源数据!B581)","v":1},{"$f":"IF(源数据!C581=\"\",\"\",源数据!C581)","v":1},{"$f":"IF(源数据!D581=\"\",\"\",源数据!D581)","v":0},0,"春装",0,0,"外套","小西装",0,0,0,0,0,0,0,0,0]
[{"$f":"IF(源数据!A582=\"\",\"\",源数据!A582)","v":"春装外套2013"},{"$f":"IF(源数据!B582=\"\",\"\",源数据!B582)","v":1},{"$f":"IF(源数据!C582=\"\",\"\",源数据!C582)","v":1},{"$f":"IF(源数据!D582=\"\",\"\",源数据!D582)","v":0},0,"春装",0,0,"外套",0,2013,0,0,0,0,0,0,0,0]
[{"$f":"IF(源数据!A583=\"\",\"\",源数据!A583)","v":"春装外套包邮"},{"$f":"IF(源数据!B583=\"\",\"\",源数据!B583)","v":1},{"$f":"IF(源数据!C583=\"\",\"\",源数据!C583)","v":1},{"$f":"IF(源数据!D583=\"\",\"\",源数据!D583)","v":0},0,"春装",0,0,"外套",0,0,0,0,0,0,0,0,0,0]
[{"$f":"IF(源数据!A584=\"\",\"\",源数据!A584)","v":"春装外套韩版休闲小西服女"},{"$f":"IF(源数据!B584=\"\",\"\",源数据!B584)","v":1},{"$f":"IF(源数据!C584=\"\",\"\",源数据!C584)","v":1},{"$f":"IF(源数据!D584=\"\",\"\",源数据!D584)","v":0},0,"春装","女",0,"外套",0,0,"西服","休闲",0,0,0,0,0,0]
[{"$f":"IF(源数据!A585=\"\",\"\",源数据!A585)","v":"春装外套女"},{"$f":"IF(源数据!B585=\"\",\"\",源数据!B585)","v":3},{"$f":"IF(源数据!C585=\"\",\"\",源数据!C585)","v":1},{"$f":"IF(源数据!D585=\"\",\"\",源数据!D585)","v":0},0,"春装","女",0,"外套",0,0,0,0,0,0,0,0,0,0]
[{"$f":"IF(源数据!A586=\"\",\"\",源数据!A586)","v":"春装外套女 包邮"},{"$f":"IF(源数据!B586=\"\",\"\",源数据!B586)","v":1},{"$f":"IF(源数据!C586=\"\",\"\",源数据!C586)","v":0},{"$f":"IF(源数据!D586=\"\",\"\",源数据!D586)","v":0},0,"春装","女",0,"外套",0,0,0,0,0,0,0,0,0,0]
[{"$f":"IF(源数据!A587=\"\",\"\",源数据!A587)","v":"春装外套女款包邮"},{"$f":"IF(源数据!B587=\"\",\"\",源数据!B587)","v":1},{"$f":"IF(源数据!C587=\"\",\"\",源数据!C587)","v":1},{"$f":"IF(源数据!D587=\"\",\"\",源数据!D587)","v":0},0,"春装","女",0,"外套",0,0,0,0,0,0,0,0,0,0]
[{"$f":"IF(源数据!A588=\"\",\"\",源数据!A588)","v":"春装外套女士西装 2013新款"},{"$f":"IF(源数据!B588=\"\",\"\",源数据!B588)","v":1},{"$f":"IF(源数据!C588=\"\",\"\",源数据!C588)","v":1},{"$f":"IF(源数据!D588=\"\",\"\",源数据!D588)","v":0},0,"春装","女",0,"外套",0,2013,0,0,0,0,0,0,0,0]
[{"$f":"IF(源数据!A589=\"\",\"\",源数据!A589)","v":"春装外套女装"},{"$f":"IF(源数据!B589=\"\",\"\",源数据!B589)","v":1},{"$f":"IF(源数据!C589=\"\",\"\",源数据!C589)","v":1},{"$f":"IF(源数据!D589=\"\",\"\",源数据!D589)","v":0},0,"春装","女","女装","外套",0,0,0,0,0,0,0,0,0,0]
[{"$f":"IF(源数据!A590=\"\",\"\",源数据!A590)","v":"春装外套女装新款"},{"$f":"IF(源数据!B590=\"\",\"\",源数据!B590)","v":1},{"$f":"IF(源数据!C590=\"\",\"\",源数据!C590)","v":1},{"$f":"IF(源数据!D590=\"\",\"\",源数据!D590)","v":0},0,"春装","女","女装","外套",0,0,0,0,0,0,0,0,0,0]
[{"$f":"IF(源数据!A591=\"\",\"\",源数据!A591)","v":"春装外套女装新款 包邮"},{"$f":"IF(源数据!B591=\"\",\"\",源数据!B591)","v":1},{"$f":"IF(源数据!C591=\"\",\"\",源数据!C591)","v":1},{"$f":"IF(源数据!D591=\"\",\"\",源数据!D591)","v":0},0,"春装","女","女装","外套",0,0,0,0,0,0,0,0,0,0]
[{"$f":"IF(源数据!A592=\"\",\"\",源数据!A592)","v":"春装外套西服 女款2013"},{"$f":"IF(源数据!B592=\"\",\"\",源数据!B592)","v":1},{"$f":"IF(源数据!C592=\"\",\"\",源数据!C592)","v":1},{"$f":"IF(源数据!D592=\"\",\"\",源数据!D592)","v":0},0,"春装","女",0,"外套",0,2013,"西服",0,0,0,0,0,0,0]
[{"$f":"IF(源数据!A593=\"\",\"\",源数据!A593)","v":"春装外套西装 女款2013"},{"$f":"IF(源数据!B593=\"\",\"\",源数据!B593)","v":1},{"$f":"IF(源数据!C593=\"\",\"\",源数据!C593)","v":1},{"$f":"IF(源数据!D593=\"\",\"\",源数据!D593)","v":0},0,"春装","女",0,"外套",0,2013,0,0,0,0,0,0,0,0]
[{"$f":"IF(源数据!A594=\"\",\"\",源数据!A594)","v":"春装外套小西服"},{"$f":"IF(源数据!B594=\"\",\"\",源数据!B594)","v":1},{"$f":"IF(源数据!C594=\"\",\"\",源数据!C594)","v":1},{"$f":"IF(源数据!D594=\"\",\"\",源数据!D594)","v":0},0,"春装",0,0,"外套",0,0,"西服",0,0,0,0,0,0,0]
[{"$f":"IF(源数据!A595=\"\",\"\",源数据!A595)","v":"春装外套中长款女"},{"$f":"IF(源数据!B595=\"\",\"\",源数据!B595)","v":1},{"$f":"IF(源数据!C595=\"\",\"\",源数据!C595)","v":1},{"$f":"IF(源数据!D595=\"\",\"\",源数据!D595)","v":0},0,"春装","女",0,"外套",0,0,0,0,0,0,0,0,0,0]
[{"$f":"IF(源数据!A596=\"\",\"\",源数据!A596)","v":"春装西服"},{"$f":"IF(源数据!B596=\"\",\"\",源数据!B596)","v":2},{"$f":"IF(源数据!C596=\"\",\"\",源数据!C596)","v":1},{"$f":"IF(源数据!D596=\"\",\"\",源数据!D596)","v":0},0,"春装",0,0,0,0,0,"西服",0,0,0,0,0,0,0]
[{"$f":"IF(源数据!A597=\"\",\"\",源数据!A597)","v":"春装西服 女款2013"},{"$f":"IF(源数据!B597=\"\",\"\",源数据!B597)","v":3},{"$f":"IF(源数据!C597=\"\",\"\",源数据!C597)","v":0.66669999999999996},{"$f":"IF(源数据!D597=\"\",\"\",源数据!D597)","v":1},0,"春装","女",0,0,0,2013,"西服",0,0,0,0,0,0,0]
[{"$f":"IF(源数据!A598=\"\",\"\",源数据!A598)","v":"春装西服女"},{"$f":"IF(源数据!B598=\"\",\"\",源数据!B598)","v":2},{"$f":"IF(源数据!C598=\"\",\"\",源数据!C598)","v":1},{"$f":"IF(源数据!D598=\"\",\"\",源数据!D598)","v":0},0,"春装","女",0,0,0,0,"西服",0,0,0,0,0,0,0]
[{"$f":"IF(源数据!A599=\"\",\"\",源数据!A599)","v":"春装西服女款"},{"$f":"IF(源数据!B599=\"\",\"\",源数据!B599)","v":1},{"$f":"IF(源数据!C599=\"\",\"\",源数据!C599)","v":1},{"$f":"IF(源数据!D599=\"\",\"\",源数据!D599)","v":0},0,"春装","女",0,0,0,0,"西服",0,0,0,0,0,0,0]
[{"$f":"IF(源数据!A600=\"\",\"\",源数据!A600)","v":"春装西服外套女款"},{"$f":"IF(源数据!B600=\"\",\"\",源数据!B600)","v":1},{"$f":"IF(源数据!C600=\"\",\"\",源数据!C600)","v":1},{"$f":"IF(源数据!D600=\"\",\"\",源数据!D600)","v":0},0,"春装","女",0,"外套",0,0,"西服",0,0,0,0,0,0,0]
[{"$f":"IF(源数据!A601=\"\",\"\",源数据!A601)","v":"春装西装"},{"$f":"IF(源数据!B601=\"\",\"\",源数据!B601)","v":3},{"$f":"IF(源数据!C601=\"\",\"\",源数据!C601)","v":1},{"$f":"IF(源数据!D601=\"\",\"\",源数据!D601)","v":0},0,"春装",0,0,0,0,0,0,0,0,0,0,0,0,0]
[{"$f":"IF(源数据!A602=\"\",\"\",源数据!A602)","v":"春装西装 女 韩版"},{"$f":"IF(源数据!B602=\"\",\"\",源数据!B602)","v":1},{"$f":"IF(源数据!C602=\"\",\"\",源数据!C602)","v":1},{"$f":"IF(源数据!D602=\"\",\"\",源数据!D602)","v":0},0,"春装","女",0,0,0,0,0,0,0,0,0,0,0,0]
[{"$f":"IF(源数据!A603=\"\",\"\",源数据!A603)","v":"春装西装 女款2013"},{"$f":"IF(源数据!B603=\"\",\"\",源数据!B603)","v":1},{"$f":"IF(源数据!C603=\"\",\"\",源数据!C603)","v":1},{"$f":"IF(源数据!D603=\"\",\"\",源数据!D603)","v":0},0,"春装","女",0,0,0,2013,0,0,0,0,0,0,0,0]
[{"$f":"IF(源数据!A604=\"\",\"\",源数据!A604)","v":"春装西装女"},{"$f":"IF(源数据!B604=\"\",\"\",源数据!B604)","v":2},{"$f":"IF(源数据!C604=\"\",\"\",源数据!C604)","v":1},{"$f":"IF(源数据!D604=\"\",\"\",源数据!D604)","v":0},0,"春装","女",0,0,0,0,0,0,0,0,0,0,0,0]
[{"$f":"IF(源数据!A605=\"\",\"\",源数据!A605)","v":"春装西装外套 女"},{"$f":"IF(源数据!B605=\"\",\"\",源数据!B605)","v":1},{"$f":"IF(源数据!C605=\"\",\"\",源数据!C605)","v":1},{"$f":"IF(源数据!D605=\"\",\"\",源数据!D605)","v":0},0,"春装","女",0,"外套",0,0,0,0,0,0,0,0,0,0]
[{"$f":"IF(源数据!A606=\"\",\"\",源数据!A606)","v":"春装西装外套 女款2013"},{"$f":"IF(源数据!B606=\"\",\"\",源数据!B606)","v":1},{"$f":"IF(源数据!C606=\"\",\"\",源数据!C606)","v":1},{"$f":"IF(源数据!D606=\"\",\"\",源数据!D606)","v":0},0,"春装","女",0,"外套",0,2013,0,0,0,0,0,0,0,0]
[{"$f":"IF(源数据!A607=\"\",\"\",源数据!A607)","v":"春装西装中长款"},{"$f":"IF(源数据!B607=\"\",\"\",源数据!B607)","v":2},{"$f":"IF(源数据!C607=\"\",\"\",源数据!C607)","v":1},{"$f":"IF(源数据!D607=\"\",\"\",源数据!D607)","v":0},0,"春装",0,0,0,0,0,0,0,0,0,0,0,0,0]
[{"$f":"IF(源数据!A608=\"\",\"\",源数据!A608)","v":"春装小外套"},{"$f":"IF(源数据!B608=\"\",\"\",源数据!B608)","v":2},{"$f":"IF(源数据!C608=\"\",\"\",源数据!C608)","v":0.5},{"$f":"IF(源数据!D608=\"\",\"\",源数据!D608)","v":0},0,"春装",0,0,"外套",0,0,0,0,0,0,0,0,0,0]
[{"$f":"IF(源数据!A609=\"\",\"\",源数据!A609)","v":"春装小外套 包邮"},{"$f":"IF(源数据!B609=\"\",\"\",源数据!B609)","v":1},{"$f":"IF(源数据!C609=\"\",\"\",源数据!C609)","v":1},{"$f":"IF(源数据!D609=\"\",\"\",源数据!D609)","v":0},0,"春装",0,0,"外套",0,0,0,0,0,0,0,0,0,0]
[{"$f":"IF(源数据!A610=\"\",\"\",源数据!A610)","v":"春装小外套新款2013白色"},{"$f":"IF(源数据!B610=\"\",\"\",源数据!B610)","v":1},{"$f":"IF(源数据!C610=\"\",\"\",源数据!C610)","v":1},{"$f":"IF(源数据!D610=\"\",\"\",源数据!D610)","v":0},0,"春装",0,0,"外套",0,2013,0,0,0,0,0,"白色",0,0]
[{"$f":"IF(源数据!A611=\"\",\"\",源数据!A611)","v":"春装小西服"},{"$f":"IF(源数据!B611=\"\",\"\",源数据!B611)","v":1},{"$f":"IF(源数据!C611=\"\",\"\",源数据!C611)","v":1},{"$f":"IF(源数据!D611=\"\",\"\",源数据!D611)","v":0},0,"春装",0,0,0,0,0,"西服",0,0,0,0,0,0,0]
[{"$f":"IF(源数据!A612=\"\",\"\",源数据!A612)","v":"春装小西服 女款2013"},{"$f":"IF(源数据!B612=\"\",\"\",源数据!B612)","v":1},{"$f":"IF(源数据!C612=\"\",\"\",源数据!C612)","v":1},{"$f":"IF(源数据!D612=\"\",\"\",源数据!D612)","v":0},0,"春装","女",0,0,0,2013,"西服",0,0,0,0,0,0,0]
[{"$f":"IF(源数据!A613=\"\",\"\",源数据!A613)","v":"春装小西服2013"},{"$f":"IF(源数据!B613=\"\",\"\",源数据!B613)","v":1},{"$f":"IF(源数据!C613=\"\",\"\",源数据!C613)","v":1},{"$f":"IF(源数据!D613=\"\",\"\",源数据!D613)","v":0},0,"春装",0,0,0,0,2013,"西服",0,0,0,0,0,0,0]
[{"$f":"IF(源数据!A614=\"\",\"\",源数据!A614)","v":"春装小西服修身"},{"$f":"IF(源数据!B614=\"\",\"\",源数据!B614)","v":1},{"$f":"IF(源数据!C614=\"\",\"\",源数据!C614)","v":1},{"$f":"IF(源数据!D614=\"\",\"\",源数据!D614)","v":0},0,"春装",0,0,0,0,0,"西服",0,"修身",0,0,0,0,0]
[{"$f":"IF(源数据!A615=\"\",\"\",源数据!A615)","v":"春装小西服修身白色"},{"$f":"IF(源数据!B615=\"\",\"\",源数据!B615)","v":2},{"$f":"IF(源数据!C615=\"\",\"\",源数据!C615)","v":1},{"$f":"IF(源数据!D615=\"\",\"\",源数据!D615)","v":0},0,"春装",0,0,0,0,0,"西服",0,"修身",0,0,"白色",0,0]
[{"$f":"IF(源数据!A616=\"\",\"\",源数据!A616)","v":"春装小西装"},{"$f":"IF(源数据!B616=\"\",\"\",源数据!B616)","v":2},{"$f":"IF(源数据!C616=\"\",\"\",源数据!C616)","v":0.5},{"$f":"IF(源数据!D616=\"\",\"\",源数据!D616)","v":0},0,"春装",0,0,0,"小西装",0,0,0,0,0,0,0,0,0]
[{"$f":"IF(源数据!A617=\"\",\"\",源数据!A617)","v":"春装小西装 女款2013"},{"$f":"IF(源数据!B617=\"\",\"\",源数据!B617)","v":2},{"$f":"IF(源数据!C617=\"\",\"\",源数据!C617)","v":1},{"$f":"IF(源数据!D617=\"\",\"\",源数据!D617)","v":0},0,"春装","女",0,0,"小西装",2013,0,0,0,0,0,0,0,0]
[{"$f":"IF(源数据!A618=\"\",\"\",源数据!A618)","v":"春装小西装韩版"},{"$f":"IF(源数据!B618=\"\",\"\",源数据!B618)","v":1},{"$f":"IF(源数据!C618=\"\",\"\",源数据!C618)","v":1},{"$f":"IF(源数据!D618=\"\",\"\",源数据!D618)","v":0},0,"春装",0,0,0,"小西装",0,0,0,0,0,0,0,0,0]
[{"$f":"IF(源数据!A619=\"\",\"\",源数据!A619)","v":"春装小西装女款2013"},{"$f":"IF(源数据!B619=\"\",\"\",源数据!B619)","v":1},{"$f":"IF(源数据!C619=\"\",\"\",源数据!C619)","v":0},{"$f":"IF(源数据!D619=\"\",\"\",源数据!D619)","v":0},0,"春装","女",0,0,"小西装",2013,0,0,0,0,0,0,0,0]
[{"$f":"IF(源数据!A620=\"\",\"\",源数据!A620)","v":"春装小西装外套女"},{"$f":"IF(源数据!B620=\"\",\"\",源数据!B620)","v":1},{"$f":"IF(源数据!C620=\"\",\"\",源数据!C620)","v":1},{"$f":"IF(源数据!D620=\"\",\"\",源数据!D620)","v":0},0,"春装","女",0,"外套","小西装",0,0,0,0,0,0,0,0,0]
[{"$f":"IF(源数据!A621=\"\",\"\",源数据!A621)","v":"春装新款"},{"$f":"IF(源数据!B621=\"\",\"\",源数据!B621)","v":2},{"$f":"IF(源数据!C621=\"\",\"\",源数据!C621)","v":0},{"$f":"IF(源数据!D621=\"\",\"\",源数据!D621)","v":0},0,"春装",0,0,0,0,0,0,0,0,0,0,0,0,0]
[{"$f":"IF(源数据!A622=\"\",\"\",源数据!A622)","v":"春装新款2013"},{"$f":"IF(源数据!B622=\"\",\"\",源数据!B622)","v":4},{"$f":"IF(源数据!C622=\"\",\"\",源数据!C622)","v":1},{"$f":"IF(源数据!D622=\"\",\"\",源数据!D622)","v":0},0,"春装",0,0,0,0,2013,0,0,0,0,0,0,0,0]
[{"$f":"IF(源数据!A623=\"\",\"\",源数据!A623)","v":"春装新款2013  休闲 西装 女 包邮"},{"$f":"IF(源数据!B623=\"\",\"\",源数据!B623)","v":1},{"$f":"IF(源数据!C623=\"\",\"\",源数据!C623)","v":1},{"$f":"IF(源数据!D623=\"\",\"\",源数据!D623)","v":0},0,"春装","女",0,0,0,2013,0,"休闲",0,0,0,0,0,0]
[{"$f":"IF(源数据!A624=\"\",\"\",源数据!A624)","v":"春装新款2013 小西装"},{"$f":"IF(源数据!B624=\"\",\"\",源数据!B624)","v":1},{"$f":"IF(源数据!C624=\"\",\"\",源数据!C624)","v":0},{"$f":"IF(源数据!D624=\"\",\"\",源数据!D624)","v":0},0,"春装",0,0,0,"小西装",2013,0,0,0,0,0,0,0,0]
[{"$f":"IF(源数据!A625=\"\",\"\",源数据!A625)","v":"春装新款2013女装韩版修身显瘦短款外套时尚长袖小西装外套9780"},{"$f":"IF(源数据!B625=\"\",\"\",源数据!B625)","v":1},{"$f":"IF(源数据!C625=\"\",\"\",源数据!C625)","v":1},{"$f":"IF(源数据!D625=\"\",\"\",源数据!D625)","v":0},0,"春装","女","女装","外套","小西装",2013,0,0,"修身",0,0,0,0,0]
[{"$f":"IF(源数据!A626=\"\",\"\",源数据!A626)","v":"春装新款2013外套"},{"$f":"IF(源数据!B626=\"\",\"\",源数据!B626)","v":1},{"$f":"IF(源数据!C626=\"\",\"\",源数据!C626)","v":1},{"$f":"IF(源数据!D626=\"\",\"\",源数据!D626)","v":0},0,"春装",0,0,"外套",0,2013,0,0,0,0,0,0,0,0]
[{"$f":"IF(源数据!A627=\"\",\"\",源数据!A627)","v":"春装新款2013小西装秒杀"},{"$f":"IF(源数据!B627=\"\",\"\",源数据!B627)","v":1},{"$f":"IF(源数据!C627=\"\",\"\",源数据!C627)","v":1},{"$f":"IF(源数据!D627=\"\",\"\",源数据!D627)","v":0},0,"春装",0,0,0,"小西装",2013,0,0,0,0,0,0,0,0]
[{"$f":"IF(源数据!A628=\"\",\"\",源数据!A628)","v":"春装新款韩版女装西装休闲中长款修身西服小西装外套"},{"$f":"IF(源数据!B628=\"\",\"\",源数据!B628)","v":1},{"$f":"IF(源数据!C628=\"\",\"\",源数据!C628)","v":1},{"$f":"IF(源数据!D628=\"\",\"\",源数据!D628)","v":0},0,"春装","女","女装","外套","小西装",0,"西服","休闲","修身",0,0,0,0,0]
[{"$f":"IF(源数据!A629=\"\",\"\",源数据!A629)","v":"春装新款韩版小西装白色"},{"$f":"IF(源数据!B629=\"\",\"\",源数据!B629)","v":1},{"$f":"IF(源数据!C629=\"\",\"\",源数据!C629)","v":1},{"$f":"IF(源数据!D629=\"\",\"\",源数据!D629)","v":0},0,"春装",0,0,0,"小西装",0,0,0,0,0,0,"白色",0,0]
[{"$f":"IF(源数据!A630=\"\",\"\",源数据!A630)","v":"春装新款女装韩版女士休闲小西服修身女西装女款西装中长款"},{"$f":"IF(源数据!B630=\"\",\"\",源数据!B630)","v":1},{"$f":"IF(源数据!C630=\"\",\"\",源数据!C630)","v":1},{"$f":"IF(源数据!D630=\"\",\"\",源数据!D630)","v":0},0,"春装","女","女装",0,0,0,"西服","休闲","修身",0,0,0,0,0]
[{"$f":"IF(源数据!A631=\"\",\"\",源数据!A631)","v":"春装新款女装韩版修身小西装小西服外套"},{"$f":"IF(源数据!B631=\"\",\"\",源数据!B631)","v":1},{"$f":"IF(源数据!C631=\"\",\"\",源数据!C631)","v":0},{"$f":"IF(源数据!D631=\"\",\"\",源数据!D631)","v":0},0,"春装","女","女装","外套","小西装",0,"西服",0,"修身",0,0,0,0,0]
[{"$f":"IF(源数据!A632=\"\",\"\",源数据!A632)","v":"春装新款女装小西装外套"},{"$f":"IF(源数据!B632=\"\",\"\",源数据!B632)","v":1},{"$f":"IF(源数据!C632=\"\",\"\",源数据!C632)","v":0},{"$f":"IF(源数据!D632=\"\",\"\",源数据!D632)","v":0},0,"春装","女","女装","外套","小西装",0,0,0,0,0,0,0,0,0]
[{"$f":"IF(源数据!A633=\"\",\"\",源数据!A633)","v":"春装新款外套"},{"$f":"IF(源数据!B633=\"\",\"\",源数据!B633)","v":1},{"$f":"IF(源数据!C633=\"\",\"\",源数据!C633)","v":1},{"$f":"IF(源数据!D633=\"\",\"\",源数据!D633)","v":0},0,"春装",0,0,"外套",0,0,0,0,0,0,0,0,0,0]
[{"$f":"IF(源数据!A634=\"\",\"\",源数据!A634)","v":"春装新款外套2013"},{"$f":"IF(源数据!B634=\"\",\"\",源数据!B634)","v":3},{"$f":"IF(源数据!C634=\"\",\"\",源数据!C634)","v":0.66669999999999996},{"$f":"IF(源数据!D634=\"\",\"\",源数据!D634)","v":1},0,"春装",0,0,"外套",0,2013,0,0,0,0,0,0,0,0]
[{"$f":"IF(源数据!A635=\"\",\"\",源数据!A635)","v":"春装新款外套女"},{"$f":"IF(源数据!B635=\"\",\"\",源数据!B635)","v":1},{"$f":"IF(源数据!C635=\"\",\"\",源数据!C635)","v":0},{"$f":"IF(源数据!D635=\"\",\"\",源数据!D635)","v":0},0,"春装","女",0,"外套",0,0,0,0,0,0,0,0,0,0]
[{"$f":"IF(源数据!A636=\"\",\"\",源数据!A636)","v":"春装新款外套女2013"},{"$f":"IF(源数据!B636=\"\",\"\",源数据!B636)","v":1},{"$f":"IF(源数据!C636=\"\",\"\",源数据!C636)","v":0},{"$f":"IF(源数据!D636=\"\",\"\",源数据!D636)","v":0},0,"春装","女",0,"外套",0,2013,0,0,0,0,0,0,0,0]
[{"$f":"IF(源数据!A637=\"\",\"\",源数据!A637)","v":"春装休闲外套2013女"},{"$f":"IF(源数据!B637=\"\",\"\",源数据!B637)","v":1},{"$f":"IF(源数据!C637=\"\",\"\",源数据!C637)","v":0},{"$f":"IF(源数据!D637=\"\",\"\",源数据!D637)","v":0},0,"春装","女",0,"外套",0,2013,0,"休闲",0,0,0,0,0,0]
[{"$f":"IF(源数据!A638=\"\",\"\",源数据!A638)","v":"春装休闲外套女"},{"$f":"IF(源数据!B638=\"\",\"\",源数据!B638)","v":2},{"$f":"IF(源数据!C638=\"\",\"\",源数据!C638)","v":0},{"$f":"IF(源数据!D638=\"\",\"\",源数据!D638)","v":1},0,"春装","女",0,"外套",0,0,0,"休闲",0,0,0,0,0,0]
[{"$f":"IF(源数据!A639=\"\",\"\",源数据!A639)","v":"春装休闲西服女"},{"$f":"IF(源数据!B639=\"\",\"\",源数据!B639)","v":1},{"$f":"IF(源数据!C639=\"\",\"\",源数据!C639)","v":1},{"$f":"IF(源数据!D639=\"\",\"\",源数据!D639)","v":0},0,"春装","女",0,0,0,0,"西服","休闲",0,0,0,0,0,0]
[{"$f":"IF(源数据!A640=\"\",\"\",源数据!A640)","v":"春装休闲西装外套 女"},{"$f":"IF(源数据!B640=\"\",\"\",源数据!B640)","v":1},{"$f":"IF(源数据!C640=\"\",\"\",源数据!C640)","v":1},{"$f":"IF(源数据!D640=\"\",\"\",源数据!D640)","v":0},0,"春装","女",0,"外套",0,0,0,"休闲",0,0,0,0,0,0]
[{"$f":"IF(源数据!A641=\"\",\"\",源数据!A641)","v":"纯白色修身小西装"},{"$f":"IF(源数据!B641=\"\",\"\",源数据!B641)","v":1},{"$f":"IF(源数据!C641=\"\",\"\",源数据!C641)","v":1},{"$f":"IF(源数据!D641=\"\",\"\",源数据!D641)","v":0},0,0,0,0,0,"小西装",0,0,0,"修身",0,0,"白色",0,0]
[{"$f":"IF(源数据!A642=\"\",\"\",源数据!A642)","v":"纯色小西装 女"},{"$f":"IF(源数据!B642=\"\",\"\",源数据!B642)","v":1},{"$f":"IF(源数据!C642=\"\",\"\",源数据!C642)","v":1},{"$f":"IF(源数据!D642=\"\",\"\",源数据!D642)","v":0},0,0,"女",0,0,"小西装",0,0,0,0,0,0,0,0,0]
[{"$f":"IF(源数据!A643=\"\",\"\",源数据!A643)","v":"纯色中长款西服长袖外套小西装"},{"$f":"IF(源数据!B643=\"\",\"\",源数据!B643)","v":1},{"$f":"IF(源数据!C643=\"\",\"\",源数据!C643)","v":1},{"$f":"IF(源数据!D643=\"\",\"\",源数据!D643)","v":0},{"$f":"IF($A642=\"\",\"\",IF(E$1=\"\",\"\",IF(IFERROR(SEARCH(E$1,$A643),0) >0,E$1,0)))","v":0},{"$f":"IF($A642=\"\",\"\",IF(F$1=\"\",\"\",IF(IFERROR(SEARCH(F$1,$A643),0) >0,F$1,0)))","v":0},{"$f":"IF($A642=\"\",\"\",IF(G$1=\"\",\"\",IF(IFERROR(SEARCH(G$1,$A643),0) >0,G$1,0)))","v":0},{"$f":"IF($A642=\"\",\"\",IF(H$1=\"\",\"\",IF(IFERROR(SEARCH(H$1,$A643),0) >0,H$1,0)))","v":0},{"$f":"IF($A642=\"\",\"\",IF(I$1=\"\",\"\",IF(IFERROR(SEARCH(I$1,$A643),0) >0,I$1,0)))","v":"外套"},{"$f":"IF($A642=\"\",\"\",IF(J$1=\"\",\"\",IF(IFERROR(SEARCH(J$1,$A643),0) >0,J$1,0)))","v":"小西装"},{"$f":"IF($A642=\"\",\"\",IF(K$1=\"\",\"\",IF(IFERROR(SEARCH(K$1,$A643),0) >0,K$1,0)))","v":0},{"$f":"IF($A642=\"\",\"\",IF(L$1=\"\",\"\",IF(IFERROR(SEARCH(L$1,$A643),0) >0,L$1,0)))","v":"西服"},{"$f":"IF($A642=\"\",\"\",IF(M$1=\"\",\"\",IF(IFERROR(SEARCH(M$1,$A643),0) >0,M$1,0)))","v":0},{"$f":"IF($A642=\"\",\"\",IF(N$1=\"\",\"\",IF(IFERROR(SEARCH(N$1,$A643),0) >0,N$1,0)))","v":0},{"$f":"IF($A642=\"\",\"\",IF(O$1=\"\",\"\",IF(IFERROR(SEARCH(O$1,$A643),0) >0,O$1,0)))","v":0},{"$f":"IF($A642=\"\",\"\",IF(P$1=\"\",\"\",IF(IFERROR(SEARCH(P$1,$A643),0) >0,P$1,0)))","v":0},{"$f":"IF($A642=\"\",\"\",IF(Q$1=\"\",\"\",IF(IFERROR(SEARCH(Q$1,$A643),0) >0,Q$1,0)))","v":0},{"$f":"IF($A642=\"\",\"\",IF(R$1=\"\",\"\",IF(IFERROR(SEARCH(R$1,$A643),0) >0,R$1,0)))","v":0},{"$f":"IF($A642=\"\",\"\",IF(S$1=\"\",\"\",IF(IFERROR(SEARCH(S$1,$A643),0) >0,S$1,0)))","v":0}]
[{"$f":"IF(源数据!A644=\"\",\"\",源数据!A644)","v":"促销 特价 春秋小西装外套"},{"$f":"IF(源数据!B644=\"\",\"\",源数据!B644)","v":1},{"$f":"IF(源数据!C644=\"\",\"\",源数据!C644)","v":1},{"$f":"IF(源数据!D644=\"\",\"\",源数据!D644)","v":0},0,0,0,0,"外套","小西装",0,0,0,0,0,"春秋",0,0,0]
[{"$f":"IF(源数据!A645=\"\",\"\",源数据!A645)","v":"大码韩版小西服 女潮"},{"$f":"IF(源数据!B645=\"\",\"\",源数据!B645)","v":1},{"$f":"IF(源数据!C645=\"\",\"\",源数据!C645)","v":1},{"$f":"IF(源数据!D645=\"\",\"\",源数据!D645)","v":0},"潮",0,"女",0,0,0,0,"西服",0,0,0,0,0,0,0]
[{"$f":"IF(源数据!A646=\"\",\"\",源数据!A646)","v":"大码女装2013春装新品胖mm韩版ol雪纺拼接特大九分袖西装外套西服"},{"$f":"IF(源数据!B646=\"\",\"\",源数据!B646)","v":1},{"$f":"IF(源数据!C646=\"\",\"\",源数据!C646)","v":1},{"$f":"IF(源数据!D646=\"\",\"\",源数据!D646)","v":0},0,"春装","女","女装","外套",0,2013,"西服",0,0,0,0,0,0,0]
[{"$f":"IF(源数据!A647=\"\",\"\",源数据!A647)","v":"大码拼接雪纺西装"},{"$f":"IF(源数据!B647=\"\",\"\",源数据!B647)","v":1},{"$f":"IF(源数据!C647=\"\",\"\",源数据!C647)","v":1},{"$f":"IF(源数据!D647=\"\",\"\",源数据!D647)","v":0},0,0,0,0,0,0,0,0,0,0,0,0,0,0,0]
[{"$f":"IF(源数据!A648=\"\",\"\",源数据!A648)","v":"德芙"},{"$f":"IF(源数据!B648=\"\",\"\",源数据!B648)","v":1},{"$f":"IF(源数据!C648=\"\",\"\",源数据!C648)","v":0},{"$f":"IF(源数据!D648=\"\",\"\",源数据!D648)","v":0},0,0,0,0,0,0,0,0,0,0,0,0,0,0,0]
[{"$f":"IF(源数据!A649=\"\",\"\",源数据!A649)","v":"凡恩 小西装"},{"$f":"IF(源数据!B649=\"\",\"\",源数据!B649)","v":1},{"$f":"IF(源数据!C649=\"\",\"\",源数据!C649)","v":1},{"$f":"IF(源数据!D649=\"\",\"\",源数据!D649)","v":0},0,0,0,0,0,"小西装",0,0,0,0,0,0,0,0,0]
[{"$f":"IF(源数据!A650=\"\",\"\",源数据!A650)","v":"服贴"},{"$f":"IF(源数据!B650=\"\",\"\",源数据!B650)","v":1},{"$f":"IF(源数据!C650=\"\",\"\",源数据!C650)","v":0},{"$f":"IF(源数据!D650=\"\",\"\",源数据!D650)","v":0},0,0,0,0,0,0,0,0,0,0,0,0,0,0,0]
[{"$f":"IF(源数据!A651=\"\",\"\",源数据!A651)","v":"韩 西装外套 女"},{"$f":"IF(源数据!B651=\"\",\"\",源数据!B651)","v":1},{"$f":"IF(源数据!C651=\"\",\"\",源数据!C651)","v":1},{"$f":"IF(源数据!D651=\"\",\"\",源数据!D651)","v":0},0,0,"女",0,"外套",0,0,0,0,0,0,0,0,0,0]
[{"$f":"IF(源数据!A652=\"\",\"\",源数据!A652)","v":"韩版"},{"$f":"IF(源数据!B652=\"\",\"\",源数据!B652)","v":1},{"$f":"IF(源数据!C652=\"\",\"\",源数据!C652)","v":1},{"$f":"IF(源数据!D652=\"\",\"\",源数据!D652)","v":0},0,0,0,0,0,0,0,0,0,0,0,0,0,0,0]
[{"$f":"IF(源数据!A653=\"\",\"\",源数据!A653)","v":"韩版 春装"},{"$f":"IF(源数据!B653=\"\",\"\",源数据!B653)","v":1},{"$f":"IF(源数据!C653=\"\",\"\",源数据!C653)","v":1},{"$f":"IF(源数据!D653=\"\",\"\",源数据!D653)","v":0},0,"春装",0,0,0,0,0,0,0,0,0,0,0,0,0]
[{"$f":"IF(源数据!A654=\"\",\"\",源数据!A654)","v":"韩版 春装西装"},{"$f":"IF(源数据!B654=\"\",\"\",源数据!B654)","v":1},{"$f":"IF(源数据!C654=\"\",\"\",源数据!C654)","v":1},{"$f":"IF(源数据!D654=\"\",\"\",源数据!D654)","v":0},0,"春装",0,0,0,0,0,0,0,0,0,0,0,0,0]
[{"$f":"IF(源数据!A655=\"\",\"\",源数据!A655)","v":"韩版 女 西服"},{"$f":"IF(源数据!B655=\"\",\"\",源数据!B655)","v":1},{"$f":"IF(源数据!C655=\"\",\"\",源数据!C655)","v":0},{"$f":"IF(源数据!D655=\"\",\"\",源数据!D655)","v":1},0,0,"女",0,0,0,0,"西服",0,0,0,0,0,0,0]
[{"$f":"IF(源数据!A656=\"\",\"\",源数据!A656)","v":"韩版 女装"},{"$f":"IF(源数据!B656=\"\",\"\",源数据!B656)","v":1},{"$f":"IF(源数据!C656=\"\",\"\",源数据!C656)","v":1},{"$f":"IF(源数据!D656=\"\",\"\",源数据!D656)","v":0},0,0,"女","女装",0,0,0,0,0,0,0,0,0,0,0]
[{"$f":"IF(源数据!A657=\"\",\"\",源数据!A657)","v":"韩版 西装 女"},{"$f":"IF(源数据!B657=\"\",\"\",源数据!B657)","v":2},{"$f":"IF(源数据!C657=\"\",\"\",源数据!C657)","v":1},{"$f":"IF(源数据!D657=\"\",\"\",源数据!D657)","v":0},0,0,"女",0,0,0,0,0,0,0,0,0,0,0,0]
[{"$f":"IF(源数据!A658=\"\",\"\",源数据!A658)","v":"韩版 西装 女士外套"},{"$f":"IF(源数据!B658=\"\",\"\",源数据!B658)","v":1},{"$f":"IF(源数据!C658=\"\",\"\",源数据!C658)","v":1},{"$f":"IF(源数据!D658=\"\",\"\",源数据!D658)","v":0},0,0,"女",0,"外套",0,0,0,0,0,0,0,0,0,0]
[{"$f":"IF(源数据!A659=\"\",\"\",源数据!A659)","v":"韩版 小西装 潮 女"},{"$f":"IF(源数据!B659=\"\",\"\",源数据!B659)","v":2},{"$f":"IF(源数据!C659=\"\",\"\",源数据!C659)","v":1},{"$f":"IF(源数据!D659=\"\",\"\",源数据!D659)","v":0},"潮",0,"女",0,0,"小西装",0,0,0,0,0,0,0,0,0]
[{"$f":"IF(源数据!A660=\"\",\"\",源数据!A660)","v":"韩版 小西装 潮 女 修身"},{"$f":"IF(源数据!B660=\"\",\"\",源数据!B660)","v":1},{"$f":"IF(源数据!C660=\"\",\"\",源数据!C660)","v":1},{"$f":"IF(源数据!D660=\"\",\"\",源数据!D660)","v":0},"潮",0,"女",0,0,"小西装",0,0,0,"修身",0,0,0,0,0]
[{"$f":"IF(源数据!A661=\"\",\"\",源数据!A661)","v":"韩版 小西装 女"},{"$f":"IF(源数据!B661=\"\",\"\",源数据!B661)","v":1},{"$f":"IF(源数据!C661=\"\",\"\",源数据!C661)","v":1},{"$f":"IF(源数据!D661=\"\",\"\",源数据!D661)","v":0},0,0,"女",0,0,"小西装",0,0,0,0,0,0,0,0,0]
[{"$f":"IF(源数据!A662=\"\",\"\",源数据!A662)","v":"韩版 小西装 女士"},{"$f":"IF(源数据!B662=\"\",\"\",源数据!B662)","v":1},{"$f":"IF(源数据!C662=\"\",\"\",源数据!C662)","v":1},{"$f":"IF(源数据!D662=\"\",\"\",源数据!D662)","v":0},0,0,"女",0,0,"小西装",0,0,0,0,0,0,0,0,0]
[{"$f":"IF(源数据!A663=\"\",\"\",源数据!A663)","v":"韩版 一粒扣 西服"},{"$f":"IF(源数据!B663=\"\",\"\",源数据!B663)","v":1},{"$f":"IF(源数据!C663=\"\",\"\",源数据!C663)","v":1},{"$f":"IF(源数据!D663=\"\",\"\",源数据!D663)","v":0},0,0,0,0,0,0,0,"西服",0,0,0,0,0,0,0]
[{"$f":"IF(源数据!A664=\"\",\"\",源数据!A664)","v":"韩版白色小西装 女 秋"},{"$f":"IF(源数据!B664=\"\",\"\",源数据!B664)","v":1},{"$f":"IF(源数据!C664=\"\",\"\",源数据!C664)","v":1},{"$f":"IF(源数据!D664=\"\",\"\",源数据!D664)","v":0},0,0,"女",0,0,"小西装",0,0,0,0,0,0,"白色",0,0]
[{"$f":"IF(源数据!A665=\"\",\"\",源数据!A665)","v":"韩版长款 女 西服 包邮"},{"$f":"IF(源数据!B665=\"\",\"\",源数据!B665)","v":1},{"$f":"IF(源数据!C665=\"\",\"\",源数据!C665)","v":1},{"$f":"IF(源数据!D665=\"\",\"\",源数据!D665)","v":0},0,0,"女",0,0,0,0,"西服",0,0,0,0,0,0,0]
[{"$f":"IF(源数据!A666=\"\",\"\",源数据!A666)","v":"韩版长款女西装"},{"$f":"IF(源数据!B666=\"\",\"\",源数据!B666)","v":1},{"$f":"IF(源数据!C666=\"\",\"\",源数据!C666)","v":1},{"$f":"IF(源数据!D666=\"\",\"\",源数据!D666)","v":0},0,0,"女",0,0,0,0,0,0,0,0,0,0,0,0]
[{"$f":"IF(源数据!A667=\"\",\"\",源数据!A667)","v":"韩版长款外套女装西装"},{"$f":"IF(源数据!B667=\"\",\"\",源数据!B667)","v":1},{"$f":"IF(源数据!C667=\"\",\"\",源数据!C667)","v":0},{"$f":"IF(源数据!D667=\"\",\"\",源数据!D667)","v":0},0,0,"女","女装","外套",0,0,0,0,0,0,0,0,0,0]
[{"$f":"IF(源数据!A668=\"\",\"\",源数据!A668)","v":"韩版长款西服女"},{"$f":"IF(源数据!B668=\"\",\"\",源数据!B668)","v":1},{"$f":"IF(源数据!C668=\"\",\"\",源数据!C668)","v":1},{"$f":"IF(源数据!D668=\"\",\"\",源数据!D668)","v":0},0,0,"女",0,0,0,0,"西服",0,0,0,0,0,0,0]
[{"$f":"IF(源数据!A669=\"\",\"\",源数据!A669)","v":"韩版长款西装女"},{"$f":"IF(源数据!B669=\"\",\"\",源数据!B669)","v":1},{"$f":"IF(源数据!C669=\"\",\"\",源数据!C669)","v":0},{"$f":"IF(源数据!D669=\"\",\"\",源数据!D669)","v":0},0,0,"女",0,0,0,0,0,0,0,0,0,0,0,0]
[{"$f":"IF(源数据!A670=\"\",\"\",源数据!A670)","v":"韩版春季外套 女潮"},{"$f":"IF(源数据!B670=\"\",\"\",源数据!B670)","v":2},{"$f":"IF(源数据!C670=\"\",\"\",源数据!C670)","v":1},{"$f":"IF(源数据!D670=\"\",\"\",源数据!D670)","v":0},"潮",0,"女",0,"外套",0,0,0,0,0,"春季",0,0,0,0]
[{"$f":"IF(源数据!A671=\"\",\"\",源数据!A671)","v":"韩版春秋款西装"},{"$f":"IF(源数据!B671=\"\",\"\",源数据!B671)","v":1},{"$f":"IF(源数据!C671=\"\",\"\",源数据!C671)","v":1},{"$f":"IF(源数据!D671=\"\",\"\",源数据!D671)","v":0},0,0,0,0,0,0,0,0,0,0,0,"春秋",0,0,0]
[{"$f":"IF(源数据!A672=\"\",\"\",源数据!A672)","v":"韩版春秋女士休闲西服修身开衫薄外衣ol雪纺拼接中长款小西装外套&yen"},{"$f":"IF(源数据!B672=\"\",\"\",源数据!B672)","v":5},{"$f":"IF(源数据!C672=\"\",\"\",源数据!C672)","v":0},{"$f":"IF(源数据!D672=\"\",\"\",源数据!D672)","v":0},0,0,"女",0,"外套","小西装",0,"西服","休闲","修身",0,"春秋",0,0,0]
[{"$f":"IF(源数据!A673=\"\",\"\",源数据!A673)","v":"韩版春秋女外套"},{"$f":"IF(源数据!B673=\"\",\"\",源数据!B673)","v":1},{"$f":"IF(源数据!C673=\"\",\"\",源数据!C673)","v":0},{"$f":"IF(源数据!D673=\"\",\"\",源数据!D673)","v":0},0,0,"女",0,"外套",0,0,0,0,0,0,"春秋",0,0,0]
[{"$f":"IF(源数据!A674=\"\",\"\",源数据!A674)","v":"韩版春秋女装"},{"$f":"IF(源数据!B674=\"\",\"\",源数据!B674)","v":1},{"$f":"IF(源数据!C674=\"\",\"\",源数据!C674)","v":1},{"$f":"IF(源数据!D674=\"\",\"\",源数据!D674)","v":0},0,0,"女","女装",0,0,0,0,0,0,0,"春秋",0,0,0]
[{"$f":"IF(源数据!A675=\"\",\"\",源数据!A675)","v":"韩版春秋女装外套"},{"$f":"IF(源数据!B675=\"\",\"\",源数据!B675)","v":1},{"$f":"IF(源数据!C675=\"\",\"\",源数据!C675)","v":1},{"$f":"IF(源数据!D675=\"\",\"\",源数据!D675)","v":0},0,0,"女","女装","外套",0,0,0,0,0,0,"春秋",0,0,0]
[{"$f":"IF(源数据!A676=\"\",\"\",源数据!A676)","v":"韩版春秋外套女"},{"$f":"IF(源数据!B676=\"\",\"\",源数据!B676)","v":1},{"$f":"IF(源数据!C676=\"\",\"\",源数据!C676)","v":1},{"$f":"IF(源数据!D676=\"\",\"\",源数据!D676)","v":0},0,0,"女",0,"外套",0,0,0,0,0,0,"春秋",0,0,0]
[{"$f":"IF(源数据!A677=\"\",\"\",源数据!A677)","v":"韩版春装"},{"$f":"IF(源数据!B677=\"\",\"\",源数据!B677)","v":2},{"$f":"IF(源数据!C677=\"\",\"\",源数据!C677)","v":0},{"$f":"IF(源数据!D677=\"\",\"\",源数据!D677)","v":0},0,"春装",0,0,0,0,0,0,0,0,0,0,0,0,0]
[{"$f":"IF(源数据!A678=\"\",\"\",源数据!A678)","v":"韩版春装外套"},{"$f":"IF(源数据!B678=\"\",\"\",源数据!B678)","v":1},{"$f":"IF(源数据!C678=\"\",\"\",源数据!C678)","v":1},{"$f":"IF(源数据!D678=\"\",\"\",源数据!D678)","v":0},0,"春装",0,0,"外套",0,0,0,0,0,0,0,0,0,0]
[{"$f":"IF(源数据!A679=\"\",\"\",源数据!A679)","v":"韩版春装外套 女"},{"$f":"IF(源数据!B679=\"\",\"\",源数据!B679)","v":1},{"$f":"IF(源数据!C679=\"\",\"\",源数据!C679)","v":1},{"$f":"IF(源数据!D679=\"\",\"\",源数据!D679)","v":0},0,"春装","女",0,"外套",0,0,0,0,0,0,0,0,0,0]
[{"$f":"IF(源数据!A680=\"\",\"\",源数据!A680)","v":"韩版春装外套女潮"},{"$f":"IF(源数据!B680=\"\",\"\",源数据!B680)","v":3},{"$f":"IF(源数据!C680=\"\",\"\",源数据!C680)","v":0.33329999999999999},{"$f":"IF(源数据!D680=\"\",\"\",源数据!D680)","v":0},"潮","春装","女",0,"外套",0,0,0,0,0,0,0,0,0,0]
[{"$f":"IF(源数据!A681=\"\",\"\",源数据!A681)","v":"韩版春装外套女装"},{"$f":"IF(源数据!B681=\"\",\"\",源数据!B681)","v":4},{"$f":"IF(源数据!C681=\"\",\"\",源数据!C681)","v":0.75},{"$f":"IF(源数据!D681=\"\",\"\",源数据!D681)","v":0},0,"春装","女","女装","外套",0,0,0,0,0,0,0,0,0,0]
[{"$f":"IF(源数据!A682=\"\",\"\",源数据!A682)","v":"韩版春装外套小西服女潮"},{"$f":"IF(源数据!B682=\"\",\"\",源数据!B682)","v":1},{"$f":"IF(源数据!C682=\"\",\"\",源数据!C682)","v":1},{"$f":"IF(源数据!D682=\"\",\"\",源数据!D682)","v":0},"潮","春装","女",0,"外套",0,0,"西服",0,0,0,0,0,0,0]
[{"$f":"IF(源数据!A683=\"\",\"\",源数据!A683)","v":"韩版春装西服修身女款"},{"$f":"IF(源数据!B683=\"\",\"\",源数据!B683)","v":1},{"$f":"IF(源数据!C683=\"\",\"\",源数据!C683)","v":1},{"$f":"IF(源数据!D683=\"\",\"\",源数据!D683)","v":0},0,"春装","女",0,0,0,0,"西服",0,"修身",0,0,0,0,0]
[{"$f":"IF(源数据!A684=\"\",\"\",源数据!A684)","v":"韩版春装小西装女"},{"$f":"IF(源数据!B684=\"\",\"\",源数据!B684)","v":1},{"$f":"IF(源数据!C684=\"\",\"\",源数据!C684)","v":1},{"$f":"IF(源数据!D684=\"\",\"\",源数据!D684)","v":0},0,"春装","女",0,0,"小西装",0,0,0,0,0,0,0,0,0]
[{"$f":"IF(源数据!A685=\"\",\"\",源数据!A685)","v":"韩版女 潮 外套"},{"$f":"IF(源数据!B685=\"\",\"\",源数据!B685)","v":1},{"$f":"IF(源数据!C685=\"\",\"\",源数据!C685)","v":0},{"$f":"IF(源数据!D685=\"\",\"\",源数据!D685)","v":0},"潮",0,"女",0,"外套",0,0,0,0,0,0,0,0,0,0]
[{"$f":"IF(源数据!A686=\"\",\"\",源数据!A686)","v":"韩版女 西服 春"},{"$f":"IF(源数据!B686=\"\",\"\",源数据!B686)","v":1},{"$f":"IF(源数据!C686=\"\",\"\",源数据!C686)","v":1},{"$f":"IF(源数据!D686=\"\",\"\",源数据!D686)","v":0},0,0,"女",0,0,0,0,"西服",0,0,0,0,0,0,0]
[{"$f":"IF(源数据!A687=\"\",\"\",源数据!A687)","v":"韩版女款休闲西服"},{"$f":"IF(源数据!B687=\"\",\"\",源数据!B687)","v":1},{"$f":"IF(源数据!C687=\"\",\"\",源数据!C687)","v":1},{"$f":"IF(源数据!D687=\"\",\"\",源数据!D687)","v":0},0,0,"女",0,0,0,0,"西服","休闲",0,0,0,0,0,0]
[{"$f":"IF(源数据!A688=\"\",\"\",源数据!A688)","v":"韩版女西服"},{"$f":"IF(源数据!B688=\"\",\"\",源数据!B688)","v":1},{"$f":"IF(源数据!C688=\"\",\"\",源数据!C688)","v":1},{"$f":"IF(源数据!D688=\"\",\"\",源数据!D688)","v":0},0,0,"女",0,0,0,0,"西服",0,0,0,0,0,0,0]
[{"$f":"IF(源数据!A689=\"\",\"\",源数据!A689)","v":"韩版女西装"},{"$f":"IF(源数据!B689=\"\",\"\",源数据!B689)","v":1},{"$f":"IF(源数据!C689=\"\",\"\",源数据!C689)","v":1},{"$f":"IF(源数据!D689=\"\",\"\",源数据!D689)","v":0},0,0,"女",0,0,0,0,0,0,0,0,0,0,0,0]
[{"$f":"IF(源数据!A690=\"\",\"\",源数据!A690)","v":"韩版女西装春装外套"},{"$f":"IF(源数据!B690=\"\",\"\",源数据!B690)","v":2},{"$f":"IF(源数据!C690=\"\",\"\",源数据!C690)","v":0},{"$f":"IF(源数据!D690=\"\",\"\",源数据!D690)","v":0},0,"春装","女",0,"外套",0,0,0,0,0,0,0,0,0,0]
[{"$f":"IF(源数据!A691=\"\",\"\",源数据!A691)","v":"韩版女西装外套"},{"$f":"IF(源数据!B691=\"\",\"\",源数据!B691)","v":1},{"$f":"IF(源数据!C691=\"\",\"\",源数据!C691)","v":1},{"$f":"IF(源数据!D691=\"\",\"\",源数据!D691)","v":0},0,0,"女",0,"外套",0,0,0,0,0,0,0,0,0,0]
[{"$f":"IF(源数据!A692=\"\",\"\",源数据!A692)","v":"韩版女装"},{"$f":"IF(源数据!B692=\"\",\"\",源数据!B692)","v":2},{"$f":"IF(源数据!C692=\"\",\"\",源数据!C692)","v":0.5},{"$f":"IF(源数据!D692=\"\",\"\",源数据!D692)","v":0},0,0,"女","女装",0,0,0,0,0,0,0,0,0,0,0]
[{"$f":"IF(源数据!A693=\"\",\"\",源数据!A693)","v":"韩版女装外套春秋"},{"$f":"IF(源数据!B693=\"\",\"\",源数据!B693)","v":1},{"$f":"IF(源数据!C693=\"\",\"\",源数据!C693)","v":1},{"$f":"IF(源数据!D693=\"\",\"\",源数据!D693)","v":0},0,0,"女","女装","外套",0,0,0,0,0,0,"春秋",0,0,0]
[{"$f":"IF(源数据!A694=\"\",\"\",源数据!A694)","v":"韩版女装外套小西装西服"},{"$f":"IF(源数据!B694=\"\",\"\",源数据!B694)","v":1},{"$f":"IF(源数据!C694=\"\",\"\",源数据!C694)","v":0},{"$f":"IF(源数据!D694=\"\",\"\",源数据!D694)","v":0},0,0,"女","女装","外套","小西装",0,"西服",0,0,0,0,0,0,0]
[{"$f":"IF(源数据!A695=\"\",\"\",源数据!A695)","v":"韩版女装西服外套"},{"$f":"IF(源数据!B695=\"\",\"\",源数据!B695)","v":1},{"$f":"IF(源数据!C695=\"\",\"\",源数据!C695)","v":1},{"$f":"IF(源数据!D695=\"\",\"\",源数据!D695)","v":0},0,0,"女","女装","外套",0,0,"西服",0,0,0,0,0,0,0]
[{"$f":"IF(源数据!A696=\"\",\"\",源数据!A696)","v":"韩版女装西装"},{"$f":"IF(源数据!B696=\"\",\"\",源数据!B696)","v":2},{"$f":"IF(源数据!C696=\"\",\"\",源数据!C696)","v":1},{"$f":"IF(源数据!D696=\"\",\"\",源数据!D696)","v":0},0,0,"女","女装",0,0,0,0,0,0,0,0,0,0,0]
[{"$f":"IF(源数据!A697=\"\",\"\",源数据!A697)","v":"韩版女装小西装"},{"$f":"IF(源数据!B697=\"\",\"\",源数据!B697)","v":1},{"$f":"IF(源数据!C697=\"\",\"\",源数据!C697)","v":0},{"$f":"IF(源数据!D697=\"\",\"\",源数据!D697)","v":0},0,0,"女","女装",0,"小西装",0,0,0,0,0,0,0,0,0]
[{"$f":"IF(源数据!A698=\"\",\"\",源数据!A698)","v":"韩版女装修身小西装中长款"},{"$f":"IF(源数据!B698=\"\",\"\",源数据!B698)","v":1},{"$f":"IF(源数据!C698=\"\",\"\",源数据!C698)","v":0},{"$f":"IF(源数据!D698=\"\",\"\",源数据!D698)","v":0},0,0,"女","女装",0,"小西装",0,0,0,"修身",0,0,0,0,0]
[{"$f":"IF(源数据!A699=\"\",\"\",源数据!A699)","v":"韩版女装修身休闲白色小西装西服女中长款"},{"$f":"IF(源数据!B699=\"\",\"\",源数据!B699)","v":2},{"$f":"IF(源数据!C699=\"\",\"\",源数据!C699)","v":0},{"$f":"IF(源数据!D699=\"\",\"\",源数据!D699)","v":0},0,0,"女","女装",0,"小西装",0,"西服","休闲","修身",0,0,"白色",0,0]
[{"$f":"IF(源数据!A700=\"\",\"\",源数据!A700)","v":"韩版拼接西装外套女装"},{"$f":"IF(源数据!B700=\"\",\"\",源数据!B700)","v":1},{"$f":"IF(源数据!C700=\"\",\"\",源数据!C700)","v":0},{"$f":"IF(源数据!D700=\"\",\"\",源数据!D700)","v":0},0,0,"女","女装","外套",0,0,0,0,0,0,0,0,0,0]
[{"$f":"IF(源数据!A701=\"\",\"\",源数据!A701)","v":"韩版糖果色西装"},{"$f":"IF(源数据!B701=\"\",\"\",源数据!B701)","v":1},{"$f":"IF(源数据!C701=\"\",\"\",源数据!C701)","v":1},{"$f":"IF(源数据!D701=\"\",\"\",源数据!D701)","v":0},0,0,0,0,0,0,0,0,0,0,0,0,0,0,0]
[{"$f":"IF(源数据!A702=\"\",\"\",源数据!A702)","v":"韩版外套 女 春"},{"$f":"IF(源数据!B702=\"\",\"\",源数据!B702)","v":1},{"$f":"IF(源数据!C702=\"\",\"\",源数据!C702)","v":1},{"$f":"IF(源数据!D702=\"\",\"\",源数据!D702)","v":0},0,0,"女",0,"外套",0,0,0,0,0,0,0,0,0,0]
[{"$f":"IF(源数据!A703=\"\",\"\",源数据!A703)","v":"韩版外套 女 春秋"},{"$f":"IF(源数据!B703=\"\",\"\",源数据!B703)","v":1},{"$f":"IF(源数据!C703=\"\",\"\",源数据!C703)","v":1},{"$f":"IF(源数据!D703=\"\",\"\",源数据!D703)","v":0},0,0,"女",0,"外套",0,0,0,0,0,0,"春秋",0,0,0]
[{"$f":"IF(源数据!A704=\"\",\"\",源数据!A704)","v":"韩版外套女春装新款"},{"$f":"IF(源数据!B704=\"\",\"\",源数据!B704)","v":1},{"$f":"IF(源数据!C704=\"\",\"\",源数据!C704)","v":1},{"$f":"IF(源数据!D704=\"\",\"\",源数据!D704)","v":0},0,"春装","女",0,"外套",0,0,0,0,0,0,0,0,0,0]
[{"$f":"IF(源数据!A705=\"\",\"\",源数据!A705)","v":"韩版外套女装春秋"},{"$f":"IF(源数据!B705=\"\",\"\",源数据!B705)","v":1},{"$f":"IF(源数据!C705=\"\",\"\",源数据!C705)","v":1},{"$f":"IF(源数据!D705=\"\",\"\",源数据!D705)","v":0},0,0,"女","女装","外套",0,0,0,0,0,0,"春秋",0,0,0]
[{"$f":"IF(源数据!A706=\"\",\"\",源数据!A706)","v":"韩版外套女装新款"},{"$f":"IF(源数据!B706=\"\",\"\",源数据!B706)","v":1},{"$f":"IF(源数据!C706=\"\",\"\",源数据!C706)","v":1},{"$f":"IF(源数据!D706=\"\",\"\",源数据!D706)","v":0},0,0,"女","女装","外套",0,0,0,0,0,0,0,0,0,0]
[{"$f":"IF(源数据!A707=\"\",\"\",源数据!A707)","v":"韩版西服"},{"$f":"IF(源数据!B707=\"\",\"\",源数据!B707)","v":1},{"$f":"IF(源数据!C707=\"\",\"\",源数据!C707)","v":1},{"$f":"IF(源数据!D707=\"\",\"\",源数据!D707)","v":0},{"$f":"IF($A706=\"\",\"\",IF(E$1=\"\",\"\",IF(IFERROR(SEARCH(E$1,$A707),0) >0,E$1,0)))","v":0},{"$f":"IF($A706=\"\",\"\",IF(F$1=\"\",\"\",IF(IFERROR(SEARCH(F$1,$A707),0) >0,F$1,0)))","v":0},{"$f":"IF($A706=\"\",\"\",IF(G$1=\"\",\"\",IF(IFERROR(SEARCH(G$1,$A707),0) >0,G$1,0)))","v":0},{"$f":"IF($A706=\"\",\"\",IF(H$1=\"\",\"\",IF(IFERROR(SEARCH(H$1,$A707),0) >0,H$1,0)))","v":0},{"$f":"IF($A706=\"\",\"\",IF(I$1=\"\",\"\",IF(IFERROR(SEARCH(I$1,$A707),0) >0,I$1,0)))","v":0},{"$f":"IF($A706=\"\",\"\",IF(J$1=\"\",\"\",IF(IFERROR(SEARCH(J$1,$A707),0) >0,J$1,0)))","v":0},{"$f":"IF($A706=\"\",\"\",IF(K$1=\"\",\"\",IF(IFERROR(SEARCH(K$1,$A707),0) >0,K$1,0)))","v":0},{"$f":"IF($A706=\"\",\"\",IF(L$1=\"\",\"\",IF(IFERROR(SEARCH(L$1,$A707),0) >0,L$1,0)))","v":"西服"},{"$f":"IF($A706=\"\",\"\",IF(M$1=\"\",\"\",IF(IFERROR(SEARCH(M$1,$A707),0) >0,M$1,0)))","v":0},{"$f":"IF($A706=\"\",\"\",IF(N$1=\"\",\"\",IF(IFERROR(SEARCH(N$1,$A707),0) >0,N$1,0)))","v":0},{"$f":"IF($A706=\"\",\"\",IF(O$1=\"\",\"\",IF(IFERROR(SEARCH(O$1,$A707),0) >0,O$1,0)))","v":0},{"$f":"IF($A706=\"\",\"\",IF(P$1=\"\",\"\",IF(IFERROR(SEARCH(P$1,$A707),0) >0,P$1,0)))","v":0},{"$f":"IF($A706=\"\",\"\",IF(Q$1=\"\",\"\",IF(IFERROR(SEARCH(Q$1,$A707),0) >0,Q$1,0)))","v":0},{"$f":"IF($A706=\"\",\"\",IF(R$1=\"\",\"\",IF(IFERROR(SEARCH(R$1,$A707),0) >0,R$1,0)))","v":0},{"$f":"IF($A706=\"\",\"\",IF(S$1=\"\",\"\",IF(IFERROR(SEARCH(S$1,$A707),0) >0,S$1,0)))","v":0}]
[{"$f":"IF(源数据!A708=\"\",\"\",源数据!A708)","v":"韩版西服 女"},{"$f":"IF(源数据!B708=\"\",\"\",源数据!B708)","v":1},{"$f":"IF(源数据!C708=\"\",\"\",源数据!C708)","v":1},{"$f":"IF(源数据!D708=\"\",\"\",源数据!D708)","v":0},0,0,"女",0,0,0,0,"西服",0,0,0,0,0,0,0]
[{"$f":"IF(源数据!A709=\"\",\"\",源数据!A709)","v":"韩版西服女"},{"$f":"IF(源数据!B709=\"\",\"\",源数据!B709)","v":5},{"$f":"IF(源数据!C709=\"\",\"\",源数据!C709)","v":0.2},{"$f":"IF(源数据!D709=\"\",\"\",源数据!D709)","v":1},0,0,"女",0,0,0,0,"西服",0,0,0,0,0,0,0]
[{"$f":"IF(源数据!A710=\"\",\"\",源数据!A710)","v":"韩版西服女士"},{"$f":"IF(源数据!B710=\"\",\"\",源数据!B710)","v":1},{"$f":"IF(源数据!C710=\"\",\"\",源数据!C710)","v":0},{"$f":"IF(源数据!D710=\"\",\"\",源数据!D710)","v":0},0,0,"女",0,0,0,0,"西服",0,0,0,0,0,0,0]
[{"$f":"IF(源数据!A711=\"\",\"\",源数据!A711)","v":"韩版西服女修身"},{"$f":"IF(源数据!B711=\"\",\"\",源数据!B711)","v":3},{"$f":"IF(源数据!C711=\"\",\"\",源数据!C711)","v":1},{"$f":"IF(源数据!D711=\"\",\"\",源数据!D711)","v":0},0,0,"女",0,0,0,0,"西服",0,"修身",0,0,0,0,0]
[{"$f":"IF(源数据!A712=\"\",\"\",源数据!A712)","v":"韩版西服外套 女"},{"$f":"IF(源数据!B712=\"\",\"\",源数据!B712)","v":1},{"$f":"IF(源数据!C712=\"\",\"\",源数据!C712)","v":0},{"$f":"IF(源数据!D712=\"\",\"\",源数据!D712)","v":0},0,0,"女",0,"外套",0,0,"西服",0,0,0,0,0,0,0]
[{"$f":"IF(源数据!A713=\"\",\"\",源数据!A713)","v":"韩版西服外套女"},{"$f":"IF(源数据!B713=\"\",\"\",源数据!B713)","v":2},{"$f":"IF(源数据!C713=\"\",\"\",源数据!C713)","v":1},{"$f":"IF(源数据!D713=\"\",\"\",源数据!D713)","v":0},0,0,"女",0,"外套",0,0,"西服",0,0,0,0,0,0,0]
[{"$f":"IF(源数据!A714=\"\",\"\",源数据!A714)","v":"韩版西装"},{"$f":"IF(源数据!B714=\"\",\"\",源数据!B714)","v":1},{"$f":"IF(源数据!C714=\"\",\"\",源数据!C714)","v":1},{"$f":"IF(源数据!D714=\"\",\"\",源数据!D714)","v":0},0,0,0,0,0,0,0,0,0,0,0,0,0,0,0]
[{"$f":"IF(源数据!A715=\"\",\"\",源数据!A715)","v":"韩版西装 女"},{"$f":"IF(源数据!B715=\"\",\"\",源数据!B715)","v":2},{"$f":"IF(源数据!C715=\"\",\"\",源数据!C715)","v":1},{"$f":"IF(源数据!D715=\"\",\"\",源数据!D715)","v":0},0,0,"女",0,0,0,0,0,0,0,0,0,0,0,0]
[{"$f":"IF(源数据!A716=\"\",\"\",源数据!A716)","v":"韩版西装 女 春秋"},{"$f":"IF(源数据!B716=\"\",\"\",源数据!B716)","v":1},{"$f":"IF(源数据!C716=\"\",\"\",源数据!C716)","v":1},{"$f":"IF(源数据!D716=\"\",\"\",源数据!D716)","v":0},0,0,"女",0,0,0,0,0,0,0,0,"春秋",0,0,0]
[{"$f":"IF(源数据!A717=\"\",\"\",源数据!A717)","v":"韩版西装女"},{"$f":"IF(源数据!B717=\"\",\"\",源数据!B717)","v":2},{"$f":"IF(源数据!C717=\"\",\"\",源数据!C717)","v":0},{"$f":"IF(源数据!D717=\"\",\"\",源数据!D717)","v":0},0,0,"女",0,0,0,0,0,0,0,0,0,0,0,0]
[{"$f":"IF(源数据!A718=\"\",\"\",源数据!A718)","v":"韩版西装女春"},{"$f":"IF(源数据!B718=\"\",\"\",源数据!B718)","v":1},{"$f":"IF(源数据!C718=\"\",\"\",源数据!C718)","v":1},{"$f":"IF(源数据!D718=\"\",\"\",源数据!D718)","v":0},0,0,"女",0,0,0,0,0,0,0,0,0,0,0,0]
[{"$f":"IF(源数据!A719=\"\",\"\",源数据!A719)","v":"韩版西装女款"},{"$f":"IF(源数据!B719=\"\",\"\",源数据!B719)","v":1},{"$f":"IF(源数据!C719=\"\",\"\",源数据!C719)","v":1},{"$f":"IF(源数据!D719=\"\",\"\",源数据!D719)","v":0},0,0,"女",0,0,0,0,0,0,0,0,0,0,0,0]
[{"$f":"IF(源数据!A720=\"\",\"\",源数据!A720)","v":"韩版西装女中长款"},{"$f":"IF(源数据!B720=\"\",\"\",源数据!B720)","v":6},{"$f":"IF(源数据!C720=\"\",\"\",源数据!C720)","v":0.5},{"$f":"IF(源数据!D720=\"\",\"\",源数据!D720)","v":0},0,0,"女",0,0,0,0,0,0,0,0,0,0,0,0]
[{"$f":"IF(源数据!A721=\"\",\"\",源数据!A721)","v":"韩版西装女装新款"},{"$f":"IF(源数据!B721=\"\",\"\",源数据!B721)","v":1},{"$f":"IF(源数据!C721=\"\",\"\",源数据!C721)","v":1},{"$f":"IF(源数据!D721=\"\",\"\",源数据!D721)","v":0},0,0,"女","女装",0,0,0,0,0,0,0,0,0,0,0]
[{"$f":"IF(源数据!A722=\"\",\"\",源数据!A722)","v":"韩版西装外套 女"},{"$f":"IF(源数据!B722=\"\",\"\",源数据!B722)","v":1},{"$f":"IF(源数据!C722=\"\",\"\",源数据!C722)","v":1},{"$f":"IF(源数据!D722=\"\",\"\",源数据!D722)","v":0},0,0,"女",0,"外套",0,0,0,0,0,0,0,0,0,0]
[{"$f":"IF(源数据!A723=\"\",\"\",源数据!A723)","v":"韩版西装外套女包邮"},{"$f":"IF(源数据!B723=\"\",\"\",源数据!B723)","v":1},{"$f":"IF(源数据!C723=\"\",\"\",源数据!C723)","v":0},{"$f":"IF(源数据!D723=\"\",\"\",源数据!D723)","v":0},0,0,"女",0,"外套",0,0,0,0,0,0,0,0,0,0]
[{"$f":"IF(源数据!A724=\"\",\"\",源数据!A724)","v":"韩版西装外套女装"},{"$f":"IF(源数据!B724=\"\",\"\",源数据!B724)","v":2},{"$f":"IF(源数据!C724=\"\",\"\",源数据!C724)","v":1},{"$f":"IF(源数据!D724=\"\",\"\",源数据!D724)","v":0},0,0,"女","女装","外套",0,0,0,0,0,0,0,0,0,0]
[{"$f":"IF(源数据!A725=\"\",\"\",源数据!A725)","v":"韩版小外套 女 春秋"},{"$f":"IF(源数据!B725=\"\",\"\",源数据!B725)","v":1},{"$f":"IF(源数据!C725=\"\",\"\",源数据!C725)","v":1},{"$f":"IF(源数据!D725=\"\",\"\",源数据!D725)","v":0},0,0,"女",0,"外套",0,0,0,0,0,0,"春秋",0,0,0]
[{"$f":"IF(源数据!A726=\"\",\"\",源数据!A726)","v":"韩版小外套女"},{"$f":"IF(源数据!B726=\"\",\"\",源数据!B726)","v":1},{"$f":"IF(源数据!C726=\"\",\"\",源数据!C726)","v":1},{"$f":"IF(源数据!D726=\"\",\"\",源数据!D726)","v":0},0,0,"女",0,"外套",0,0,0,0,0,0,0,0,0,0]
[{"$f":"IF(源数据!A727=\"\",\"\",源数据!A727)","v":"韩版小外套女小西装"},{"$f":"IF(源数据!B727=\"\",\"\",源数据!B727)","v":1},{"$f":"IF(源数据!C727=\"\",\"\",源数据!C727)","v":0},{"$f":"IF(源数据!D727=\"\",\"\",源数据!D727)","v":0},0,0,"女",0,"外套","小西装",0,0,0,0,0,0,0,0,0]
[{"$f":"IF(源数据!A728=\"\",\"\",源数据!A728)","v":"韩版小西服 女潮"},{"$f":"IF(源数据!B728=\"\",\"\",源数据!B728)","v":2},{"$f":"IF(源数据!C728=\"\",\"\",源数据!C728)","v":0.5},{"$f":"IF(源数据!D728=\"\",\"\",源数据!D728)","v":0},"潮",0,"女",0,0,0,0,"西服",0,0,0,0,0,0,0]
[{"$f":"IF(源数据!A729=\"\",\"\",源数据!A729)","v":"韩版小西服女修身"},{"$f":"IF(源数据!B729=\"\",\"\",源数据!B729)","v":5},{"$f":"IF(源数据!C729=\"\",\"\",源数据!C729)","v":0.6},{"$f":"IF(源数据!D729=\"\",\"\",源数据!D729)","v":0},0,0,"女",0,0,0,0,"西服",0,"修身",0,0,0,0,0]
[{"$f":"IF(源数据!A730=\"\",\"\",源数据!A730)","v":"韩版小西装"},{"$f":"IF(源数据!B730=\"\",\"\",源数据!B730)","v":1},{"$f":"IF(源数据!C730=\"\",\"\",源数据!C730)","v":1},{"$f":"IF(源数据!D730=\"\",\"\",源数据!D730)","v":0},0,0,0,0,0,"小西装",0,0,0,0,0,0,0,0,0]
[{"$f":"IF(源数据!A731=\"\",\"\",源数据!A731)","v":"韩版小西装 女"},{"$f":"IF(源数据!B731=\"\",\"\",源数据!B731)","v":1},{"$f":"IF(源数据!C731=\"\",\"\",源数据!C731)","v":1},{"$f":"IF(源数据!D731=\"\",\"\",源数据!D731)","v":0},0,0,"女",0,0,"小西装",0,0,0,0,0,0,0,0,0]
[{"$f":"IF(源数据!A732=\"\",\"\",源数据!A732)","v":"韩版小西装 女款"},{"$f":"IF(源数据!B732=\"\",\"\",源数据!B732)","v":1},{"$f":"IF(源数据!C732=\"\",\"\",源数据!C732)","v":1},{"$f":"IF(源数据!D732=\"\",\"\",源数据!D732)","v":0},0,0,"女",0,0,"小西装",0,0,0,0,0,0,0,0,0]
[{"$f":"IF(源数据!A733=\"\",\"\",源数据!A733)","v":"韩版小西装女"},{"$f":"IF(源数据!B733=\"\",\"\",源数据!B733)","v":3},{"$f":"IF(源数据!C733=\"\",\"\",源数据!C733)","v":1},{"$f":"IF(源数据!D733=\"\",\"\",源数据!D733)","v":0},0,0,"女",0,0,"小西装",0,0,0,0,0,0,0,0,0]
[{"$f":"IF(源数据!A734=\"\",\"\",源数据!A734)","v":"韩版小西装女款"},{"$f":"IF(源数据!B734=\"\",\"\",源数据!B734)","v":1},{"$f":"IF(源数据!C734=\"\",\"\",源数据!C734)","v":0},{"$f":"IF(源数据!D734=\"\",\"\",源数据!D734)","v":0},0,0,"女",0,0,"小西装",0,0,0,0,0,0,0,0,0]
[{"$f":"IF(源数据!A735=\"\",\"\",源数据!A735)","v":"韩版小西装女修身中长款小西服女"},{"$f":"IF(源数据!B735=\"\",\"\",源数据!B735)","v":1},{"$f":"IF(源数据!C735=\"\",\"\",源数据!C735)","v":1},{"$f":"IF(源数据!D735=\"\",\"\",源数据!D735)","v":0},0,0,"女",0,0,"小西装",0,"西服",0,"修身",0,0,0,0,0]
[{"$f":"IF(源数据!A736=\"\",\"\",源数据!A736)","v":"韩版小西装女装新款"},{"$f":"IF(源数据!B736=\"\",\"\",源数据!B736)","v":2},{"$f":"IF(源数据!C736=\"\",\"\",源数据!C736)","v":1},{"$f":"IF(源数据!D736=\"\",\"\",源数据!D736)","v":0},0,0,"女","女装",0,"小西装",0,0,0,0,0,0,0,0,0]
[{"$f":"IF(源数据!A737=\"\",\"\",源数据!A737)","v":"韩版小西装外套"},{"$f":"IF(源数据!B737=\"\",\"\",源数据!B737)","v":1},{"$f":"IF(源数据!C737=\"\",\"\",源数据!C737)","v":0},{"$f":"IF(源数据!D737=\"\",\"\",源数据!D737)","v":0},0,0,0,0,"外套","小西装",0,0,0,0,0,0,0,0,0]
[{"$f":"IF(源数据!A738=\"\",\"\",源数据!A738)","v":"韩版小西装修身女"},{"$f":"IF(源数据!B738=\"\",\"\",源数据!B738)","v":7},{"$f":"IF(源数据!C738=\"\",\"\",源数据!C738)","v":0.85709999999999997},{"$f":"IF(源数据!D738=\"\",\"\",源数据!D738)","v":0},0,0,"女",0,0,"小西装",0,0,0,"修身",0,0,0,0,0]
[{"$f":"IF(源数据!A739=\"\",\"\",源数据!A739)","v":"韩版休闲女修身西服"},{"$f":"IF(源数据!B739=\"\",\"\",源数据!B739)","v":1},{"$f":"IF(源数据!C739=\"\",\"\",源数据!C739)","v":1},{"$f":"IF(源数据!D739=\"\",\"\",源数据!D739)","v":0},0,0,"女",0,0,0,0,"西服","休闲","修身",0,0,0,0,0]
[{"$f":"IF(源数据!A740=\"\",\"\",源数据!A740)","v":"韩版休闲女装外套"},{"$f":"IF(源数据!B740=\"\",\"\",源数据!B740)","v":2},{"$f":"IF(源数据!C740=\"\",\"\",源数据!C740)","v":1},{"$f":"IF(源数据!D740=\"\",\"\",源数据!D740)","v":0},0,0,"女","女装","外套",0,0,0,"休闲",0,0,0,0,0,0]
[{"$f":"IF(源数据!A741=\"\",\"\",源数据!A741)","v":"韩版休闲西服"},{"$f":"IF(源数据!B741=\"\",\"\",源数据!B741)","v":1},{"$f":"IF(源数据!C741=\"\",\"\",源数据!C741)","v":1},{"$f":"IF(源数据!D741=\"\",\"\",源数据!D741)","v":0},0,0,0,0,0,0,0,"西服","休闲",0,0,0,0,0,0]
[{"$f":"IF(源数据!A742=\"\",\"\",源数据!A742)","v":"韩版休闲西服 女"},{"$f":"IF(源数据!B742=\"\",\"\",源数据!B742)","v":1},{"$f":"IF(源数据!C742=\"\",\"\",源数据!C742)","v":1},{"$f":"IF(源数据!D742=\"\",\"\",源数据!D742)","v":0},0,0,"女",0,0,0,0,"西服","休闲",0,0,0,0,0,0]
[{"$f":"IF(源数据!A743=\"\",\"\",源数据!A743)","v":"韩版休闲西服女"},{"$f":"IF(源数据!B743=\"\",\"\",源数据!B743)","v":1},{"$f":"IF(源数据!C743=\"\",\"\",源数据!C743)","v":1},{"$f":"IF(源数据!D743=\"\",\"\",源数据!D743)","v":0},0,0,"女",0,0,0,0,"西服","休闲",0,0,0,0,0,0]
[{"$f":"IF(源数据!A744=\"\",\"\",源数据!A744)","v":"韩版休闲西服女款"},{"$f":"IF(源数据!B744=\"\",\"\",源数据!B744)","v":1},{"$f":"IF(源数据!C744=\"\",\"\",源数据!C744)","v":1},{"$f":"IF(源数据!D744=\"\",\"\",源数据!D744)","v":0},0,0,"女",0,0,0,0,"西服","休闲",0,0,0,0,0,0]
[{"$f":"IF(源数据!A745=\"\",\"\",源数据!A745)","v":"韩版休闲西服中长女"},{"$f":"IF(源数据!B745=\"\",\"\",源数据!B745)","v":1},{"$f":"IF(源数据!C745=\"\",\"\",源数据!C745)","v":1},{"$f":"IF(源数据!D745=\"\",\"\",源数据!D745)","v":0},0,0,"女",0,0,0,0,"西服","休闲",0,0,0,0,0,0]
[{"$f":"IF(源数据!A746=\"\",\"\",源数据!A746)","v":"韩版休闲西装 女"},{"$f":"IF(源数据!B746=\"\",\"\",源数据!B746)","v":1},{"$f":"IF(源数据!C746=\"\",\"\",源数据!C746)","v":1},{"$f":"IF(源数据!D746=\"\",\"\",源数据!D746)","v":0},0,0,"女",0,0,0,0,0,"休闲",0,0,0,0,0,0]
[{"$f":"IF(源数据!A747=\"\",\"\",源数据!A747)","v":"韩版休闲小西装外套2013春装新款女装中长款修身西服"},{"$f":"IF(源数据!B747=\"\",\"\",源数据!B747)","v":1},{"$f":"IF(源数据!C747=\"\",\"\",源数据!C747)","v":1},{"$f":"IF(源数据!D747=\"\",\"\",源数据!D747)","v":0},0,"春装","女","女装","外套","小西装",2013,"西服","休闲","修身",0,0,0,0,0]
[{"$f":"IF(源数据!A748=\"\",\"\",源数据!A748)","v":"韩版休闲修身显瘦垫肩中长款小西服外套"},{"$f":"IF(源数据!B748=\"\",\"\",源数据!B748)","v":1},{"$f":"IF(源数据!C748=\"\",\"\",源数据!C748)","v":1},{"$f":"IF(源数据!D748=\"\",\"\",源数据!D748)","v":0},0,0,0,0,"外套",0,0,"西服","休闲","修身",0,0,0,0,0]
[{"$f":"IF(源数据!A749=\"\",\"\",源数据!A749)","v":"韩版修身外套 女"},{"$f":"IF(源数据!B749=\"\",\"\",源数据!B749)","v":1},{"$f":"IF(源数据!C749=\"\",\"\",源数据!C749)","v":1},{"$f":"IF(源数据!D749=\"\",\"\",源数据!D749)","v":0},0,0,"女",0,"外套",0,0,0,0,"修身",0,0,0,0,0]
[{"$f":"IF(源数据!A750=\"\",\"\",源数据!A750)","v":"韩版修身外套女潮"},{"$f":"IF(源数据!B750=\"\",\"\",源数据!B750)","v":1},{"$f":"IF(源数据!C750=\"\",\"\",源数据!C750)","v":0},{"$f":"IF(源数据!D750=\"\",\"\",源数据!D750)","v":0},"潮",0,"女",0,"外套",0,0,0,0,"修身",0,0,0,0,0]
[{"$f":"IF(源数据!A751=\"\",\"\",源数据!A751)","v":"韩版修身西服女款"},{"$f":"IF(源数据!B751=\"\",\"\",源数据!B751)","v":1},{"$f":"IF(源数据!C751=\"\",\"\",源数据!C751)","v":0},{"$f":"IF(源数据!D751=\"\",\"\",源数据!D751)","v":1},0,0,"女",0,0,0,0,"西服",0,"修身",0,0,0,0,0]
[{"$f":"IF(源数据!A752=\"\",\"\",源数据!A752)","v":"韩版修身西装外套女"},{"$f":"IF(源数据!B752=\"\",\"\",源数据!B752)","v":2},{"$f":"IF(源数据!C752=\"\",\"\",源数据!C752)","v":1},{"$f":"IF(源数据!D752=\"\",\"\",源数据!D752)","v":0},0,0,"女",0,"外套",0,0,0,0,"修身",0,0,0,0,0]
[{"$f":"IF(源数据!A753=\"\",\"\",源数据!A753)","v":"韩版修身西装外套女白色"},{"$f":"IF(源数据!B753=\"\",\"\",源数据!B753)","v":1},{"$f":"IF(源数据!C753=\"\",\"\",源数据!C753)","v":1},{"$f":"IF(源数据!D753=\"\",\"\",源数据!D753)","v":0},0,0,"女",0,"外套",0,0,0,0,"修身",0,0,"白色",0,0]
[{"$f":"IF(源数据!A754=\"\",\"\",源数据!A754)","v":"韩版修身小外套"},{"$f":"IF(源数据!B754=\"\",\"\",源数据!B754)","v":1},{"$f":"IF(源数据!C754=\"\",\"\",源数据!C754)","v":1},{"$f":"IF(源数据!D754=\"\",\"\",源数据!D754)","v":0},0,0,0,0,"外套",0,0,0,0,"修身",0,0,0,0,0]
[{"$f":"IF(源数据!A755=\"\",\"\",源数据!A755)","v":"韩版修身小西服女"},{"$f":"IF(源数据!B755=\"\",\"\",源数据!B755)","v":1},{"$f":"IF(源数据!C755=\"\",\"\",源数据!C755)","v":1},{"$f":"IF(源数据!D755=\"\",\"\",源数据!D755)","v":0},0,0,"女",0,0,0,0,"西服",0,"修身",0,0,0,0,0]
[{"$f":"IF(源数据!A756=\"\",\"\",源数据!A756)","v":"韩版修身小西装"},{"$f":"IF(源数据!B756=\"\",\"\",源数据!B756)","v":1},{"$f":"IF(源数据!C756=\"\",\"\",源数据!C756)","v":0},{"$f":"IF(源数据!D756=\"\",\"\",源数据!D756)","v":1},0,0,0,0,0,"小西装",0,0,0,"修身",0,0,0,0,0]
[{"$f":"IF(源数据!A757=\"\",\"\",源数据!A757)","v":"韩版修身小西装女"},{"$f":"IF(源数据!B757=\"\",\"\",源数据!B757)","v":1},{"$f":"IF(源数据!C757=\"\",\"\",源数据!C757)","v":1},{"$f":"IF(源数据!D757=\"\",\"\",源数据!D757)","v":0},0,0,"女",0,0,"小西装",0,0,0,"修身",0,0,0,0,0]
[{"$f":"IF(源数据!A758=\"\",\"\",源数据!A758)","v":"韩版修身小西装女春装"},{"$f":"IF(源数据!B758=\"\",\"\",源数据!B758)","v":2},{"$f":"IF(源数据!C758=\"\",\"\",源数据!C758)","v":1},{"$f":"IF(源数据!D758=\"\",\"\",源数据!D758)","v":0},0,"春装","女",0,0,"小西装",0,0,0,"修身",0,0,0,0,0]
[{"$f":"IF(源数据!A759=\"\",\"\",源数据!A759)","v":"韩版修身休闲小西装外套"},{"$f":"IF(源数据!B759=\"\",\"\",源数据!B759)","v":1},{"$f":"IF(源数据!C759=\"\",\"\",源数据!C759)","v":1},{"$f":"IF(源数据!D759=\"\",\"\",源数据!D759)","v":0},0,0,0,0,"外套","小西装",0,0,"休闲","修身",0,0,0,0,0]
[{"$f":"IF(源数据!A760=\"\",\"\",源数据!A760)","v":"韩版修身休闲小西装外套包邮"},{"$f":"IF(源数据!B760=\"\",\"\",源数据!B760)","v":1},{"$f":"IF(源数据!C760=\"\",\"\",源数据!C760)","v":1},{"$f":"IF(源数据!D760=\"\",\"\",源数据!D760)","v":0},0,0,0,0,"外套","小西装",0,0,"休闲","修身",0,0,0,0,0]
[{"$f":"IF(源数据!A761=\"\",\"\",源数据!A761)","v":"韩版修身休闲中长款一粒扣雪纺小西装"},{"$f":"IF(源数据!B761=\"\",\"\",源数据!B761)","v":1},{"$f":"IF(源数据!C761=\"\",\"\",源数据!C761)","v":1},{"$f":"IF(源数据!D761=\"\",\"\",源数据!D761)","v":0},0,0,0,0,0,"小西装",0,0,"休闲","修身",0,0,0,0,0]
[{"$f":"IF(源数据!A762=\"\",\"\",源数据!A762)","v":"韩版修身休闲中长款一粒扣雪纺小西装西服外套"},{"$f":"IF(源数据!B762=\"\",\"\",源数据!B762)","v":3},{"$f":"IF(源数据!C762=\"\",\"\",源数据!C762)","v":0.33329999999999999},{"$f":"IF(源数据!D762=\"\",\"\",源数据!D762)","v":0},0,0,0,0,"外套","小西装",0,"西服","休闲","修身",0,0,0,0,0]
[{"$f":"IF(源数据!A763=\"\",\"\",源数据!A763)","v":"韩版修身雪纺拼接西服"},{"$f":"IF(源数据!B763=\"\",\"\",源数据!B763)","v":1},{"$f":"IF(源数据!C763=\"\",\"\",源数据!C763)","v":1},{"$f":"IF(源数据!D763=\"\",\"\",源数据!D763)","v":0},0,0,0,0,0,0,0,"西服",0,"修身",0,0,0,0,0]
[{"$f":"IF(源数据!A764=\"\",\"\",源数据!A764)","v":"韩版修身中长款小西装"},{"$f":"IF(源数据!B764=\"\",\"\",源数据!B764)","v":3},{"$f":"IF(源数据!C764=\"\",\"\",源数据!C764)","v":0.33329999999999999},{"$f":"IF(源数据!D764=\"\",\"\",源数据!D764)","v":0},0,0,0,0,0,"小西装",0,0,0,"修身",0,0,0,0,0]
[{"$f":"IF(源数据!A765=\"\",\"\",源数据!A765)","v":"韩版修身中长款雪纺小西服"},{"$f":"IF(源数据!B765=\"\",\"\",源数据!B765)","v":2},{"$f":"IF(源数据!C765=\"\",\"\",源数据!C765)","v":0},{"$f":"IF(源数据!D765=\"\",\"\",源数据!D765)","v":0},0,0,0,0,0,0,0,"西服",0,"修身",0,0,0,0,0]
[{"$f":"IF(源数据!A766=\"\",\"\",源数据!A766)","v":"韩版雪纺西装外套 女"},{"$f":"IF(源数据!B766=\"\",\"\",源数据!B766)","v":1},{"$f":"IF(源数据!C766=\"\",\"\",源数据!C766)","v":0},{"$f":"IF(源数据!D766=\"\",\"\",源数据!D766)","v":0},0,0,"女",0,"外套",0,0,0,0,0,0,0,0,0,0]
[{"$f":"IF(源数据!A767=\"\",\"\",源数据!A767)","v":"韩版中长款长袖修身小西装"},{"$f":"IF(源数据!B767=\"\",\"\",源数据!B767)","v":2},{"$f":"IF(源数据!C767=\"\",\"\",源数据!C767)","v":0},{"$f":"IF(源数据!D767=\"\",\"\",源数据!D767)","v":0},0,0,0,0,0,"小西装",0,0,0,"修身",0,0,0,0,0]
[{"$f":"IF(源数据!A768=\"\",\"\",源数据!A768)","v":"韩版中长款西装女"},{"$f":"IF(源数据!B768=\"\",\"\",源数据!B768)","v":1},{"$f":"IF(源数据!C768=\"\",\"\",源数据!C768)","v":1},{"$f":"IF(源数据!D768=\"\",\"\",源数据!D768)","v":0},0,0,"女",0,0,0,0,0,0,0,0,0,0,0,0]
[{"$f":"IF(源数据!A769=\"\",\"\",源数据!A769)","v":"韩版中长款修身西服"},{"$f":"IF(源数据!B769=\"\",\"\",源数据!B769)","v":1},{"$f":"IF(源数据!C769=\"\",\"\",源数据!C769)","v":1},{"$f":"IF(源数据!D769=\"\",\"\",源数据!D769)","v":0},0,0,0,0,0,0,0,"西服",0,"修身",0,0,0,0,0]
[{"$f":"IF(源数据!A770=\"\",\"\",源数据!A770)","v":"韩版中长款修身小西服女装"},{"$f":"IF(源数据!B770=\"\",\"\",源数据!B770)","v":1},{"$f":"IF(源数据!C770=\"\",\"\",源数据!C770)","v":1},{"$f":"IF(源数据!D770=\"\",\"\",源数据!D770)","v":0},0,0,"女","女装",0,0,0,"西服",0,"修身",0,0,0,0,0]
[{"$f":"IF(源数据!A771=\"\",\"\",源数据!A771)","v":"韩小西装女"},{"$f":"IF(源数据!B771=\"\",\"\",源数据!B771)","v":1},{"$f":"IF(源数据!C771=\"\",\"\",源数据!C771)","v":1},{"$f":"IF(源数据!D771=\"\",\"\",源数据!D771)","v":0},{"$f":"IF($A770=\"\",\"\",IF(E$1=\"\",\"\",IF(IFERROR(SEARCH(E$1,$A771),0) >0,E$1,0)))","v":0},{"$f":"IF($A770=\"\",\"\",IF(F$1=\"\",\"\",IF(IFERROR(SEARCH(F$1,$A771),0) >0,F$1,0)))","v":0},{"$f":"IF($A770=\"\",\"\",IF(G$1=\"\",\"\",IF(IFERROR(SEARCH(G$1,$A771),0) >0,G$1,0)))","v":"女"},{"$f":"IF($A770=\"\",\"\",IF(H$1=\"\",\"\",IF(IFERROR(SEARCH(H$1,$A771),0) >0,H$1,0)))","v":0},{"$f":"IF($A770=\"\",\"\",IF(I$1=\"\",\"\",IF(IFERROR(SEARCH(I$1,$A771),0) >0,I$1,0)))","v":0},{"$f":"IF($A770=\"\",\"\",IF(J$1=\"\",\"\",IF(IFERROR(SEARCH(J$1,$A771),0) >0,J$1,0)))","v":"小西装"},{"$f":"IF($A770=\"\",\"\",IF(K$1=\"\",\"\",IF(IFERROR(SEARCH(K$1,$A771),0) >0,K$1,0)))","v":0},{"$f":"IF($A770=\"\",\"\",IF(L$1=\"\",\"\",IF(IFERROR(SEARCH(L$1,$A771),0) >0,L$1,0)))","v":0},{"$f":"IF($A770=\"\",\"\",IF(M$1=\"\",\"\",IF(IFERROR(SEARCH(M$1,$A771),0) >0,M$1,0)))","v":0},{"$f":"IF($A770=\"\",\"\",IF(N$1=\"\",\"\",IF(IFERROR(SEARCH(N$1,$A771),0) >0,N$1,0)))","v":0},{"$f":"IF($A770=\"\",\"\",IF(O$1=\"\",\"\",IF(IFERROR(SEARCH(O$1,$A771),0) >0,O$1,0)))","v":0},{"$f":"IF($A770=\"\",\"\",IF(P$1=\"\",\"\",IF(IFERROR(SEARCH(P$1,$A771),0) >0,P$1,0)))","v":0},{"$f":"IF($A770=\"\",\"\",IF(Q$1=\"\",\"\",IF(IFERROR(SEARCH(Q$1,$A771),0) >0,Q$1,0)))","v":0},{"$f":"IF($A770=\"\",\"\",IF(R$1=\"\",\"\",IF(IFERROR(SEARCH(R$1,$A771),0) >0,R$1,0)))","v":0},{"$f":"IF($A770=\"\",\"\",IF(S$1=\"\",\"\",IF(IFERROR(SEARCH(S$1,$A771),0) >0,S$1,0)))","v":0}]
[{"$f":"IF(源数据!A772=\"\",\"\",源数据!A772)","v":"荷叶边西服"},{"$f":"IF(源数据!B772=\"\",\"\",源数据!B772)","v":1},{"$f":"IF(源数据!C772=\"\",\"\",源数据!C772)","v":1},{"$f":"IF(源数据!D772=\"\",\"\",源数据!D772)","v":0},0,0,0,0,0,0,0,"西服",0,0,0,0,0,0,0]
[{"$f":"IF(源数据!A773=\"\",\"\",源数据!A773)","v":"黑 修身 小西装 休闲 潮"},{"$f":"IF(源数据!B773=\"\",\"\",源数据!B773)","v":1},{"$f":"IF(源数据!C773=\"\",\"\",源数据!C773)","v":1},{"$f":"IF(源数据!D773=\"\",\"\",源数据!D773)","v":0},"潮",0,0,0,0,"小西装",0,0,"休闲","修身",0,0,0,0,0]
[{"$f":"IF(源数据!A774=\"\",\"\",源数据!A774)","v":"黑白色外套"},{"$f":"IF(源数据!B774=\"\",\"\",源数据!B774)","v":1},{"$f":"IF(源数据!C774=\"\",\"\",源数据!C774)","v":1},{"$f":"IF(源数据!D774=\"\",\"\",源数据!D774)","v":0},0,0,0,0,"外套",0,0,0,0,0,0,0,"白色",0,0]
[{"$f":"IF(源数据!A775=\"\",\"\",源数据!A775)","v":"黑色 小西装 女"},{"$f":"IF(源数据!B775=\"\",\"\",源数据!B775)","v":1},{"$f":"IF(源数据!C775=\"\",\"\",源数据!C775)","v":1},{"$f":"IF(源数据!D775=\"\",\"\",源数据!D775)","v":0},0,0,"女",0,0,"小西装",0,0,0,0,0,0,0,0,0]
[{"$f":"IF(源数据!A776=\"\",\"\",源数据!A776)","v":"黑色女西装外套"},{"$f":"IF(源数据!B776=\"\",\"\",源数据!B776)","v":1},{"$f":"IF(源数据!C776=\"\",\"\",源数据!C776)","v":1},{"$f":"IF(源数据!D776=\"\",\"\",源数据!D776)","v":0},0,0,"女",0,"外套",0,0,0,0,0,0,0,0,0,0]
[{"$f":"IF(源数据!A777=\"\",\"\",源数据!A777)","v":"黑色西服女修身"},{"$f":"IF(源数据!B777=\"\",\"\",源数据!B777)","v":1},{"$f":"IF(源数据!C777=\"\",\"\",源数据!C777)","v":1},{"$f":"IF(源数据!D777=\"\",\"\",源数据!D777)","v":0},0,0,"女",0,0,0,0,"西服",0,"修身",0,0,0,0,0]
[{"$f":"IF(源数据!A778=\"\",\"\",源数据!A778)","v":"黑色西装 女"},{"$f":"IF(源数据!B778=\"\",\"\",源数据!B778)","v":1},{"$f":"IF(源数据!C778=\"\",\"\",源数据!C778)","v":1},{"$f":"IF(源数据!D778=\"\",\"\",源数据!D778)","v":0},0,0,"女",0,0,0,0,0,0,0,0,0,0,0,0]
[{"$f":"IF(源数据!A779=\"\",\"\",源数据!A779)","v":"黑色西装 女 修身"},{"$f":"IF(源数据!B779=\"\",\"\",源数据!B779)","v":2},{"$f":"IF(源数据!C779=\"\",\"\",源数据!C779)","v":1},{"$f":"IF(源数据!D779=\"\",\"\",源数据!D779)","v":0},0,0,"女",0,0,0,0,0,0,"修身",0,0,0,0,0]
[{"$f":"IF(源数据!A780=\"\",\"\",源数据!A780)","v":"黑色西装外套 女"},{"$f":"IF(源数据!B780=\"\",\"\",源数据!B780)","v":1},{"$f":"IF(源数据!C780=\"\",\"\",源数据!C780)","v":1},{"$f":"IF(源数据!D780=\"\",\"\",源数据!D780)","v":0},0,0,"女",0,"外套",0,0,0,0,0,0,0,0,0,0]
[{"$f":"IF(源数据!A781=\"\",\"\",源数据!A781)","v":"黑色小西服女"},{"$f":"IF(源数据!B781=\"\",\"\",源数据!B781)","v":1},{"$f":"IF(源数据!C781=\"\",\"\",源数据!C781)","v":1},{"$f":"IF(源数据!D781=\"\",\"\",源数据!D781)","v":0},0,0,"女",0,0,0,0,"西服",0,0,0,0,0,0,0]
[{"$f":"IF(源数据!A782=\"\",\"\",源数据!A782)","v":"黑色小西装 女"},{"$f":"IF(源数据!B782=\"\",\"\",源数据!B782)","v":1},{"$f":"IF(源数据!C782=\"\",\"\",源数据!C782)","v":0},{"$f":"IF(源数据!D782=\"\",\"\",源数据!D782)","v":0},0,0,"女",0,0,"小西装",0,0,0,0,0,0,0,0,0]
[{"$f":"IF(源数据!A783=\"\",\"\",源数据!A783)","v":"黑色小西装 女 修身"},{"$f":"IF(源数据!B783=\"\",\"\",源数据!B783)","v":2},{"$f":"IF(源数据!C783=\"\",\"\",源数据!C783)","v":1},{"$f":"IF(源数据!D783=\"\",\"\",源数据!D783)","v":0},0,0,"女",0,0,"小西装",0,0,0,"修身",0,0,0,0,0]
[{"$f":"IF(源数据!A784=\"\",\"\",源数据!A784)","v":"黑色小西装 修身 女 韩版"},{"$f":"IF(源数据!B784=\"\",\"\",源数据!B784)","v":1},{"$f":"IF(源数据!C784=\"\",\"\",源数据!C784)","v":1},{"$f":"IF(源数据!D784=\"\",\"\",源数据!D784)","v":0},0,0,"女",0,0,"小西装",0,0,0,"修身",0,0,0,0,0]
[{"$f":"IF(源数据!A785=\"\",\"\",源数据!A785)","v":"黑色小西装休闲 特价"},{"$f":"IF(源数据!B785=\"\",\"\",源数据!B785)","v":1},{"$f":"IF(源数据!C785=\"\",\"\",源数据!C785)","v":1},{"$f":"IF(源数据!D785=\"\",\"\",源数据!D785)","v":0},0,0,0,0,0,"小西装",0,0,"休闲",0,0,0,0,0,0]
[{"$f":"IF(源数据!A786=\"\",\"\",源数据!A786)","v":"黑色修身小西服"},{"$f":"IF(源数据!B786=\"\",\"\",源数据!B786)","v":1},{"$f":"IF(源数据!C786=\"\",\"\",源数据!C786)","v":1},{"$f":"IF(源数据!D786=\"\",\"\",源数据!D786)","v":0},0,0,0,0,0,0,0,"西服",0,"修身",0,0,0,0,0]
[{"$f":"IF(源数据!A787=\"\",\"\",源数据!A787)","v":"黑色修身小西装女"},{"$f":"IF(源数据!B787=\"\",\"\",源数据!B787)","v":1},{"$f":"IF(源数据!C787=\"\",\"\",源数据!C787)","v":1},{"$f":"IF(源数据!D787=\"\",\"\",源数据!D787)","v":0},0,0,"女",0,0,"小西装",0,0,0,"修身",0,0,0,0,0]
[{"$f":"IF(源数据!A788=\"\",\"\",源数据!A788)","v":"黑外套"},{"$f":"IF(源数据!B788=\"\",\"\",源数据!B788)","v":1},{"$f":"IF(源数据!C788=\"\",\"\",源数据!C788)","v":1},{"$f":"IF(源数据!D788=\"\",\"\",源数据!D788)","v":0},0,0,0,0,"外套",0,0,0,0,0,0,0,0,0,0]
[{"$f":"IF(源数据!A789=\"\",\"\",源数据!A789)","v":"红 西装"},{"$f":"IF(源数据!B789=\"\",\"\",源数据!B789)","v":1},{"$f":"IF(源数据!C789=\"\",\"\",源数据!C789)","v":0},{"$f":"IF(源数据!D789=\"\",\"\",源数据!D789)","v":0},0,0,0,0,0,0,0,0,0,0,0,0,0,0,0]
[{"$f":"IF(源数据!A790=\"\",\"\",源数据!A790)","v":"红色 西装外套 女"},{"$f":"IF(源数据!B790=\"\",\"\",源数据!B790)","v":1},{"$f":"IF(源数据!C790=\"\",\"\",源数据!C790)","v":0},{"$f":"IF(源数据!D790=\"\",\"\",源数据!D790)","v":0},0,0,"女",0,"外套",0,0,0,0,0,0,0,0,0,0]
[{"$f":"IF(源数据!A791=\"\",\"\",源数据!A791)","v":"红色 修身 小西装"},{"$f":"IF(源数据!B791=\"\",\"\",源数据!B791)","v":1},{"$f":"IF(源数据!C791=\"\",\"\",源数据!C791)","v":1},{"$f":"IF(源数据!D791=\"\",\"\",源数据!D791)","v":0},0,0,0,0,0,"小西装",0,0,0,"修身",0,0,0,0,0]
[{"$f":"IF(源数据!A792=\"\",\"\",源数据!A792)","v":"红色长款西服"},{"$f":"IF(源数据!B792=\"\",\"\",源数据!B792)","v":1},{"$f":"IF(源数据!C792=\"\",\"\",源数据!C792)","v":1},{"$f":"IF(源数据!D792=\"\",\"\",源数据!D792)","v":0},0,0,0,0,0,0,0,"西服",0,0,0,0,0,0,0]
[{"$f":"IF(源数据!A793=\"\",\"\",源数据!A793)","v":"红色长款西装"},{"$f":"IF(源数据!B793=\"\",\"\",源数据!B793)","v":1},{"$f":"IF(源数据!C793=\"\",\"\",源数据!C793)","v":1},{"$f":"IF(源数据!D793=\"\",\"\",源数据!D793)","v":0},0,0,0,0,0,0,0,0,0,0,0,0,0,0,0]
[{"$f":"IF(源数据!A794=\"\",\"\",源数据!A794)","v":"红色西装"},{"$f":"IF(源数据!B794=\"\",\"\",源数据!B794)","v":3},{"$f":"IF(源数据!C794=\"\",\"\",源数据!C794)","v":1},{"$f":"IF(源数据!D794=\"\",\"\",源数据!D794)","v":0},0,0,0,0,0,0,0,0,0,0,0,0,0,0,0]
[{"$f":"IF(源数据!A795=\"\",\"\",源数据!A795)","v":"红色西装 女"},{"$f":"IF(源数据!B795=\"\",\"\",源数据!B795)","v":1},{"$f":"IF(源数据!C795=\"\",\"\",源数据!C795)","v":1},{"$f":"IF(源数据!D795=\"\",\"\",源数据!D795)","v":0},0,0,"女",0,0,0,0,0,0,0,0,0,0,0,0]
[{"$f":"IF(源数据!A796=\"\",\"\",源数据!A796)","v":"红色小西服 女"},{"$f":"IF(源数据!B796=\"\",\"\",源数据!B796)","v":1},{"$f":"IF(源数据!C796=\"\",\"\",源数据!C796)","v":1},{"$f":"IF(源数据!D796=\"\",\"\",源数据!D796)","v":0},0,0,"女",0,0,0,0,"西服",0,0,0,0,0,0,0]
[{"$f":"IF(源数据!A797=\"\",\"\",源数据!A797)","v":"红色小西装"},{"$f":"IF(源数据!B797=\"\",\"\",源数据!B797)","v":2},{"$f":"IF(源数据!C797=\"\",\"\",源数据!C797)","v":0.5},{"$f":"IF(源数据!D797=\"\",\"\",源数据!D797)","v":0},0,0,0,0,0,"小西装",0,0,0,0,0,0,0,0,0]
[{"$f":"IF(源数据!A798=\"\",\"\",源数据!A798)","v":"红色小西装女修身"},{"$f":"IF(源数据!B798=\"\",\"\",源数据!B798)","v":1},{"$f":"IF(源数据!C798=\"\",\"\",源数据!C798)","v":1},{"$f":"IF(源数据!D798=\"\",\"\",源数据!D798)","v":0},0,0,"女",0,0,"小西装",0,0,0,"修身",0,0,0,0,0]
[{"$f":"IF(源数据!A799=\"\",\"\",源数据!A799)","v":"红西装女"},{"$f":"IF(源数据!B799=\"\",\"\",源数据!B799)","v":1},{"$f":"IF(源数据!C799=\"\",\"\",源数据!C799)","v":1},{"$f":"IF(源数据!D799=\"\",\"\",源数据!D799)","v":0},0,0,"女",0,0,0,0,0,0,0,0,0,0,0,0]
[{"$f":"IF(源数据!A800=\"\",\"\",源数据!A800)","v":"红袖"},{"$f":"IF(源数据!B800=\"\",\"\",源数据!B800)","v":3},{"$f":"IF(源数据!C800=\"\",\"\",源数据!C800)","v":0.33329999999999999},{"$f":"IF(源数据!D800=\"\",\"\",源数据!D800)","v":0},0,0,0,0,0,0,0,0,0,0,0,0,0,0,0]
[{"$f":"IF(源数据!A801=\"\",\"\",源数据!A801)","v":"红袖 女装"},{"$f":"IF(源数据!B801=\"\",\"\",源数据!B801)","v":1},{"$f":"IF(源数据!C801=\"\",\"\",源数据!C801)","v":1},{"$f":"IF(源数据!D801=\"\",\"\",源数据!D801)","v":0},0,0,"女","女装",0,0,0,0,0,0,0,0,0,0,0]
[{"$f":"IF(源数据!A802=\"\",\"\",源数据!A802)","v":"红袖 春秋"},{"$f":"IF(源数据!B802=\"\",\"\",源数据!B802)","v":1},{"$f":"IF(源数据!C802=\"\",\"\",源数据!C802)","v":1},{"$f":"IF(源数据!D802=\"\",\"\",源数据!D802)","v":0},0,0,0,0,0,0,0,0,0,0,0,"春秋",0,0,0]
[{"$f":"IF(源数据!A803=\"\",\"\",源数据!A803)","v":"红袖 连衣裙"},{"$f":"IF(源数据!B803=\"\",\"\",源数据!B803)","v":1},{"$f":"IF(源数据!C803=\"\",\"\",源数据!C803)","v":0},{"$f":"IF(源数据!D803=\"\",\"\",源数据!D803)","v":0},0,0,0,0,0,0,0,0,0,0,0,0,0,0,0]
[{"$f":"IF(源数据!A804=\"\",\"\",源数据!A804)","v":"红袖 西服"},{"$f":"IF(源数据!B804=\"\",\"\",源数据!B804)","v":1},{"$f":"IF(源数据!C804=\"\",\"\",源数据!C804)","v":1},{"$f":"IF(源数据!D804=\"\",\"\",源数据!D804)","v":0},0,0,0,0,0,0,0,"西服",0,0,0,0,0,0,0]
[{"$f":"IF(源数据!A805=\"\",\"\",源数据!A805)","v":"红袖2012秋"},{"$f":"IF(源数据!B805=\"\",\"\",源数据!B805)","v":1},{"$f":"IF(源数据!C805=\"\",\"\",源数据!C805)","v":1},{"$f":"IF(源数据!D805=\"\",\"\",源数据!D805)","v":0},0,0,0,0,0,0,0,0,0,0,0,0,0,0,0]
[{"$f":"IF(源数据!A806=\"\",\"\",源数据!A806)","v":"红袖2013春装"},{"$f":"IF(源数据!B806=\"\",\"\",源数据!B806)","v":1},{"$f":"IF(源数据!C806=\"\",\"\",源数据!C806)","v":1},{"$f":"IF(源数据!D806=\"\",\"\",源数据!D806)","v":0},0,"春装",0,0,0,0,2013,0,0,0,0,0,0,0,0]
[{"$f":"IF(源数据!A807=\"\",\"\",源数据!A807)","v":"红袖2013春装 白色小西装"},{"$f":"IF(源数据!B807=\"\",\"\",源数据!B807)","v":1},{"$f":"IF(源数据!C807=\"\",\"\",源数据!C807)","v":1},{"$f":"IF(源数据!D807=\"\",\"\",源数据!D807)","v":0},0,"春装",0,0,0,"小西装",2013,0,0,0,0,0,"白色",0,0]
[{"$f":"IF(源数据!A808=\"\",\"\",源数据!A808)","v":"红袖2013春装白西服"},{"$f":"IF(源数据!B808=\"\",\"\",源数据!B808)","v":1},{"$f":"IF(源数据!C808=\"\",\"\",源数据!C808)","v":1},{"$f":"IF(源数据!D808=\"\",\"\",源数据!D808)","v":0},0,"春装",0,0,0,0,2013,"西服",0,0,0,0,0,0,0]
[{"$f":"IF(源数据!A809=\"\",\"\",源数据!A809)","v":"红袖2013春装新款"},{"$f":"IF(源数据!B809=\"\",\"\",源数据!B809)","v":6},{"$f":"IF(源数据!C809=\"\",\"\",源数据!C809)","v":0.66669999999999996},{"$f":"IF(源数据!D809=\"\",\"\",源数据!D809)","v":0},0,"春装",0,0,0,0,2013,0,0,0,0,0,0,0,0]
[{"$f":"IF(源数据!A810=\"\",\"\",源数据!A810)","v":"红袖2013新款"},{"$f":"IF(源数据!B810=\"\",\"\",源数据!B810)","v":1},{"$f":"IF(源数据!C810=\"\",\"\",源数据!C810)","v":1},{"$f":"IF(源数据!D810=\"\",\"\",源数据!D810)","v":0},0,0,0,0,0,0,2013,0,0,0,0,0,0,0,0]
[{"$f":"IF(源数据!A811=\"\",\"\",源数据!A811)","v":"红袖h2071931.117"},{"$f":"IF(源数据!B811=\"\",\"\",源数据!B811)","v":1},{"$f":"IF(源数据!C811=\"\",\"\",源数据!C811)","v":1},{"$f":"IF(源数据!D811=\"\",\"\",源数据!D811)","v":0},0,0,0,0,0,0,0,0,0,0,0,0,0,0,0]
[{"$f":"IF(源数据!A812=\"\",\"\",源数据!A812)","v":"红袖h5540823"},{"$f":"IF(源数据!B812=\"\",\"\",源数据!B812)","v":1},{"$f":"IF(源数据!C812=\"\",\"\",源数据!C812)","v":1},{"$f":"IF(源数据!D812=\"\",\"\",源数据!D812)","v":0},0,0,0,0,0,0,0,0,0,0,0,0,0,0,0]
[{"$f":"IF(源数据!A813=\"\",\"\",源数据!A813)","v":"红袖长款西装"},{"$f":"IF(源数据!B813=\"\",\"\",源数据!B813)","v":1},{"$f":"IF(源数据!C813=\"\",\"\",源数据!C813)","v":1},{"$f":"IF(源数据!D813=\"\",\"\",源数据!D813)","v":0},0,0,0,0,0,0,0,0,0,0,0,0,0,0,0]
[{"$f":"IF(源数据!A814=\"\",\"\",源数据!A814)","v":"红袖春装"},{"$f":"IF(源数据!B814=\"\",\"\",源数据!B814)","v":1},{"$f":"IF(源数据!C814=\"\",\"\",源数据!C814)","v":1},{"$f":"IF(源数据!D814=\"\",\"\",源数据!D814)","v":0},0,"春装",0,0,0,0,0,0,0,0,0,0,0,0,0]
[{"$f":"IF(源数据!A815=\"\",\"\",源数据!A815)","v":"红袖春装新款2013"},{"$f":"IF(源数据!B815=\"\",\"\",源数据!B815)","v":1},{"$f":"IF(源数据!C815=\"\",\"\",源数据!C815)","v":1},{"$f":"IF(源数据!D815=\"\",\"\",源数据!D815)","v":0},0,"春装",0,0,0,0,2013,0,0,0,0,0,0,0,0]
[{"$f":"IF(源数据!A816=\"\",\"\",源数据!A816)","v":"红袖货号: h2382631a"},{"$f":"IF(源数据!B816=\"\",\"\",源数据!B816)","v":1},{"$f":"IF(源数据!C816=\"\",\"\",源数据!C816)","v":0},{"$f":"IF(源数据!D816=\"\",\"\",源数据!D816)","v":1},0,0,0,0,0,0,0,0,0,0,0,0,0,0,0]
[{"$f":"IF(源数据!A817=\"\",\"\",源数据!A817)","v":"红袖江南"},{"$f":"IF(源数据!B817=\"\",\"\",源数据!B817)","v":6},{"$f":"IF(源数据!C817=\"\",\"\",源数据!C817)","v":0},{"$f":"IF(源数据!D817=\"\",\"\",源数据!D817)","v":0},0,0,0,0,0,0,0,0,0,0,0,0,0,0,0]
[{"$f":"IF(源数据!A818=\"\",\"\",源数据!A818)","v":"红袖江南 小西装"},{"$f":"IF(源数据!B818=\"\",\"\",源数据!B818)","v":1},{"$f":"IF(源数据!C818=\"\",\"\",源数据!C818)","v":1},{"$f":"IF(源数据!D818=\"\",\"\",源数据!D818)","v":0},0,0,0,0,0,"小西装",0,0,0,0,0,0,0,0,0]
[{"$f":"IF(源数据!A819=\"\",\"\",源数据!A819)","v":"红袖江南小西服外套"},{"$f":"IF(源数据!B819=\"\",\"\",源数据!B819)","v":2},{"$f":"IF(源数据!C819=\"\",\"\",源数据!C819)","v":0},{"$f":"IF(源数据!D819=\"\",\"\",源数据!D819)","v":0},0,0,0,0,"外套",0,0,"西服",0,0,0,0,0,0,0]
[{"$f":"IF(源数据!A820=\"\",\"\",源数据!A820)","v":"红袖女装"},{"$f":"IF(源数据!B820=\"\",\"\",源数据!B820)","v":2},{"$f":"IF(源数据!C820=\"\",\"\",源数据!C820)","v":1},{"$f":"IF(源数据!D820=\"\",\"\",源数据!D820)","v":0},0,0,"女","女装",0,0,0,0,0,0,0,0,0,0,0]
[{"$f":"IF(源数据!A821=\"\",\"\",源数据!A821)","v":"红袖女装2013新款春装外套"},{"$f":"IF(源数据!B821=\"\",\"\",源数据!B821)","v":2},{"$f":"IF(源数据!C821=\"\",\"\",源数据!C821)","v":0},{"$f":"IF(源数据!D821=\"\",\"\",源数据!D821)","v":0},0,"春装","女","女装","外套",0,2013,0,0,0,0,0,0,0,0]
[{"$f":"IF(源数据!A822=\"\",\"\",源数据!A822)","v":"红袖女装春装"},{"$f":"IF(源数据!B822=\"\",\"\",源数据!B822)","v":1},{"$f":"IF(源数据!C822=\"\",\"\",源数据!C822)","v":1},{"$f":"IF(源数据!D822=\"\",\"\",源数据!D822)","v":0},0,"春装","女","女装",0,0,0,0,0,0,0,0,0,0,0]
[{"$f":"IF(源数据!A823=\"\",\"\",源数据!A823)","v":"红袖外套"},{"$f":"IF(源数据!B823=\"\",\"\",源数据!B823)","v":1},{"$f":"IF(源数据!C823=\"\",\"\",源数据!C823)","v":1},{"$f":"IF(源数据!D823=\"\",\"\",源数据!D823)","v":0},0,0,0,0,"外套",0,0,0,0,0,0,0,0,0,0]
[{"$f":"IF(源数据!A824=\"\",\"\",源数据!A824)","v":"红袖小西装"},{"$f":"IF(源数据!B824=\"\",\"\",源数据!B824)","v":2},{"$f":"IF(源数据!C824=\"\",\"\",源数据!C824)","v":1},{"$f":"IF(源数据!D824=\"\",\"\",源数据!D824)","v":0},0,0,0,0,0,"小西装",0,0,0,0,0,0,0,0,0]
[{"$f":"IF(源数据!A825=\"\",\"\",源数据!A825)","v":"后背雪纺拼接小西装外套3色"},{"$f":"IF(源数据!B825=\"\",\"\",源数据!B825)","v":1},{"$f":"IF(源数据!C825=\"\",\"\",源数据!C825)","v":0},{"$f":"IF(源数据!D825=\"\",\"\",源数据!D825)","v":0},0,0,0,0,"外套","小西装",0,0,0,0,0,0,0,0,0]
[{"$f":"IF(源数据!A826=\"\",\"\",源数据!A826)","v":"蕾丝连体裤短裤"},{"$f":"IF(源数据!B826=\"\",\"\",源数据!B826)","v":1},{"$f":"IF(源数据!C826=\"\",\"\",源数据!C826)","v":1},{"$f":"IF(源数据!D826=\"\",\"\",源数据!D826)","v":0},0,0,0,0,0,0,0,0,0,0,0,0,0,0,0]
[{"$f":"IF(源数据!A827=\"\",\"\",源数据!A827)","v":"毛呢西装外套女中长款"},{"$f":"IF(源数据!B827=\"\",\"\",源数据!B827)","v":1},{"$f":"IF(源数据!C827=\"\",\"\",源数据!C827)","v":0},{"$f":"IF(源数据!D827=\"\",\"\",源数据!D827)","v":0},0,0,"女",0,"外套",0,0,0,0,0,0,0,0,0,0]
[{"$f":"IF(源数据!A828=\"\",\"\",源数据!A828)","v":"魅衣纱"},{"$f":"IF(源数据!B828=\"\",\"\",源数据!B828)","v":1},{"$f":"IF(源数据!C828=\"\",\"\",源数据!C828)","v":1},{"$f":"IF(源数据!D828=\"\",\"\",源数据!D828)","v":0},0,0,0,0,0,0,0,0,0,0,0,0,0,0,0]
[{"$f":"IF(源数据!A829=\"\",\"\",源数据!A829)","v":"梦芭莎女装2013新款"},{"$f":"IF(源数据!B829=\"\",\"\",源数据!B829)","v":1},{"$f":"IF(源数据!C829=\"\",\"\",源数据!C829)","v":1},{"$f":"IF(源数据!D829=\"\",\"\",源数据!D829)","v":0},0,0,"女","女装",0,0,2013,0,0,0,0,0,0,0,0]
[{"$f":"IF(源数据!A830=\"\",\"\",源数据!A830)","v":"棉麻 白色"},{"$f":"IF(源数据!B830=\"\",\"\",源数据!B830)","v":1},{"$f":"IF(源数据!C830=\"\",\"\",源数据!C830)","v":1},{"$f":"IF(源数据!D830=\"\",\"\",源数据!D830)","v":0},0,0,0,0,0,0,0,0,0,0,0,0,"白色",0,0]
[{"$f":"IF(源数据!A831=\"\",\"\",源数据!A831)","v":"免邮小西服"},{"$f":"IF(源数据!B831=\"\",\"\",源数据!B831)","v":1},{"$f":"IF(源数据!C831=\"\",\"\",源数据!C831)","v":1},{"$f":"IF(源数据!D831=\"\",\"\",源数据!D831)","v":0},0,0,0,0,0,0,0,"西服",0,0,0,0,0,0,0]
[{"$f":"IF(源数据!A832=\"\",\"\",源数据!A832)","v":"牛仔小西装女修身"},{"$f":"IF(源数据!B832=\"\",\"\",源数据!B832)","v":1},{"$f":"IF(源数据!C832=\"\",\"\",源数据!C832)","v":0},{"$f":"IF(源数据!D832=\"\",\"\",源数据!D832)","v":0},0,0,"女",0,0,"小西装",0,0,0,"修身",0,0,0,0,0]
[{"$f":"IF(源数据!A833=\"\",\"\",源数据!A833)","v":"女 白色小西装"},{"$f":"IF(源数据!B833=\"\",\"\",源数据!B833)","v":1},{"$f":"IF(源数据!C833=\"\",\"\",源数据!C833)","v":1},{"$f":"IF(源数据!D833=\"\",\"\",源数据!D833)","v":0},0,0,"女",0,0,"小西装",0,0,0,0,0,0,"白色",0,0]
[{"$f":"IF(源数据!A834=\"\",\"\",源数据!A834)","v":"女 春秋 外套"},{"$f":"IF(源数据!B834=\"\",\"\",源数据!B834)","v":2},{"$f":"IF(源数据!C834=\"\",\"\",源数据!C834)","v":1},{"$f":"IF(源数据!D834=\"\",\"\",源数据!D834)","v":0},0,0,"女",0,"外套",0,0,0,0,0,0,"春秋",0,0,0]
[{"$f":"IF(源数据!A835=\"\",\"\",源数据!A835)","v":"女 春秋外套"},{"$f":"IF(源数据!B835=\"\",\"\",源数据!B835)","v":1},{"$f":"IF(源数据!C835=\"\",\"\",源数据!C835)","v":0},{"$f":"IF(源数据!D835=\"\",\"\",源数据!D835)","v":0},{"$f":"IF($A834=\"\",\"\",IF(E$1=\"\",\"\",IF(IFERROR(SEARCH(E$1,$A835),0) >0,E$1,0)))","v":0},{"$f":"IF($A834=\"\",\"\",IF(F$1=\"\",\"\",IF(IFERROR(SEARCH(F$1,$A835),0) >0,F$1,0)))","v":0},{"$f":"IF($A834=\"\",\"\",IF(G$1=\"\",\"\",IF(IFERROR(SEARCH(G$1,$A835),0) >0,G$1,0)))","v":"女"},{"$f":"IF($A834=\"\",\"\",IF(H$1=\"\",\"\",IF(IFERROR(SEARCH(H$1,$A835),0) >0,H$1,0)))","v":0},{"$f":"IF($A834=\"\",\"\",IF(I$1=\"\",\"\",IF(IFERROR(SEARCH(I$1,$A835),0) >0,I$1,0)))","v":"外套"},{"$f":"IF($A834=\"\",\"\",IF(J$1=\"\",\"\",IF(IFERROR(SEARCH(J$1,$A835),0) >0,J$1,0)))","v":0},{"$f":"IF($A834=\"\",\"\",IF(K$1=\"\",\"\",IF(IFERROR(SEARCH(K$1,$A835),0) >0,K$1,0)))","v":0},{"$f":"IF($A834=\"\",\"\",IF(L$1=\"\",\"\",IF(IFERROR(SEARCH(L$1,$A835),0) >0,L$1,0)))","v":0},{"$f":"IF($A834=\"\",\"\",IF(M$1=\"\",\"\",IF(IFERROR(SEARCH(M$1,$A835),0) >0,M$1,0)))","v":0},{"$f":"IF($A834=\"\",\"\",IF(N$1=\"\",\"\",IF(IFERROR(SEARCH(N$1,$A835),0) >0,N$1,0)))","v":0},{"$f":"IF($A834=\"\",\"\",IF(O$1=\"\",\"\",IF(IFERROR(SEARCH(O$1,$A835),0) >0,O$1,0)))","v":0},{"$f":"IF($A834=\"\",\"\",IF(P$1=\"\",\"\",IF(IFERROR(SEARCH(P$1,$A835),0) >0,P$1,0)))","v":"春秋"},{"$f":"IF($A834=\"\",\"\",IF(Q$1=\"\",\"\",IF(IFERROR(SEARCH(Q$1,$A835),0) >0,Q$1,0)))","v":0},{"$f":"IF($A834=\"\",\"\",IF(R$1=\"\",\"\",IF(IFERROR(SEARCH(R$1,$A835),0) >0,R$1,0)))","v":0},{"$f":"IF($A834=\"\",\"\",IF(S$1=\"\",\"\",IF(IFERROR(SEARCH(S$1,$A835),0) >0,S$1,0)))","v":0}]
[{"$f":"IF(源数据!A836=\"\",\"\",源数据!A836)","v":"女 春装 红袖"},{"$f":"IF(源数据!B836=\"\",\"\",源数据!B836)","v":1},{"$f":"IF(源数据!C836=\"\",\"\",源数据!C836)","v":1},{"$f":"IF(源数据!D836=\"\",\"\",源数据!D836)","v":0},0,"春装","女",0,0,0,0,0,0,0,0,0,0,0,0]
[{"$f":"IF(源数据!A837=\"\",\"\",源数据!A837)","v":"女 外套 春秋"},{"$f":"IF(源数据!B837=\"\",\"\",源数据!B837)","v":8},{"$f":"IF(源数据!C837=\"\",\"\",源数据!C837)","v":0.75},{"$f":"IF(源数据!D837=\"\",\"\",源数据!D837)","v":0},0,0,"女",0,"外套",0,0,0,0,0,0,"春秋",0,0,0]
[{"$f":"IF(源数据!A838=\"\",\"\",源数据!A838)","v":"女 外套 春秋 西装"},{"$f":"IF(源数据!B838=\"\",\"\",源数据!B838)","v":2},{"$f":"IF(源数据!C838=\"\",\"\",源数据!C838)","v":0},{"$f":"IF(源数据!D838=\"\",\"\",源数据!D838)","v":0},0,0,"女",0,"外套",0,0,0,0,0,0,"春秋",0,0,0]
[{"$f":"IF(源数据!A839=\"\",\"\",源数据!A839)","v":"女 外套 春秋 新款"},{"$f":"IF(源数据!B839=\"\",\"\",源数据!B839)","v":1},{"$f":"IF(源数据!C839=\"\",\"\",源数据!C839)","v":1},{"$f":"IF(源数据!D839=\"\",\"\",源数据!D839)","v":0},0,0,"女",0,"外套",0,0,0,0,0,0,"春秋",0,0,0]
[{"$f":"IF(源数据!A840=\"\",\"\",源数据!A840)","v":"女 西服"},{"$f":"IF(源数据!B840=\"\",\"\",源数据!B840)","v":1},{"$f":"IF(源数据!C840=\"\",\"\",源数据!C840)","v":1},{"$f":"IF(源数据!D840=\"\",\"\",源数据!D840)","v":0},0,0,"女",0,0,0,0,"西服",0,0,0,0,0,0,0]
[{"$f":"IF(源数据!A841=\"\",\"\",源数据!A841)","v":"女 西服 春秋"},{"$f":"IF(源数据!B841=\"\",\"\",源数据!B841)","v":1},{"$f":"IF(源数据!C841=\"\",\"\",源数据!C841)","v":0},{"$f":"IF(源数据!D841=\"\",\"\",源数据!D841)","v":0},0,0,"女",0,0,0,0,"西服",0,0,0,"春秋",0,0,0]
[{"$f":"IF(源数据!A842=\"\",\"\",源数据!A842)","v":"女 西服 外套"},{"$f":"IF(源数据!B842=\"\",\"\",源数据!B842)","v":1},{"$f":"IF(源数据!C842=\"\",\"\",源数据!C842)","v":0},{"$f":"IF(源数据!D842=\"\",\"\",源数据!D842)","v":0},0,0,"女",0,"外套",0,0,"西服",0,0,0,0,0,0,0]
[{"$f":"IF(源数据!A843=\"\",\"\",源数据!A843)","v":"女 西装"},{"$f":"IF(源数据!B843=\"\",\"\",源数据!B843)","v":3},{"$f":"IF(源数据!C843=\"\",\"\",源数据!C843)","v":0.33329999999999999},{"$f":"IF(源数据!D843=\"\",\"\",源数据!D843)","v":1},0,0,"女",0,0,0,0,0,0,0,0,0,0,0,0]
[{"$f":"IF(源数据!A844=\"\",\"\",源数据!A844)","v":"女 西装 春"},{"$f":"IF(源数据!B844=\"\",\"\",源数据!B844)","v":1},{"$f":"IF(源数据!C844=\"\",\"\",源数据!C844)","v":1},{"$f":"IF(源数据!D844=\"\",\"\",源数据!D844)","v":0},0,0,"女",0,0,0,0,0,0,0,0,0,0,0,0]
[{"$f":"IF(源数据!A845=\"\",\"\",源数据!A845)","v":"女 西装 修身"},{"$f":"IF(源数据!B845=\"\",\"\",源数据!B845)","v":1},{"$f":"IF(源数据!C845=\"\",\"\",源数据!C845)","v":1},{"$f":"IF(源数据!D845=\"\",\"\",源数据!D845)","v":0},0,0,"女",0,0,0,0,0,0,"修身",0,0,0,0,0]
[{"$f":"IF(源数据!A846=\"\",\"\",源数据!A846)","v":"女 小外套 春秋"},{"$f":"IF(源数据!B846=\"\",\"\",源数据!B846)","v":1},{"$f":"IF(源数据!C846=\"\",\"\",源数据!C846)","v":1},{"$f":"IF(源数据!D846=\"\",\"\",源数据!D846)","v":0},0,0,"女",0,"外套",0,0,0,0,0,0,"春秋",0,0,0]
[{"$f":"IF(源数据!A847=\"\",\"\",源数据!A847)","v":"女 小西装"},{"$f":"IF(源数据!B847=\"\",\"\",源数据!B847)","v":6},{"$f":"IF(源数据!C847=\"\",\"\",源数据!C847)","v":0.5},{"$f":"IF(源数据!D847=\"\",\"\",源数据!D847)","v":0},0,0,"女",0,0,"小西装",0,0,0,0,0,0,0,0,0]
[{"$f":"IF(源数据!A848=\"\",\"\",源数据!A848)","v":"女 小西装 春"},{"$f":"IF(源数据!B848=\"\",\"\",源数据!B848)","v":1},{"$f":"IF(源数据!C848=\"\",\"\",源数据!C848)","v":1},{"$f":"IF(源数据!D848=\"\",\"\",源数据!D848)","v":0},0,0,"女",0,0,"小西装",0,0,0,0,0,0,0,0,0]
[{"$f":"IF(源数据!A849=\"\",\"\",源数据!A849)","v":"女 小西装 春秋"},{"$f":"IF(源数据!B849=\"\",\"\",源数据!B849)","v":2},{"$f":"IF(源数据!C849=\"\",\"\",源数据!C849)","v":1},{"$f":"IF(源数据!D849=\"\",\"\",源数据!D849)","v":0},0,0,"女",0,0,"小西装",0,0,0,0,0,"春秋",0,0,0]
[{"$f":"IF(源数据!A850=\"\",\"\",源数据!A850)","v":"女 休闲 西装"},{"$f":"IF(源数据!B850=\"\",\"\",源数据!B850)","v":2},{"$f":"IF(源数据!C850=\"\",\"\",源数据!C850)","v":0},{"$f":"IF(源数据!D850=\"\",\"\",源数据!D850)","v":0},0,0,"女",0,0,0,0,0,"休闲",0,0,0,0,0,0]
[{"$f":"IF(源数据!A851=\"\",\"\",源数据!A851)","v":"女 休闲西服"},{"$f":"IF(源数据!B851=\"\",\"\",源数据!B851)","v":1},{"$f":"IF(源数据!C851=\"\",\"\",源数据!C851)","v":0},{"$f":"IF(源数据!D851=\"\",\"\",源数据!D851)","v":1},0,0,"女",0,0,0,0,"西服","休闲",0,0,0,0,0,0]
[{"$f":"IF(源数据!A852=\"\",\"\",源数据!A852)","v":"女 休闲西装"},{"$f":"IF(源数据!B852=\"\",\"\",源数据!B852)","v":1},{"$f":"IF(源数据!C852=\"\",\"\",源数据!C852)","v":1},{"$f":"IF(源数据!D852=\"\",\"\",源数据!D852)","v":0},0,0,"女",0,0,0,0,0,"休闲",0,0,0,0,0,0]
[{"$f":"IF(源数据!A853=\"\",\"\",源数据!A853)","v":"女 中长款西服"},{"$f":"IF(源数据!B853=\"\",\"\",源数据!B853)","v":2},{"$f":"IF(源数据!C853=\"\",\"\",源数据!C853)","v":1},{"$f":"IF(源数据!D853=\"\",\"\",源数据!D853)","v":0},0,0,"女",0,0,0,0,"西服",0,0,0,0,0,0,0]
[{"$f":"IF(源数据!A854=\"\",\"\",源数据!A854)","v":"女2013新款小西服外套"},{"$f":"IF(源数据!B854=\"\",\"\",源数据!B854)","v":1},{"$f":"IF(源数据!C854=\"\",\"\",源数据!C854)","v":1},{"$f":"IF(源数据!D854=\"\",\"\",源数据!D854)","v":0},0,0,"女",0,"外套",0,2013,"西服",0,0,0,0,0,0,0]
[{"$f":"IF(源数据!A855=\"\",\"\",源数据!A855)","v":"女2013休闲西装外套"},{"$f":"IF(源数据!B855=\"\",\"\",源数据!B855)","v":1},{"$f":"IF(源数据!C855=\"\",\"\",源数据!C855)","v":1},{"$f":"IF(源数据!D855=\"\",\"\",源数据!D855)","v":0},0,0,"女",0,"外套",0,2013,0,"休闲",0,0,0,0,0,0]
[{"$f":"IF(源数据!A856=\"\",\"\",源数据!A856)","v":"女白色西服"},{"$f":"IF(源数据!B856=\"\",\"\",源数据!B856)","v":1},{"$f":"IF(源数据!C856=\"\",\"\",源数据!C856)","v":1},{"$f":"IF(源数据!D856=\"\",\"\",源数据!D856)","v":0},0,0,"女",0,0,0,0,"西服",0,0,0,0,"白色",0,0]
[{"$f":"IF(源数据!A857=\"\",\"\",源数据!A857)","v":"女白西装"},{"$f":"IF(源数据!B857=\"\",\"\",源数据!B857)","v":1},{"$f":"IF(源数据!C857=\"\",\"\",源数据!C857)","v":1},{"$f":"IF(源数据!D857=\"\",\"\",源数据!D857)","v":0},0,0,"女",0,0,0,0,0,0,0,0,0,0,0,0]
[{"$f":"IF(源数据!A858=\"\",\"\",源数据!A858)","v":"女长西服"},{"$f":"IF(源数据!B858=\"\",\"\",源数据!B858)","v":1},{"$f":"IF(源数据!C858=\"\",\"\",源数据!C858)","v":1},{"$f":"IF(源数据!D858=\"\",\"\",源数据!D858)","v":0},0,0,"女",0,0,0,0,"西服",0,0,0,0,0,0,0]
[{"$f":"IF(源数据!A859=\"\",\"\",源数据!A859)","v":"女长西装外套"},{"$f":"IF(源数据!B859=\"\",\"\",源数据!B859)","v":1},{"$f":"IF(源数据!C859=\"\",\"\",源数据!C859)","v":0},{"$f":"IF(源数据!D859=\"\",\"\",源数据!D859)","v":0},0,0,"女",0,"外套",0,0,0,0,0,0,0,0,0,0]
[{"$f":"IF(源数据!A860=\"\",\"\",源数据!A860)","v":"女春季西装"},{"$f":"IF(源数据!B860=\"\",\"\",源数据!B860)","v":1},{"$f":"IF(源数据!C860=\"\",\"\",源数据!C860)","v":1},{"$f":"IF(源数据!D860=\"\",\"\",源数据!D860)","v":0},0,0,"女",0,0,0,0,0,0,0,"春季",0,0,0,0]
[{"$f":"IF(源数据!A861=\"\",\"\",源数据!A861)","v":"女春秋长款小西服包邮"},{"$f":"IF(源数据!B861=\"\",\"\",源数据!B861)","v":1},{"$f":"IF(源数据!C861=\"\",\"\",源数据!C861)","v":1},{"$f":"IF(源数据!D861=\"\",\"\",源数据!D861)","v":0},0,0,"女",0,0,0,0,"西服",0,0,0,"春秋",0,0,0]
[{"$f":"IF(源数据!A862=\"\",\"\",源数据!A862)","v":"女春秋款休闲外套"},{"$f":"IF(源数据!B862=\"\",\"\",源数据!B862)","v":1},{"$f":"IF(源数据!C862=\"\",\"\",源数据!C862)","v":1},{"$f":"IF(源数据!D862=\"\",\"\",源数据!D862)","v":0},0,0,"女",0,"外套",0,0,0,"休闲",0,0,"春秋",0,0,0]
[{"$f":"IF(源数据!A863=\"\",\"\",源数据!A863)","v":"女春秋外套"},{"$f":"IF(源数据!B863=\"\",\"\",源数据!B863)","v":1},{"$f":"IF(源数据!C863=\"\",\"\",源数据!C863)","v":0},{"$f":"IF(源数据!D863=\"\",\"\",源数据!D863)","v":0},0,0,"女",0,"外套",0,0,0,0,0,0,"春秋",0,0,0]
[{"$f":"IF(源数据!A864=\"\",\"\",源数据!A864)","v":"女春秋外套新款"},{"$f":"IF(源数据!B864=\"\",\"\",源数据!B864)","v":1},{"$f":"IF(源数据!C864=\"\",\"\",源数据!C864)","v":1},{"$f":"IF(源数据!D864=\"\",\"\",源数据!D864)","v":0},0,0,"女",0,"外套",0,0,0,0,0,0,"春秋",0,0,0]
[{"$f":"IF(源数据!A865=\"\",\"\",源数据!A865)","v":"女春秋西装"},{"$f":"IF(源数据!B865=\"\",\"\",源数据!B865)","v":1},{"$f":"IF(源数据!C865=\"\",\"\",源数据!C865)","v":1},{"$f":"IF(源数据!D865=\"\",\"\",源数据!D865)","v":0},0,0,"女",0,0,0,0,0,0,0,0,"春秋",0,0,0]
[{"$f":"IF(源数据!A866=\"\",\"\",源数据!A866)","v":"女春秋中长西装"},{"$f":"IF(源数据!B866=\"\",\"\",源数据!B866)","v":1},{"$f":"IF(源数据!C866=\"\",\"\",源数据!C866)","v":0},{"$f":"IF(源数据!D866=\"\",\"\",源数据!D866)","v":0},0,0,"女",0,0,0,0,0,0,0,0,"春秋",0,0,0]
[{"$f":"IF(源数据!A867=\"\",\"\",源数据!A867)","v":"女春装  西服包邮"},{"$f":"IF(源数据!B867=\"\",\"\",源数据!B867)","v":1},{"$f":"IF(源数据!C867=\"\",\"\",源数据!C867)","v":1},{"$f":"IF(源数据!D867=\"\",\"\",源数据!D867)","v":0},0,"春装","女",0,0,0,0,"西服",0,0,0,0,0,0,0]
[{"$f":"IF(源数据!A868=\"\",\"\",源数据!A868)","v":"女春装2013外套"},{"$f":"IF(源数据!B868=\"\",\"\",源数据!B868)","v":3},{"$f":"IF(源数据!C868=\"\",\"\",源数据!C868)","v":0},{"$f":"IF(源数据!D868=\"\",\"\",源数据!D868)","v":0},0,"春装","女",0,"外套",0,2013,0,0,0,0,0,0,0,0]
[{"$f":"IF(源数据!A869=\"\",\"\",源数据!A869)","v":"女春装2013新款"},{"$f":"IF(源数据!B869=\"\",\"\",源数据!B869)","v":2},{"$f":"IF(源数据!C869=\"\",\"\",源数据!C869)","v":1},{"$f":"IF(源数据!D869=\"\",\"\",源数据!D869)","v":0},0,"春装","女",0,0,0,2013,0,0,0,0,0,0,0,0]
[{"$f":"IF(源数据!A870=\"\",\"\",源数据!A870)","v":"女春装2013新款外套"},{"$f":"IF(源数据!B870=\"\",\"\",源数据!B870)","v":1},{"$f":"IF(源数据!C870=\"\",\"\",源数据!C870)","v":1},{"$f":"IF(源数据!D870=\"\",\"\",源数据!D870)","v":0},0,"春装","女",0,"外套",0,2013,0,0,0,0,0,0,0,0]
[{"$f":"IF(源数据!A871=\"\",\"\",源数据!A871)","v":"女春装2013新款西装"},{"$f":"IF(源数据!B871=\"\",\"\",源数据!B871)","v":8},{"$f":"IF(源数据!C871=\"\",\"\",源数据!C871)","v":0.875},{"$f":"IF(源数据!D871=\"\",\"\",源数据!D871)","v":0},0,"春装","女",0,0,0,2013,0,0,0,0,0,0,0,0]
[{"$f":"IF(源数据!A872=\"\",\"\",源数据!A872)","v":"女春装2013新款小西装"},{"$f":"IF(源数据!B872=\"\",\"\",源数据!B872)","v":1},{"$f":"IF(源数据!C872=\"\",\"\",源数据!C872)","v":1},{"$f":"IF(源数据!D872=\"\",\"\",源数据!D872)","v":0},0,"春装","女",0,0,"小西装",2013,0,0,0,0,0,0,0,0]
[{"$f":"IF(源数据!A873=\"\",\"\",源数据!A873)","v":"女春装外套"},{"$f":"IF(源数据!B873=\"\",\"\",源数据!B873)","v":1},{"$f":"IF(源数据!C873=\"\",\"\",源数据!C873)","v":0},{"$f":"IF(源数据!D873=\"\",\"\",源数据!D873)","v":0},0,"春装","女",0,"外套",0,0,0,0,0,0,0,0,0,0]
[{"$f":"IF(源数据!A874=\"\",\"\",源数据!A874)","v":"女韩版外套春秋"},{"$f":"IF(源数据!B874=\"\",\"\",源数据!B874)","v":2},{"$f":"IF(源数据!C874=\"\",\"\",源数据!C874)","v":0},{"$f":"IF(源数据!D874=\"\",\"\",源数据!D874)","v":0},0,0,"女",0,"外套",0,0,0,0,0,0,"春秋",0,0,0]
[{"$f":"IF(源数据!A875=\"\",\"\",源数据!A875)","v":"女韩版西服修身"},{"$f":"IF(源数据!B875=\"\",\"\",源数据!B875)","v":1},{"$f":"IF(源数据!C875=\"\",\"\",源数据!C875)","v":1},{"$f":"IF(源数据!D875=\"\",\"\",源数据!D875)","v":0},0,0,"女",0,0,0,0,"西服",0,"修身",0,0,0,0,0]
[{"$f":"IF(源数据!A876=\"\",\"\",源数据!A876)","v":"女韩版修身小西装"},{"$f":"IF(源数据!B876=\"\",\"\",源数据!B876)","v":1},{"$f":"IF(源数据!C876=\"\",\"\",源数据!C876)","v":1},{"$f":"IF(源数据!D876=\"\",\"\",源数据!D876)","v":0},0,0,"女",0,0,"小西装",0,0,0,"修身",0,0,0,0,0]
[{"$f":"IF(源数据!A877=\"\",\"\",源数据!A877)","v":"女款 春秋"},{"$f":"IF(源数据!B877=\"\",\"\",源数据!B877)","v":1},{"$f":"IF(源数据!C877=\"\",\"\",源数据!C877)","v":1},{"$f":"IF(源数据!D877=\"\",\"\",源数据!D877)","v":0},0,0,"女",0,0,0,0,0,0,0,0,"春秋",0,0,0]
[{"$f":"IF(源数据!A878=\"\",\"\",源数据!A878)","v":"女款 拼接色西服"},{"$f":"IF(源数据!B878=\"\",\"\",源数据!B878)","v":1},{"$f":"IF(源数据!C878=\"\",\"\",源数据!C878)","v":0},{"$f":"IF(源数据!D878=\"\",\"\",源数据!D878)","v":0},0,0,"女",0,0,0,0,"西服",0,0,0,0,0,0,0]
[{"$f":"IF(源数据!A879=\"\",\"\",源数据!A879)","v":"女款 西装"},{"$f":"IF(源数据!B879=\"\",\"\",源数据!B879)","v":2},{"$f":"IF(源数据!C879=\"\",\"\",源数据!C879)","v":1},{"$f":"IF(源数据!D879=\"\",\"\",源数据!D879)","v":0},0,0,"女",0,0,0,0,0,0,0,0,0,0,0,0]
[{"$f":"IF(源数据!A880=\"\",\"\",源数据!A880)","v":"女款 小西装 春秋 休闲"},{"$f":"IF(源数据!B880=\"\",\"\",源数据!B880)","v":1},{"$f":"IF(源数据!C880=\"\",\"\",源数据!C880)","v":1},{"$f":"IF(源数据!D880=\"\",\"\",源数据!D880)","v":0},0,0,"女",0,0,"小西装",0,0,"休闲",0,0,"春秋",0,0,0]
[{"$f":"IF(源数据!A881=\"\",\"\",源数据!A881)","v":"女款 休闲西服"},{"$f":"IF(源数据!B881=\"\",\"\",源数据!B881)","v":1},{"$f":"IF(源数据!C881=\"\",\"\",源数据!C881)","v":1},{"$f":"IF(源数据!D881=\"\",\"\",源数据!D881)","v":0},0,0,"女",0,0,0,0,"西服","休闲",0,0,0,0,0,0]
[{"$f":"IF(源数据!A882=\"\",\"\",源数据!A882)","v":"女款2013春季外套"},{"$f":"IF(源数据!B882=\"\",\"\",源数据!B882)","v":1},{"$f":"IF(源数据!C882=\"\",\"\",源数据!C882)","v":1},{"$f":"IF(源数据!D882=\"\",\"\",源数据!D882)","v":0},0,0,"女",0,"外套",0,2013,0,0,0,"春季",0,0,0,0]
[{"$f":"IF(源数据!A883=\"\",\"\",源数据!A883)","v":"女款白色西服"},{"$f":"IF(源数据!B883=\"\",\"\",源数据!B883)","v":1},{"$f":"IF(源数据!C883=\"\",\"\",源数据!C883)","v":1},{"$f":"IF(源数据!D883=\"\",\"\",源数据!D883)","v":0},0,0,"女",0,0,0,0,"西服",0,0,0,0,"白色",0,0]
[{"$f":"IF(源数据!A884=\"\",\"\",源数据!A884)","v":"女款白色西装外套"},{"$f":"IF(源数据!B884=\"\",\"\",源数据!B884)","v":2},{"$f":"IF(源数据!C884=\"\",\"\",源数据!C884)","v":0.5},{"$f":"IF(源数据!D884=\"\",\"\",源数据!D884)","v":0},0,0,"女",0,"外套",0,0,0,0,0,0,0,"白色",0,0]
[{"$f":"IF(源数据!A885=\"\",\"\",源数据!A885)","v":"女款白色小西装"},{"$f":"IF(源数据!B885=\"\",\"\",源数据!B885)","v":1},{"$f":"IF(源数据!C885=\"\",\"\",源数据!C885)","v":0},{"$f":"IF(源数据!D885=\"\",\"\",源数据!D885)","v":0},0,0,"女",0,0,"小西装",0,0,0,0,0,0,"白色",0,0]
[{"$f":"IF(源数据!A886=\"\",\"\",源数据!A886)","v":"女款长袖小西装"},{"$f":"IF(源数据!B886=\"\",\"\",源数据!B886)","v":1},{"$f":"IF(源数据!C886=\"\",\"\",源数据!C886)","v":1},{"$f":"IF(源数据!D886=\"\",\"\",源数据!D886)","v":0},0,0,"女",0,0,"小西装",0,0,0,0,0,0,0,0,0]
[{"$f":"IF(源数据!A887=\"\",\"\",源数据!A887)","v":"女款春秋外套"},{"$f":"IF(源数据!B887=\"\",\"\",源数据!B887)","v":2},{"$f":"IF(源数据!C887=\"\",\"\",源数据!C887)","v":1},{"$f":"IF(源数据!D887=\"\",\"\",源数据!D887)","v":0},0,0,"女",0,"外套",0,0,0,0,0,0,"春秋",0,0,0]
[{"$f":"IF(源数据!A888=\"\",\"\",源数据!A888)","v":"女款春秋外套包邮"},{"$f":"IF(源数据!B888=\"\",\"\",源数据!B888)","v":1},{"$f":"IF(源数据!C888=\"\",\"\",源数据!C888)","v":1},{"$f":"IF(源数据!D888=\"\",\"\",源数据!D888)","v":0},0,0,"女",0,"外套",0,0,0,0,0,0,"春秋",0,0,0]
[{"$f":"IF(源数据!A889=\"\",\"\",源数据!A889)","v":"女款春装2013外套中长款"},{"$f":"IF(源数据!B889=\"\",\"\",源数据!B889)","v":1},{"$f":"IF(源数据!C889=\"\",\"\",源数据!C889)","v":1},{"$f":"IF(源数据!D889=\"\",\"\",源数据!D889)","v":0},0,"春装","女",0,"外套",0,2013,0,0,0,0,0,0,0,0]
[{"$f":"IF(源数据!A890=\"\",\"\",源数据!A890)","v":"女款春装外套"},{"$f":"IF(源数据!B890=\"\",\"\",源数据!B890)","v":1},{"$f":"IF(源数据!C890=\"\",\"\",源数据!C890)","v":1},{"$f":"IF(源数据!D890=\"\",\"\",源数据!D890)","v":0},0,"春装","女",0,"外套",0,0,0,0,0,0,0,0,0,0]
[{"$f":"IF(源数据!A891=\"\",\"\",源数据!A891)","v":"女款春装外套2013"},{"$f":"IF(源数据!B891=\"\",\"\",源数据!B891)","v":1},{"$f":"IF(源数据!C891=\"\",\"\",源数据!C891)","v":1},{"$f":"IF(源数据!D891=\"\",\"\",源数据!D891)","v":0},0,"春装","女",0,"外套",0,2013,0,0,0,0,0,0,0,0]
[{"$f":"IF(源数据!A892=\"\",\"\",源数据!A892)","v":"女款春装外套包邮"},{"$f":"IF(源数据!B892=\"\",\"\",源数据!B892)","v":1},{"$f":"IF(源数据!C892=\"\",\"\",源数据!C892)","v":1},{"$f":"IF(源数据!D892=\"\",\"\",源数据!D892)","v":0},0,"春装","女",0,"外套",0,0,0,0,0,0,0,0,0,0]
[{"$f":"IF(源数据!A893=\"\",\"\",源数据!A893)","v":"女款春装外套小西装"},{"$f":"IF(源数据!B893=\"\",\"\",源数据!B893)","v":1},{"$f":"IF(源数据!C893=\"\",\"\",源数据!C893)","v":1},{"$f":"IF(源数据!D893=\"\",\"\",源数据!D893)","v":0},0,"春装","女",0,"外套","小西装",0,0,0,0,0,0,0,0,0]
[{"$f":"IF(源数据!A894=\"\",\"\",源数据!A894)","v":"女款春装小外套"},{"$f":"IF(源数据!B894=\"\",\"\",源数据!B894)","v":1},{"$f":"IF(源数据!C894=\"\",\"\",源数据!C894)","v":1},{"$f":"IF(源数据!D894=\"\",\"\",源数据!D894)","v":0},0,"春装","女",0,"外套",0,0,0,0,0,0,0,0,0,0]
[{"$f":"IF(源数据!A895=\"\",\"\",源数据!A895)","v":"女款韩版西服"},{"$f":"IF(源数据!B895=\"\",\"\",源数据!B895)","v":1},{"$f":"IF(源数据!C895=\"\",\"\",源数据!C895)","v":1},{"$f":"IF(源数据!D895=\"\",\"\",源数据!D895)","v":0},0,0,"女",0,0,0,0,"西服",0,0,0,0,0,0,0]
[{"$f":"IF(源数据!A896=\"\",\"\",源数据!A896)","v":"女款红西服"},{"$f":"IF(源数据!B896=\"\",\"\",源数据!B896)","v":1},{"$f":"IF(源数据!C896=\"\",\"\",源数据!C896)","v":0},{"$f":"IF(源数据!D896=\"\",\"\",源数据!D896)","v":0},0,0,"女",0,0,0,0,"西服",0,0,0,0,0,0,0]
[{"$f":"IF(源数据!A897=\"\",\"\",源数据!A897)","v":"女款西服"},{"$f":"IF(源数据!B897=\"\",\"\",源数据!B897)","v":4},{"$f":"IF(源数据!C897=\"\",\"\",源数据!C897)","v":1},{"$f":"IF(源数据!D897=\"\",\"\",源数据!D897)","v":0},0,0,"女",0,0,0,0,"西服",0,0,0,0,0,0,0]
[{"$f":"IF(源数据!A898=\"\",\"\",源数据!A898)","v":"女款西服 2013新款"},{"$f":"IF(源数据!B898=\"\",\"\",源数据!B898)","v":3},{"$f":"IF(源数据!C898=\"\",\"\",源数据!C898)","v":0.33329999999999999},{"$f":"IF(源数据!D898=\"\",\"\",源数据!D898)","v":0},0,0,"女",0,0,0,2013,"西服",0,0,0,0,0,0,0]
[{"$f":"IF(源数据!A899=\"\",\"\",源数据!A899)","v":"女款西服 韩版"},{"$f":"IF(源数据!B899=\"\",\"\",源数据!B899)","v":1},{"$f":"IF(源数据!C899=\"\",\"\",源数据!C899)","v":1},{"$f":"IF(源数据!D899=\"\",\"\",源数据!D899)","v":0},{"$f":"IF($A898=\"\",\"\",IF(E$1=\"\",\"\",IF(IFERROR(SEARCH(E$1,$A899),0) >0,E$1,0)))","v":0},{"$f":"IF($A898=\"\",\"\",IF(F$1=\"\",\"\",IF(IFERROR(SEARCH(F$1,$A899),0) >0,F$1,0)))","v":0},{"$f":"IF($A898=\"\",\"\",IF(G$1=\"\",\"\",IF(IFERROR(SEARCH(G$1,$A899),0) >0,G$1,0)))","v":"女"},{"$f":"IF($A898=\"\",\"\",IF(H$1=\"\",\"\",IF(IFERROR(SEARCH(H$1,$A899),0) >0,H$1,0)))","v":0},{"$f":"IF($A898=\"\",\"\",IF(I$1=\"\",\"\",IF(IFERROR(SEARCH(I$1,$A899),0) >0,I$1,0)))","v":0},{"$f":"IF($A898=\"\",\"\",IF(J$1=\"\",\"\",IF(IFERROR(SEARCH(J$1,$A899),0) >0,J$1,0)))","v":0},{"$f":"IF($A898=\"\",\"\",IF(K$1=\"\",\"\",IF(IFERROR(SEARCH(K$1,$A899),0) >0,K$1,0)))","v":0},{"$f":"IF($A898=\"\",\"\",IF(L$1=\"\",\"\",IF(IFERROR(SEARCH(L$1,$A899),0) >0,L$1,0)))","v":"西服"},{"$f":"IF($A898=\"\",\"\",IF(M$1=\"\",\"\",IF(IFERROR(SEARCH(M$1,$A899),0) >0,M$1,0)))","v":0},{"$f":"IF($A898=\"\",\"\",IF(N$1=\"\",\"\",IF(IFERROR(SEARCH(N$1,$A899),0) >0,N$1,0)))","v":0},{"$f":"IF($A898=\"\",\"\",IF(O$1=\"\",\"\",IF(IFERROR(SEARCH(O$1,$A899),0) >0,O$1,0)))","v":0},{"$f":"IF($A898=\"\",\"\",IF(P$1=\"\",\"\",IF(IFERROR(SEARCH(P$1,$A899),0) >0,P$1,0)))","v":0},{"$f":"IF($A898=\"\",\"\",IF(Q$1=\"\",\"\",IF(IFERROR(SEARCH(Q$1,$A899),0) >0,Q$1,0)))","v":0},{"$f":"IF($A898=\"\",\"\",IF(R$1=\"\",\"\",IF(IFERROR(SEARCH(R$1,$A899),0) >0,R$1,0)))","v":0},{"$f":"IF($A898=\"\",\"\",IF(S$1=\"\",\"\",IF(IFERROR(SEARCH(S$1,$A899),0) >0,S$1,0)))","v":0}]
[{"$f":"IF(源数据!A900=\"\",\"\",源数据!A900)","v":"女款西服韩版"},{"$f":"IF(源数据!B900=\"\",\"\",源数据!B900)","v":1},{"$f":"IF(源数据!C900=\"\",\"\",源数据!C900)","v":1},{"$f":"IF(源数据!D900=\"\",\"\",源数据!D900)","v":0},0,0,"女",0,0,0,0,"西服",0,0,0,0,0,0,0]
[{"$f":"IF(源数据!A901=\"\",\"\",源数据!A901)","v":"女款西服中长款"},{"$f":"IF(源数据!B901=\"\",\"\",源数据!B901)","v":1},{"$f":"IF(源数据!C901=\"\",\"\",源数据!C901)","v":1},{"$f":"IF(源数据!D901=\"\",\"\",源数据!D901)","v":0},0,0,"女",0,0,0,0,"西服",0,0,0,0,0,0,0]
[{"$f":"IF(源数据!A902=\"\",\"\",源数据!A902)","v":"女款西装"},{"$f":"IF(源数据!B902=\"\",\"\",源数据!B902)","v":1},{"$f":"IF(源数据!C902=\"\",\"\",源数据!C902)","v":1},{"$f":"IF(源数据!D902=\"\",\"\",源数据!D902)","v":0},0,0,"女",0,0,0,0,0,0,0,0,0,0,0,0]
[{"$f":"IF(源数据!A903=\"\",\"\",源数据!A903)","v":"女款西装2013"},{"$f":"IF(源数据!B903=\"\",\"\",源数据!B903)","v":1},{"$f":"IF(源数据!C903=\"\",\"\",源数据!C903)","v":1},{"$f":"IF(源数据!D903=\"\",\"\",源数据!D903)","v":0},0,0,"女",0,0,0,2013,0,0,0,0,0,0,0,0]
[{"$f":"IF(源数据!A904=\"\",\"\",源数据!A904)","v":"女款西装韩版"},{"$f":"IF(源数据!B904=\"\",\"\",源数据!B904)","v":1},{"$f":"IF(源数据!C904=\"\",\"\",源数据!C904)","v":1},{"$f":"IF(源数据!D904=\"\",\"\",源数据!D904)","v":0},0,0,"女",0,0,0,0,0,0,0,0,0,0,0,0]
[{"$f":"IF(源数据!A905=\"\",\"\",源数据!A905)","v":"女款西装外套"},{"$f":"IF(源数据!B905=\"\",\"\",源数据!B905)","v":3},{"$f":"IF(源数据!C905=\"\",\"\",源数据!C905)","v":1},{"$f":"IF(源数据!D905=\"\",\"\",源数据!D905)","v":0},0,0,"女",0,"外套",0,0,0,0,0,0,0,0,0,0]
[{"$f":"IF(源数据!A906=\"\",\"\",源数据!A906)","v":"女款西装外套韩版"},{"$f":"IF(源数据!B906=\"\",\"\",源数据!B906)","v":1},{"$f":"IF(源数据!C906=\"\",\"\",源数据!C906)","v":1},{"$f":"IF(源数据!D906=\"\",\"\",源数据!D906)","v":0},0,0,"女",0,"外套",0,0,0,0,0,0,0,0,0,0]
[{"$f":"IF(源数据!A907=\"\",\"\",源数据!A907)","v":"女款西装外套修身"},{"$f":"IF(源数据!B907=\"\",\"\",源数据!B907)","v":3},{"$f":"IF(源数据!C907=\"\",\"\",源数据!C907)","v":1},{"$f":"IF(源数据!D907=\"\",\"\",源数据!D907)","v":0},0,0,"女",0,"外套",0,0,0,0,"修身",0,0,0,0,0]
[{"$f":"IF(源数据!A908=\"\",\"\",源数据!A908)","v":"女款小西服"},{"$f":"IF(源数据!B908=\"\",\"\",源数据!B908)","v":1},{"$f":"IF(源数据!C908=\"\",\"\",源数据!C908)","v":1},{"$f":"IF(源数据!D908=\"\",\"\",源数据!D908)","v":0},0,0,"女",0,0,0,0,"西服",0,0,0,0,0,0,0]
[{"$f":"IF(源数据!A909=\"\",\"\",源数据!A909)","v":"女款小西服 2013新款"},{"$f":"IF(源数据!B909=\"\",\"\",源数据!B909)","v":1},{"$f":"IF(源数据!C909=\"\",\"\",源数据!C909)","v":1},{"$f":"IF(源数据!D909=\"\",\"\",源数据!D909)","v":0},0,0,"女",0,0,0,2013,"西服",0,0,0,0,0,0,0]
[{"$f":"IF(源数据!A910=\"\",\"\",源数据!A910)","v":"女款小西服2013"},{"$f":"IF(源数据!B910=\"\",\"\",源数据!B910)","v":3},{"$f":"IF(源数据!C910=\"\",\"\",源数据!C910)","v":0.33329999999999999},{"$f":"IF(源数据!D910=\"\",\"\",源数据!D910)","v":0},0,0,"女",0,0,0,2013,"西服",0,0,0,0,0,0,0]
[{"$f":"IF(源数据!A911=\"\",\"\",源数据!A911)","v":"女款小西服包邮"},{"$f":"IF(源数据!B911=\"\",\"\",源数据!B911)","v":1},{"$f":"IF(源数据!C911=\"\",\"\",源数据!C911)","v":1},{"$f":"IF(源数据!D911=\"\",\"\",源数据!D911)","v":0},0,0,"女",0,0,0,0,"西服",0,0,0,0,0,0,0]
[{"$f":"IF(源数据!A912=\"\",\"\",源数据!A912)","v":"女款小西装"},{"$f":"IF(源数据!B912=\"\",\"\",源数据!B912)","v":2},{"$f":"IF(源数据!C912=\"\",\"\",源数据!C912)","v":0.5},{"$f":"IF(源数据!D912=\"\",\"\",源数据!D912)","v":0},0,0,"女",0,0,"小西装",0,0,0,0,0,0,0,0,0]
[{"$f":"IF(源数据!A913=\"\",\"\",源数据!A913)","v":"女款小西装2013"},{"$f":"IF(源数据!B913=\"\",\"\",源数据!B913)","v":1},{"$f":"IF(源数据!C913=\"\",\"\",源数据!C913)","v":1},{"$f":"IF(源数据!D913=\"\",\"\",源数据!D913)","v":0},0,0,"女",0,0,"小西装",2013,0,0,0,0,0,0,0,0]
[{"$f":"IF(源数据!A914=\"\",\"\",源数据!A914)","v":"女款小西装春装2013"},{"$f":"IF(源数据!B914=\"\",\"\",源数据!B914)","v":2},{"$f":"IF(源数据!C914=\"\",\"\",源数据!C914)","v":1},{"$f":"IF(源数据!D914=\"\",\"\",源数据!D914)","v":0},0,"春装","女",0,0,"小西装",2013,0,0,0,0,0,0,0,0]
[{"$f":"IF(源数据!A915=\"\",\"\",源数据!A915)","v":"女款小西装修身"},{"$f":"IF(源数据!B915=\"\",\"\",源数据!B915)","v":1},{"$f":"IF(源数据!C915=\"\",\"\",源数据!C915)","v":1},{"$f":"IF(源数据!D915=\"\",\"\",源数据!D915)","v":0},0,0,"女",0,0,"小西装",0,0,0,"修身",0,0,0,0,0]
[{"$f":"IF(源数据!A916=\"\",\"\",源数据!A916)","v":"女款小西装中长款"},{"$f":"IF(源数据!B916=\"\",\"\",源数据!B916)","v":1},{"$f":"IF(源数据!C916=\"\",\"\",源数据!C916)","v":1},{"$f":"IF(源数据!D916=\"\",\"\",源数据!D916)","v":0},0,0,"女",0,0,"小西装",0,0,0,0,0,0,0,0,0]
[{"$f":"IF(源数据!A917=\"\",\"\",源数据!A917)","v":"女款休闲西装"},{"$f":"IF(源数据!B917=\"\",\"\",源数据!B917)","v":1},{"$f":"IF(源数据!C917=\"\",\"\",源数据!C917)","v":1},{"$f":"IF(源数据!D917=\"\",\"\",源数据!D917)","v":0},0,0,"女",0,0,0,0,0,"休闲",0,0,0,0,0,0]
[{"$f":"IF(源数据!A918=\"\",\"\",源数据!A918)","v":"女款休闲小西装"},{"$f":"IF(源数据!B918=\"\",\"\",源数据!B918)","v":1},{"$f":"IF(源数据!C918=\"\",\"\",源数据!C918)","v":0},{"$f":"IF(源数据!D918=\"\",\"\",源数据!D918)","v":0},0,0,"女",0,0,"小西装",0,0,"休闲",0,0,0,0,0,0]
[{"$f":"IF(源数据!A919=\"\",\"\",源数据!A919)","v":"女款中长款西装外套"},{"$f":"IF(源数据!B919=\"\",\"\",源数据!B919)","v":1},{"$f":"IF(源数据!C919=\"\",\"\",源数据!C919)","v":0},{"$f":"IF(源数据!D919=\"\",\"\",源数据!D919)","v":0},0,0,"女",0,"外套",0,0,0,0,0,0,0,0,0,0]
[{"$f":"IF(源数据!A920=\"\",\"\",源数据!A920)","v":"女款中长款小西装"},{"$f":"IF(源数据!B920=\"\",\"\",源数据!B920)","v":2},{"$f":"IF(源数据!C920=\"\",\"\",源数据!C920)","v":1},{"$f":"IF(源数据!D920=\"\",\"\",源数据!D920)","v":0},0,0,"女",0,0,"小西装",0,0,0,0,0,0,0,0,0]
[{"$f":"IF(源数据!A921=\"\",\"\",源数据!A921)","v":"女生春秋装"},{"$f":"IF(源数据!B921=\"\",\"\",源数据!B921)","v":1},{"$f":"IF(源数据!C921=\"\",\"\",源数据!C921)","v":1},{"$f":"IF(源数据!D921=\"\",\"\",源数据!D921)","v":0},0,0,"女",0,0,0,0,0,0,0,0,"春秋",0,0,0]
[{"$f":"IF(源数据!A922=\"\",\"\",源数据!A922)","v":"女生韩版小西装 包邮"},{"$f":"IF(源数据!B922=\"\",\"\",源数据!B922)","v":1},{"$f":"IF(源数据!C922=\"\",\"\",源数据!C922)","v":1},{"$f":"IF(源数据!D922=\"\",\"\",源数据!D922)","v":0},0,0,"女",0,0,"小西装",0,0,0,0,0,0,0,0,0]
[{"$f":"IF(源数据!A923=\"\",\"\",源数据!A923)","v":"女生西服"},{"$f":"IF(源数据!B923=\"\",\"\",源数据!B923)","v":1},{"$f":"IF(源数据!C923=\"\",\"\",源数据!C923)","v":1},{"$f":"IF(源数据!D923=\"\",\"\",源数据!D923)","v":0},0,0,"女",0,0,0,0,"西服",0,0,0,0,0,0,0]
[{"$f":"IF(源数据!A924=\"\",\"\",源数据!A924)","v":"女生西装"},{"$f":"IF(源数据!B924=\"\",\"\",源数据!B924)","v":1},{"$f":"IF(源数据!C924=\"\",\"\",源数据!C924)","v":0},{"$f":"IF(源数据!D924=\"\",\"\",源数据!D924)","v":0},0,0,"女",0,0,0,0,0,0,0,0,0,0,0,0]
[{"$f":"IF(源数据!A925=\"\",\"\",源数据!A925)","v":"女生小西服韩版"},{"$f":"IF(源数据!B925=\"\",\"\",源数据!B925)","v":1},{"$f":"IF(源数据!C925=\"\",\"\",源数据!C925)","v":0},{"$f":"IF(源数据!D925=\"\",\"\",源数据!D925)","v":0},0,0,"女",0,0,0,0,"西服",0,0,0,0,0,0,0]
[{"$f":"IF(源数据!A926=\"\",\"\",源数据!A926)","v":"女生小西装"},{"$f":"IF(源数据!B926=\"\",\"\",源数据!B926)","v":2},{"$f":"IF(源数据!C926=\"\",\"\",源数据!C926)","v":1},{"$f":"IF(源数据!D926=\"\",\"\",源数据!D926)","v":0},0,0,"女",0,0,"小西装",0,0,0,0,0,0,0,0,0]
[{"$f":"IF(源数据!A927=\"\",\"\",源数据!A927)","v":"女生新款韩版小西装"},{"$f":"IF(源数据!B927=\"\",\"\",源数据!B927)","v":1},{"$f":"IF(源数据!C927=\"\",\"\",源数据!C927)","v":1},{"$f":"IF(源数据!D927=\"\",\"\",源数据!D927)","v":0},0,0,"女",0,0,"小西装",0,0,0,0,0,0,0,0,0]
[{"$f":"IF(源数据!A928=\"\",\"\",源数据!A928)","v":"女生休闲小西装"},{"$f":"IF(源数据!B928=\"\",\"\",源数据!B928)","v":1},{"$f":"IF(源数据!C928=\"\",\"\",源数据!C928)","v":1},{"$f":"IF(源数据!D928=\"\",\"\",源数据!D928)","v":0},0,0,"女",0,0,"小西装",0,0,"休闲",0,0,0,0,0,0]
[{"$f":"IF(源数据!A929=\"\",\"\",源数据!A929)","v":"女士 春季 外套"},{"$f":"IF(源数据!B929=\"\",\"\",源数据!B929)","v":1},{"$f":"IF(源数据!C929=\"\",\"\",源数据!C929)","v":1},{"$f":"IF(源数据!D929=\"\",\"\",源数据!D929)","v":0},0,0,"女",0,"外套",0,0,0,0,0,"春季",0,0,0,0]
[{"$f":"IF(源数据!A930=\"\",\"\",源数据!A930)","v":"女士 西装 韩版 潮"},{"$f":"IF(源数据!B930=\"\",\"\",源数据!B930)","v":1},{"$f":"IF(源数据!C930=\"\",\"\",源数据!C930)","v":0},{"$f":"IF(源数据!D930=\"\",\"\",源数据!D930)","v":0},"潮",0,"女",0,0,0,0,0,0,0,0,0,0,0,0]
[{"$f":"IF(源数据!A931=\"\",\"\",源数据!A931)","v":"女士白色西装"},{"$f":"IF(源数据!B931=\"\",\"\",源数据!B931)","v":1},{"$f":"IF(源数据!C931=\"\",\"\",源数据!C931)","v":1},{"$f":"IF(源数据!D931=\"\",\"\",源数据!D931)","v":0},0,0,"女",0,0,0,0,0,0,0,0,0,"白色",0,0]
[{"$f":"IF(源数据!A932=\"\",\"\",源数据!A932)","v":"女士白色小西服"},{"$f":"IF(源数据!B932=\"\",\"\",源数据!B932)","v":2},{"$f":"IF(源数据!C932=\"\",\"\",源数据!C932)","v":1},{"$f":"IF(源数据!D932=\"\",\"\",源数据!D932)","v":0},0,0,"女",0,0,0,0,"西服",0,0,0,0,"白色",0,0]
[{"$f":"IF(源数据!A933=\"\",\"\",源数据!A933)","v":"女士白色小西服 长款"},{"$f":"IF(源数据!B933=\"\",\"\",源数据!B933)","v":1},{"$f":"IF(源数据!C933=\"\",\"\",源数据!C933)","v":1},{"$f":"IF(源数据!D933=\"\",\"\",源数据!D933)","v":0},0,0,"女",0,0,0,0,"西服",0,0,0,0,"白色",0,0]
[{"$f":"IF(源数据!A934=\"\",\"\",源数据!A934)","v":"女士白色小西装"},{"$f":"IF(源数据!B934=\"\",\"\",源数据!B934)","v":3},{"$f":"IF(源数据!C934=\"\",\"\",源数据!C934)","v":1},{"$f":"IF(源数据!D934=\"\",\"\",源数据!D934)","v":0},0,0,"女",0,0,"小西装",0,0,0,0,0,0,"白色",0,0]
[{"$f":"IF(源数据!A935=\"\",\"\",源数据!A935)","v":"女士长款白色小西服 2013款"},{"$f":"IF(源数据!B935=\"\",\"\",源数据!B935)","v":1},{"$f":"IF(源数据!C935=\"\",\"\",源数据!C935)","v":1},{"$f":"IF(源数据!D935=\"\",\"\",源数据!D935)","v":0},0,0,"女",0,0,0,2013,"西服",0,0,0,0,"白色",0,0]
[{"$f":"IF(源数据!A936=\"\",\"\",源数据!A936)","v":"女士长款西服包邮"},{"$f":"IF(源数据!B936=\"\",\"\",源数据!B936)","v":1},{"$f":"IF(源数据!C936=\"\",\"\",源数据!C936)","v":1},{"$f":"IF(源数据!D936=\"\",\"\",源数据!D936)","v":0},0,0,"女",0,0,0,0,"西服",0,0,0,0,0,0,0]
[{"$f":"IF(源数据!A937=\"\",\"\",源数据!A937)","v":"女士长款西服外套"},{"$f":"IF(源数据!B937=\"\",\"\",源数据!B937)","v":1},{"$f":"IF(源数据!C937=\"\",\"\",源数据!C937)","v":1},{"$f":"IF(源数据!D937=\"\",\"\",源数据!D937)","v":0},0,0,"女",0,"外套",0,0,"西服",0,0,0,0,0,0,0]
[{"$f":"IF(源数据!A938=\"\",\"\",源数据!A938)","v":"女士春季新款外套"},{"$f":"IF(源数据!B938=\"\",\"\",源数据!B938)","v":1},{"$f":"IF(源数据!C938=\"\",\"\",源数据!C938)","v":1},{"$f":"IF(源数据!D938=\"\",\"\",源数据!D938)","v":0},0,0,"女",0,"外套",0,0,0,0,0,"春季",0,0,0,0]
[{"$f":"IF(源数据!A939=\"\",\"\",源数据!A939)","v":"女士春秋外套新款"},{"$f":"IF(源数据!B939=\"\",\"\",源数据!B939)","v":1},{"$f":"IF(源数据!C939=\"\",\"\",源数据!C939)","v":1},{"$f":"IF(源数据!D939=\"\",\"\",源数据!D939)","v":0},0,0,"女",0,"外套",0,0,0,0,0,0,"春秋",0,0,0]
[{"$f":"IF(源数据!A940=\"\",\"\",源数据!A940)","v":"女士春秋小外套"},{"$f":"IF(源数据!B940=\"\",\"\",源数据!B940)","v":1},{"$f":"IF(源数据!C940=\"\",\"\",源数据!C940)","v":1},{"$f":"IF(源数据!D940=\"\",\"\",源数据!D940)","v":0},0,0,"女",0,"外套",0,0,0,0,0,0,"春秋",0,0,0]
[{"$f":"IF(源数据!A941=\"\",\"\",源数据!A941)","v":"女士春秋小西装"},{"$f":"IF(源数据!B941=\"\",\"\",源数据!B941)","v":1},{"$f":"IF(源数据!C941=\"\",\"\",源数据!C941)","v":1},{"$f":"IF(源数据!D941=\"\",\"\",源数据!D941)","v":0},0,0,"女",0,0,"小西装",0,0,0,0,0,"春秋",0,0,0]
[{"$f":"IF(源数据!A942=\"\",\"\",源数据!A942)","v":"女士韩版小西装"},{"$f":"IF(源数据!B942=\"\",\"\",源数据!B942)","v":1},{"$f":"IF(源数据!C942=\"\",\"\",源数据!C942)","v":1},{"$f":"IF(源数据!D942=\"\",\"\",源数据!D942)","v":0},0,0,"女",0,0,"小西装",0,0,0,0,0,0,0,0,0]
[{"$f":"IF(源数据!A943=\"\",\"\",源数据!A943)","v":"女士韩版小西装2013春装"},{"$f":"IF(源数据!B943=\"\",\"\",源数据!B943)","v":1},{"$f":"IF(源数据!C943=\"\",\"\",源数据!C943)","v":1},{"$f":"IF(源数据!D943=\"\",\"\",源数据!D943)","v":0},0,"春装","女",0,0,"小西装",2013,0,0,0,0,0,0,0,0]
[{"$f":"IF(源数据!A944=\"\",\"\",源数据!A944)","v":"女士外套"},{"$f":"IF(源数据!B944=\"\",\"\",源数据!B944)","v":1},{"$f":"IF(源数据!C944=\"\",\"\",源数据!C944)","v":1},{"$f":"IF(源数据!D944=\"\",\"\",源数据!D944)","v":0},0,0,"女",0,"外套",0,0,0,0,0,0,0,0,0,0]
[{"$f":"IF(源数据!A945=\"\",\"\",源数据!A945)","v":"女士外套 春秋装"},{"$f":"IF(源数据!B945=\"\",\"\",源数据!B945)","v":3},{"$f":"IF(源数据!C945=\"\",\"\",源数据!C945)","v":0.33329999999999999},{"$f":"IF(源数据!D945=\"\",\"\",源数据!D945)","v":0},0,0,"女",0,"外套",0,0,0,0,0,0,"春秋",0,0,0]
[{"$f":"IF(源数据!A946=\"\",\"\",源数据!A946)","v":"女士外套 韩版 潮"},{"$f":"IF(源数据!B946=\"\",\"\",源数据!B946)","v":2},{"$f":"IF(源数据!C946=\"\",\"\",源数据!C946)","v":1},{"$f":"IF(源数据!D946=\"\",\"\",源数据!D946)","v":0},"潮",0,"女",0,"外套",0,0,0,0,0,0,0,0,0,0]
[{"$f":"IF(源数据!A947=\"\",\"\",源数据!A947)","v":"女士外套 韩版包邮"},{"$f":"IF(源数据!B947=\"\",\"\",源数据!B947)","v":1},{"$f":"IF(源数据!C947=\"\",\"\",源数据!C947)","v":1},{"$f":"IF(源数据!D947=\"\",\"\",源数据!D947)","v":0},0,0,"女",0,"外套",0,0,0,0,0,0,0,0,0,0]
[{"$f":"IF(源数据!A948=\"\",\"\",源数据!A948)","v":"女士外套 西装 中长款"},{"$f":"IF(源数据!B948=\"\",\"\",源数据!B948)","v":1},{"$f":"IF(源数据!C948=\"\",\"\",源数据!C948)","v":1},{"$f":"IF(源数据!D948=\"\",\"\",源数据!D948)","v":0},0,0,"女",0,"外套",0,0,0,0,0,0,0,0,0,0]
[{"$f":"IF(源数据!A949=\"\",\"\",源数据!A949)","v":"女士外套春秋款包邮"},{"$f":"IF(源数据!B949=\"\",\"\",源数据!B949)","v":1},{"$f":"IF(源数据!C949=\"\",\"\",源数据!C949)","v":1},{"$f":"IF(源数据!D949=\"\",\"\",源数据!D949)","v":0},0,0,"女",0,"外套",0,0,0,0,0,0,"春秋",0,0,0]
[{"$f":"IF(源数据!A950=\"\",\"\",源数据!A950)","v":"女士外套春秋装"},{"$f":"IF(源数据!B950=\"\",\"\",源数据!B950)","v":5},{"$f":"IF(源数据!C950=\"\",\"\",源数据!C950)","v":1},{"$f":"IF(源数据!D950=\"\",\"\",源数据!D950)","v":0},0,0,"女",0,"外套",0,0,0,0,0,0,"春秋",0,0,0]
[{"$f":"IF(源数据!A951=\"\",\"\",源数据!A951)","v":"女士外套春装"},{"$f":"IF(源数据!B951=\"\",\"\",源数据!B951)","v":2},{"$f":"IF(源数据!C951=\"\",\"\",源数据!C951)","v":0.5},{"$f":"IF(源数据!D951=\"\",\"\",源数据!D951)","v":0},0,"春装","女",0,"外套",0,0,0,0,0,0,0,0,0,0]
[{"$f":"IF(源数据!A952=\"\",\"\",源数据!A952)","v":"女士外套休闲西装"},{"$f":"IF(源数据!B952=\"\",\"\",源数据!B952)","v":1},{"$f":"IF(源数据!C952=\"\",\"\",源数据!C952)","v":1},{"$f":"IF(源数据!D952=\"\",\"\",源数据!D952)","v":0},0,0,"女",0,"外套",0,0,0,"休闲",0,0,0,0,0,0]
[{"$f":"IF(源数据!A953=\"\",\"\",源数据!A953)","v":"女士西装"},{"$f":"IF(源数据!B953=\"\",\"\",源数据!B953)","v":6},{"$f":"IF(源数据!C953=\"\",\"\",源数据!C953)","v":1},{"$f":"IF(源数据!D953=\"\",\"\",源数据!D953)","v":0},0,0,"女",0,0,0,0,0,0,0,0,0,0,0,0]
[{"$f":"IF(源数据!A954=\"\",\"\",源数据!A954)","v":"女士西装春装"},{"$f":"IF(源数据!B954=\"\",\"\",源数据!B954)","v":1},{"$f":"IF(源数据!C954=\"\",\"\",源数据!C954)","v":1},{"$f":"IF(源数据!D954=\"\",\"\",源数据!D954)","v":0},0,"春装","女",0,0,0,0,0,0,0,0,0,0,0,0]
[{"$f":"IF(源数据!A955=\"\",\"\",源数据!A955)","v":"女士西装外套"},{"$f":"IF(源数据!B955=\"\",\"\",源数据!B955)","v":4},{"$f":"IF(源数据!C955=\"\",\"\",源数据!C955)","v":1},{"$f":"IF(源数据!D955=\"\",\"\",源数据!D955)","v":0},0,0,"女",0,"外套",0,0,0,0,0,0,0,0,0,0]
[{"$f":"IF(源数据!A956=\"\",\"\",源数据!A956)","v":"女士西装外套 韩版"},{"$f":"IF(源数据!B956=\"\",\"\",源数据!B956)","v":2},{"$f":"IF(源数据!C956=\"\",\"\",源数据!C956)","v":0},{"$f":"IF(源数据!D956=\"\",\"\",源数据!D956)","v":0},0,0,"女",0,"外套",0,0,0,0,0,0,0,0,0,0]
[{"$f":"IF(源数据!A957=\"\",\"\",源数据!A957)","v":"女士西装外套韩版"},{"$f":"IF(源数据!B957=\"\",\"\",源数据!B957)","v":7},{"$f":"IF(源数据!C957=\"\",\"\",源数据!C957)","v":1},{"$f":"IF(源数据!D957=\"\",\"\",源数据!D957)","v":0},0,0,"女",0,"外套",0,0,0,0,0,0,0,0,0,0]
[{"$f":"IF(源数据!A958=\"\",\"\",源数据!A958)","v":"女士西装外套韩版包邮"},{"$f":"IF(源数据!B958=\"\",\"\",源数据!B958)","v":4},{"$f":"IF(源数据!C958=\"\",\"\",源数据!C958)","v":0.25},{"$f":"IF(源数据!D958=\"\",\"\",源数据!D958)","v":0},0,0,"女",0,"外套",0,0,0,0,0,0,0,0,0,0]
[{"$f":"IF(源数据!A959=\"\",\"\",源数据!A959)","v":"女士西装外套中长款"},{"$f":"IF(源数据!B959=\"\",\"\",源数据!B959)","v":2},{"$f":"IF(源数据!C959=\"\",\"\",源数据!C959)","v":1},{"$f":"IF(源数据!D959=\"\",\"\",源数据!D959)","v":0},0,0,"女",0,"外套",0,0,0,0,0,0,0,0,0,0]
[{"$f":"IF(源数据!A960=\"\",\"\",源数据!A960)","v":"女士小外套"},{"$f":"IF(源数据!B960=\"\",\"\",源数据!B960)","v":1},{"$f":"IF(源数据!C960=\"\",\"\",源数据!C960)","v":0},{"$f":"IF(源数据!D960=\"\",\"\",源数据!D960)","v":0},0,0,"女",0,"外套",0,0,0,0,0,0,0,0,0,0]
[{"$f":"IF(源数据!A961=\"\",\"\",源数据!A961)","v":"女士小西服"},{"$f":"IF(源数据!B961=\"\",\"\",源数据!B961)","v":3},{"$f":"IF(源数据!C961=\"\",\"\",源数据!C961)","v":0.66669999999999996},{"$f":"IF(源数据!D961=\"\",\"\",源数据!D961)","v":0},0,0,"女",0,0,0,0,"西服",0,0,0,0,0,0,0]
[{"$f":"IF(源数据!A962=\"\",\"\",源数据!A962)","v":"女士小西服 2013款"},{"$f":"IF(源数据!B962=\"\",\"\",源数据!B962)","v":1},{"$f":"IF(源数据!C962=\"\",\"\",源数据!C962)","v":0},{"$f":"IF(源数据!D962=\"\",\"\",源数据!D962)","v":0},0,0,"女",0,0,0,2013,"西服",0,0,0,0,0,0,0]
[{"$f":"IF(源数据!A963=\"\",\"\",源数据!A963)","v":"女士小西服外套"},{"$f":"IF(源数据!B963=\"\",\"\",源数据!B963)","v":2},{"$f":"IF(源数据!C963=\"\",\"\",源数据!C963)","v":0},{"$f":"IF(源数据!D963=\"\",\"\",源数据!D963)","v":0},{"$f":"IF($A962=\"\",\"\",IF(E$1=\"\",\"\",IF(IFERROR(SEARCH(E$1,$A963),0) >0,E$1,0)))","v":0},{"$f":"IF($A962=\"\",\"\",IF(F$1=\"\",\"\",IF(IFERROR(SEARCH(F$1,$A963),0) >0,F$1,0)))","v":0},{"$f":"IF($A962=\"\",\"\",IF(G$1=\"\",\"\",IF(IFERROR(SEARCH(G$1,$A963),0) >0,G$1,0)))","v":"女"},{"$f":"IF($A962=\"\",\"\",IF(H$1=\"\",\"\",IF(IFERROR(SEARCH(H$1,$A963),0) >0,H$1,0)))","v":0},{"$f":"IF($A962=\"\",\"\",IF(I$1=\"\",\"\",IF(IFERROR(SEARCH(I$1,$A963),0) >0,I$1,0)))","v":"外套"},{"$f":"IF($A962=\"\",\"\",IF(J$1=\"\",\"\",IF(IFERROR(SEARCH(J$1,$A963),0) >0,J$1,0)))","v":0},{"$f":"IF($A962=\"\",\"\",IF(K$1=\"\",\"\",IF(IFERROR(SEARCH(K$1,$A963),0) >0,K$1,0)))","v":0},{"$f":"IF($A962=\"\",\"\",IF(L$1=\"\",\"\",IF(IFERROR(SEARCH(L$1,$A963),0) >0,L$1,0)))","v":"西服"},{"$f":"IF($A962=\"\",\"\",IF(M$1=\"\",\"\",IF(IFERROR(SEARCH(M$1,$A963),0) >0,M$1,0)))","v":0},{"$f":"IF($A962=\"\",\"\",IF(N$1=\"\",\"\",IF(IFERROR(SEARCH(N$1,$A963),0) >0,N$1,0)))","v":0},{"$f":"IF($A962=\"\",\"\",IF(O$1=\"\",\"\",IF(IFERROR(SEARCH(O$1,$A963),0) >0,O$1,0)))","v":0},{"$f":"IF($A962=\"\",\"\",IF(P$1=\"\",\"\",IF(IFERROR(SEARCH(P$1,$A963),0) >0,P$1,0)))","v":0},{"$f":"IF($A962=\"\",\"\",IF(Q$1=\"\",\"\",IF(IFERROR(SEARCH(Q$1,$A963),0) >0,Q$1,0)))","v":0},{"$f":"IF($A962=\"\",\"\",IF(R$1=\"\",\"\",IF(IFERROR(SEARCH(R$1,$A963),0) >0,R$1,0)))","v":0},{"$f":"IF($A962=\"\",\"\",IF(S$1=\"\",\"\",IF(IFERROR(SEARCH(S$1,$A963),0) >0,S$1,0)))","v":0}]
[{"$f":"IF(源数据!A964=\"\",\"\",源数据!A964)","v":"女士小西服外套小西装 2013"},{"$f":"IF(源数据!B964=\"\",\"\",源数据!B964)","v":1},{"$f":"IF(源数据!C964=\"\",\"\",源数据!C964)","v":0},{"$f":"IF(源数据!D964=\"\",\"\",源数据!D964)","v":0},0,0,"女",0,"外套","小西装",2013,"西服",0,0,0,0,0,0,0]
[{"$f":"IF(源数据!A965=\"\",\"\",源数据!A965)","v":"女士新款西服"},{"$f":"IF(源数据!B965=\"\",\"\",源数据!B965)","v":1},{"$f":"IF(源数据!C965=\"\",\"\",源数据!C965)","v":0},{"$f":"IF(源数据!D965=\"\",\"\",源数据!D965)","v":0},0,0,"女",0,0,0,0,"西服",0,0,0,0,0,0,0]
[{"$f":"IF(源数据!A966=\"\",\"\",源数据!A966)","v":"女士新款休闲小西装"},{"$f":"IF(源数据!B966=\"\",\"\",源数据!B966)","v":1},{"$f":"IF(源数据!C966=\"\",\"\",源数据!C966)","v":1},{"$f":"IF(源数据!D966=\"\",\"\",源数据!D966)","v":0},0,0,"女",0,0,"小西装",0,0,"休闲",0,0,0,0,0,0]
[{"$f":"IF(源数据!A967=\"\",\"\",源数据!A967)","v":"女士休西包邮"},{"$f":"IF(源数据!B967=\"\",\"\",源数据!B967)","v":1},{"$f":"IF(源数据!C967=\"\",\"\",源数据!C967)","v":0},{"$f":"IF(源数据!D967=\"\",\"\",源数据!D967)","v":0},0,0,"女",0,0,0,0,0,0,0,0,0,0,0,0]
[{"$f":"IF(源数据!A968=\"\",\"\",源数据!A968)","v":"女士休闲春装外套"},{"$f":"IF(源数据!B968=\"\",\"\",源数据!B968)","v":1},{"$f":"IF(源数据!C968=\"\",\"\",源数据!C968)","v":1},{"$f":"IF(源数据!D968=\"\",\"\",源数据!D968)","v":0},0,"春装","女",0,"外套",0,0,0,"休闲",0,0,0,0,0,0]
[{"$f":"IF(源数据!A969=\"\",\"\",源数据!A969)","v":"女士休闲春装外套2013"},{"$f":"IF(源数据!B969=\"\",\"\",源数据!B969)","v":1},{"$f":"IF(源数据!C969=\"\",\"\",源数据!C969)","v":0},{"$f":"IF(源数据!D969=\"\",\"\",源数据!D969)","v":0},0,"春装","女",0,"外套",0,2013,0,"休闲",0,0,0,0,0,0]
[{"$f":"IF(源数据!A970=\"\",\"\",源数据!A970)","v":"女士休闲西服"},{"$f":"IF(源数据!B970=\"\",\"\",源数据!B970)","v":11},{"$f":"IF(源数据!C970=\"\",\"\",源数据!C970)","v":0.72729999999999995},{"$f":"IF(源数据!D970=\"\",\"\",源数据!D970)","v":0},0,0,"女",0,0,0,0,"西服","休闲",0,0,0,0,0,0]
[{"$f":"IF(源数据!A971=\"\",\"\",源数据!A971)","v":"女士休闲西服免运费"},{"$f":"IF(源数据!B971=\"\",\"\",源数据!B971)","v":1},{"$f":"IF(源数据!C971=\"\",\"\",源数据!C971)","v":1},{"$f":"IF(源数据!D971=\"\",\"\",源数据!D971)","v":0},0,0,"女",0,0,0,0,"西服","休闲",0,0,0,0,0,0]
[{"$f":"IF(源数据!A972=\"\",\"\",源数据!A972)","v":"女士休闲小西装"},{"$f":"IF(源数据!B972=\"\",\"\",源数据!B972)","v":1},{"$f":"IF(源数据!C972=\"\",\"\",源数据!C972)","v":1},{"$f":"IF(源数据!D972=\"\",\"\",源数据!D972)","v":0},0,0,"女",0,0,"小西装",0,0,"休闲",0,0,0,0,0,0]
[{"$f":"IF(源数据!A973=\"\",\"\",源数据!A973)","v":"女士休闲小西装包邮"},{"$f":"IF(源数据!B973=\"\",\"\",源数据!B973)","v":1},{"$f":"IF(源数据!C973=\"\",\"\",源数据!C973)","v":1},{"$f":"IF(源数据!D973=\"\",\"\",源数据!D973)","v":0},0,0,"女",0,0,"小西装",0,0,"休闲",0,0,0,0,0,0]
[{"$f":"IF(源数据!A974=\"\",\"\",源数据!A974)","v":"女士修身长款西服"},{"$f":"IF(源数据!B974=\"\",\"\",源数据!B974)","v":1},{"$f":"IF(源数据!C974=\"\",\"\",源数据!C974)","v":0},{"$f":"IF(源数据!D974=\"\",\"\",源数据!D974)","v":0},0,0,"女",0,0,0,0,"西服",0,"修身",0,0,0,0,0]
[{"$f":"IF(源数据!A975=\"\",\"\",源数据!A975)","v":"女士修身西装外套"},{"$f":"IF(源数据!B975=\"\",\"\",源数据!B975)","v":1},{"$f":"IF(源数据!C975=\"\",\"\",源数据!C975)","v":1},{"$f":"IF(源数据!D975=\"\",\"\",源数据!D975)","v":0},0,0,"女",0,"外套",0,0,0,0,"修身",0,0,0,0,0]
[{"$f":"IF(源数据!A976=\"\",\"\",源数据!A976)","v":"女士中长款小西装"},{"$f":"IF(源数据!B976=\"\",\"\",源数据!B976)","v":1},{"$f":"IF(源数据!C976=\"\",\"\",源数据!C976)","v":1},{"$f":"IF(源数据!D976=\"\",\"\",源数据!D976)","v":0},0,0,"女",0,0,"小西装",0,0,0,0,0,0,0,0,0]
[{"$f":"IF(源数据!A977=\"\",\"\",源数据!A977)","v":"女式 春装 外套"},{"$f":"IF(源数据!B977=\"\",\"\",源数据!B977)","v":1},{"$f":"IF(源数据!C977=\"\",\"\",源数据!C977)","v":1},{"$f":"IF(源数据!D977=\"\",\"\",源数据!D977)","v":0},0,"春装","女",0,"外套",0,0,0,0,0,0,0,0,0,0]
[{"$f":"IF(源数据!A978=\"\",\"\",源数据!A978)","v":"女式白色春秋服"},{"$f":"IF(源数据!B978=\"\",\"\",源数据!B978)","v":2},{"$f":"IF(源数据!C978=\"\",\"\",源数据!C978)","v":0},{"$f":"IF(源数据!D978=\"\",\"\",源数据!D978)","v":0},0,0,"女",0,0,0,0,0,0,0,0,"春秋","白色",0,0]
[{"$f":"IF(源数据!A979=\"\",\"\",源数据!A979)","v":"女式白色西装"},{"$f":"IF(源数据!B979=\"\",\"\",源数据!B979)","v":1},{"$f":"IF(源数据!C979=\"\",\"\",源数据!C979)","v":1},{"$f":"IF(源数据!D979=\"\",\"\",源数据!D979)","v":0},0,0,"女",0,0,0,0,0,0,0,0,0,"白色",0,0]
[{"$f":"IF(源数据!A980=\"\",\"\",源数据!A980)","v":"女式白色小西服中长版"},{"$f":"IF(源数据!B980=\"\",\"\",源数据!B980)","v":1},{"$f":"IF(源数据!C980=\"\",\"\",源数据!C980)","v":1},{"$f":"IF(源数据!D980=\"\",\"\",源数据!D980)","v":0},0,0,"女",0,0,0,0,"西服",0,0,0,0,"白色",0,0]
[{"$f":"IF(源数据!A981=\"\",\"\",源数据!A981)","v":"女式春秋小西服"},{"$f":"IF(源数据!B981=\"\",\"\",源数据!B981)","v":1},{"$f":"IF(源数据!C981=\"\",\"\",源数据!C981)","v":1},{"$f":"IF(源数据!D981=\"\",\"\",源数据!D981)","v":0},0,0,"女",0,0,0,0,"西服",0,0,0,"春秋",0,0,0]
[{"$f":"IF(源数据!A982=\"\",\"\",源数据!A982)","v":"女式韩版休闲小西服"},{"$f":"IF(源数据!B982=\"\",\"\",源数据!B982)","v":1},{"$f":"IF(源数据!C982=\"\",\"\",源数据!C982)","v":1},{"$f":"IF(源数据!D982=\"\",\"\",源数据!D982)","v":0},0,0,"女",0,0,0,0,"西服","休闲",0,0,0,0,0,0]
[{"$f":"IF(源数据!A983=\"\",\"\",源数据!A983)","v":"女式西装"},{"$f":"IF(源数据!B983=\"\",\"\",源数据!B983)","v":1},{"$f":"IF(源数据!C983=\"\",\"\",源数据!C983)","v":1},{"$f":"IF(源数据!D983=\"\",\"\",源数据!D983)","v":0},0,0,"女",0,0,0,0,0,0,0,0,0,0,0,0]
[{"$f":"IF(源数据!A984=\"\",\"\",源数据!A984)","v":"女式西装外套"},{"$f":"IF(源数据!B984=\"\",\"\",源数据!B984)","v":1},{"$f":"IF(源数据!C984=\"\",\"\",源数据!C984)","v":0},{"$f":"IF(源数据!D984=\"\",\"\",源数据!D984)","v":0},0,0,"女",0,"外套",0,0,0,0,0,0,0,0,0,0]
[{"$f":"IF(源数据!A985=\"\",\"\",源数据!A985)","v":"女式西装外套修身"},{"$f":"IF(源数据!B985=\"\",\"\",源数据!B985)","v":1},{"$f":"IF(源数据!C985=\"\",\"\",源数据!C985)","v":0},{"$f":"IF(源数据!D985=\"\",\"\",源数据!D985)","v":0},0,0,"女",0,"外套",0,0,0,0,"修身",0,0,0,0,0]
[{"$f":"IF(源数据!A986=\"\",\"\",源数据!A986)","v":"女式小西服 纯色 休闲 包邮"},{"$f":"IF(源数据!B986=\"\",\"\",源数据!B986)","v":1},{"$f":"IF(源数据!C986=\"\",\"\",源数据!C986)","v":1},{"$f":"IF(源数据!D986=\"\",\"\",源数据!D986)","v":0},0,0,"女",0,0,0,0,"西服","休闲",0,0,0,0,0,0]
[{"$f":"IF(源数据!A987=\"\",\"\",源数据!A987)","v":"女式休闲西服"},{"$f":"IF(源数据!B987=\"\",\"\",源数据!B987)","v":2},{"$f":"IF(源数据!C987=\"\",\"\",源数据!C987)","v":0.5},{"$f":"IF(源数据!D987=\"\",\"\",源数据!D987)","v":0},0,0,"女",0,0,0,0,"西服","休闲",0,0,0,0,0,0]
[{"$f":"IF(源数据!A988=\"\",\"\",源数据!A988)","v":"女式中长白色休闲西服"},{"$f":"IF(源数据!B988=\"\",\"\",源数据!B988)","v":1},{"$f":"IF(源数据!C988=\"\",\"\",源数据!C988)","v":1},{"$f":"IF(源数据!D988=\"\",\"\",源数据!D988)","v":0},0,0,"女",0,0,0,0,"西服","休闲",0,0,0,"白色",0,0]
[{"$f":"IF(源数据!A989=\"\",\"\",源数据!A989)","v":"女特价小西装"},{"$f":"IF(源数据!B989=\"\",\"\",源数据!B989)","v":1},{"$f":"IF(源数据!C989=\"\",\"\",源数据!C989)","v":1},{"$f":"IF(源数据!D989=\"\",\"\",源数据!D989)","v":0},0,0,"女",0,0,"小西装",0,0,0,0,0,0,0,0,0]
[{"$f":"IF(源数据!A990=\"\",\"\",源数据!A990)","v":"女外套 春秋装"},{"$f":"IF(源数据!B990=\"\",\"\",源数据!B990)","v":1},{"$f":"IF(源数据!C990=\"\",\"\",源数据!C990)","v":0},{"$f":"IF(源数据!D990=\"\",\"\",源数据!D990)","v":0},0,0,"女",0,"外套",0,0,0,0,0,0,"春秋",0,0,0]
[{"$f":"IF(源数据!A991=\"\",\"\",源数据!A991)","v":"女外套 春装"},{"$f":"IF(源数据!B991=\"\",\"\",源数据!B991)","v":1},{"$f":"IF(源数据!C991=\"\",\"\",源数据!C991)","v":1},{"$f":"IF(源数据!D991=\"\",\"\",源数据!D991)","v":0},0,"春装","女",0,"外套",0,0,0,0,0,0,0,0,0,0]
[{"$f":"IF(源数据!A992=\"\",\"\",源数据!A992)","v":"女外套2013春新款"},{"$f":"IF(源数据!B992=\"\",\"\",源数据!B992)","v":3},{"$f":"IF(源数据!C992=\"\",\"\",源数据!C992)","v":1},{"$f":"IF(源数据!D992=\"\",\"\",源数据!D992)","v":0},0,0,"女",0,"外套",0,2013,0,0,0,0,0,0,0,0]
[{"$f":"IF(源数据!A993=\"\",\"\",源数据!A993)","v":"女外套春秋款"},{"$f":"IF(源数据!B993=\"\",\"\",源数据!B993)","v":3},{"$f":"IF(源数据!C993=\"\",\"\",源数据!C993)","v":1},{"$f":"IF(源数据!D993=\"\",\"\",源数据!D993)","v":0},0,0,"女",0,"外套",0,0,0,0,0,0,"春秋",0,0,0]
[{"$f":"IF(源数据!A994=\"\",\"\",源数据!A994)","v":"女外套春秋款休闲"},{"$f":"IF(源数据!B994=\"\",\"\",源数据!B994)","v":8},{"$f":"IF(源数据!C994=\"\",\"\",源数据!C994)","v":0.875},{"$f":"IF(源数据!D994=\"\",\"\",源数据!D994)","v":1},0,0,"女",0,"外套",0,0,0,"休闲",0,0,"春秋",0,0,0]
[{"$f":"IF(源数据!A995=\"\",\"\",源数据!A995)","v":"女外套春秋款中长款"},{"$f":"IF(源数据!B995=\"\",\"\",源数据!B995)","v":1},{"$f":"IF(源数据!C995=\"\",\"\",源数据!C995)","v":1},{"$f":"IF(源数据!D995=\"\",\"\",源数据!D995)","v":0},0,0,"女",0,"外套",0,0,0,0,0,0,"春秋",0,0,0]
[{"$f":"IF(源数据!A996=\"\",\"\",源数据!A996)","v":"女西服"},{"$f":"IF(源数据!B996=\"\",\"\",源数据!B996)","v":3},{"$f":"IF(源数据!C996=\"\",\"\",源数据!C996)","v":0.66669999999999996},{"$f":"IF(源数据!D996=\"\",\"\",源数据!D996)","v":0},0,0,"女",0,0,0,0,"西服",0,0,0,0,0,0,0]
[{"$f":"IF(源数据!A997=\"\",\"\",源数据!A997)","v":"女西服2013"},{"$f":"IF(源数据!B997=\"\",\"\",源数据!B997)","v":1},{"$f":"IF(源数据!C997=\"\",\"\",源数据!C997)","v":1},{"$f":"IF(源数据!D997=\"\",\"\",源数据!D997)","v":0},0,0,"女",0,0,0,2013,"西服",0,0,0,0,0,0,0]
[{"$f":"IF(源数据!A998=\"\",\"\",源数据!A998)","v":"女西服包邮"},{"$f":"IF(源数据!B998=\"\",\"\",源数据!B998)","v":1},{"$f":"IF(源数据!C998=\"\",\"\",源数据!C998)","v":1},{"$f":"IF(源数据!D998=\"\",\"\",源数据!D998)","v":0},0,0,"女",0,0,0,0,"西服",0,0,0,0,0,0,0]
[{"$f":"IF(源数据!A999=\"\",\"\",源数据!A999)","v":"女西服春秋"},{"$f":"IF(源数据!B999=\"\",\"\",源数据!B999)","v":1},{"$f":"IF(源数据!C999=\"\",\"\",源数据!C999)","v":1},{"$f":"IF(源数据!D999=\"\",\"\",源数据!D999)","v":0},0,0,"女",0,0,0,0,"西服",0,0,0,"春秋",0,0,0]
[{"$f":"IF(源数据!A1000=\"\",\"\",源数据!A1000)","v":"女西服外套韩版"},{"$f":"IF(源数据!B1000=\"\",\"\",源数据!B1000)","v":4},{"$f":"IF(源数据!C1000=\"\",\"\",源数据!C1000)","v":0.75},{"$f":"IF(源数据!D1000=\"\",\"\",源数据!D1000)","v":0},0,0,"女",0,"外套",0,0,"西服",0,0,0,0,0,0,0]
[{"$f":"IF(源数据!A1001=\"\",\"\",源数据!A1001)","v":"女西服中长款"},{"$f":"IF(源数据!B1001=\"\",\"\",源数据!B1001)","v":3},{"$f":"IF(源数据!C1001=\"\",\"\",源数据!C1001)","v":1},{"$f":"IF(源数据!D1001=\"\",\"\",源数据!D1001)","v":0},0,0,"女",0,0,0,0,"西服",0,0,0,0,0,0,0]
[{"$f":"IF(源数据!A1002=\"\",\"\",源数据!A1002)","v":"女西装"},{"$f":"IF(源数据!B1002=\"\",\"\",源数据!B1002)","v":15},{"$f":"IF(源数据!C1002=\"\",\"\",源数据!C1002)","v":0.93330000000000002},{"$f":"IF(源数据!D1002=\"\",\"\",源数据!D1002)","v":0},0,0,"女",0,0,0,0,0,0,0,0,0,0,0,0]
[{"$f":"IF(源数据!A1003=\"\",\"\",源数据!A1003)","v":"女西装 外套"},{"$f":"IF(源数据!B1003=\"\",\"\",源数据!B1003)","v":1},{"$f":"IF(源数据!C1003=\"\",\"\",源数据!C1003)","v":1},{"$f":"IF(源数据!D1003=\"\",\"\",源数据!D1003)","v":0},0,0,"女",0,"外套",0,0,0,0,0,0,0,0,0,0]
[{"$f":"IF(源数据!A1004=\"\",\"\",源数据!A1004)","v":"女西装 外套，白色"},{"$f":"IF(源数据!B1004=\"\",\"\",源数据!B1004)","v":1},{"$f":"IF(源数据!C1004=\"\",\"\",源数据!C1004)","v":1},{"$f":"IF(源数据!D1004=\"\",\"\",源数据!D1004)","v":0},0,0,"女",0,"外套",0,0,0,0,0,0,0,"白色",0,0]
[{"$f":"IF(源数据!A1005=\"\",\"\",源数据!A1005)","v":"女西装长款"},{"$f":"IF(源数据!B1005=\"\",\"\",源数据!B1005)","v":1},{"$f":"IF(源数据!C1005=\"\",\"\",源数据!C1005)","v":1},{"$f":"IF(源数据!D1005=\"\",\"\",源数据!D1005)","v":0},0,0,"女",0,0,0,0,0,0,0,0,0,0,0,0]
[{"$f":"IF(源数据!A1006=\"\",\"\",源数据!A1006)","v":"女西装裙"},{"$f":"IF(源数据!B1006=\"\",\"\",源数据!B1006)","v":1},{"$f":"IF(源数据!C1006=\"\",\"\",源数据!C1006)","v":1},{"$f":"IF(源数据!D1006=\"\",\"\",源数据!D1006)","v":0},0,0,"女",0,0,0,0,0,0,0,0,0,0,0,0]
[{"$f":"IF(源数据!A1007=\"\",\"\",源数据!A1007)","v":"女西装外套"},{"$f":"IF(源数据!B1007=\"\",\"\",源数据!B1007)","v":6},{"$f":"IF(源数据!C1007=\"\",\"\",源数据!C1007)","v":0.83330000000000004},{"$f":"IF(源数据!D1007=\"\",\"\",源数据!D1007)","v":0},0,0,"女",0,"外套",0,0,0,0,0,0,0,0,0,0]
[{"$f":"IF(源数据!A1008=\"\",\"\",源数据!A1008)","v":"女西装外套 修身"},{"$f":"IF(源数据!B1008=\"\",\"\",源数据!B1008)","v":2},{"$f":"IF(源数据!C1008=\"\",\"\",源数据!C1008)","v":1},{"$f":"IF(源数据!D1008=\"\",\"\",源数据!D1008)","v":0},0,0,"女",0,"外套",0,0,0,0,"修身",0,0,0,0,0]
[{"$f":"IF(源数据!A1009=\"\",\"\",源数据!A1009)","v":"女西装外套包邮"},{"$f":"IF(源数据!B1009=\"\",\"\",源数据!B1009)","v":1},{"$f":"IF(源数据!C1009=\"\",\"\",源数据!C1009)","v":1},{"$f":"IF(源数据!D1009=\"\",\"\",源数据!D1009)","v":0},0,0,"女",0,"外套",0,0,0,0,0,0,0,0,0,0]
[{"$f":"IF(源数据!A1010=\"\",\"\",源数据!A1010)","v":"女西装外套包邮春"},{"$f":"IF(源数据!B1010=\"\",\"\",源数据!B1010)","v":1},{"$f":"IF(源数据!C1010=\"\",\"\",源数据!C1010)","v":1},{"$f":"IF(源数据!D1010=\"\",\"\",源数据!D1010)","v":0},0,0,"女",0,"外套",0,0,0,0,0,0,0,0,0,0]
[{"$f":"IF(源数据!A1011=\"\",\"\",源数据!A1011)","v":"女西装外套春秋款"},{"$f":"IF(源数据!B1011=\"\",\"\",源数据!B1011)","v":2},{"$f":"IF(源数据!C1011=\"\",\"\",源数据!C1011)","v":0.5},{"$f":"IF(源数据!D1011=\"\",\"\",源数据!D1011)","v":0},0,0,"女",0,"外套",0,0,0,0,0,0,"春秋",0,0,0]
[{"$f":"IF(源数据!A1012=\"\",\"\",源数据!A1012)","v":"女西装外套韩版"},{"$f":"IF(源数据!B1012=\"\",\"\",源数据!B1012)","v":1},{"$f":"IF(源数据!C1012=\"\",\"\",源数据!C1012)","v":0},{"$f":"IF(源数据!D1012=\"\",\"\",源数据!D1012)","v":0},0,0,"女",0,"外套",0,0,0,0,0,0,0,0,0,0]
[{"$f":"IF(源数据!A1013=\"\",\"\",源数据!A1013)","v":"女西装外套中长款"},{"$f":"IF(源数据!B1013=\"\",\"\",源数据!B1013)","v":1},{"$f":"IF(源数据!C1013=\"\",\"\",源数据!C1013)","v":1},{"$f":"IF(源数据!D1013=\"\",\"\",源数据!D1013)","v":0},0,0,"女",0,"外套",0,0,0,0,0,0,0,0,0,0]
[{"$f":"IF(源数据!A1014=\"\",\"\",源数据!A1014)","v":"女西装休闲"},{"$f":"IF(源数据!B1014=\"\",\"\",源数据!B1014)","v":1},{"$f":"IF(源数据!C1014=\"\",\"\",源数据!C1014)","v":1},{"$f":"IF(源数据!D1014=\"\",\"\",源数据!D1014)","v":0},0,0,"女",0,0,0,0,0,"休闲",0,0,0,0,0,0]
[{"$f":"IF(源数据!A1015=\"\",\"\",源数据!A1015)","v":"女小外套"},{"$f":"IF(源数据!B1015=\"\",\"\",源数据!B1015)","v":1},{"$f":"IF(源数据!C1015=\"\",\"\",源数据!C1015)","v":1},{"$f":"IF(源数据!D1015=\"\",\"\",源数据!D1015)","v":0},0,0,"女",0,"外套",0,0,0,0,0,0,0,0,0,0]
[{"$f":"IF(源数据!A1016=\"\",\"\",源数据!A1016)","v":"女小外套春秋款"},{"$f":"IF(源数据!B1016=\"\",\"\",源数据!B1016)","v":1},{"$f":"IF(源数据!C1016=\"\",\"\",源数据!C1016)","v":1},{"$f":"IF(源数据!D1016=\"\",\"\",源数据!D1016)","v":0},0,0,"女",0,"外套",0,0,0,0,0,0,"春秋",0,0,0]
[{"$f":"IF(源数据!A1017=\"\",\"\",源数据!A1017)","v":"女小西服"},{"$f":"IF(源数据!B1017=\"\",\"\",源数据!B1017)","v":3},{"$f":"IF(源数据!C1017=\"\",\"\",源数据!C1017)","v":0.33329999999999999},{"$f":"IF(源数据!D1017=\"\",\"\",源数据!D1017)","v":0},0,0,"女",0,0,0,0,"西服",0,0,0,0,0,0,0]
[{"$f":"IF(源数据!A1018=\"\",\"\",源数据!A1018)","v":"女小西服外套"},{"$f":"IF(源数据!B1018=\"\",\"\",源数据!B1018)","v":1},{"$f":"IF(源数据!C1018=\"\",\"\",源数据!C1018)","v":1},{"$f":"IF(源数据!D1018=\"\",\"\",源数据!D1018)","v":0},0,0,"女",0,"外套",0,0,"西服",0,0,0,0,0,0,0]
[{"$f":"IF(源数据!A1019=\"\",\"\",源数据!A1019)","v":"女小西装"},{"$f":"IF(源数据!B1019=\"\",\"\",源数据!B1019)","v":3},{"$f":"IF(源数据!C1019=\"\",\"\",源数据!C1019)","v":0.66669999999999996},{"$f":"IF(源数据!D1019=\"\",\"\",源数据!D1019)","v":0},0,0,"女",0,0,"小西装",0,0,0,0,0,0,0,0,0]
[{"$f":"IF(源数据!A1020=\"\",\"\",源数据!A1020)","v":"女小西装2013新款"},{"$f":"IF(源数据!B1020=\"\",\"\",源数据!B1020)","v":2},{"$f":"IF(源数据!C1020=\"\",\"\",源数据!C1020)","v":1},{"$f":"IF(源数据!D1020=\"\",\"\",源数据!D1020)","v":0},0,0,"女",0,0,"小西装",2013,0,0,0,0,0,0,0,0]
[{"$f":"IF(源数据!A1021=\"\",\"\",源数据!A1021)","v":"女小西装韩版2013新款"},{"$f":"IF(源数据!B1021=\"\",\"\",源数据!B1021)","v":1},{"$f":"IF(源数据!C1021=\"\",\"\",源数据!C1021)","v":1},{"$f":"IF(源数据!D1021=\"\",\"\",源数据!D1021)","v":0},0,0,"女",0,0,"小西装",2013,0,0,0,0,0,0,0,0]
[{"$f":"IF(源数据!A1022=\"\",\"\",源数据!A1022)","v":"女小西装修身"},{"$f":"IF(源数据!B1022=\"\",\"\",源数据!B1022)","v":3},{"$f":"IF(源数据!C1022=\"\",\"\",源数据!C1022)","v":0},{"$f":"IF(源数据!D1022=\"\",\"\",源数据!D1022)","v":0},0,0,"女",0,0,"小西装",0,0,0,"修身",0,0,0,0,0]
[{"$f":"IF(源数据!A1023=\"\",\"\",源数据!A1023)","v":"女休闲西服五分袖"},{"$f":"IF(源数据!B1023=\"\",\"\",源数据!B1023)","v":1},{"$f":"IF(源数据!C1023=\"\",\"\",源数据!C1023)","v":1},{"$f":"IF(源数据!D1023=\"\",\"\",源数据!D1023)","v":0},0,0,"女",0,0,0,0,"西服","休闲",0,0,0,0,0,0]
[{"$f":"IF(源数据!A1024=\"\",\"\",源数据!A1024)","v":"女休闲西装外套韩版"},{"$f":"IF(源数据!B1024=\"\",\"\",源数据!B1024)","v":2},{"$f":"IF(源数据!C1024=\"\",\"\",源数据!C1024)","v":1},{"$f":"IF(源数据!D1024=\"\",\"\",源数据!D1024)","v":0},0,0,"女",0,"外套",0,0,0,"休闲",0,0,0,0,0,0]
[{"$f":"IF(源数据!A1025=\"\",\"\",源数据!A1025)","v":"女休闲西装中长款"},{"$f":"IF(源数据!B1025=\"\",\"\",源数据!B1025)","v":1},{"$f":"IF(源数据!C1025=\"\",\"\",源数据!C1025)","v":1},{"$f":"IF(源数据!D1025=\"\",\"\",源数据!D1025)","v":0},0,0,"女",0,0,0,0,0,"休闲",0,0,0,0,0,0]
[{"$f":"IF(源数据!A1026=\"\",\"\",源数据!A1026)","v":"女休闲小西装 包邮"},{"$f":"IF(源数据!B1026=\"\",\"\",源数据!B1026)","v":1},{"$f":"IF(源数据!C1026=\"\",\"\",源数据!C1026)","v":0},{"$f":"IF(源数据!D1026=\"\",\"\",源数据!D1026)","v":0},0,0,"女",0,0,"小西装",0,0,"休闲",0,0,0,0,0,0]
[{"$f":"IF(源数据!A1027=\"\",\"\",源数据!A1027)","v":"女修身小西服 春秋"},{"$f":"IF(源数据!B1027=\"\",\"\",源数据!B1027)","v":1},{"$f":"IF(源数据!C1027=\"\",\"\",源数据!C1027)","v":1},{"$f":"IF(源数据!D1027=\"\",\"\",源数据!D1027)","v":0},{"$f":"IF($A1026=\"\",\"\",IF(E$1=\"\",\"\",IF(IFERROR(SEARCH(E$1,$A1027),0) >0,E$1,0)))","v":0},{"$f":"IF($A1026=\"\",\"\",IF(F$1=\"\",\"\",IF(IFERROR(SEARCH(F$1,$A1027),0) >0,F$1,0)))","v":0},{"$f":"IF($A1026=\"\",\"\",IF(G$1=\"\",\"\",IF(IFERROR(SEARCH(G$1,$A1027),0) >0,G$1,0)))","v":"女"},{"$f":"IF($A1026=\"\",\"\",IF(H$1=\"\",\"\",IF(IFERROR(SEARCH(H$1,$A1027),0) >0,H$1,0)))","v":0},{"$f":"IF($A1026=\"\",\"\",IF(I$1=\"\",\"\",IF(IFERROR(SEARCH(I$1,$A1027),0) >0,I$1,0)))","v":0},{"$f":"IF($A1026=\"\",\"\",IF(J$1=\"\",\"\",IF(IFERROR(SEARCH(J$1,$A1027),0) >0,J$1,0)))","v":0},{"$f":"IF($A1026=\"\",\"\",IF(K$1=\"\",\"\",IF(IFERROR(SEARCH(K$1,$A1027),0) >0,K$1,0)))","v":0},{"$f":"IF($A1026=\"\",\"\",IF(L$1=\"\",\"\",IF(IFERROR(SEARCH(L$1,$A1027),0) >0,L$1,0)))","v":"西服"},{"$f":"IF($A1026=\"\",\"\",IF(M$1=\"\",\"\",IF(IFERROR(SEARCH(M$1,$A1027),0) >0,M$1,0)))","v":0},{"$f":"IF($A1026=\"\",\"\",IF(N$1=\"\",\"\",IF(IFERROR(SEARCH(N$1,$A1027),0) >0,N$1,0)))","v":"修身"},{"$f":"IF($A1026=\"\",\"\",IF(O$1=\"\",\"\",IF(IFERROR(SEARCH(O$1,$A1027),0) >0,O$1,0)))","v":0},{"$f":"IF($A1026=\"\",\"\",IF(P$1=\"\",\"\",IF(IFERROR(SEARCH(P$1,$A1027),0) >0,P$1,0)))","v":"春秋"},{"$f":"IF($A1026=\"\",\"\",IF(Q$1=\"\",\"\",IF(IFERROR(SEARCH(Q$1,$A1027),0) >0,Q$1,0)))","v":0},{"$f":"IF($A1026=\"\",\"\",IF(R$1=\"\",\"\",IF(IFERROR(SEARCH(R$1,$A1027),0) >0,R$1,0)))","v":0},{"$f":"IF($A1026=\"\",\"\",IF(S$1=\"\",\"\",IF(IFERROR(SEARCH(S$1,$A1027),0) >0,S$1,0)))","v":0}]
[{"$f":"IF(源数据!A1028=\"\",\"\",源数据!A1028)","v":"女修身小西装"},{"$f":"IF(源数据!B1028=\"\",\"\",源数据!B1028)","v":3},{"$f":"IF(源数据!C1028=\"\",\"\",源数据!C1028)","v":1},{"$f":"IF(源数据!D1028=\"\",\"\",源数据!D1028)","v":0},0,0,"女",0,0,"小西装",0,0,0,"修身",0,0,0,0,0]
[{"$f":"IF(源数据!A1029=\"\",\"\",源数据!A1029)","v":"女修身中长款小西装"},{"$f":"IF(源数据!B1029=\"\",\"\",源数据!B1029)","v":1},{"$f":"IF(源数据!C1029=\"\",\"\",源数据!C1029)","v":1},{"$f":"IF(源数据!D1029=\"\",\"\",源数据!D1029)","v":0},0,0,"女",0,0,"小西装",0,0,0,"修身",0,0,0,0,0]
[{"$f":"IF(源数据!A1030=\"\",\"\",源数据!A1030)","v":"女中长款小西装"},{"$f":"IF(源数据!B1030=\"\",\"\",源数据!B1030)","v":1},{"$f":"IF(源数据!C1030=\"\",\"\",源数据!C1030)","v":0},{"$f":"IF(源数据!D1030=\"\",\"\",源数据!D1030)","v":0},0,0,"女",0,0,"小西装",0,0,0,0,0,0,0,0,0]
[{"$f":"IF(源数据!A1031=\"\",\"\",源数据!A1031)","v":"女中长款休闲西装"},{"$f":"IF(源数据!B1031=\"\",\"\",源数据!B1031)","v":1},{"$f":"IF(源数据!C1031=\"\",\"\",源数据!C1031)","v":1},{"$f":"IF(源数据!D1031=\"\",\"\",源数据!D1031)","v":0},0,0,"女",0,0,0,0,0,"休闲",0,0,0,0,0,0]
[{"$f":"IF(源数据!A1032=\"\",\"\",源数据!A1032)","v":"女装"},{"$f":"IF(源数据!B1032=\"\",\"\",源数据!B1032)","v":7},{"$f":"IF(源数据!C1032=\"\",\"\",源数据!C1032)","v":0.85709999999999997},{"$f":"IF(源数据!D1032=\"\",\"\",源数据!D1032)","v":0},0,0,"女","女装",0,0,0,0,0,0,0,0,0,0,0]
[{"$f":"IF(源数据!A1033=\"\",\"\",源数据!A1033)","v":"女装  春"},{"$f":"IF(源数据!B1033=\"\",\"\",源数据!B1033)","v":1},{"$f":"IF(源数据!C1033=\"\",\"\",源数据!C1033)","v":1},{"$f":"IF(源数据!D1033=\"\",\"\",源数据!D1033)","v":0},0,0,"女","女装",0,0,0,0,0,0,0,0,0,0,0]
[{"$f":"IF(源数据!A1034=\"\",\"\",源数据!A1034)","v":"女装 春秋 韩版"},{"$f":"IF(源数据!B1034=\"\",\"\",源数据!B1034)","v":1},{"$f":"IF(源数据!C1034=\"\",\"\",源数据!C1034)","v":0},{"$f":"IF(源数据!D1034=\"\",\"\",源数据!D1034)","v":0},0,0,"女","女装",0,0,0,0,0,0,0,"春秋",0,0,0]
[{"$f":"IF(源数据!A1035=\"\",\"\",源数据!A1035)","v":"女装 春秋外套"},{"$f":"IF(源数据!B1035=\"\",\"\",源数据!B1035)","v":1},{"$f":"IF(源数据!C1035=\"\",\"\",源数据!C1035)","v":1},{"$f":"IF(源数据!D1035=\"\",\"\",源数据!D1035)","v":0},0,0,"女","女装","外套",0,0,0,0,0,0,"春秋",0,0,0]
[{"$f":"IF(源数据!A1036=\"\",\"\",源数据!A1036)","v":"女装 春秋外套 韩版修身一粒扣小西装"},{"$f":"IF(源数据!B1036=\"\",\"\",源数据!B1036)","v":1},{"$f":"IF(源数据!C1036=\"\",\"\",源数据!C1036)","v":1},{"$f":"IF(源数据!D1036=\"\",\"\",源数据!D1036)","v":0},0,0,"女","女装","外套","小西装",0,0,0,"修身",0,"春秋",0,0,0]
[{"$f":"IF(源数据!A1037=\"\",\"\",源数据!A1037)","v":"女装 春装 外套 包邮"},{"$f":"IF(源数据!B1037=\"\",\"\",源数据!B1037)","v":1},{"$f":"IF(源数据!C1037=\"\",\"\",源数据!C1037)","v":1},{"$f":"IF(源数据!D1037=\"\",\"\",源数据!D1037)","v":0},0,"春装","女","女装","外套",0,0,0,0,0,0,0,0,0,0]
[{"$f":"IF(源数据!A1038=\"\",\"\",源数据!A1038)","v":"女装 春装 新款2013"},{"$f":"IF(源数据!B1038=\"\",\"\",源数据!B1038)","v":1},{"$f":"IF(源数据!C1038=\"\",\"\",源数据!C1038)","v":1},{"$f":"IF(源数据!D1038=\"\",\"\",源数据!D1038)","v":0},0,"春装","女","女装",0,0,2013,0,0,0,0,0,0,0,0]
[{"$f":"IF(源数据!A1039=\"\",\"\",源数据!A1039)","v":"女装 韩版 潮 外套"},{"$f":"IF(源数据!B1039=\"\",\"\",源数据!B1039)","v":1},{"$f":"IF(源数据!C1039=\"\",\"\",源数据!C1039)","v":1},{"$f":"IF(源数据!D1039=\"\",\"\",源数据!D1039)","v":0},"潮",0,"女","女装","外套",0,0,0,0,0,0,0,0,0,0]
[{"$f":"IF(源数据!A1040=\"\",\"\",源数据!A1040)","v":"女装 外套"},{"$f":"IF(源数据!B1040=\"\",\"\",源数据!B1040)","v":5},{"$f":"IF(源数据!C1040=\"\",\"\",源数据!C1040)","v":0.6},{"$f":"IF(源数据!D1040=\"\",\"\",源数据!D1040)","v":0},0,0,"女","女装","外套",0,0,0,0,0,0,0,0,0,0]
[{"$f":"IF(源数据!A1041=\"\",\"\",源数据!A1041)","v":"女装 外套 春"},{"$f":"IF(源数据!B1041=\"\",\"\",源数据!B1041)","v":1},{"$f":"IF(源数据!C1041=\"\",\"\",源数据!C1041)","v":1},{"$f":"IF(源数据!D1041=\"\",\"\",源数据!D1041)","v":0},0,0,"女","女装","外套",0,0,0,0,0,0,0,0,0,0]
[{"$f":"IF(源数据!A1042=\"\",\"\",源数据!A1042)","v":"女装 外套 春包邮"},{"$f":"IF(源数据!B1042=\"\",\"\",源数据!B1042)","v":1},{"$f":"IF(源数据!C1042=\"\",\"\",源数据!C1042)","v":1},{"$f":"IF(源数据!D1042=\"\",\"\",源数据!D1042)","v":0},0,0,"女","女装","外套",0,0,0,0,0,0,0,0,0,0]
[{"$f":"IF(源数据!A1043=\"\",\"\",源数据!A1043)","v":"女装 外套 春秋"},{"$f":"IF(源数据!B1043=\"\",\"\",源数据!B1043)","v":5},{"$f":"IF(源数据!C1043=\"\",\"\",源数据!C1043)","v":0.6},{"$f":"IF(源数据!D1043=\"\",\"\",源数据!D1043)","v":0},0,0,"女","女装","外套",0,0,0,0,0,0,"春秋",0,0,0]
[{"$f":"IF(源数据!A1044=\"\",\"\",源数据!A1044)","v":"女装 外套 春秋 潮"},{"$f":"IF(源数据!B1044=\"\",\"\",源数据!B1044)","v":1},{"$f":"IF(源数据!C1044=\"\",\"\",源数据!C1044)","v":1},{"$f":"IF(源数据!D1044=\"\",\"\",源数据!D1044)","v":0},"潮",0,"女","女装","外套",0,0,0,0,0,0,"春秋",0,0,0]
[{"$f":"IF(源数据!A1045=\"\",\"\",源数据!A1045)","v":"女装 外套 春装"},{"$f":"IF(源数据!B1045=\"\",\"\",源数据!B1045)","v":1},{"$f":"IF(源数据!C1045=\"\",\"\",源数据!C1045)","v":1},{"$f":"IF(源数据!D1045=\"\",\"\",源数据!D1045)","v":0},0,"春装","女","女装","外套",0,0,0,0,0,0,0,0,0,0]
[{"$f":"IF(源数据!A1046=\"\",\"\",源数据!A1046)","v":"女装 外套春装"},{"$f":"IF(源数据!B1046=\"\",\"\",源数据!B1046)","v":3},{"$f":"IF(源数据!C1046=\"\",\"\",源数据!C1046)","v":1},{"$f":"IF(源数据!D1046=\"\",\"\",源数据!D1046)","v":0},0,"春装","女","女装","外套",0,0,0,0,0,0,0,0,0,0]
[{"$f":"IF(源数据!A1047=\"\",\"\",源数据!A1047)","v":"女装 西服 包邮"},{"$f":"IF(源数据!B1047=\"\",\"\",源数据!B1047)","v":1},{"$f":"IF(源数据!C1047=\"\",\"\",源数据!C1047)","v":1},{"$f":"IF(源数据!D1047=\"\",\"\",源数据!D1047)","v":0},0,0,"女","女装",0,0,0,"西服",0,0,0,0,0,0,0]
[{"$f":"IF(源数据!A1048=\"\",\"\",源数据!A1048)","v":"女装 西服 新款2013"},{"$f":"IF(源数据!B1048=\"\",\"\",源数据!B1048)","v":1},{"$f":"IF(源数据!C1048=\"\",\"\",源数据!C1048)","v":1},{"$f":"IF(源数据!D1048=\"\",\"\",源数据!D1048)","v":0},0,0,"女","女装",0,0,2013,"西服",0,0,0,0,0,0,0]
[{"$f":"IF(源数据!A1049=\"\",\"\",源数据!A1049)","v":"女装 西服外套"},{"$f":"IF(源数据!B1049=\"\",\"\",源数据!B1049)","v":1},{"$f":"IF(源数据!C1049=\"\",\"\",源数据!C1049)","v":0},{"$f":"IF(源数据!D1049=\"\",\"\",源数据!D1049)","v":0},0,0,"女","女装","外套",0,0,"西服",0,0,0,0,0,0,0]
[{"$f":"IF(源数据!A1050=\"\",\"\",源数据!A1050)","v":"女装 西装"},{"$f":"IF(源数据!B1050=\"\",\"\",源数据!B1050)","v":1},{"$f":"IF(源数据!C1050=\"\",\"\",源数据!C1050)","v":1},{"$f":"IF(源数据!D1050=\"\",\"\",源数据!D1050)","v":0},0,0,"女","女装",0,0,0,0,0,0,0,0,0,0,0]
[{"$f":"IF(源数据!A1051=\"\",\"\",源数据!A1051)","v":"女装 西装 春秋"},{"$f":"IF(源数据!B1051=\"\",\"\",源数据!B1051)","v":1},{"$f":"IF(源数据!C1051=\"\",\"\",源数据!C1051)","v":1},{"$f":"IF(源数据!D1051=\"\",\"\",源数据!D1051)","v":0},0,0,"女","女装",0,0,0,0,0,0,0,"春秋",0,0,0]
[{"$f":"IF(源数据!A1052=\"\",\"\",源数据!A1052)","v":"女装 西装 修身"},{"$f":"IF(源数据!B1052=\"\",\"\",源数据!B1052)","v":1},{"$f":"IF(源数据!C1052=\"\",\"\",源数据!C1052)","v":1},{"$f":"IF(源数据!D1052=\"\",\"\",源数据!D1052)","v":0},0,0,"女","女装",0,0,0,0,0,"修身",0,0,0,0,0]
[{"$f":"IF(源数据!A1053=\"\",\"\",源数据!A1053)","v":"女装 小西装"},{"$f":"IF(源数据!B1053=\"\",\"\",源数据!B1053)","v":1},{"$f":"IF(源数据!C1053=\"\",\"\",源数据!C1053)","v":0},{"$f":"IF(源数据!D1053=\"\",\"\",源数据!D1053)","v":0},0,0,"女","女装",0,"小西装",0,0,0,0,0,0,0,0,0]
[{"$f":"IF(源数据!A1054=\"\",\"\",源数据!A1054)","v":"女装 小西装 韩版"},{"$f":"IF(源数据!B1054=\"\",\"\",源数据!B1054)","v":2},{"$f":"IF(源数据!C1054=\"\",\"\",源数据!C1054)","v":1},{"$f":"IF(源数据!D1054=\"\",\"\",源数据!D1054)","v":0},0,0,"女","女装",0,"小西装",0,0,0,0,0,0,0,0,0]
[{"$f":"IF(源数据!A1055=\"\",\"\",源数据!A1055)","v":"女装 新款 西服"},{"$f":"IF(源数据!B1055=\"\",\"\",源数据!B1055)","v":1},{"$f":"IF(源数据!C1055=\"\",\"\",源数据!C1055)","v":1},{"$f":"IF(源数据!D1055=\"\",\"\",源数据!D1055)","v":0},0,0,"女","女装",0,0,0,"西服",0,0,0,0,0,0,0]
[{"$f":"IF(源数据!A1056=\"\",\"\",源数据!A1056)","v":"女装 休闲西服"},{"$f":"IF(源数据!B1056=\"\",\"\",源数据!B1056)","v":1},{"$f":"IF(源数据!C1056=\"\",\"\",源数据!C1056)","v":1},{"$f":"IF(源数据!D1056=\"\",\"\",源数据!D1056)","v":0},0,0,"女","女装",0,0,0,"西服","休闲",0,0,0,0,0,0]
[{"$f":"IF(源数据!A1057=\"\",\"\",源数据!A1057)","v":"女装-西服外套"},{"$f":"IF(源数据!B1057=\"\",\"\",源数据!B1057)","v":1},{"$f":"IF(源数据!C1057=\"\",\"\",源数据!C1057)","v":1},{"$f":"IF(源数据!D1057=\"\",\"\",源数据!D1057)","v":0},0,0,"女","女装","外套",0,0,"西服",0,0,0,0,0,0,0]
[{"$f":"IF(源数据!A1058=\"\",\"\",源数据!A1058)","v":"女装2013春装新款"},{"$f":"IF(源数据!B1058=\"\",\"\",源数据!B1058)","v":1},{"$f":"IF(源数据!C1058=\"\",\"\",源数据!C1058)","v":1},{"$f":"IF(源数据!D1058=\"\",\"\",源数据!D1058)","v":0},0,"春装","女","女装",0,0,2013,0,0,0,0,0,0,0,0]
[{"$f":"IF(源数据!A1059=\"\",\"\",源数据!A1059)","v":"女装2013春装新款小西装外套 女修身韩版中长款一粒扣小西服女"},{"$f":"IF(源数据!B1059=\"\",\"\",源数据!B1059)","v":1},{"$f":"IF(源数据!C1059=\"\",\"\",源数据!C1059)","v":1},{"$f":"IF(源数据!D1059=\"\",\"\",源数据!D1059)","v":0},0,"春装","女","女装","外套","小西装",2013,"西服",0,"修身",0,0,0,0,0]
[{"$f":"IF(源数据!A1060=\"\",\"\",源数据!A1060)","v":"女装2013新款外套"},{"$f":"IF(源数据!B1060=\"\",\"\",源数据!B1060)","v":1},{"$f":"IF(源数据!C1060=\"\",\"\",源数据!C1060)","v":0},{"$f":"IF(源数据!D1060=\"\",\"\",源数据!D1060)","v":0},0,0,"女","女装","外套",0,2013,0,0,0,0,0,0,0,0]
[{"$f":"IF(源数据!A1061=\"\",\"\",源数据!A1061)","v":"女装2013新款小西服"},{"$f":"IF(源数据!B1061=\"\",\"\",源数据!B1061)","v":1},{"$f":"IF(源数据!C1061=\"\",\"\",源数据!C1061)","v":1},{"$f":"IF(源数据!D1061=\"\",\"\",源数据!D1061)","v":0},0,0,"女","女装",0,0,2013,"西服",0,0,0,0,0,0,0]
[{"$f":"IF(源数据!A1062=\"\",\"\",源数据!A1062)","v":"女装　小西服"},{"$f":"IF(源数据!B1062=\"\",\"\",源数据!B1062)","v":1},{"$f":"IF(源数据!C1062=\"\",\"\",源数据!C1062)","v":1},{"$f":"IF(源数据!D1062=\"\",\"\",源数据!D1062)","v":0},0,0,"女","女装",0,0,0,"西服",0,0,0,0,0,0,0]
[{"$f":"IF(源数据!A1063=\"\",\"\",源数据!A1063)","v":"女装长西服"},{"$f":"IF(源数据!B1063=\"\",\"\",源数据!B1063)","v":1},{"$f":"IF(源数据!C1063=\"\",\"\",源数据!C1063)","v":1},{"$f":"IF(源数据!D1063=\"\",\"\",源数据!D1063)","v":0},0,0,"女","女装",0,0,0,"西服",0,0,0,0,0,0,0]
[{"$f":"IF(源数据!A1064=\"\",\"\",源数据!A1064)","v":"女装春款2013新款西服"},{"$f":"IF(源数据!B1064=\"\",\"\",源数据!B1064)","v":2},{"$f":"IF(源数据!C1064=\"\",\"\",源数据!C1064)","v":0},{"$f":"IF(源数据!D1064=\"\",\"\",源数据!D1064)","v":0},0,0,"女","女装",0,0,2013,"西服",0,0,0,0,0,0,0]
[{"$f":"IF(源数据!A1065=\"\",\"\",源数据!A1065)","v":"女装春秋长款西装"},{"$f":"IF(源数据!B1065=\"\",\"\",源数据!B1065)","v":1},{"$f":"IF(源数据!C1065=\"\",\"\",源数据!C1065)","v":1},{"$f":"IF(源数据!D1065=\"\",\"\",源数据!D1065)","v":0},0,0,"女","女装",0,0,0,0,0,0,0,"春秋",0,0,0]
[{"$f":"IF(源数据!A1066=\"\",\"\",源数据!A1066)","v":"女装春秋外套"},{"$f":"IF(源数据!B1066=\"\",\"\",源数据!B1066)","v":5},{"$f":"IF(源数据!C1066=\"\",\"\",源数据!C1066)","v":1},{"$f":"IF(源数据!D1066=\"\",\"\",源数据!D1066)","v":0},0,0,"女","女装","外套",0,0,0,0,0,0,"春秋",0,0,0]
[{"$f":"IF(源数据!A1067=\"\",\"\",源数据!A1067)","v":"女装春秋外套新款"},{"$f":"IF(源数据!B1067=\"\",\"\",源数据!B1067)","v":1},{"$f":"IF(源数据!C1067=\"\",\"\",源数据!C1067)","v":1},{"$f":"IF(源数据!D1067=\"\",\"\",源数据!D1067)","v":0},0,0,"女","女装","外套",0,0,0,0,0,0,"春秋",0,0,0]
[{"$f":"IF(源数据!A1068=\"\",\"\",源数据!A1068)","v":"女装春秋外套中长款"},{"$f":"IF(源数据!B1068=\"\",\"\",源数据!B1068)","v":1},{"$f":"IF(源数据!C1068=\"\",\"\",源数据!C1068)","v":1},{"$f":"IF(源数据!D1068=\"\",\"\",源数据!D1068)","v":0},0,0,"女","女装","外套",0,0,0,0,0,0,"春秋",0,0,0]
[{"$f":"IF(源数据!A1069=\"\",\"\",源数据!A1069)","v":"女装春秋休闲西服外套"},{"$f":"IF(源数据!B1069=\"\",\"\",源数据!B1069)","v":1},{"$f":"IF(源数据!C1069=\"\",\"\",源数据!C1069)","v":1},{"$f":"IF(源数据!D1069=\"\",\"\",源数据!D1069)","v":0},0,0,"女","女装","外套",0,0,"西服","休闲",0,0,"春秋",0,0,0]
[{"$f":"IF(源数据!A1070=\"\",\"\",源数据!A1070)","v":"女装春装"},{"$f":"IF(源数据!B1070=\"\",\"\",源数据!B1070)","v":2},{"$f":"IF(源数据!C1070=\"\",\"\",源数据!C1070)","v":0},{"$f":"IF(源数据!D1070=\"\",\"\",源数据!D1070)","v":0},0,"春装","女","女装",0,0,0,0,0,0,0,0,0,0,0]
[{"$f":"IF(源数据!A1071=\"\",\"\",源数据!A1071)","v":"女装春装2013外套"},{"$f":"IF(源数据!B1071=\"\",\"\",源数据!B1071)","v":1},{"$f":"IF(源数据!C1071=\"\",\"\",源数据!C1071)","v":1},{"$f":"IF(源数据!D1071=\"\",\"\",源数据!D1071)","v":0},0,"春装","女","女装","外套",0,2013,0,0,0,0,0,0,0,0]
[{"$f":"IF(源数据!A1072=\"\",\"\",源数据!A1072)","v":"女装春装2013新款"},{"$f":"IF(源数据!B1072=\"\",\"\",源数据!B1072)","v":1},{"$f":"IF(源数据!C1072=\"\",\"\",源数据!C1072)","v":1},{"$f":"IF(源数据!D1072=\"\",\"\",源数据!D1072)","v":0},0,"春装","女","女装",0,0,2013,0,0,0,0,0,0,0,0]
[{"$f":"IF(源数据!A1073=\"\",\"\",源数据!A1073)","v":"女装春装长款西装外套韩版"},{"$f":"IF(源数据!B1073=\"\",\"\",源数据!B1073)","v":1},{"$f":"IF(源数据!C1073=\"\",\"\",源数据!C1073)","v":1},{"$f":"IF(源数据!D1073=\"\",\"\",源数据!D1073)","v":0},0,"春装","女","女装","外套",0,0,0,0,0,0,0,0,0,0]
[{"$f":"IF(源数据!A1074=\"\",\"\",源数据!A1074)","v":"女装春装外套"},{"$f":"IF(源数据!B1074=\"\",\"\",源数据!B1074)","v":3},{"$f":"IF(源数据!C1074=\"\",\"\",源数据!C1074)","v":0.66669999999999996},{"$f":"IF(源数据!D1074=\"\",\"\",源数据!D1074)","v":0},0,"春装","女","女装","外套",0,0,0,0,0,0,0,0,0,0]
[{"$f":"IF(源数据!A1075=\"\",\"\",源数据!A1075)","v":"女装春装外套2013"},{"$f":"IF(源数据!B1075=\"\",\"\",源数据!B1075)","v":16},{"$f":"IF(源数据!C1075=\"\",\"\",源数据!C1075)","v":0.5},{"$f":"IF(源数据!D1075=\"\",\"\",源数据!D1075)","v":0},0,"春装","女","女装","外套",0,2013,0,0,0,0,0,0,0,0]
[{"$f":"IF(源数据!A1076=\"\",\"\",源数据!A1076)","v":"女装春装外套2013新款"},{"$f":"IF(源数据!B1076=\"\",\"\",源数据!B1076)","v":2},{"$f":"IF(源数据!C1076=\"\",\"\",源数据!C1076)","v":1},{"$f":"IF(源数据!D1076=\"\",\"\",源数据!D1076)","v":0},0,"春装","女","女装","外套",0,2013,0,0,0,0,0,0,0,0]
[{"$f":"IF(源数据!A1077=\"\",\"\",源数据!A1077)","v":"女装春装外套包邮"},{"$f":"IF(源数据!B1077=\"\",\"\",源数据!B1077)","v":1},{"$f":"IF(源数据!C1077=\"\",\"\",源数据!C1077)","v":0},{"$f":"IF(源数据!D1077=\"\",\"\",源数据!D1077)","v":0},0,"春装","女","女装","外套",0,0,0,0,0,0,0,0,0,0]
[{"$f":"IF(源数据!A1078=\"\",\"\",源数据!A1078)","v":"女装春装外套韩版"},{"$f":"IF(源数据!B1078=\"\",\"\",源数据!B1078)","v":1},{"$f":"IF(源数据!C1078=\"\",\"\",源数据!C1078)","v":1},{"$f":"IF(源数据!D1078=\"\",\"\",源数据!D1078)","v":0},0,"春装","女","女装","外套",0,0,0,0,0,0,0,0,0,0]
[{"$f":"IF(源数据!A1079=\"\",\"\",源数据!A1079)","v":"女装春装外套中长款"},{"$f":"IF(源数据!B1079=\"\",\"\",源数据!B1079)","v":1},{"$f":"IF(源数据!C1079=\"\",\"\",源数据!C1079)","v":1},{"$f":"IF(源数据!D1079=\"\",\"\",源数据!D1079)","v":0},0,"春装","女","女装","外套",0,0,0,0,0,0,0,0,0,0]
[{"$f":"IF(源数据!A1080=\"\",\"\",源数据!A1080)","v":"女装春装西服"},{"$f":"IF(源数据!B1080=\"\",\"\",源数据!B1080)","v":1},{"$f":"IF(源数据!C1080=\"\",\"\",源数据!C1080)","v":1},{"$f":"IF(源数据!D1080=\"\",\"\",源数据!D1080)","v":0},0,"春装","女","女装",0,0,0,"西服",0,0,0,0,0,0,0]
[{"$f":"IF(源数据!A1081=\"\",\"\",源数据!A1081)","v":"女装春装西服外套"},{"$f":"IF(源数据!B1081=\"\",\"\",源数据!B1081)","v":1},{"$f":"IF(源数据!C1081=\"\",\"\",源数据!C1081)","v":1},{"$f":"IF(源数据!D1081=\"\",\"\",源数据!D1081)","v":0},0,"春装","女","女装","外套",0,0,"西服",0,0,0,0,0,0,0]
[{"$f":"IF(源数据!A1082=\"\",\"\",源数据!A1082)","v":"女装春装西服外套2013新款"},{"$f":"IF(源数据!B1082=\"\",\"\",源数据!B1082)","v":1},{"$f":"IF(源数据!C1082=\"\",\"\",源数据!C1082)","v":1},{"$f":"IF(源数据!D1082=\"\",\"\",源数据!D1082)","v":0},0,"春装","女","女装","外套",0,2013,"西服",0,0,0,0,0,0,0]
[{"$f":"IF(源数据!A1083=\"\",\"\",源数据!A1083)","v":"女装春装西装外套"},{"$f":"IF(源数据!B1083=\"\",\"\",源数据!B1083)","v":1},{"$f":"IF(源数据!C1083=\"\",\"\",源数据!C1083)","v":1},{"$f":"IF(源数据!D1083=\"\",\"\",源数据!D1083)","v":0},0,"春装","女","女装","外套",0,0,0,0,0,0,0,0,0,0]
[{"$f":"IF(源数据!A1084=\"\",\"\",源数据!A1084)","v":"女装韩版外套春装"},{"$f":"IF(源数据!B1084=\"\",\"\",源数据!B1084)","v":1},{"$f":"IF(源数据!C1084=\"\",\"\",源数据!C1084)","v":1},{"$f":"IF(源数据!D1084=\"\",\"\",源数据!D1084)","v":0},0,"春装","女","女装","外套",0,0,0,0,0,0,0,0,0,0]
[{"$f":"IF(源数据!A1085=\"\",\"\",源数据!A1085)","v":"女装韩版修身休闲中长款小西装外套女"},{"$f":"IF(源数据!B1085=\"\",\"\",源数据!B1085)","v":1},{"$f":"IF(源数据!C1085=\"\",\"\",源数据!C1085)","v":1},{"$f":"IF(源数据!D1085=\"\",\"\",源数据!D1085)","v":0},0,0,"女","女装","外套","小西装",0,0,"休闲","修身",0,0,0,0,0]
[{"$f":"IF(源数据!A1086=\"\",\"\",源数据!A1086)","v":"女装黑色韩版西服"},{"$f":"IF(源数据!B1086=\"\",\"\",源数据!B1086)","v":1},{"$f":"IF(源数据!C1086=\"\",\"\",源数据!C1086)","v":1},{"$f":"IF(源数据!D1086=\"\",\"\",源数据!D1086)","v":0},0,0,"女","女装",0,0,0,"西服",0,0,0,0,0,0,0]
[{"$f":"IF(源数据!A1087=\"\",\"\",源数据!A1087)","v":"女装拼接西服"},{"$f":"IF(源数据!B1087=\"\",\"\",源数据!B1087)","v":1},{"$f":"IF(源数据!C1087=\"\",\"\",源数据!C1087)","v":1},{"$f":"IF(源数据!D1087=\"\",\"\",源数据!D1087)","v":0},0,0,"女","女装",0,0,0,"西服",0,0,0,0,0,0,0]
[{"$f":"IF(源数据!A1088=\"\",\"\",源数据!A1088)","v":"女装外套"},{"$f":"IF(源数据!B1088=\"\",\"\",源数据!B1088)","v":15},{"$f":"IF(源数据!C1088=\"\",\"\",源数据!C1088)","v":0.86670000000000003},{"$f":"IF(源数据!D1088=\"\",\"\",源数据!D1088)","v":0},0,0,"女","女装","外套",0,0,0,0,0,0,0,0,0,0]
[{"$f":"IF(源数据!A1089=\"\",\"\",源数据!A1089)","v":"女装外套 春秋"},{"$f":"IF(源数据!B1089=\"\",\"\",源数据!B1089)","v":1},{"$f":"IF(源数据!C1089=\"\",\"\",源数据!C1089)","v":1},{"$f":"IF(源数据!D1089=\"\",\"\",源数据!D1089)","v":0},0,0,"女","女装","外套",0,0,0,0,0,0,"春秋",0,0,0]
[{"$f":"IF(源数据!A1090=\"\",\"\",源数据!A1090)","v":"女装外套 春装"},{"$f":"IF(源数据!B1090=\"\",\"\",源数据!B1090)","v":2},{"$f":"IF(源数据!C1090=\"\",\"\",源数据!C1090)","v":1},{"$f":"IF(源数据!D1090=\"\",\"\",源数据!D1090)","v":0},0,"春装","女","女装","外套",0,0,0,0,0,0,0,0,0,0]
[{"$f":"IF(源数据!A1091=\"\",\"\",源数据!A1091)","v":"女装外套 韩版 2013"},{"$f":"IF(源数据!B1091=\"\",\"\",源数据!B1091)","v":1},{"$f":"IF(源数据!C1091=\"\",\"\",源数据!C1091)","v":1},{"$f":"IF(源数据!D1091=\"\",\"\",源数据!D1091)","v":0},{"$f":"IF($A1090=\"\",\"\",IF(E$1=\"\",\"\",IF(IFERROR(SEARCH(E$1,$A1091),0) >0,E$1,0)))","v":0},{"$f":"IF($A1090=\"\",\"\",IF(F$1=\"\",\"\",IF(IFERROR(SEARCH(F$1,$A1091),0) >0,F$1,0)))","v":0},{"$f":"IF($A1090=\"\",\"\",IF(G$1=\"\",\"\",IF(IFERROR(SEARCH(G$1,$A1091),0) >0,G$1,0)))","v":"女"},{"$f":"IF($A1090=\"\",\"\",IF(H$1=\"\",\"\",IF(IFERROR(SEARCH(H$1,$A1091),0) >0,H$1,0)))","v":"女装"},{"$f":"IF($A1090=\"\",\"\",IF(I$1=\"\",\"\",IF(IFERROR(SEARCH(I$1,$A1091),0) >0,I$1,0)))","v":"外套"},{"$f":"IF($A1090=\"\",\"\",IF(J$1=\"\",\"\",IF(IFERROR(SEARCH(J$1,$A1091),0) >0,J$1,0)))","v":0},{"$f":"IF($A1090=\"\",\"\",IF(K$1=\"\",\"\",IF(IFERROR(SEARCH(K$1,$A1091),0) >0,K$1,0)))","v":2013},{"$f":"IF($A1090=\"\",\"\",IF(L$1=\"\",\"\",IF(IFERROR(SEARCH(L$1,$A1091),0) >0,L$1,0)))","v":0},{"$f":"IF($A1090=\"\",\"\",IF(M$1=\"\",\"\",IF(IFERROR(SEARCH(M$1,$A1091),0) >0,M$1,0)))","v":0},{"$f":"IF($A1090=\"\",\"\",IF(N$1=\"\",\"\",IF(IFERROR(SEARCH(N$1,$A1091),0) >0,N$1,0)))","v":0},{"$f":"IF($A1090=\"\",\"\",IF(O$1=\"\",\"\",IF(IFERROR(SEARCH(O$1,$A1091),0) >0,O$1,0)))","v":0},{"$f":"IF($A1090=\"\",\"\",IF(P$1=\"\",\"\",IF(IFERROR(SEARCH(P$1,$A1091),0) >0,P$1,0)))","v":0},{"$f":"IF($A1090=\"\",\"\",IF(Q$1=\"\",\"\",IF(IFERROR(SEARCH(Q$1,$A1091),0) >0,Q$1,0)))","v":0},{"$f":"IF($A1090=\"\",\"\",IF(R$1=\"\",\"\",IF(IFERROR(SEARCH(R$1,$A1091),0) >0,R$1,0)))","v":0},{"$f":"IF($A1090=\"\",\"\",IF(S$1=\"\",\"\",IF(IFERROR(SEARCH(S$1,$A1091),0) >0,S$1,0)))","v":0}]
[{"$f":"IF(源数据!A1092=\"\",\"\",源数据!A1092)","v":"女装外套春装"},{"$f":"IF(源数据!B1092=\"\",\"\",源数据!B1092)","v":3},{"$f":"IF(源数据!C1092=\"\",\"\",源数据!C1092)","v":0.33329999999999999},{"$f":"IF(源数据!D1092=\"\",\"\",源数据!D1092)","v":0},0,"春装","女","女装","外套",0,0,0,0,0,0,0,0,0,0]
[{"$f":"IF(源数据!A1093=\"\",\"\",源数据!A1093)","v":"女装外套韩版"},{"$f":"IF(源数据!B1093=\"\",\"\",源数据!B1093)","v":1},{"$f":"IF(源数据!C1093=\"\",\"\",源数据!C1093)","v":1},{"$f":"IF(源数据!D1093=\"\",\"\",源数据!D1093)","v":0},0,0,"女","女装","外套",0,0,0,0,0,0,0,0,0,0]
[{"$f":"IF(源数据!A1094=\"\",\"\",源数据!A1094)","v":"女装外套韩版中长西装女修身"},{"$f":"IF(源数据!B1094=\"\",\"\",源数据!B1094)","v":1},{"$f":"IF(源数据!C1094=\"\",\"\",源数据!C1094)","v":1},{"$f":"IF(源数据!D1094=\"\",\"\",源数据!D1094)","v":0},0,0,"女","女装","外套",0,0,0,0,"修身",0,0,0,0,0]
[{"$f":"IF(源数据!A1095=\"\",\"\",源数据!A1095)","v":"女装外套西服"},{"$f":"IF(源数据!B1095=\"\",\"\",源数据!B1095)","v":1},{"$f":"IF(源数据!C1095=\"\",\"\",源数据!C1095)","v":1},{"$f":"IF(源数据!D1095=\"\",\"\",源数据!D1095)","v":0},0,0,"女","女装","外套",0,0,"西服",0,0,0,0,0,0,0]
[{"$f":"IF(源数据!A1096=\"\",\"\",源数据!A1096)","v":"女装西服"},{"$f":"IF(源数据!B1096=\"\",\"\",源数据!B1096)","v":2},{"$f":"IF(源数据!C1096=\"\",\"\",源数据!C1096)","v":1},{"$f":"IF(源数据!D1096=\"\",\"\",源数据!D1096)","v":0},0,0,"女","女装",0,0,0,"西服",0,0,0,0,0,0,0]
[{"$f":"IF(源数据!A1097=\"\",\"\",源数据!A1097)","v":"女装西服白色外套"},{"$f":"IF(源数据!B1097=\"\",\"\",源数据!B1097)","v":1},{"$f":"IF(源数据!C1097=\"\",\"\",源数据!C1097)","v":1},{"$f":"IF(源数据!D1097=\"\",\"\",源数据!D1097)","v":0},0,0,"女","女装","外套",0,0,"西服",0,0,0,0,"白色",0,0]
[{"$f":"IF(源数据!A1098=\"\",\"\",源数据!A1098)","v":"女装西服长款"},{"$f":"IF(源数据!B1098=\"\",\"\",源数据!B1098)","v":1},{"$f":"IF(源数据!C1098=\"\",\"\",源数据!C1098)","v":1},{"$f":"IF(源数据!D1098=\"\",\"\",源数据!D1098)","v":0},0,0,"女","女装",0,0,0,"西服",0,0,0,0,0,0,0]
[{"$f":"IF(源数据!A1099=\"\",\"\",源数据!A1099)","v":"女装西服韩版"},{"$f":"IF(源数据!B1099=\"\",\"\",源数据!B1099)","v":1},{"$f":"IF(源数据!C1099=\"\",\"\",源数据!C1099)","v":0},{"$f":"IF(源数据!D1099=\"\",\"\",源数据!D1099)","v":0},0,0,"女","女装",0,0,0,"西服",0,0,0,0,0,0,0]
[{"$f":"IF(源数据!A1100=\"\",\"\",源数据!A1100)","v":"女装西服韩版修身"},{"$f":"IF(源数据!B1100=\"\",\"\",源数据!B1100)","v":5},{"$f":"IF(源数据!C1100=\"\",\"\",源数据!C1100)","v":0.4},{"$f":"IF(源数据!D1100=\"\",\"\",源数据!D1100)","v":0},0,0,"女","女装",0,0,0,"西服",0,"修身",0,0,0,0,0]
[{"$f":"IF(源数据!A1101=\"\",\"\",源数据!A1101)","v":"女装西服外套 小西装"},{"$f":"IF(源数据!B1101=\"\",\"\",源数据!B1101)","v":1},{"$f":"IF(源数据!C1101=\"\",\"\",源数据!C1101)","v":1},{"$f":"IF(源数据!D1101=\"\",\"\",源数据!D1101)","v":0},0,0,"女","女装","外套","小西装",0,"西服",0,0,0,0,0,0,0]
[{"$f":"IF(源数据!A1102=\"\",\"\",源数据!A1102)","v":"女装西服雪纺"},{"$f":"IF(源数据!B1102=\"\",\"\",源数据!B1102)","v":1},{"$f":"IF(源数据!C1102=\"\",\"\",源数据!C1102)","v":1},{"$f":"IF(源数据!D1102=\"\",\"\",源数据!D1102)","v":0},0,0,"女","女装",0,0,0,"西服",0,0,0,0,0,0,0]
[{"$f":"IF(源数据!A1103=\"\",\"\",源数据!A1103)","v":"女装西装"},{"$f":"IF(源数据!B1103=\"\",\"\",源数据!B1103)","v":1},{"$f":"IF(源数据!C1103=\"\",\"\",源数据!C1103)","v":1},{"$f":"IF(源数据!D1103=\"\",\"\",源数据!D1103)","v":0},0,0,"女","女装",0,0,0,0,0,0,0,0,0,0,0]
[{"$f":"IF(源数据!A1104=\"\",\"\",源数据!A1104)","v":"女装西装韩版修身"},{"$f":"IF(源数据!B1104=\"\",\"\",源数据!B1104)","v":2},{"$f":"IF(源数据!C1104=\"\",\"\",源数据!C1104)","v":1},{"$f":"IF(源数据!D1104=\"\",\"\",源数据!D1104)","v":0},0,0,"女","女装",0,0,0,0,0,"修身",0,0,0,0,0]
[{"$f":"IF(源数据!A1105=\"\",\"\",源数据!A1105)","v":"女装西装外套"},{"$f":"IF(源数据!B1105=\"\",\"\",源数据!B1105)","v":1},{"$f":"IF(源数据!C1105=\"\",\"\",源数据!C1105)","v":1},{"$f":"IF(源数据!D1105=\"\",\"\",源数据!D1105)","v":0},0,0,"女","女装","外套",0,0,0,0,0,0,0,0,0,0]
[{"$f":"IF(源数据!A1106=\"\",\"\",源数据!A1106)","v":"女装西装修身"},{"$f":"IF(源数据!B1106=\"\",\"\",源数据!B1106)","v":1},{"$f":"IF(源数据!C1106=\"\",\"\",源数据!C1106)","v":0},{"$f":"IF(源数据!D1106=\"\",\"\",源数据!D1106)","v":0},0,0,"女","女装",0,0,0,0,0,"修身",0,0,0,0,0]
[{"$f":"IF(源数据!A1107=\"\",\"\",源数据!A1107)","v":"女装小外套"},{"$f":"IF(源数据!B1107=\"\",\"\",源数据!B1107)","v":1},{"$f":"IF(源数据!C1107=\"\",\"\",源数据!C1107)","v":1},{"$f":"IF(源数据!D1107=\"\",\"\",源数据!D1107)","v":0},0,0,"女","女装","外套",0,0,0,0,0,0,0,0,0,0]
[{"$f":"IF(源数据!A1108=\"\",\"\",源数据!A1108)","v":"女装小外套春秋装"},{"$f":"IF(源数据!B1108=\"\",\"\",源数据!B1108)","v":2},{"$f":"IF(源数据!C1108=\"\",\"\",源数据!C1108)","v":0.5},{"$f":"IF(源数据!D1108=\"\",\"\",源数据!D1108)","v":0},0,0,"女","女装","外套",0,0,0,0,0,0,"春秋",0,0,0]
[{"$f":"IF(源数据!A1109=\"\",\"\",源数据!A1109)","v":"女装小外套小西装"},{"$f":"IF(源数据!B1109=\"\",\"\",源数据!B1109)","v":1},{"$f":"IF(源数据!C1109=\"\",\"\",源数据!C1109)","v":0},{"$f":"IF(源数据!D1109=\"\",\"\",源数据!D1109)","v":0},0,0,"女","女装","外套","小西装",0,0,0,0,0,0,0,0,0]
[{"$f":"IF(源数据!A1110=\"\",\"\",源数据!A1110)","v":"女装小西服"},{"$f":"IF(源数据!B1110=\"\",\"\",源数据!B1110)","v":1},{"$f":"IF(源数据!C1110=\"\",\"\",源数据!C1110)","v":1},{"$f":"IF(源数据!D1110=\"\",\"\",源数据!D1110)","v":0},0,0,"女","女装",0,0,0,"西服",0,0,0,0,0,0,0]
[{"$f":"IF(源数据!A1111=\"\",\"\",源数据!A1111)","v":"女装小西服货到付款"},{"$f":"IF(源数据!B1111=\"\",\"\",源数据!B1111)","v":1},{"$f":"IF(源数据!C1111=\"\",\"\",源数据!C1111)","v":1},{"$f":"IF(源数据!D1111=\"\",\"\",源数据!D1111)","v":0},0,0,"女","女装",0,0,0,"西服",0,0,0,0,0,0,0]
[{"$f":"IF(源数据!A1112=\"\",\"\",源数据!A1112)","v":"女装小西服修身"},{"$f":"IF(源数据!B1112=\"\",\"\",源数据!B1112)","v":2},{"$f":"IF(源数据!C1112=\"\",\"\",源数据!C1112)","v":1},{"$f":"IF(源数据!D1112=\"\",\"\",源数据!D1112)","v":0},0,0,"女","女装",0,0,0,"西服",0,"修身",0,0,0,0,0]
[{"$f":"IF(源数据!A1113=\"\",\"\",源数据!A1113)","v":"女装小西装"},{"$f":"IF(源数据!B1113=\"\",\"\",源数据!B1113)","v":1},{"$f":"IF(源数据!C1113=\"\",\"\",源数据!C1113)","v":1},{"$f":"IF(源数据!D1113=\"\",\"\",源数据!D1113)","v":0},0,0,"女","女装",0,"小西装",0,0,0,0,0,0,0,0,0]
[{"$f":"IF(源数据!A1114=\"\",\"\",源数据!A1114)","v":"女装小西装外套"},{"$f":"IF(源数据!B1114=\"\",\"\",源数据!B1114)","v":2},{"$f":"IF(源数据!C1114=\"\",\"\",源数据!C1114)","v":1},{"$f":"IF(源数据!D1114=\"\",\"\",源数据!D1114)","v":0},0,0,"女","女装","外套","小西装",0,0,0,0,0,0,0,0,0]
[{"$f":"IF(源数据!A1115=\"\",\"\",源数据!A1115)","v":"女装小西装新款"},{"$f":"IF(源数据!B1115=\"\",\"\",源数据!B1115)","v":2},{"$f":"IF(源数据!C1115=\"\",\"\",源数据!C1115)","v":0.5},{"$f":"IF(源数据!D1115=\"\",\"\",源数据!D1115)","v":1},0,0,"女","女装",0,"小西装",0,0,0,0,0,0,0,0,0]
[{"$f":"IF(源数据!A1116=\"\",\"\",源数据!A1116)","v":"女装新款春装外套"},{"$f":"IF(源数据!B1116=\"\",\"\",源数据!B1116)","v":1},{"$f":"IF(源数据!C1116=\"\",\"\",源数据!C1116)","v":1},{"$f":"IF(源数据!D1116=\"\",\"\",源数据!D1116)","v":0},0,"春装","女","女装","外套",0,0,0,0,0,0,0,0,0,0]
[{"$f":"IF(源数据!A1117=\"\",\"\",源数据!A1117)","v":"女装休闲春秋西服"},{"$f":"IF(源数据!B1117=\"\",\"\",源数据!B1117)","v":3},{"$f":"IF(源数据!C1117=\"\",\"\",源数据!C1117)","v":0},{"$f":"IF(源数据!D1117=\"\",\"\",源数据!D1117)","v":0},0,0,"女","女装",0,0,0,"西服","休闲",0,0,"春秋",0,0,0]
[{"$f":"IF(源数据!A1118=\"\",\"\",源数据!A1118)","v":"女装休闲外套 春秋"},{"$f":"IF(源数据!B1118=\"\",\"\",源数据!B1118)","v":1},{"$f":"IF(源数据!C1118=\"\",\"\",源数据!C1118)","v":1},{"$f":"IF(源数据!D1118=\"\",\"\",源数据!D1118)","v":0},0,0,"女","女装","外套",0,0,0,"休闲",0,0,"春秋",0,0,0]
[{"$f":"IF(源数据!A1119=\"\",\"\",源数据!A1119)","v":"女装休闲西服外套"},{"$f":"IF(源数据!B1119=\"\",\"\",源数据!B1119)","v":1},{"$f":"IF(源数据!C1119=\"\",\"\",源数据!C1119)","v":1},{"$f":"IF(源数据!D1119=\"\",\"\",源数据!D1119)","v":0},0,0,"女","女装","外套",0,0,"西服","休闲",0,0,0,0,0,0]
[{"$f":"IF(源数据!A1120=\"\",\"\",源数据!A1120)","v":"女装休闲西装外套"},{"$f":"IF(源数据!B1120=\"\",\"\",源数据!B1120)","v":2},{"$f":"IF(源数据!C1120=\"\",\"\",源数据!C1120)","v":0.5},{"$f":"IF(源数据!D1120=\"\",\"\",源数据!D1120)","v":0},0,0,"女","女装","外套",0,0,0,"休闲",0,0,0,0,0,0]
[{"$f":"IF(源数据!A1121=\"\",\"\",源数据!A1121)","v":"女装休闲小西装外套"},{"$f":"IF(源数据!B1121=\"\",\"\",源数据!B1121)","v":1},{"$f":"IF(源数据!C1121=\"\",\"\",源数据!C1121)","v":1},{"$f":"IF(源数据!D1121=\"\",\"\",源数据!D1121)","v":0},0,0,"女","女装","外套","小西装",0,0,"休闲",0,0,0,0,0,0]
[{"$f":"IF(源数据!A1122=\"\",\"\",源数据!A1122)","v":"女装修身小西装"},{"$f":"IF(源数据!B1122=\"\",\"\",源数据!B1122)","v":4},{"$f":"IF(源数据!C1122=\"\",\"\",源数据!C1122)","v":0},{"$f":"IF(源数据!D1122=\"\",\"\",源数据!D1122)","v":0},0,0,"女","女装",0,"小西装",0,0,0,"修身",0,0,0,0,0]
[{"$f":"IF(源数据!A1123=\"\",\"\",源数据!A1123)","v":"女裝外套"},{"$f":"IF(源数据!B1123=\"\",\"\",源数据!B1123)","v":2},{"$f":"IF(源数据!C1123=\"\",\"\",源数据!C1123)","v":0.5},{"$f":"IF(源数据!D1123=\"\",\"\",源数据!D1123)","v":0},0,0,"女",0,"外套",0,0,0,0,0,0,0,0,0,0]
[{"$f":"IF(源数据!A1124=\"\",\"\",源数据!A1124)","v":"欧美大码胖美眉女装秋季西服"},{"$f":"IF(源数据!B1124=\"\",\"\",源数据!B1124)","v":1},{"$f":"IF(源数据!C1124=\"\",\"\",源数据!C1124)","v":1},{"$f":"IF(源数据!D1124=\"\",\"\",源数据!D1124)","v":0},0,0,"女","女装",0,0,0,"西服",0,0,0,0,0,0,0]
[{"$f":"IF(源数据!A1125=\"\",\"\",源数据!A1125)","v":"拼 外套"},{"$f":"IF(源数据!B1125=\"\",\"\",源数据!B1125)","v":1},{"$f":"IF(源数据!C1125=\"\",\"\",源数据!C1125)","v":1},{"$f":"IF(源数据!D1125=\"\",\"\",源数据!D1125)","v":0},0,0,0,0,"外套",0,0,0,0,0,0,0,0,0,0]
[{"$f":"IF(源数据!A1126=\"\",\"\",源数据!A1126)","v":"拼接"},{"$f":"IF(源数据!B1126=\"\",\"\",源数据!B1126)","v":2},{"$f":"IF(源数据!C1126=\"\",\"\",源数据!C1126)","v":1},{"$f":"IF(源数据!D1126=\"\",\"\",源数据!D1126)","v":0},0,0,0,0,0,0,0,0,0,0,0,0,0,0,0]
[{"$f":"IF(源数据!A1127=\"\",\"\",源数据!A1127)","v":"拼接领  女"},{"$f":"IF(源数据!B1127=\"\",\"\",源数据!B1127)","v":1},{"$f":"IF(源数据!C1127=\"\",\"\",源数据!C1127)","v":1},{"$f":"IF(源数据!D1127=\"\",\"\",源数据!D1127)","v":0},0,0,"女",0,0,0,0,0,0,0,0,0,0,0,0]
[{"$f":"IF(源数据!A1128=\"\",\"\",源数据!A1128)","v":"拼接外套 女 韩版"},{"$f":"IF(源数据!B1128=\"\",\"\",源数据!B1128)","v":2},{"$f":"IF(源数据!C1128=\"\",\"\",源数据!C1128)","v":0.5},{"$f":"IF(源数据!D1128=\"\",\"\",源数据!D1128)","v":0},0,0,"女",0,"外套",0,0,0,0,0,0,0,0,0,0]
[{"$f":"IF(源数据!A1129=\"\",\"\",源数据!A1129)","v":"拼接外套女"},{"$f":"IF(源数据!B1129=\"\",\"\",源数据!B1129)","v":1},{"$f":"IF(源数据!C1129=\"\",\"\",源数据!C1129)","v":1},{"$f":"IF(源数据!D1129=\"\",\"\",源数据!D1129)","v":0},0,0,"女",0,"外套",0,0,0,0,0,0,0,0,0,0]
[{"$f":"IF(源数据!A1130=\"\",\"\",源数据!A1130)","v":"拼接西服"},{"$f":"IF(源数据!B1130=\"\",\"\",源数据!B1130)","v":2},{"$f":"IF(源数据!C1130=\"\",\"\",源数据!C1130)","v":0.5},{"$f":"IF(源数据!D1130=\"\",\"\",源数据!D1130)","v":0},0,0,0,0,0,0,0,"西服",0,0,0,0,0,0,0]
[{"$f":"IF(源数据!A1131=\"\",\"\",源数据!A1131)","v":"拼接西装女"},{"$f":"IF(源数据!B1131=\"\",\"\",源数据!B1131)","v":1},{"$f":"IF(源数据!C1131=\"\",\"\",源数据!C1131)","v":1},{"$f":"IF(源数据!D1131=\"\",\"\",源数据!D1131)","v":0},0,0,"女",0,0,0,0,0,0,0,0,0,0,0,0]
[{"$f":"IF(源数据!A1132=\"\",\"\",源数据!A1132)","v":"拼接西装外套 女"},{"$f":"IF(源数据!B1132=\"\",\"\",源数据!B1132)","v":3},{"$f":"IF(源数据!C1132=\"\",\"\",源数据!C1132)","v":0.66669999999999996},{"$f":"IF(源数据!D1132=\"\",\"\",源数据!D1132)","v":0},0,0,"女",0,"外套",0,0,0,0,0,0,0,0,0,0]
[{"$f":"IF(源数据!A1133=\"\",\"\",源数据!A1133)","v":"拼接小西服"},{"$f":"IF(源数据!B1133=\"\",\"\",源数据!B1133)","v":1},{"$f":"IF(源数据!C1133=\"\",\"\",源数据!C1133)","v":0},{"$f":"IF(源数据!D1133=\"\",\"\",源数据!D1133)","v":0},0,0,0,0,0,0,0,"西服",0,0,0,0,0,0,0]
[{"$f":"IF(源数据!A1134=\"\",\"\",源数据!A1134)","v":"拼接小西装外套 女"},{"$f":"IF(源数据!B1134=\"\",\"\",源数据!B1134)","v":1},{"$f":"IF(源数据!C1134=\"\",\"\",源数据!C1134)","v":1},{"$f":"IF(源数据!D1134=\"\",\"\",源数据!D1134)","v":0},0,0,"女",0,"外套","小西装",0,0,0,0,0,0,0,0,0]
[{"$f":"IF(源数据!A1135=\"\",\"\",源数据!A1135)","v":"拼接休闲小西装 女"},{"$f":"IF(源数据!B1135=\"\",\"\",源数据!B1135)","v":1},{"$f":"IF(源数据!C1135=\"\",\"\",源数据!C1135)","v":0},{"$f":"IF(源数据!D1135=\"\",\"\",源数据!D1135)","v":0},0,0,"女",0,0,"小西装",0,0,"休闲",0,0,0,0,0,0]
[{"$f":"IF(源数据!A1136=\"\",\"\",源数据!A1136)","v":"拼接雪纺长袖小西装"},{"$f":"IF(源数据!B1136=\"\",\"\",源数据!B1136)","v":1},{"$f":"IF(源数据!C1136=\"\",\"\",源数据!C1136)","v":1},{"$f":"IF(源数据!D1136=\"\",\"\",源数据!D1136)","v":0},0,0,0,0,0,"小西装",0,0,0,0,0,0,0,0,0]
[{"$f":"IF(源数据!A1137=\"\",\"\",源数据!A1137)","v":"拼色小西装女"},{"$f":"IF(源数据!B1137=\"\",\"\",源数据!B1137)","v":1},{"$f":"IF(源数据!C1137=\"\",\"\",源数据!C1137)","v":1},{"$f":"IF(源数据!D1137=\"\",\"\",源数据!D1137)","v":0},0,0,"女",0,0,"小西装",0,0,0,0,0,0,0,0,0]
[{"$f":"IF(源数据!A1138=\"\",\"\",源数据!A1138)","v":"浅色长款小西服 女 包邮"},{"$f":"IF(源数据!B1138=\"\",\"\",源数据!B1138)","v":1},{"$f":"IF(源数据!C1138=\"\",\"\",源数据!C1138)","v":1},{"$f":"IF(源数据!D1138=\"\",\"\",源数据!D1138)","v":0},0,0,"女",0,0,0,0,"西服",0,0,0,0,0,0,0]
[{"$f":"IF(源数据!A1139=\"\",\"\",源数据!A1139)","v":"清仓大衣毛呢外套"},{"$f":"IF(源数据!B1139=\"\",\"\",源数据!B1139)","v":4},{"$f":"IF(源数据!C1139=\"\",\"\",源数据!C1139)","v":0.5},{"$f":"IF(源数据!D1139=\"\",\"\",源数据!D1139)","v":0},0,0,0,0,"外套",0,0,0,0,0,0,0,0,0,0]
[{"$f":"IF(源数据!A1140=\"\",\"\",源数据!A1140)","v":"秋 韩版"},{"$f":"IF(源数据!B1140=\"\",\"\",源数据!B1140)","v":1},{"$f":"IF(源数据!C1140=\"\",\"\",源数据!C1140)","v":1},{"$f":"IF(源数据!D1140=\"\",\"\",源数据!D1140)","v":0},0,0,0,0,0,0,0,0,0,0,0,0,0,0,0]
[{"$f":"IF(源数据!A1141=\"\",\"\",源数据!A1141)","v":"秋季外套"},{"$f":"IF(源数据!B1141=\"\",\"\",源数据!B1141)","v":1},{"$f":"IF(源数据!C1141=\"\",\"\",源数据!C1141)","v":1},{"$f":"IF(源数据!D1141=\"\",\"\",源数据!D1141)","v":0},0,0,0,0,"外套",0,0,0,0,0,0,0,0,0,0]
[{"$f":"IF(源数据!A1142=\"\",\"\",源数据!A1142)","v":"秋季新款女装"},{"$f":"IF(源数据!B1142=\"\",\"\",源数据!B1142)","v":1},{"$f":"IF(源数据!C1142=\"\",\"\",源数据!C1142)","v":1},{"$f":"IF(源数据!D1142=\"\",\"\",源数据!D1142)","v":0},0,0,"女","女装",0,0,0,0,0,0,0,0,0,0,0]
[{"$f":"IF(源数据!A1143=\"\",\"\",源数据!A1143)","v":"秋季休闲西装女"},{"$f":"IF(源数据!B1143=\"\",\"\",源数据!B1143)","v":1},{"$f":"IF(源数据!C1143=\"\",\"\",源数据!C1143)","v":1},{"$f":"IF(源数据!D1143=\"\",\"\",源数据!D1143)","v":0},0,0,"女",0,0,0,0,0,"休闲",0,0,0,0,0,0]
[{"$f":"IF(源数据!A1144=\"\",\"\",源数据!A1144)","v":"秋款 外套 百搭 韩版 修身 收腰 显瘦 小西装 休闲西服 女装大码"},{"$f":"IF(源数据!B1144=\"\",\"\",源数据!B1144)","v":1},{"$f":"IF(源数据!C1144=\"\",\"\",源数据!C1144)","v":1},{"$f":"IF(源数据!D1144=\"\",\"\",源数据!D1144)","v":0},0,0,"女","女装","外套","小西装",0,"西服","休闲","修身",0,0,0,0,0]
[{"$f":"IF(源数据!A1145=\"\",\"\",源数据!A1145)","v":"秋外套 女 韩版 潮"},{"$f":"IF(源数据!B1145=\"\",\"\",源数据!B1145)","v":1},{"$f":"IF(源数据!C1145=\"\",\"\",源数据!C1145)","v":0},{"$f":"IF(源数据!D1145=\"\",\"\",源数据!D1145)","v":0},"潮",0,"女",0,"外套",0,0,0,0,0,0,0,0,0,0]
[{"$f":"IF(源数据!A1146=\"\",\"\",源数据!A1146)","v":"秋装新款女装秋季小西装中长款外套韩版修身型长袖三色"},{"$f":"IF(源数据!B1146=\"\",\"\",源数据!B1146)","v":1},{"$f":"IF(源数据!C1146=\"\",\"\",源数据!C1146)","v":1},{"$f":"IF(源数据!D1146=\"\",\"\",源数据!D1146)","v":0},0,0,"女","女装","外套","小西装",0,0,0,"修身",0,0,0,0,0]
[{"$f":"IF(源数据!A1147=\"\",\"\",源数据!A1147)","v":"乳白色休闲小西装"},{"$f":"IF(源数据!B1147=\"\",\"\",源数据!B1147)","v":1},{"$f":"IF(源数据!C1147=\"\",\"\",源数据!C1147)","v":1},{"$f":"IF(源数据!D1147=\"\",\"\",源数据!D1147)","v":0},0,0,0,0,0,"小西装",0,0,"休闲",0,0,0,"白色",0,0]
[{"$f":"IF(源数据!A1148=\"\",\"\",源数据!A1148)","v":"瑞丽推荐 女装春装新款修身中长款休闲ol小西装"},{"$f":"IF(源数据!B1148=\"\",\"\",源数据!B1148)","v":1},{"$f":"IF(源数据!C1148=\"\",\"\",源数据!C1148)","v":1},{"$f":"IF(源数据!D1148=\"\",\"\",源数据!D1148)","v":0},0,"春装","女","女装",0,"小西装",0,0,"休闲","修身",0,0,0,0,0]
[{"$f":"IF(源数据!A1149=\"\",\"\",源数据!A1149)","v":"时尚韩版修身中长款雪纺小西服 春款女装西装 外套 女"},{"$f":"IF(源数据!B1149=\"\",\"\",源数据!B1149)","v":3},{"$f":"IF(源数据!C1149=\"\",\"\",源数据!C1149)","v":0.33329999999999999},{"$f":"IF(源数据!D1149=\"\",\"\",源数据!D1149)","v":0},0,0,"女","女装","外套",0,0,"西服",0,"修身",0,0,0,0,0]
[{"$f":"IF(源数据!A1150=\"\",\"\",源数据!A1150)","v":"帅气雪纺拼接单扣修身短外套 小西装"},{"$f":"IF(源数据!B1150=\"\",\"\",源数据!B1150)","v":1},{"$f":"IF(源数据!C1150=\"\",\"\",源数据!C1150)","v":1},{"$f":"IF(源数据!D1150=\"\",\"\",源数据!D1150)","v":0},0,0,0,0,"外套","小西装",0,0,0,"修身",0,0,0,0,0]
[{"$f":"IF(源数据!A1151=\"\",\"\",源数据!A1151)","v":"唐狮白色小西装 女 修身"},{"$f":"IF(源数据!B1151=\"\",\"\",源数据!B1151)","v":1},{"$f":"IF(源数据!C1151=\"\",\"\",源数据!C1151)","v":1},{"$f":"IF(源数据!D1151=\"\",\"\",源数据!D1151)","v":0},0,0,"女",0,0,"小西装",0,0,0,"修身",0,0,"白色",0,0]
[{"$f":"IF(源数据!A1152=\"\",\"\",源数据!A1152)","v":"淘宝网购物女装"},{"$f":"IF(源数据!B1152=\"\",\"\",源数据!B1152)","v":3},{"$f":"IF(源数据!C1152=\"\",\"\",源数据!C1152)","v":0.33329999999999999},{"$f":"IF(源数据!D1152=\"\",\"\",源数据!D1152)","v":0},0,0,"女","女装",0,0,0,0,0,0,0,0,0,0,0]
[{"$f":"IF(源数据!A1153=\"\",\"\",源数据!A1153)","v":"淘宝网购物女装小西装"},{"$f":"IF(源数据!B1153=\"\",\"\",源数据!B1153)","v":1},{"$f":"IF(源数据!C1153=\"\",\"\",源数据!C1153)","v":1},{"$f":"IF(源数据!D1153=\"\",\"\",源数据!D1153)","v":0},0,0,"女","女装",0,"小西装",0,0,0,0,0,0,0,0,0]
[{"$f":"IF(源数据!A1154=\"\",\"\",源数据!A1154)","v":"淘宝网秋装女装"},{"$f":"IF(源数据!B1154=\"\",\"\",源数据!B1154)","v":1},{"$f":"IF(源数据!C1154=\"\",\"\",源数据!C1154)","v":1},{"$f":"IF(源数据!D1154=\"\",\"\",源数据!D1154)","v":0},0,0,"女","女装",0,0,0,0,0,0,0,0,0,0,0]
[{"$f":"IF(源数据!A1155=\"\",\"\",源数据!A1155)","v":"淘宝网商城天猫女装"},{"$f":"IF(源数据!B1155=\"\",\"\",源数据!B1155)","v":2},{"$f":"IF(源数据!C1155=\"\",\"\",源数据!C1155)","v":1},{"$f":"IF(源数据!D1155=\"\",\"\",源数据!D1155)","v":0},{"$f":"IF($A1154=\"\",\"\",IF(E$1=\"\",\"\",IF(IFERROR(SEARCH(E$1,$A1155),0) >0,E$1,0)))","v":0},{"$f":"IF($A1154=\"\",\"\",IF(F$1=\"\",\"\",IF(IFERROR(SEARCH(F$1,$A1155),0) >0,F$1,0)))","v":0},{"$f":"IF($A1154=\"\",\"\",IF(G$1=\"\",\"\",IF(IFERROR(SEARCH(G$1,$A1155),0) >0,G$1,0)))","v":"女"},{"$f":"IF($A1154=\"\",\"\",IF(H$1=\"\",\"\",IF(IFERROR(SEARCH(H$1,$A1155),0) >0,H$1,0)))","v":"女装"},{"$f":"IF($A1154=\"\",\"\",IF(I$1=\"\",\"\",IF(IFERROR(SEARCH(I$1,$A1155),0) >0,I$1,0)))","v":0},{"$f":"IF($A1154=\"\",\"\",IF(J$1=\"\",\"\",IF(IFERROR(SEARCH(J$1,$A1155),0) >0,J$1,0)))","v":0},{"$f":"IF($A1154=\"\",\"\",IF(K$1=\"\",\"\",IF(IFERROR(SEARCH(K$1,$A1155),0) >0,K$1,0)))","v":0},{"$f":"IF($A1154=\"\",\"\",IF(L$1=\"\",\"\",IF(IFERROR(SEARCH(L$1,$A1155),0) >0,L$1,0)))","v":0},{"$f":"IF($A1154=\"\",\"\",IF(M$1=\"\",\"\",IF(IFERROR(SEARCH(M$1,$A1155),0) >0,M$1,0)))","v":0},{"$f":"IF($A1154=\"\",\"\",IF(N$1=\"\",\"\",IF(IFERROR(SEARCH(N$1,$A1155),0) >0,N$1,0)))","v":0},{"$f":"IF($A1154=\"\",\"\",IF(O$1=\"\",\"\",IF(IFERROR(SEARCH(O$1,$A1155),0) >0,O$1,0)))","v":0},{"$f":"IF($A1154=\"\",\"\",IF(P$1=\"\",\"\",IF(IFERROR(SEARCH(P$1,$A1155),0) >0,P$1,0)))","v":0},{"$f":"IF($A1154=\"\",\"\",IF(Q$1=\"\",\"\",IF(IFERROR(SEARCH(Q$1,$A1155),0) >0,Q$1,0)))","v":0},{"$f":"IF($A1154=\"\",\"\",IF(R$1=\"\",\"\",IF(IFERROR(SEARCH(R$1,$A1155),0) >0,R$1,0)))","v":0},{"$f":"IF($A1154=\"\",\"\",IF(S$1=\"\",\"\",IF(IFERROR(SEARCH(S$1,$A1155),0) >0,S$1,0)))","v":0}]
[{"$f":"IF(源数据!A1156=\"\",\"\",源数据!A1156)","v":"淘宝网首页天猫商城"},{"$f":"IF(源数据!B1156=\"\",\"\",源数据!B1156)","v":3},{"$f":"IF(源数据!C1156=\"\",\"\",源数据!C1156)","v":0},{"$f":"IF(源数据!D1156=\"\",\"\",源数据!D1156)","v":0},0,0,0,0,0,0,0,0,0,0,0,0,0,0,0]
[{"$f":"IF(源数据!A1157=\"\",\"\",源数据!A1157)","v":"特价春秋女外套包邮"},{"$f":"IF(源数据!B1157=\"\",\"\",源数据!B1157)","v":1},{"$f":"IF(源数据!C1157=\"\",\"\",源数据!C1157)","v":1},{"$f":"IF(源数据!D1157=\"\",\"\",源数据!D1157)","v":0},0,0,"女",0,"外套",0,0,0,0,0,0,"春秋",0,0,0]
[{"$f":"IF(源数据!A1158=\"\",\"\",源数据!A1158)","v":"特价韩版春秋女外套"},{"$f":"IF(源数据!B1158=\"\",\"\",源数据!B1158)","v":1},{"$f":"IF(源数据!C1158=\"\",\"\",源数据!C1158)","v":1},{"$f":"IF(源数据!D1158=\"\",\"\",源数据!D1158)","v":0},0,0,"女",0,"外套",0,0,0,0,0,0,"春秋",0,0,0]
[{"$f":"IF(源数据!A1159=\"\",\"\",源数据!A1159)","v":"通勤韩版小西装女"},{"$f":"IF(源数据!B1159=\"\",\"\",源数据!B1159)","v":1},{"$f":"IF(源数据!C1159=\"\",\"\",源数据!C1159)","v":1},{"$f":"IF(源数据!D1159=\"\",\"\",源数据!D1159)","v":0},0,0,"女",0,0,"小西装",0,0,0,0,0,0,0,0,0]
[{"$f":"IF(源数据!A1160=\"\",\"\",源数据!A1160)","v":"通勤西装长款"},{"$f":"IF(源数据!B1160=\"\",\"\",源数据!B1160)","v":1},{"$f":"IF(源数据!C1160=\"\",\"\",源数据!C1160)","v":0},{"$f":"IF(源数据!D1160=\"\",\"\",源数据!D1160)","v":0},0,0,0,0,0,0,0,0,0,0,0,0,0,0,0]
[{"$f":"IF(源数据!A1161=\"\",\"\",源数据!A1161)","v":"通勤小西装"},{"$f":"IF(源数据!B1161=\"\",\"\",源数据!B1161)","v":1},{"$f":"IF(源数据!C1161=\"\",\"\",源数据!C1161)","v":0},{"$f":"IF(源数据!D1161=\"\",\"\",源数据!D1161)","v":0},0,0,0,0,0,"小西装",0,0,0,0,0,0,0,0,0]
[{"$f":"IF(源数据!A1162=\"\",\"\",源数据!A1162)","v":"驼色修身西装外套"},{"$f":"IF(源数据!B1162=\"\",\"\",源数据!B1162)","v":1},{"$f":"IF(源数据!C1162=\"\",\"\",源数据!C1162)","v":1},{"$f":"IF(源数据!D1162=\"\",\"\",源数据!D1162)","v":0},0,0,0,0,"外套",0,0,0,0,"修身",0,0,0,0,0]
[{"$f":"IF(源数据!A1163=\"\",\"\",源数据!A1163)","v":"外套"},{"$f":"IF(源数据!B1163=\"\",\"\",源数据!B1163)","v":15},{"$f":"IF(源数据!C1163=\"\",\"\",源数据!C1163)","v":0.93330000000000002},{"$f":"IF(源数据!D1163=\"\",\"\",源数据!D1163)","v":0},0,0,0,0,"外套",0,0,0,0,0,0,0,0,0,0]
[{"$f":"IF(源数据!A1164=\"\",\"\",源数据!A1164)","v":"外套 女 春秋 韩版"},{"$f":"IF(源数据!B1164=\"\",\"\",源数据!B1164)","v":1},{"$f":"IF(源数据!C1164=\"\",\"\",源数据!C1164)","v":1},{"$f":"IF(源数据!D1164=\"\",\"\",源数据!D1164)","v":0},0,0,"女",0,"外套",0,0,0,0,0,0,"春秋",0,0,0]
[{"$f":"IF(源数据!A1165=\"\",\"\",源数据!A1165)","v":"外套  女春装"},{"$f":"IF(源数据!B1165=\"\",\"\",源数据!B1165)","v":1},{"$f":"IF(源数据!C1165=\"\",\"\",源数据!C1165)","v":1},{"$f":"IF(源数据!D1165=\"\",\"\",源数据!D1165)","v":0},0,"春装","女",0,"外套",0,0,0,0,0,0,0,0,0,0]
[{"$f":"IF(源数据!A1166=\"\",\"\",源数据!A1166)","v":"外套  女装"},{"$f":"IF(源数据!B1166=\"\",\"\",源数据!B1166)","v":3},{"$f":"IF(源数据!C1166=\"\",\"\",源数据!C1166)","v":0.66669999999999996},{"$f":"IF(源数据!D1166=\"\",\"\",源数据!D1166)","v":0},0,0,"女","女装","外套",0,0,0,0,0,0,0,0,0,0]
[{"$f":"IF(源数据!A1167=\"\",\"\",源数据!A1167)","v":"外套 -皮草 -羽绒 -呢 -棉"},{"$f":"IF(源数据!B1167=\"\",\"\",源数据!B1167)","v":1},{"$f":"IF(源数据!C1167=\"\",\"\",源数据!C1167)","v":1},{"$f":"IF(源数据!D1167=\"\",\"\",源数据!D1167)","v":0},0,0,0,0,"外套",0,0,0,0,0,0,0,0,0,0]
[{"$f":"IF(源数据!A1168=\"\",\"\",源数据!A1168)","v":"外套 白色"},{"$f":"IF(源数据!B1168=\"\",\"\",源数据!B1168)","v":1},{"$f":"IF(源数据!C1168=\"\",\"\",源数据!C1168)","v":1},{"$f":"IF(源数据!D1168=\"\",\"\",源数据!D1168)","v":0},0,0,0,0,"外套",0,0,0,0,0,0,0,"白色",0,0]
[{"$f":"IF(源数据!A1169=\"\",\"\",源数据!A1169)","v":"外套 白色 女"},{"$f":"IF(源数据!B1169=\"\",\"\",源数据!B1169)","v":1},{"$f":"IF(源数据!C1169=\"\",\"\",源数据!C1169)","v":1},{"$f":"IF(源数据!D1169=\"\",\"\",源数据!D1169)","v":0},0,0,"女",0,"外套",0,0,0,0,0,0,0,"白色",0,0]
[{"$f":"IF(源数据!A1170=\"\",\"\",源数据!A1170)","v":"外套 春"},{"$f":"IF(源数据!B1170=\"\",\"\",源数据!B1170)","v":2},{"$f":"IF(源数据!C1170=\"\",\"\",源数据!C1170)","v":1},{"$f":"IF(源数据!D1170=\"\",\"\",源数据!D1170)","v":0},0,0,0,0,"外套",0,0,0,0,0,0,0,0,0,0]
[{"$f":"IF(源数据!A1171=\"\",\"\",源数据!A1171)","v":"外套 春 女"},{"$f":"IF(源数据!B1171=\"\",\"\",源数据!B1171)","v":2},{"$f":"IF(源数据!C1171=\"\",\"\",源数据!C1171)","v":1},{"$f":"IF(源数据!D1171=\"\",\"\",源数据!D1171)","v":0},0,0,"女",0,"外套",0,0,0,0,0,0,0,0,0,0]
[{"$f":"IF(源数据!A1172=\"\",\"\",源数据!A1172)","v":"外套 春女  潮"},{"$f":"IF(源数据!B1172=\"\",\"\",源数据!B1172)","v":1},{"$f":"IF(源数据!C1172=\"\",\"\",源数据!C1172)","v":1},{"$f":"IF(源数据!D1172=\"\",\"\",源数据!D1172)","v":0},"潮",0,"女",0,"外套",0,0,0,0,0,0,0,0,0,0]
[{"$f":"IF(源数据!A1173=\"\",\"\",源数据!A1173)","v":"外套 春秋 韩版女"},{"$f":"IF(源数据!B1173=\"\",\"\",源数据!B1173)","v":1},{"$f":"IF(源数据!C1173=\"\",\"\",源数据!C1173)","v":1},{"$f":"IF(源数据!D1173=\"\",\"\",源数据!D1173)","v":0},0,0,"女",0,"外套",0,0,0,0,0,0,"春秋",0,0,0]
[{"$f":"IF(源数据!A1174=\"\",\"\",源数据!A1174)","v":"外套 春秋 女"},{"$f":"IF(源数据!B1174=\"\",\"\",源数据!B1174)","v":9},{"$f":"IF(源数据!C1174=\"\",\"\",源数据!C1174)","v":0.66669999999999996},{"$f":"IF(源数据!D1174=\"\",\"\",源数据!D1174)","v":0},0,0,"女",0,"外套",0,0,0,0,0,0,"春秋",0,0,0]
[{"$f":"IF(源数据!A1175=\"\",\"\",源数据!A1175)","v":"外套 春秋 女 韩版"},{"$f":"IF(源数据!B1175=\"\",\"\",源数据!B1175)","v":1},{"$f":"IF(源数据!C1175=\"\",\"\",源数据!C1175)","v":0},{"$f":"IF(源数据!D1175=\"\",\"\",源数据!D1175)","v":0},0,0,"女",0,"外套",0,0,0,0,0,0,"春秋",0,0,0]
[{"$f":"IF(源数据!A1176=\"\",\"\",源数据!A1176)","v":"外套 黑色 女"},{"$f":"IF(源数据!B1176=\"\",\"\",源数据!B1176)","v":1},{"$f":"IF(源数据!C1176=\"\",\"\",源数据!C1176)","v":1},{"$f":"IF(源数据!D1176=\"\",\"\",源数据!D1176)","v":0},0,0,"女",0,"外套",0,0,0,0,0,0,0,0,0,0]
[{"$f":"IF(源数据!A1177=\"\",\"\",源数据!A1177)","v":"外套 女"},{"$f":"IF(源数据!B1177=\"\",\"\",源数据!B1177)","v":1},{"$f":"IF(源数据!C1177=\"\",\"\",源数据!C1177)","v":1},{"$f":"IF(源数据!D1177=\"\",\"\",源数据!D1177)","v":0},0,0,"女",0,"外套",0,0,0,0,0,0,0,0,0,0]
[{"$f":"IF(源数据!A1178=\"\",\"\",源数据!A1178)","v":"外套 女 春"},{"$f":"IF(源数据!B1178=\"\",\"\",源数据!B1178)","v":6},{"$f":"IF(源数据!C1178=\"\",\"\",源数据!C1178)","v":1},{"$f":"IF(源数据!D1178=\"\",\"\",源数据!D1178)","v":0},0,0,"女",0,"外套",0,0,0,0,0,0,0,0,0,0]
[{"$f":"IF(源数据!A1179=\"\",\"\",源数据!A1179)","v":"外套 女 春秋"},{"$f":"IF(源数据!B1179=\"\",\"\",源数据!B1179)","v":19},{"$f":"IF(源数据!C1179=\"\",\"\",源数据!C1179)","v":0.73680000000000001},{"$f":"IF(源数据!D1179=\"\",\"\",源数据!D1179)","v":0},0,0,"女",0,"外套",0,0,0,0,0,0,"春秋",0,0,0]
[{"$f":"IF(源数据!A1180=\"\",\"\",源数据!A1180)","v":"外套 女 春秋 白色"},{"$f":"IF(源数据!B1180=\"\",\"\",源数据!B1180)","v":1},{"$f":"IF(源数据!C1180=\"\",\"\",源数据!C1180)","v":0},{"$f":"IF(源数据!D1180=\"\",\"\",源数据!D1180)","v":1},0,0,"女",0,"外套",0,0,0,0,0,0,"春秋","白色",0,0]
[{"$f":"IF(源数据!A1181=\"\",\"\",源数据!A1181)","v":"外套 女 春秋 包邮"},{"$f":"IF(源数据!B1181=\"\",\"\",源数据!B1181)","v":3},{"$f":"IF(源数据!C1181=\"\",\"\",源数据!C1181)","v":0.66669999999999996},{"$f":"IF(源数据!D1181=\"\",\"\",源数据!D1181)","v":0},0,0,"女",0,"外套",0,0,0,0,0,0,"春秋",0,0,0]
[{"$f":"IF(源数据!A1182=\"\",\"\",源数据!A1182)","v":"外套 女 春秋 潮"},{"$f":"IF(源数据!B1182=\"\",\"\",源数据!B1182)","v":5},{"$f":"IF(源数据!C1182=\"\",\"\",源数据!C1182)","v":0.6},{"$f":"IF(源数据!D1182=\"\",\"\",源数据!D1182)","v":0},"潮",0,"女",0,"外套",0,0,0,0,0,0,"春秋",0,0,0]
[{"$f":"IF(源数据!A1183=\"\",\"\",源数据!A1183)","v":"外套 女 春秋 韩版"},{"$f":"IF(源数据!B1183=\"\",\"\",源数据!B1183)","v":99},{"$f":"IF(源数据!C1183=\"\",\"\",源数据!C1183)","v":0.70709999999999995},{"$f":"IF(源数据!D1183=\"\",\"\",源数据!D1183)","v":2},0,0,"女",0,"外套",0,0,0,0,0,0,"春秋",0,0,0]
[{"$f":"IF(源数据!A1184=\"\",\"\",源数据!A1184)","v":"外套 女 春秋 红"},{"$f":"IF(源数据!B1184=\"\",\"\",源数据!B1184)","v":1},{"$f":"IF(源数据!C1184=\"\",\"\",源数据!C1184)","v":1},{"$f":"IF(源数据!D1184=\"\",\"\",源数据!D1184)","v":0},0,0,"女",0,"外套",0,0,0,0,0,0,"春秋",0,0,0]
[{"$f":"IF(源数据!A1185=\"\",\"\",源数据!A1185)","v":"外套 女 春秋 西装"},{"$f":"IF(源数据!B1185=\"\",\"\",源数据!B1185)","v":1},{"$f":"IF(源数据!C1185=\"\",\"\",源数据!C1185)","v":1},{"$f":"IF(源数据!D1185=\"\",\"\",源数据!D1185)","v":0},0,0,"女",0,"外套",0,0,0,0,0,0,"春秋",0,0,0]
[{"$f":"IF(源数据!A1186=\"\",\"\",源数据!A1186)","v":"外套 女 春秋 新"},{"$f":"IF(源数据!B1186=\"\",\"\",源数据!B1186)","v":2},{"$f":"IF(源数据!C1186=\"\",\"\",源数据!C1186)","v":1},{"$f":"IF(源数据!D1186=\"\",\"\",源数据!D1186)","v":0},0,0,"女",0,"外套",0,0,0,0,0,0,"春秋",0,0,0]
[{"$f":"IF(源数据!A1187=\"\",\"\",源数据!A1187)","v":"外套 女 春秋 新款"},{"$f":"IF(源数据!B1187=\"\",\"\",源数据!B1187)","v":1},{"$f":"IF(源数据!C1187=\"\",\"\",源数据!C1187)","v":1},{"$f":"IF(源数据!D1187=\"\",\"\",源数据!D1187)","v":0},0,0,"女",0,"外套",0,0,0,0,0,0,"春秋",0,0,0]
[{"$f":"IF(源数据!A1188=\"\",\"\",源数据!A1188)","v":"外套 女 春秋 休闲"},{"$f":"IF(源数据!B1188=\"\",\"\",源数据!B1188)","v":14},{"$f":"IF(源数据!C1188=\"\",\"\",源数据!C1188)","v":0.78569999999999995},{"$f":"IF(源数据!D1188=\"\",\"\",源数据!D1188)","v":0},0,0,"女",0,"外套",0,0,0,"休闲",0,0,"春秋",0,0,0]
[{"$f":"IF(源数据!A1189=\"\",\"\",源数据!A1189)","v":"外套 女 春秋长"},{"$f":"IF(源数据!B1189=\"\",\"\",源数据!B1189)","v":1},{"$f":"IF(源数据!C1189=\"\",\"\",源数据!C1189)","v":0},{"$f":"IF(源数据!D1189=\"\",\"\",源数据!D1189)","v":0},0,0,"女",0,"外套",0,0,0,0,0,0,"春秋",0,0,0]
[{"$f":"IF(源数据!A1190=\"\",\"\",源数据!A1190)","v":"外套 女 春秋小西装"},{"$f":"IF(源数据!B1190=\"\",\"\",源数据!B1190)","v":1},{"$f":"IF(源数据!C1190=\"\",\"\",源数据!C1190)","v":1},{"$f":"IF(源数据!D1190=\"\",\"\",源数据!D1190)","v":0},0,0,"女",0,"外套","小西装",0,0,0,0,0,"春秋",0,0,0]
[{"$f":"IF(源数据!A1191=\"\",\"\",源数据!A1191)","v":"外套 女 韩版"},{"$f":"IF(源数据!B1191=\"\",\"\",源数据!B1191)","v":1},{"$f":"IF(源数据!C1191=\"\",\"\",源数据!C1191)","v":1},{"$f":"IF(源数据!D1191=\"\",\"\",源数据!D1191)","v":0},0,0,"女",0,"外套",0,0,0,0,0,0,0,0,0,0]
[{"$f":"IF(源数据!A1192=\"\",\"\",源数据!A1192)","v":"外套 女 韩版 潮"},{"$f":"IF(源数据!B1192=\"\",\"\",源数据!B1192)","v":1},{"$f":"IF(源数据!C1192=\"\",\"\",源数据!C1192)","v":1},{"$f":"IF(源数据!D1192=\"\",\"\",源数据!D1192)","v":0},"潮",0,"女",0,"外套",0,0,0,0,0,0,0,0,0,0]
[{"$f":"IF(源数据!A1193=\"\",\"\",源数据!A1193)","v":"外套 女 西服"},{"$f":"IF(源数据!B1193=\"\",\"\",源数据!B1193)","v":2},{"$f":"IF(源数据!C1193=\"\",\"\",源数据!C1193)","v":1},{"$f":"IF(源数据!D1193=\"\",\"\",源数据!D1193)","v":0},0,0,"女",0,"外套",0,0,"西服",0,0,0,0,0,0,0]
[{"$f":"IF(源数据!A1194=\"\",\"\",源数据!A1194)","v":"外套 休闲 女 春秋"},{"$f":"IF(源数据!B1194=\"\",\"\",源数据!B1194)","v":2},{"$f":"IF(源数据!C1194=\"\",\"\",源数据!C1194)","v":1},{"$f":"IF(源数据!D1194=\"\",\"\",源数据!D1194)","v":0},0,0,"女",0,"外套",0,0,0,"休闲",0,0,"春秋",0,0,0]
[{"$f":"IF(源数据!A1195=\"\",\"\",源数据!A1195)","v":"外套春秋"},{"$f":"IF(源数据!B1195=\"\",\"\",源数据!B1195)","v":1},{"$f":"IF(源数据!C1195=\"\",\"\",源数据!C1195)","v":1},{"$f":"IF(源数据!D1195=\"\",\"\",源数据!D1195)","v":0},0,0,0,0,"外套",0,0,0,0,0,0,"春秋",0,0,0]
[{"$f":"IF(源数据!A1196=\"\",\"\",源数据!A1196)","v":"外套春秋女"},{"$f":"IF(源数据!B1196=\"\",\"\",源数据!B1196)","v":1},{"$f":"IF(源数据!C1196=\"\",\"\",源数据!C1196)","v":1},{"$f":"IF(源数据!D1196=\"\",\"\",源数据!D1196)","v":0},0,0,"女",0,"外套",0,0,0,0,0,0,"春秋",0,0,0]
[{"$f":"IF(源数据!A1197=\"\",\"\",源数据!A1197)","v":"外套春秋女装"},{"$f":"IF(源数据!B1197=\"\",\"\",源数据!B1197)","v":1},{"$f":"IF(源数据!C1197=\"\",\"\",源数据!C1197)","v":1},{"$f":"IF(源数据!D1197=\"\",\"\",源数据!D1197)","v":0},0,0,"女","女装","外套",0,0,0,0,0,0,"春秋",0,0,0]
[{"$f":"IF(源数据!A1198=\"\",\"\",源数据!A1198)","v":"外套春秋女装韩版"},{"$f":"IF(源数据!B1198=\"\",\"\",源数据!B1198)","v":1},{"$f":"IF(源数据!C1198=\"\",\"\",源数据!C1198)","v":1},{"$f":"IF(源数据!D1198=\"\",\"\",源数据!D1198)","v":0},0,0,"女","女装","外套",0,0,0,0,0,0,"春秋",0,0,0]
[{"$f":"IF(源数据!A1199=\"\",\"\",源数据!A1199)","v":"外套春装"},{"$f":"IF(源数据!B1199=\"\",\"\",源数据!B1199)","v":1},{"$f":"IF(源数据!C1199=\"\",\"\",源数据!C1199)","v":1},{"$f":"IF(源数据!D1199=\"\",\"\",源数据!D1199)","v":0},0,"春装",0,0,"外套",0,0,0,0,0,0,0,0,0,0]
[{"$f":"IF(源数据!A1200=\"\",\"\",源数据!A1200)","v":"外套春装 女"},{"$f":"IF(源数据!B1200=\"\",\"\",源数据!B1200)","v":1},{"$f":"IF(源数据!C1200=\"\",\"\",源数据!C1200)","v":1},{"$f":"IF(源数据!D1200=\"\",\"\",源数据!D1200)","v":0},0,"春装","女",0,"外套",0,0,0,0,0,0,0,0,0,0]
[{"$f":"IF(源数据!A1201=\"\",\"\",源数据!A1201)","v":"外套春装女韩版"},{"$f":"IF(源数据!B1201=\"\",\"\",源数据!B1201)","v":1},{"$f":"IF(源数据!C1201=\"\",\"\",源数据!C1201)","v":1},{"$f":"IF(源数据!D1201=\"\",\"\",源数据!D1201)","v":0},0,"春装","女",0,"外套",0,0,0,0,0,0,0,0,0,0]
[{"$f":"IF(源数据!A1202=\"\",\"\",源数据!A1202)","v":"外套春装新款"},{"$f":"IF(源数据!B1202=\"\",\"\",源数据!B1202)","v":4},{"$f":"IF(源数据!C1202=\"\",\"\",源数据!C1202)","v":0},{"$f":"IF(源数据!D1202=\"\",\"\",源数据!D1202)","v":0},0,"春装",0,0,"外套",0,0,0,0,0,0,0,0,0,0]
[{"$f":"IF(源数据!A1203=\"\",\"\",源数据!A1203)","v":"外套女 春秋"},{"$f":"IF(源数据!B1203=\"\",\"\",源数据!B1203)","v":6},{"$f":"IF(源数据!C1203=\"\",\"\",源数据!C1203)","v":1},{"$f":"IF(源数据!D1203=\"\",\"\",源数据!D1203)","v":0},0,0,"女",0,"外套",0,0,0,0,0,0,"春秋",0,0,0]
[{"$f":"IF(源数据!A1204=\"\",\"\",源数据!A1204)","v":"外套女 春秋 韩版"},{"$f":"IF(源数据!B1204=\"\",\"\",源数据!B1204)","v":51},{"$f":"IF(源数据!C1204=\"\",\"\",源数据!C1204)","v":0.62749999999999995},{"$f":"IF(源数据!D1204=\"\",\"\",源数据!D1204)","v":0},0,0,"女",0,"外套",0,0,0,0,0,0,"春秋",0,0,0]
[{"$f":"IF(源数据!A1205=\"\",\"\",源数据!A1205)","v":"外套女 春秋 韩版 包邮"},{"$f":"IF(源数据!B1205=\"\",\"\",源数据!B1205)","v":1},{"$f":"IF(源数据!C1205=\"\",\"\",源数据!C1205)","v":0},{"$f":"IF(源数据!D1205=\"\",\"\",源数据!D1205)","v":0},0,0,"女",0,"外套",0,0,0,0,0,0,"春秋",0,0,0]
[{"$f":"IF(源数据!A1206=\"\",\"\",源数据!A1206)","v":"外套女 春秋 韩版包邮"},{"$f":"IF(源数据!B1206=\"\",\"\",源数据!B1206)","v":1},{"$f":"IF(源数据!C1206=\"\",\"\",源数据!C1206)","v":1},{"$f":"IF(源数据!D1206=\"\",\"\",源数据!D1206)","v":0},0,0,"女",0,"外套",0,0,0,0,0,0,"春秋",0,0,0]
[{"$f":"IF(源数据!A1207=\"\",\"\",源数据!A1207)","v":"外套女 春秋 外套"},{"$f":"IF(源数据!B1207=\"\",\"\",源数据!B1207)","v":2},{"$f":"IF(源数据!C1207=\"\",\"\",源数据!C1207)","v":1},{"$f":"IF(源数据!D1207=\"\",\"\",源数据!D1207)","v":0},0,0,"女",0,"外套",0,0,0,0,0,0,"春秋",0,0,0]
[{"$f":"IF(源数据!A1208=\"\",\"\",源数据!A1208)","v":"外套女春秋"},{"$f":"IF(源数据!B1208=\"\",\"\",源数据!B1208)","v":2},{"$f":"IF(源数据!C1208=\"\",\"\",源数据!C1208)","v":1},{"$f":"IF(源数据!D1208=\"\",\"\",源数据!D1208)","v":0},0,0,"女",0,"外套",0,0,0,0,0,0,"春秋",0,0,0]
[{"$f":"IF(源数据!A1209=\"\",\"\",源数据!A1209)","v":"外套女春秋 韩版"},{"$f":"IF(源数据!B1209=\"\",\"\",源数据!B1209)","v":1},{"$f":"IF(源数据!C1209=\"\",\"\",源数据!C1209)","v":1},{"$f":"IF(源数据!D1209=\"\",\"\",源数据!D1209)","v":0},0,0,"女",0,"外套",0,0,0,0,0,0,"春秋",0,0,0]
[{"$f":"IF(源数据!A1210=\"\",\"\",源数据!A1210)","v":"外套女春秋韩版"},{"$f":"IF(源数据!B1210=\"\",\"\",源数据!B1210)","v":1},{"$f":"IF(源数据!C1210=\"\",\"\",源数据!C1210)","v":1},{"$f":"IF(源数据!D1210=\"\",\"\",源数据!D1210)","v":0},0,0,"女",0,"外套",0,0,0,0,0,0,"春秋",0,0,0]
[{"$f":"IF(源数据!A1211=\"\",\"\",源数据!A1211)","v":"外套女春秋新款"},{"$f":"IF(源数据!B1211=\"\",\"\",源数据!B1211)","v":2},{"$f":"IF(源数据!C1211=\"\",\"\",源数据!C1211)","v":0.5},{"$f":"IF(源数据!D1211=\"\",\"\",源数据!D1211)","v":0},0,0,"女",0,"外套",0,0,0,0,0,0,"春秋",0,0,0]
[{"$f":"IF(源数据!A1212=\"\",\"\",源数据!A1212)","v":"外套女春新款包邮"},{"$f":"IF(源数据!B1212=\"\",\"\",源数据!B1212)","v":1},{"$f":"IF(源数据!C1212=\"\",\"\",源数据!C1212)","v":1},{"$f":"IF(源数据!D1212=\"\",\"\",源数据!D1212)","v":0},0,0,"女",0,"外套",0,0,0,0,0,0,0,0,0,0]
[{"$f":"IF(源数据!A1213=\"\",\"\",源数据!A1213)","v":"外套女春装"},{"$f":"IF(源数据!B1213=\"\",\"\",源数据!B1213)","v":1},{"$f":"IF(源数据!C1213=\"\",\"\",源数据!C1213)","v":1},{"$f":"IF(源数据!D1213=\"\",\"\",源数据!D1213)","v":0},0,"春装","女",0,"外套",0,0,0,0,0,0,0,0,0,0]
[{"$f":"IF(源数据!A1214=\"\",\"\",源数据!A1214)","v":"外套女新款2013"},{"$f":"IF(源数据!B1214=\"\",\"\",源数据!B1214)","v":1},{"$f":"IF(源数据!C1214=\"\",\"\",源数据!C1214)","v":1},{"$f":"IF(源数据!D1214=\"\",\"\",源数据!D1214)","v":0},0,0,"女",0,"外套",0,2013,0,0,0,0,0,0,0,0]
[{"$f":"IF(源数据!A1215=\"\",\"\",源数据!A1215)","v":"外套女装"},{"$f":"IF(源数据!B1215=\"\",\"\",源数据!B1215)","v":9},{"$f":"IF(源数据!C1215=\"\",\"\",源数据!C1215)","v":1},{"$f":"IF(源数据!D1215=\"\",\"\",源数据!D1215)","v":0},0,0,"女","女装","外套",0,0,0,0,0,0,0,0,0,0]
[{"$f":"IF(源数据!A1216=\"\",\"\",源数据!A1216)","v":"外套女装 春"},{"$f":"IF(源数据!B1216=\"\",\"\",源数据!B1216)","v":2},{"$f":"IF(源数据!C1216=\"\",\"\",源数据!C1216)","v":1},{"$f":"IF(源数据!D1216=\"\",\"\",源数据!D1216)","v":0},0,0,"女","女装","外套",0,0,0,0,0,0,0,0,0,0]
[{"$f":"IF(源数据!A1217=\"\",\"\",源数据!A1217)","v":"外套女装 春秋"},{"$f":"IF(源数据!B1217=\"\",\"\",源数据!B1217)","v":1},{"$f":"IF(源数据!C1217=\"\",\"\",源数据!C1217)","v":1},{"$f":"IF(源数据!D1217=\"\",\"\",源数据!D1217)","v":0},0,0,"女","女装","外套",0,0,0,0,0,0,"春秋",0,0,0]
[{"$f":"IF(源数据!A1218=\"\",\"\",源数据!A1218)","v":"外套女装 春秋装"},{"$f":"IF(源数据!B1218=\"\",\"\",源数据!B1218)","v":2},{"$f":"IF(源数据!C1218=\"\",\"\",源数据!C1218)","v":1},{"$f":"IF(源数据!D1218=\"\",\"\",源数据!D1218)","v":0},0,0,"女","女装","外套",0,0,0,0,0,0,"春秋",0,0,0]
[{"$f":"IF(源数据!A1219=\"\",\"\",源数据!A1219)","v":"外套女装春装"},{"$f":"IF(源数据!B1219=\"\",\"\",源数据!B1219)","v":1},{"$f":"IF(源数据!C1219=\"\",\"\",源数据!C1219)","v":1},{"$f":"IF(源数据!D1219=\"\",\"\",源数据!D1219)","v":0},{"$f":"IF($A1218=\"\",\"\",IF(E$1=\"\",\"\",IF(IFERROR(SEARCH(E$1,$A1219),0) >0,E$1,0)))","v":0},{"$f":"IF($A1218=\"\",\"\",IF(F$1=\"\",\"\",IF(IFERROR(SEARCH(F$1,$A1219),0) >0,F$1,0)))","v":"春装"},{"$f":"IF($A1218=\"\",\"\",IF(G$1=\"\",\"\",IF(IFERROR(SEARCH(G$1,$A1219),0) >0,G$1,0)))","v":"女"},{"$f":"IF($A1218=\"\",\"\",IF(H$1=\"\",\"\",IF(IFERROR(SEARCH(H$1,$A1219),0) >0,H$1,0)))","v":"女装"},{"$f":"IF($A1218=\"\",\"\",IF(I$1=\"\",\"\",IF(IFERROR(SEARCH(I$1,$A1219),0) >0,I$1,0)))","v":"外套"},{"$f":"IF($A1218=\"\",\"\",IF(J$1=\"\",\"\",IF(IFERROR(SEARCH(J$1,$A1219),0) >0,J$1,0)))","v":0},{"$f":"IF($A1218=\"\",\"\",IF(K$1=\"\",\"\",IF(IFERROR(SEARCH(K$1,$A1219),0) >0,K$1,0)))","v":0},{"$f":"IF($A1218=\"\",\"\",IF(L$1=\"\",\"\",IF(IFERROR(SEARCH(L$1,$A1219),0) >0,L$1,0)))","v":0},{"$f":"IF($A1218=\"\",\"\",IF(M$1=\"\",\"\",IF(IFERROR(SEARCH(M$1,$A1219),0) >0,M$1,0)))","v":0},{"$f":"IF($A1218=\"\",\"\",IF(N$1=\"\",\"\",IF(IFERROR(SEARCH(N$1,$A1219),0) >0,N$1,0)))","v":0},{"$f":"IF($A1218=\"\",\"\",IF(O$1=\"\",\"\",IF(IFERROR(SEARCH(O$1,$A1219),0) >0,O$1,0)))","v":0},{"$f":"IF($A1218=\"\",\"\",IF(P$1=\"\",\"\",IF(IFERROR(SEARCH(P$1,$A1219),0) >0,P$1,0)))","v":0},{"$f":"IF($A1218=\"\",\"\",IF(Q$1=\"\",\"\",IF(IFERROR(SEARCH(Q$1,$A1219),0) >0,Q$1,0)))","v":0},{"$f":"IF($A1218=\"\",\"\",IF(R$1=\"\",\"\",IF(IFERROR(SEARCH(R$1,$A1219),0) >0,R$1,0)))","v":0},{"$f":"IF($A1218=\"\",\"\",IF(S$1=\"\",\"\",IF(IFERROR(SEARCH(S$1,$A1219),0) >0,S$1,0)))","v":0}]
[{"$f":"IF(源数据!A1220=\"\",\"\",源数据!A1220)","v":"外套女装韩版"},{"$f":"IF(源数据!B1220=\"\",\"\",源数据!B1220)","v":1},{"$f":"IF(源数据!C1220=\"\",\"\",源数据!C1220)","v":1},{"$f":"IF(源数据!D1220=\"\",\"\",源数据!D1220)","v":0},0,0,"女","女装","外套",0,0,0,0,0,0,0,0,0,0]
[{"$f":"IF(源数据!A1221=\"\",\"\",源数据!A1221)","v":"外套西服 女"},{"$f":"IF(源数据!B1221=\"\",\"\",源数据!B1221)","v":1},{"$f":"IF(源数据!C1221=\"\",\"\",源数据!C1221)","v":1},{"$f":"IF(源数据!D1221=\"\",\"\",源数据!D1221)","v":0},0,0,"女",0,"外套",0,0,"西服",0,0,0,0,0,0,0]
[{"$f":"IF(源数据!A1222=\"\",\"\",源数据!A1222)","v":"外套西装 女 春秋 韩版  包邮"},{"$f":"IF(源数据!B1222=\"\",\"\",源数据!B1222)","v":1},{"$f":"IF(源数据!C1222=\"\",\"\",源数据!C1222)","v":1},{"$f":"IF(源数据!D1222=\"\",\"\",源数据!D1222)","v":0},0,0,"女",0,"外套",0,0,0,0,0,0,"春秋",0,0,0]
[{"$f":"IF(源数据!A1223=\"\",\"\",源数据!A1223)","v":"外套西装女"},{"$f":"IF(源数据!B1223=\"\",\"\",源数据!B1223)","v":1},{"$f":"IF(源数据!C1223=\"\",\"\",源数据!C1223)","v":1},{"$f":"IF(源数据!D1223=\"\",\"\",源数据!D1223)","v":0},0,0,"女",0,"外套",0,0,0,0,0,0,0,0,0,0]
[{"$f":"IF(源数据!A1224=\"\",\"\",源数据!A1224)","v":"外套小西装"},{"$f":"IF(源数据!B1224=\"\",\"\",源数据!B1224)","v":2},{"$f":"IF(源数据!C1224=\"\",\"\",源数据!C1224)","v":1},{"$f":"IF(源数据!D1224=\"\",\"\",源数据!D1224)","v":0},0,0,0,0,"外套","小西装",0,0,0,0,0,0,0,0,0]
[{"$f":"IF(源数据!A1225=\"\",\"\",源数据!A1225)","v":"外套小西装女修身"},{"$f":"IF(源数据!B1225=\"\",\"\",源数据!B1225)","v":1},{"$f":"IF(源数据!C1225=\"\",\"\",源数据!C1225)","v":1},{"$f":"IF(源数据!D1225=\"\",\"\",源数据!D1225)","v":0},0,0,"女",0,"外套","小西装",0,0,0,"修身",0,0,0,0,0]
[{"$f":"IF(源数据!A1226=\"\",\"\",源数据!A1226)","v":"外套休闲西装女装"},{"$f":"IF(源数据!B1226=\"\",\"\",源数据!B1226)","v":1},{"$f":"IF(源数据!C1226=\"\",\"\",源数据!C1226)","v":0},{"$f":"IF(源数据!D1226=\"\",\"\",源数据!D1226)","v":0},0,0,"女","女装","外套",0,0,0,"休闲",0,0,0,0,0,0]
[{"$f":"IF(源数据!A1227=\"\",\"\",源数据!A1227)","v":"外套修身小西装 雪纺拼接西服外套女装 新款"},{"$f":"IF(源数据!B1227=\"\",\"\",源数据!B1227)","v":1},{"$f":"IF(源数据!C1227=\"\",\"\",源数据!C1227)","v":0},{"$f":"IF(源数据!D1227=\"\",\"\",源数据!D1227)","v":0},0,0,"女","女装","外套","小西装",0,"西服",0,"修身",0,0,0,0,0]
[{"$f":"IF(源数据!A1228=\"\",\"\",源数据!A1228)","v":"屋塔房王世子世娜"},{"$f":"IF(源数据!B1228=\"\",\"\",源数据!B1228)","v":1},{"$f":"IF(源数据!C1228=\"\",\"\",源数据!C1228)","v":1},{"$f":"IF(源数据!D1228=\"\",\"\",源数据!D1228)","v":0},0,0,0,0,0,0,0,0,0,0,0,0,0,0,0]
[{"$f":"IF(源数据!A1229=\"\",\"\",源数据!A1229)","v":"西"},{"$f":"IF(源数据!B1229=\"\",\"\",源数据!B1229)","v":1},{"$f":"IF(源数据!C1229=\"\",\"\",源数据!C1229)","v":1},{"$f":"IF(源数据!D1229=\"\",\"\",源数据!D1229)","v":0},0,0,0,0,0,0,0,0,0,0,0,0,0,0,0]
[{"$f":"IF(源数据!A1230=\"\",\"\",源数据!A1230)","v":"西 女"},{"$f":"IF(源数据!B1230=\"\",\"\",源数据!B1230)","v":1},{"$f":"IF(源数据!C1230=\"\",\"\",源数据!C1230)","v":1},{"$f":"IF(源数据!D1230=\"\",\"\",源数据!D1230)","v":0},0,0,"女",0,0,0,0,0,0,0,0,0,0,0,0]
[{"$f":"IF(源数据!A1231=\"\",\"\",源数据!A1231)","v":"西服"},{"$f":"IF(源数据!B1231=\"\",\"\",源数据!B1231)","v":31},{"$f":"IF(源数据!C1231=\"\",\"\",源数据!C1231)","v":0.9032},{"$f":"IF(源数据!D1231=\"\",\"\",源数据!D1231)","v":0},0,0,0,0,0,0,0,"西服",0,0,0,0,0,0,0]
[{"$f":"IF(源数据!A1232=\"\",\"\",源数据!A1232)","v":"西服 2013 春"},{"$f":"IF(源数据!B1232=\"\",\"\",源数据!B1232)","v":1},{"$f":"IF(源数据!C1232=\"\",\"\",源数据!C1232)","v":1},{"$f":"IF(源数据!D1232=\"\",\"\",源数据!D1232)","v":0},0,0,0,0,0,0,2013,"西服",0,0,0,0,0,0,0]
[{"$f":"IF(源数据!A1233=\"\",\"\",源数据!A1233)","v":"西服 白色 女 长"},{"$f":"IF(源数据!B1233=\"\",\"\",源数据!B1233)","v":1},{"$f":"IF(源数据!C1233=\"\",\"\",源数据!C1233)","v":1},{"$f":"IF(源数据!D1233=\"\",\"\",源数据!D1233)","v":0},0,0,"女",0,0,0,0,"西服",0,0,0,0,"白色",0,0]
[{"$f":"IF(源数据!A1234=\"\",\"\",源数据!A1234)","v":"西服 包邮"},{"$f":"IF(源数据!B1234=\"\",\"\",源数据!B1234)","v":1},{"$f":"IF(源数据!C1234=\"\",\"\",源数据!C1234)","v":1},{"$f":"IF(源数据!D1234=\"\",\"\",源数据!D1234)","v":0},0,0,0,0,0,0,0,"西服",0,0,0,0,0,0,0]
[{"$f":"IF(源数据!A1235=\"\",\"\",源数据!A1235)","v":"西服 潮 女"},{"$f":"IF(源数据!B1235=\"\",\"\",源数据!B1235)","v":1},{"$f":"IF(源数据!C1235=\"\",\"\",源数据!C1235)","v":1},{"$f":"IF(源数据!D1235=\"\",\"\",源数据!D1235)","v":0},"潮",0,"女",0,0,0,0,"西服",0,0,0,0,0,0,0]
[{"$f":"IF(源数据!A1236=\"\",\"\",源数据!A1236)","v":"西服 春 女"},{"$f":"IF(源数据!B1236=\"\",\"\",源数据!B1236)","v":1},{"$f":"IF(源数据!C1236=\"\",\"\",源数据!C1236)","v":1},{"$f":"IF(源数据!D1236=\"\",\"\",源数据!D1236)","v":0},0,0,"女",0,0,0,0,"西服",0,0,0,0,0,0,0]
[{"$f":"IF(源数据!A1237=\"\",\"\",源数据!A1237)","v":"西服 春 中长款"},{"$f":"IF(源数据!B1237=\"\",\"\",源数据!B1237)","v":1},{"$f":"IF(源数据!C1237=\"\",\"\",源数据!C1237)","v":1},{"$f":"IF(源数据!D1237=\"\",\"\",源数据!D1237)","v":0},0,0,0,0,0,0,0,"西服",0,0,0,0,0,0,0]
[{"$f":"IF(源数据!A1238=\"\",\"\",源数据!A1238)","v":"西服 韩版"},{"$f":"IF(源数据!B1238=\"\",\"\",源数据!B1238)","v":1},{"$f":"IF(源数据!C1238=\"\",\"\",源数据!C1238)","v":1},{"$f":"IF(源数据!D1238=\"\",\"\",源数据!D1238)","v":0},0,0,0,0,0,0,0,"西服",0,0,0,0,0,0,0]
[{"$f":"IF(源数据!A1239=\"\",\"\",源数据!A1239)","v":"西服 女"},{"$f":"IF(源数据!B1239=\"\",\"\",源数据!B1239)","v":45},{"$f":"IF(源数据!C1239=\"\",\"\",源数据!C1239)","v":0.71109999999999995},{"$f":"IF(源数据!D1239=\"\",\"\",源数据!D1239)","v":1},0,0,"女",0,0,0,0,"西服",0,0,0,0,0,0,0]
[{"$f":"IF(源数据!A1240=\"\",\"\",源数据!A1240)","v":"西服 女 白色"},{"$f":"IF(源数据!B1240=\"\",\"\",源数据!B1240)","v":1},{"$f":"IF(源数据!C1240=\"\",\"\",源数据!C1240)","v":1},{"$f":"IF(源数据!D1240=\"\",\"\",源数据!D1240)","v":0},0,0,"女",0,0,0,0,"西服",0,0,0,0,"白色",0,0]
[{"$f":"IF(源数据!A1241=\"\",\"\",源数据!A1241)","v":"西服 女 包邮"},{"$f":"IF(源数据!B1241=\"\",\"\",源数据!B1241)","v":4},{"$f":"IF(源数据!C1241=\"\",\"\",源数据!C1241)","v":0.75},{"$f":"IF(源数据!D1241=\"\",\"\",源数据!D1241)","v":0},0,0,"女",0,0,0,0,"西服",0,0,0,0,0,0,0]
[{"$f":"IF(源数据!A1242=\"\",\"\",源数据!A1242)","v":"西服 女 春"},{"$f":"IF(源数据!B1242=\"\",\"\",源数据!B1242)","v":2},{"$f":"IF(源数据!C1242=\"\",\"\",源数据!C1242)","v":1},{"$f":"IF(源数据!D1242=\"\",\"\",源数据!D1242)","v":0},0,0,"女",0,0,0,0,"西服",0,0,0,0,0,0,0]
[{"$f":"IF(源数据!A1243=\"\",\"\",源数据!A1243)","v":"西服 女 春秋"},{"$f":"IF(源数据!B1243=\"\",\"\",源数据!B1243)","v":2},{"$f":"IF(源数据!C1243=\"\",\"\",源数据!C1243)","v":0.5},{"$f":"IF(源数据!D1243=\"\",\"\",源数据!D1243)","v":0},0,0,"女",0,0,0,0,"西服",0,0,0,"春秋",0,0,0]
[{"$f":"IF(源数据!A1244=\"\",\"\",源数据!A1244)","v":"西服 女 翻袖 中长 -毛呢"},{"$f":"IF(源数据!B1244=\"\",\"\",源数据!B1244)","v":1},{"$f":"IF(源数据!C1244=\"\",\"\",源数据!C1244)","v":0},{"$f":"IF(源数据!D1244=\"\",\"\",源数据!D1244)","v":0},0,0,"女",0,0,0,0,"西服",0,0,0,0,0,0,0]
[{"$f":"IF(源数据!A1245=\"\",\"\",源数据!A1245)","v":"西服 女 韩版"},{"$f":"IF(源数据!B1245=\"\",\"\",源数据!B1245)","v":1},{"$f":"IF(源数据!C1245=\"\",\"\",源数据!C1245)","v":1},{"$f":"IF(源数据!D1245=\"\",\"\",源数据!D1245)","v":0},0,0,"女",0,0,0,0,"西服",0,0,0,0,0,0,0]
[{"$f":"IF(源数据!A1246=\"\",\"\",源数据!A1246)","v":"西服 女 韩版 潮"},{"$f":"IF(源数据!B1246=\"\",\"\",源数据!B1246)","v":1},{"$f":"IF(源数据!C1246=\"\",\"\",源数据!C1246)","v":1},{"$f":"IF(源数据!D1246=\"\",\"\",源数据!D1246)","v":0},"潮",0,"女",0,0,0,0,"西服",0,0,0,0,0,0,0]
[{"$f":"IF(源数据!A1247=\"\",\"\",源数据!A1247)","v":"西服 女 韩修身 白色"},{"$f":"IF(源数据!B1247=\"\",\"\",源数据!B1247)","v":1},{"$f":"IF(源数据!C1247=\"\",\"\",源数据!C1247)","v":0},{"$f":"IF(源数据!D1247=\"\",\"\",源数据!D1247)","v":0},0,0,"女",0,0,0,0,"西服",0,"修身",0,0,"白色",0,0]
[{"$f":"IF(源数据!A1248=\"\",\"\",源数据!A1248)","v":"西服 女 黑"},{"$f":"IF(源数据!B1248=\"\",\"\",源数据!B1248)","v":1},{"$f":"IF(源数据!C1248=\"\",\"\",源数据!C1248)","v":1},{"$f":"IF(源数据!D1248=\"\",\"\",源数据!D1248)","v":0},0,0,"女",0,0,0,0,"西服",0,0,0,0,0,0,0]
[{"$f":"IF(源数据!A1249=\"\",\"\",源数据!A1249)","v":"西服 女 红色"},{"$f":"IF(源数据!B1249=\"\",\"\",源数据!B1249)","v":1},{"$f":"IF(源数据!C1249=\"\",\"\",源数据!C1249)","v":1},{"$f":"IF(源数据!D1249=\"\",\"\",源数据!D1249)","v":0},0,0,"女",0,0,0,0,"西服",0,0,0,0,0,0,0]
[{"$f":"IF(源数据!A1250=\"\",\"\",源数据!A1250)","v":"西服 女 蝴蝶结 -毛呢"},{"$f":"IF(源数据!B1250=\"\",\"\",源数据!B1250)","v":1},{"$f":"IF(源数据!C1250=\"\",\"\",源数据!C1250)","v":0},{"$f":"IF(源数据!D1250=\"\",\"\",源数据!D1250)","v":0},0,0,"女",0,0,0,0,"西服",0,0,0,0,0,0,0]
[{"$f":"IF(源数据!A1251=\"\",\"\",源数据!A1251)","v":"西服 女 蝴蝶结 翻袖 -毛呢"},{"$f":"IF(源数据!B1251=\"\",\"\",源数据!B1251)","v":1},{"$f":"IF(源数据!C1251=\"\",\"\",源数据!C1251)","v":0},{"$f":"IF(源数据!D1251=\"\",\"\",源数据!D1251)","v":0},0,0,"女",0,0,0,0,"西服",0,0,0,0,0,0,0]
[{"$f":"IF(源数据!A1252=\"\",\"\",源数据!A1252)","v":"西服 女 休闲"},{"$f":"IF(源数据!B1252=\"\",\"\",源数据!B1252)","v":1},{"$f":"IF(源数据!C1252=\"\",\"\",源数据!C1252)","v":0},{"$f":"IF(源数据!D1252=\"\",\"\",源数据!D1252)","v":0},0,0,"女",0,0,0,0,"西服","休闲",0,0,0,0,0,0]
[{"$f":"IF(源数据!A1253=\"\",\"\",源数据!A1253)","v":"西服 女 修身"},{"$f":"IF(源数据!B1253=\"\",\"\",源数据!B1253)","v":3},{"$f":"IF(源数据!C1253=\"\",\"\",源数据!C1253)","v":0.66669999999999996},{"$f":"IF(源数据!D1253=\"\",\"\",源数据!D1253)","v":0},0,0,"女",0,0,0,0,"西服",0,"修身",0,0,0,0,0]
[{"$f":"IF(源数据!A1254=\"\",\"\",源数据!A1254)","v":"西服 女 修身 白色"},{"$f":"IF(源数据!B1254=\"\",\"\",源数据!B1254)","v":1},{"$f":"IF(源数据!C1254=\"\",\"\",源数据!C1254)","v":0},{"$f":"IF(源数据!D1254=\"\",\"\",源数据!D1254)","v":0},0,0,"女",0,0,0,0,"西服",0,"修身",0,0,"白色",0,0]
[{"$f":"IF(源数据!A1255=\"\",\"\",源数据!A1255)","v":"西服 女 中长款"},{"$f":"IF(源数据!B1255=\"\",\"\",源数据!B1255)","v":22},{"$f":"IF(源数据!C1255=\"\",\"\",源数据!C1255)","v":0.90910000000000002},{"$f":"IF(源数据!D1255=\"\",\"\",源数据!D1255)","v":0},0,0,"女",0,0,0,0,"西服",0,0,0,0,0,0,0]
[{"$f":"IF(源数据!A1256=\"\",\"\",源数据!A1256)","v":"西服 女 中长款 潮"},{"$f":"IF(源数据!B1256=\"\",\"\",源数据!B1256)","v":1},{"$f":"IF(源数据!C1256=\"\",\"\",源数据!C1256)","v":0},{"$f":"IF(源数据!D1256=\"\",\"\",源数据!D1256)","v":0},"潮",0,"女",0,0,0,0,"西服",0,0,0,0,0,0,0]
[{"$f":"IF(源数据!A1257=\"\",\"\",源数据!A1257)","v":"西服 女 中长款 春"},{"$f":"IF(源数据!B1257=\"\",\"\",源数据!B1257)","v":2},{"$f":"IF(源数据!C1257=\"\",\"\",源数据!C1257)","v":0},{"$f":"IF(源数据!D1257=\"\",\"\",源数据!D1257)","v":0},0,0,"女",0,0,0,0,"西服",0,0,0,0,0,0,0]
[{"$f":"IF(源数据!A1258=\"\",\"\",源数据!A1258)","v":"西服 女韩版 潮"},{"$f":"IF(源数据!B1258=\"\",\"\",源数据!B1258)","v":1},{"$f":"IF(源数据!C1258=\"\",\"\",源数据!C1258)","v":1},{"$f":"IF(源数据!D1258=\"\",\"\",源数据!D1258)","v":0},"潮",0,"女",0,0,0,0,"西服",0,0,0,0,0,0,0]
[{"$f":"IF(源数据!A1259=\"\",\"\",源数据!A1259)","v":"西服 外套 女"},{"$f":"IF(源数据!B1259=\"\",\"\",源数据!B1259)","v":2},{"$f":"IF(源数据!C1259=\"\",\"\",源数据!C1259)","v":0.5},{"$f":"IF(源数据!D1259=\"\",\"\",源数据!D1259)","v":0},0,0,"女",0,"外套",0,0,"西服",0,0,0,0,0,0,0]
[{"$f":"IF(源数据!A1260=\"\",\"\",源数据!A1260)","v":"西服 修身 韩版 女"},{"$f":"IF(源数据!B1260=\"\",\"\",源数据!B1260)","v":85},{"$f":"IF(源数据!C1260=\"\",\"\",源数据!C1260)","v":0.76470000000000005},{"$f":"IF(源数据!D1260=\"\",\"\",源数据!D1260)","v":1},0,0,"女",0,0,0,0,"西服",0,"修身",0,0,0,0,0]
[{"$f":"IF(源数据!A1261=\"\",\"\",源数据!A1261)","v":"西服 修身 韩版 女 包邮"},{"$f":"IF(源数据!B1261=\"\",\"\",源数据!B1261)","v":1},{"$f":"IF(源数据!C1261=\"\",\"\",源数据!C1261)","v":0},{"$f":"IF(源数据!D1261=\"\",\"\",源数据!D1261)","v":0},0,0,"女",0,0,0,0,"西服",0,"修身",0,0,0,0,0]
[{"$f":"IF(源数据!A1262=\"\",\"\",源数据!A1262)","v":"西服 修身 女"},{"$f":"IF(源数据!B1262=\"\",\"\",源数据!B1262)","v":1},{"$f":"IF(源数据!C1262=\"\",\"\",源数据!C1262)","v":1},{"$f":"IF(源数据!D1262=\"\",\"\",源数据!D1262)","v":0},0,0,"女",0,0,0,0,"西服",0,"修身",0,0,0,0,0]
[{"$f":"IF(源数据!A1263=\"\",\"\",源数据!A1263)","v":"西服 修身 女款"},{"$f":"IF(源数据!B1263=\"\",\"\",源数据!B1263)","v":1},{"$f":"IF(源数据!C1263=\"\",\"\",源数据!C1263)","v":0},{"$f":"IF(源数据!D1263=\"\",\"\",源数据!D1263)","v":0},0,0,"女",0,0,0,0,"西服",0,"修身",0,0,0,0,0]
[{"$f":"IF(源数据!A1264=\"\",\"\",源数据!A1264)","v":"西服 修身 女款白色"},{"$f":"IF(源数据!B1264=\"\",\"\",源数据!B1264)","v":1},{"$f":"IF(源数据!C1264=\"\",\"\",源数据!C1264)","v":1},{"$f":"IF(源数据!D1264=\"\",\"\",源数据!D1264)","v":0},0,0,"女",0,0,0,0,"西服",0,"修身",0,0,"白色",0,0]
[{"$f":"IF(源数据!A1265=\"\",\"\",源数据!A1265)","v":"西服 雪纺"},{"$f":"IF(源数据!B1265=\"\",\"\",源数据!B1265)","v":1},{"$f":"IF(源数据!C1265=\"\",\"\",源数据!C1265)","v":1},{"$f":"IF(源数据!D1265=\"\",\"\",源数据!D1265)","v":0},0,0,0,0,0,0,0,"西服",0,0,0,0,0,0,0]
[{"$f":"IF(源数据!A1266=\"\",\"\",源数据!A1266)","v":"西服 雪纺 春秋"},{"$f":"IF(源数据!B1266=\"\",\"\",源数据!B1266)","v":1},{"$f":"IF(源数据!C1266=\"\",\"\",源数据!C1266)","v":1},{"$f":"IF(源数据!D1266=\"\",\"\",源数据!D1266)","v":0},0,0,0,0,0,0,0,"西服",0,0,0,"春秋",0,0,0]
[{"$f":"IF(源数据!A1267=\"\",\"\",源数据!A1267)","v":"西服 雪纺 女"},{"$f":"IF(源数据!B1267=\"\",\"\",源数据!B1267)","v":1},{"$f":"IF(源数据!C1267=\"\",\"\",源数据!C1267)","v":1},{"$f":"IF(源数据!D1267=\"\",\"\",源数据!D1267)","v":0},0,0,"女",0,0,0,0,"西服",0,0,0,0,0,0,0]
[{"$f":"IF(源数据!A1268=\"\",\"\",源数据!A1268)","v":"西服 中长款 女"},{"$f":"IF(源数据!B1268=\"\",\"\",源数据!B1268)","v":1},{"$f":"IF(源数据!C1268=\"\",\"\",源数据!C1268)","v":0},{"$f":"IF(源数据!D1268=\"\",\"\",源数据!D1268)","v":0},0,0,"女",0,0,0,0,"西服",0,0,0,0,0,0,0]
[{"$f":"IF(源数据!A1269=\"\",\"\",源数据!A1269)","v":"西服包邮女"},{"$f":"IF(源数据!B1269=\"\",\"\",源数据!B1269)","v":2},{"$f":"IF(源数据!C1269=\"\",\"\",源数据!C1269)","v":1},{"$f":"IF(源数据!D1269=\"\",\"\",源数据!D1269)","v":0},0,0,"女",0,0,0,0,"西服",0,0,0,0,0,0,0]
[{"$f":"IF(源数据!A1270=\"\",\"\",源数据!A1270)","v":"西服韩版 女 修身"},{"$f":"IF(源数据!B1270=\"\",\"\",源数据!B1270)","v":1},{"$f":"IF(源数据!C1270=\"\",\"\",源数据!C1270)","v":1},{"$f":"IF(源数据!D1270=\"\",\"\",源数据!D1270)","v":0},0,0,"女",0,0,0,0,"西服",0,"修身",0,0,0,0,0]
[{"$f":"IF(源数据!A1271=\"\",\"\",源数据!A1271)","v":"西服韩版 女 修身"},{"$f":"IF(源数据!B1271=\"\",\"\",源数据!B1271)","v":8},{"$f":"IF(源数据!C1271=\"\",\"\",源数据!C1271)","v":0.75},{"$f":"IF(源数据!D1271=\"\",\"\",源数据!D1271)","v":0},0,0,"女",0,0,0,0,"西服",0,"修身",0,0,0,0,0]
[{"$f":"IF(源数据!A1272=\"\",\"\",源数据!A1272)","v":"西服款小外套"},{"$f":"IF(源数据!B1272=\"\",\"\",源数据!B1272)","v":1},{"$f":"IF(源数据!C1272=\"\",\"\",源数据!C1272)","v":1},{"$f":"IF(源数据!D1272=\"\",\"\",源数据!D1272)","v":0},0,0,0,0,"外套",0,0,"西服",0,0,0,0,0,0,0]
[{"$f":"IF(源数据!A1273=\"\",\"\",源数据!A1273)","v":"西服领春秋外套"},{"$f":"IF(源数据!B1273=\"\",\"\",源数据!B1273)","v":1},{"$f":"IF(源数据!C1273=\"\",\"\",源数据!C1273)","v":1},{"$f":"IF(源数据!D1273=\"\",\"\",源数据!D1273)","v":0},0,0,0,0,"外套",0,0,"西服",0,0,0,"春秋",0,0,0]
[{"$f":"IF(源数据!A1274=\"\",\"\",源数据!A1274)","v":"西服女"},{"$f":"IF(源数据!B1274=\"\",\"\",源数据!B1274)","v":19},{"$f":"IF(源数据!C1274=\"\",\"\",源数据!C1274)","v":0.78949999999999998},{"$f":"IF(源数据!D1274=\"\",\"\",源数据!D1274)","v":0},0,0,"女",0,0,0,0,"西服",0,0,0,0,0,0,0]
[{"$f":"IF(源数据!A1275=\"\",\"\",源数据!A1275)","v":"西服女 白"},{"$f":"IF(源数据!B1275=\"\",\"\",源数据!B1275)","v":1},{"$f":"IF(源数据!C1275=\"\",\"\",源数据!C1275)","v":1},{"$f":"IF(源数据!D1275=\"\",\"\",源数据!D1275)","v":0},0,0,"女",0,0,0,0,"西服",0,0,0,0,0,0,0]
[{"$f":"IF(源数据!A1276=\"\",\"\",源数据!A1276)","v":"西服女 白色"},{"$f":"IF(源数据!B1276=\"\",\"\",源数据!B1276)","v":1},{"$f":"IF(源数据!C1276=\"\",\"\",源数据!C1276)","v":1},{"$f":"IF(源数据!D1276=\"\",\"\",源数据!D1276)","v":0},0,0,"女",0,0,0,0,"西服",0,0,0,0,"白色",0,0]
[{"$f":"IF(源数据!A1277=\"\",\"\",源数据!A1277)","v":"西服女 修身 韩版"},{"$f":"IF(源数据!B1277=\"\",\"\",源数据!B1277)","v":56},{"$f":"IF(源数据!C1277=\"\",\"\",源数据!C1277)","v":0.78569999999999995},{"$f":"IF(源数据!D1277=\"\",\"\",源数据!D1277)","v":0},0,0,"女",0,0,0,0,"西服",0,"修身",0,0,0,0,0]
[{"$f":"IF(源数据!A1278=\"\",\"\",源数据!A1278)","v":"西服女 修身 韩版 2013新春装"},{"$f":"IF(源数据!B1278=\"\",\"\",源数据!B1278)","v":1},{"$f":"IF(源数据!C1278=\"\",\"\",源数据!C1278)","v":1},{"$f":"IF(源数据!D1278=\"\",\"\",源数据!D1278)","v":0},0,"春装","女",0,0,0,2013,"西服",0,"修身",0,0,0,0,0]
[{"$f":"IF(源数据!A1279=\"\",\"\",源数据!A1279)","v":"西服女 修身 韩版白色"},{"$f":"IF(源数据!B1279=\"\",\"\",源数据!B1279)","v":1},{"$f":"IF(源数据!C1279=\"\",\"\",源数据!C1279)","v":1},{"$f":"IF(源数据!D1279=\"\",\"\",源数据!D1279)","v":0},0,0,"女",0,0,0,0,"西服",0,"修身",0,0,"白色",0,0]
[{"$f":"IF(源数据!A1280=\"\",\"\",源数据!A1280)","v":"西服女春"},{"$f":"IF(源数据!B1280=\"\",\"\",源数据!B1280)","v":1},{"$f":"IF(源数据!C1280=\"\",\"\",源数据!C1280)","v":1},{"$f":"IF(源数据!D1280=\"\",\"\",源数据!D1280)","v":0},0,0,"女",0,0,0,0,"西服",0,0,0,0,0,0,0]
[{"$f":"IF(源数据!A1281=\"\",\"\",源数据!A1281)","v":"西服女黑色 包邮"},{"$f":"IF(源数据!B1281=\"\",\"\",源数据!B1281)","v":1},{"$f":"IF(源数据!C1281=\"\",\"\",源数据!C1281)","v":0},{"$f":"IF(源数据!D1281=\"\",\"\",源数据!D1281)","v":0},0,0,"女",0,0,0,0,"西服",0,0,0,0,0,0,0]
[{"$f":"IF(源数据!A1282=\"\",\"\",源数据!A1282)","v":"西服女款 2013新款"},{"$f":"IF(源数据!B1282=\"\",\"\",源数据!B1282)","v":1},{"$f":"IF(源数据!C1282=\"\",\"\",源数据!C1282)","v":1},{"$f":"IF(源数据!D1282=\"\",\"\",源数据!D1282)","v":0},0,0,"女",0,0,0,2013,"西服",0,0,0,0,0,0,0]
[{"$f":"IF(源数据!A1283=\"\",\"\",源数据!A1283)","v":"西服女特价"},{"$f":"IF(源数据!B1283=\"\",\"\",源数据!B1283)","v":1},{"$f":"IF(源数据!C1283=\"\",\"\",源数据!C1283)","v":1},{"$f":"IF(源数据!D1283=\"\",\"\",源数据!D1283)","v":0},{"$f":"IF($A1282=\"\",\"\",IF(E$1=\"\",\"\",IF(IFERROR(SEARCH(E$1,$A1283),0) >0,E$1,0)))","v":0},{"$f":"IF($A1282=\"\",\"\",IF(F$1=\"\",\"\",IF(IFERROR(SEARCH(F$1,$A1283),0) >0,F$1,0)))","v":0},{"$f":"IF($A1282=\"\",\"\",IF(G$1=\"\",\"\",IF(IFERROR(SEARCH(G$1,$A1283),0) >0,G$1,0)))","v":"女"},{"$f":"IF($A1282=\"\",\"\",IF(H$1=\"\",\"\",IF(IFERROR(SEARCH(H$1,$A1283),0) >0,H$1,0)))","v":0},{"$f":"IF($A1282=\"\",\"\",IF(I$1=\"\",\"\",IF(IFERROR(SEARCH(I$1,$A1283),0) >0,I$1,0)))","v":0},{"$f":"IF($A1282=\"\",\"\",IF(J$1=\"\",\"\",IF(IFERROR(SEARCH(J$1,$A1283),0) >0,J$1,0)))","v":0},{"$f":"IF($A1282=\"\",\"\",IF(K$1=\"\",\"\",IF(IFERROR(SEARCH(K$1,$A1283),0) >0,K$1,0)))","v":0},{"$f":"IF($A1282=\"\",\"\",IF(L$1=\"\",\"\",IF(IFERROR(SEARCH(L$1,$A1283),0) >0,L$1,0)))","v":"西服"},{"$f":"IF($A1282=\"\",\"\",IF(M$1=\"\",\"\",IF(IFERROR(SEARCH(M$1,$A1283),0) >0,M$1,0)))","v":0},{"$f":"IF($A1282=\"\",\"\",IF(N$1=\"\",\"\",IF(IFERROR(SEARCH(N$1,$A1283),0) >0,N$1,0)))","v":0},{"$f":"IF($A1282=\"\",\"\",IF(O$1=\"\",\"\",IF(IFERROR(SEARCH(O$1,$A1283),0) >0,O$1,0)))","v":0},{"$f":"IF($A1282=\"\",\"\",IF(P$1=\"\",\"\",IF(IFERROR(SEARCH(P$1,$A1283),0) >0,P$1,0)))","v":0},{"$f":"IF($A1282=\"\",\"\",IF(Q$1=\"\",\"\",IF(IFERROR(SEARCH(Q$1,$A1283),0) >0,Q$1,0)))","v":0},{"$f":"IF($A1282=\"\",\"\",IF(R$1=\"\",\"\",IF(IFERROR(SEARCH(R$1,$A1283),0) >0,R$1,0)))","v":0},{"$f":"IF($A1282=\"\",\"\",IF(S$1=\"\",\"\",IF(IFERROR(SEARCH(S$1,$A1283),0) >0,S$1,0)))","v":0}]
[{"$f":"IF(源数据!A1284=\"\",\"\",源数据!A1284)","v":"西服女外套春秋"},{"$f":"IF(源数据!B1284=\"\",\"\",源数据!B1284)","v":1},{"$f":"IF(源数据!C1284=\"\",\"\",源数据!C1284)","v":1},{"$f":"IF(源数据!D1284=\"\",\"\",源数据!D1284)","v":0},0,0,"女",0,"外套",0,0,"西服",0,0,0,"春秋",0,0,0]
[{"$f":"IF(源数据!A1285=\"\",\"\",源数据!A1285)","v":"西服女修身"},{"$f":"IF(源数据!B1285=\"\",\"\",源数据!B1285)","v":1},{"$f":"IF(源数据!C1285=\"\",\"\",源数据!C1285)","v":1},{"$f":"IF(源数据!D1285=\"\",\"\",源数据!D1285)","v":0},0,0,"女",0,0,0,0,"西服",0,"修身",0,0,0,0,0]
[{"$f":"IF(源数据!A1286=\"\",\"\",源数据!A1286)","v":"西服女修身包邮2013"},{"$f":"IF(源数据!B1286=\"\",\"\",源数据!B1286)","v":1},{"$f":"IF(源数据!C1286=\"\",\"\",源数据!C1286)","v":1},{"$f":"IF(源数据!D1286=\"\",\"\",源数据!D1286)","v":0},0,0,"女",0,0,0,2013,"西服",0,"修身",0,0,0,0,0]
[{"$f":"IF(源数据!A1287=\"\",\"\",源数据!A1287)","v":"西服女中长款"},{"$f":"IF(源数据!B1287=\"\",\"\",源数据!B1287)","v":1},{"$f":"IF(源数据!C1287=\"\",\"\",源数据!C1287)","v":1},{"$f":"IF(源数据!D1287=\"\",\"\",源数据!D1287)","v":0},0,0,"女",0,0,0,0,"西服",0,0,0,0,0,0,0]
[{"$f":"IF(源数据!A1288=\"\",\"\",源数据!A1288)","v":"西服女中长款春装"},{"$f":"IF(源数据!B1288=\"\",\"\",源数据!B1288)","v":2},{"$f":"IF(源数据!C1288=\"\",\"\",源数据!C1288)","v":0},{"$f":"IF(源数据!D1288=\"\",\"\",源数据!D1288)","v":0},0,"春装","女",0,0,0,0,"西服",0,0,0,0,0,0,0]
[{"$f":"IF(源数据!A1289=\"\",\"\",源数据!A1289)","v":"西服女装 2012 新款"},{"$f":"IF(源数据!B1289=\"\",\"\",源数据!B1289)","v":2},{"$f":"IF(源数据!C1289=\"\",\"\",源数据!C1289)","v":0.5},{"$f":"IF(源数据!D1289=\"\",\"\",源数据!D1289)","v":0},0,0,"女","女装",0,0,0,"西服",0,0,0,0,0,0,0]
[{"$f":"IF(源数据!A1290=\"\",\"\",源数据!A1290)","v":"西服女装 2013 新款"},{"$f":"IF(源数据!B1290=\"\",\"\",源数据!B1290)","v":4},{"$f":"IF(源数据!C1290=\"\",\"\",源数据!C1290)","v":0.5},{"$f":"IF(源数据!D1290=\"\",\"\",源数据!D1290)","v":0},0,0,"女","女装",0,0,2013,"西服",0,0,0,0,0,0,0]
[{"$f":"IF(源数据!A1291=\"\",\"\",源数据!A1291)","v":"西服女装 2013 新款包邮"},{"$f":"IF(源数据!B1291=\"\",\"\",源数据!B1291)","v":1},{"$f":"IF(源数据!C1291=\"\",\"\",源数据!C1291)","v":1},{"$f":"IF(源数据!D1291=\"\",\"\",源数据!D1291)","v":0},0,0,"女","女装",0,0,2013,"西服",0,0,0,0,0,0,0]
[{"$f":"IF(源数据!A1292=\"\",\"\",源数据!A1292)","v":"西服女装 白色2013 新款"},{"$f":"IF(源数据!B1292=\"\",\"\",源数据!B1292)","v":1},{"$f":"IF(源数据!C1292=\"\",\"\",源数据!C1292)","v":1},{"$f":"IF(源数据!D1292=\"\",\"\",源数据!D1292)","v":0},0,0,"女","女装",0,0,2013,"西服",0,0,0,0,"白色",0,0]
[{"$f":"IF(源数据!A1293=\"\",\"\",源数据!A1293)","v":"西服女装 中长款"},{"$f":"IF(源数据!B1293=\"\",\"\",源数据!B1293)","v":4},{"$f":"IF(源数据!C1293=\"\",\"\",源数据!C1293)","v":0.5},{"$f":"IF(源数据!D1293=\"\",\"\",源数据!D1293)","v":0},0,0,"女","女装",0,0,0,"西服",0,0,0,0,0,0,0]
[{"$f":"IF(源数据!A1294=\"\",\"\",源数据!A1294)","v":"西服外套"},{"$f":"IF(源数据!B1294=\"\",\"\",源数据!B1294)","v":2},{"$f":"IF(源数据!C1294=\"\",\"\",源数据!C1294)","v":1},{"$f":"IF(源数据!D1294=\"\",\"\",源数据!D1294)","v":0},0,0,0,0,"外套",0,0,"西服",0,0,0,0,0,0,0]
[{"$f":"IF(源数据!A1295=\"\",\"\",源数据!A1295)","v":"西服外套 女"},{"$f":"IF(源数据!B1295=\"\",\"\",源数据!B1295)","v":3},{"$f":"IF(源数据!C1295=\"\",\"\",源数据!C1295)","v":1},{"$f":"IF(源数据!D1295=\"\",\"\",源数据!D1295)","v":0},0,0,"女",0,"外套",0,0,"西服",0,0,0,0,0,0,0]
[{"$f":"IF(源数据!A1296=\"\",\"\",源数据!A1296)","v":"西服外套 女 潮"},{"$f":"IF(源数据!B1296=\"\",\"\",源数据!B1296)","v":1},{"$f":"IF(源数据!C1296=\"\",\"\",源数据!C1296)","v":1},{"$f":"IF(源数据!D1296=\"\",\"\",源数据!D1296)","v":0},"潮",0,"女",0,"外套",0,0,"西服",0,0,0,0,0,0,0]
[{"$f":"IF(源数据!A1297=\"\",\"\",源数据!A1297)","v":"西服外套 女 春秋"},{"$f":"IF(源数据!B1297=\"\",\"\",源数据!B1297)","v":7},{"$f":"IF(源数据!C1297=\"\",\"\",源数据!C1297)","v":0.42859999999999998},{"$f":"IF(源数据!D1297=\"\",\"\",源数据!D1297)","v":0},0,0,"女",0,"外套",0,0,"西服",0,0,0,"春秋",0,0,0]
[{"$f":"IF(源数据!A1298=\"\",\"\",源数据!A1298)","v":"西服外套 女 韩版"},{"$f":"IF(源数据!B1298=\"\",\"\",源数据!B1298)","v":1},{"$f":"IF(源数据!C1298=\"\",\"\",源数据!C1298)","v":1},{"$f":"IF(源数据!D1298=\"\",\"\",源数据!D1298)","v":0},0,0,"女",0,"外套",0,0,"西服",0,0,0,0,0,0,0]
[{"$f":"IF(源数据!A1299=\"\",\"\",源数据!A1299)","v":"西服外套 女 中长款"},{"$f":"IF(源数据!B1299=\"\",\"\",源数据!B1299)","v":2},{"$f":"IF(源数据!C1299=\"\",\"\",源数据!C1299)","v":1},{"$f":"IF(源数据!D1299=\"\",\"\",源数据!D1299)","v":0},0,0,"女",0,"外套",0,0,"西服",0,0,0,0,0,0,0]
[{"$f":"IF(源数据!A1300=\"\",\"\",源数据!A1300)","v":"西服外套 修身 韩版 女"},{"$f":"IF(源数据!B1300=\"\",\"\",源数据!B1300)","v":1},{"$f":"IF(源数据!C1300=\"\",\"\",源数据!C1300)","v":1},{"$f":"IF(源数据!D1300=\"\",\"\",源数据!D1300)","v":0},0,0,"女",0,"外套",0,0,"西服",0,"修身",0,0,0,0,0]
[{"$f":"IF(源数据!A1301=\"\",\"\",源数据!A1301)","v":"西服外套 修身 女"},{"$f":"IF(源数据!B1301=\"\",\"\",源数据!B1301)","v":1},{"$f":"IF(源数据!C1301=\"\",\"\",源数据!C1301)","v":1},{"$f":"IF(源数据!D1301=\"\",\"\",源数据!D1301)","v":0},0,0,"女",0,"外套",0,0,"西服",0,"修身",0,0,0,0,0]
[{"$f":"IF(源数据!A1302=\"\",\"\",源数据!A1302)","v":"西服外套韩版西装女中长款毛绒呢外套连帽休闲"},{"$f":"IF(源数据!B1302=\"\",\"\",源数据!B1302)","v":1},{"$f":"IF(源数据!C1302=\"\",\"\",源数据!C1302)","v":1},{"$f":"IF(源数据!D1302=\"\",\"\",源数据!D1302)","v":0},0,0,"女",0,"外套",0,0,"西服","休闲",0,0,0,0,0,0]
[{"$f":"IF(源数据!A1303=\"\",\"\",源数据!A1303)","v":"西服外套女长款"},{"$f":"IF(源数据!B1303=\"\",\"\",源数据!B1303)","v":1},{"$f":"IF(源数据!C1303=\"\",\"\",源数据!C1303)","v":1},{"$f":"IF(源数据!D1303=\"\",\"\",源数据!D1303)","v":0},0,0,"女",0,"外套",0,0,"西服",0,0,0,0,0,0,0]
[{"$f":"IF(源数据!A1304=\"\",\"\",源数据!A1304)","v":"西服小外套"},{"$f":"IF(源数据!B1304=\"\",\"\",源数据!B1304)","v":1},{"$f":"IF(源数据!C1304=\"\",\"\",源数据!C1304)","v":1},{"$f":"IF(源数据!D1304=\"\",\"\",源数据!D1304)","v":0},0,0,0,0,"外套",0,0,"西服",0,0,0,0,0,0,0]
[{"$f":"IF(源数据!A1305=\"\",\"\",源数据!A1305)","v":"西服小外套 女"},{"$f":"IF(源数据!B1305=\"\",\"\",源数据!B1305)","v":1},{"$f":"IF(源数据!C1305=\"\",\"\",源数据!C1305)","v":1},{"$f":"IF(源数据!D1305=\"\",\"\",源数据!D1305)","v":0},0,0,"女",0,"外套",0,0,"西服",0,0,0,0,0,0,0]
[{"$f":"IF(源数据!A1306=\"\",\"\",源数据!A1306)","v":"西服新款女"},{"$f":"IF(源数据!B1306=\"\",\"\",源数据!B1306)","v":1},{"$f":"IF(源数据!C1306=\"\",\"\",源数据!C1306)","v":1},{"$f":"IF(源数据!D1306=\"\",\"\",源数据!D1306)","v":0},0,0,"女",0,0,0,0,"西服",0,0,0,0,0,0,0]
[{"$f":"IF(源数据!A1307=\"\",\"\",源数据!A1307)","v":"西服休闲 女"},{"$f":"IF(源数据!B1307=\"\",\"\",源数据!B1307)","v":1},{"$f":"IF(源数据!C1307=\"\",\"\",源数据!C1307)","v":1},{"$f":"IF(源数据!D1307=\"\",\"\",源数据!D1307)","v":0},0,0,"女",0,0,0,0,"西服","休闲",0,0,0,0,0,0]
[{"$f":"IF(源数据!A1308=\"\",\"\",源数据!A1308)","v":"西服休闲女"},{"$f":"IF(源数据!B1308=\"\",\"\",源数据!B1308)","v":1},{"$f":"IF(源数据!C1308=\"\",\"\",源数据!C1308)","v":1},{"$f":"IF(源数据!D1308=\"\",\"\",源数据!D1308)","v":0},0,0,"女",0,0,0,0,"西服","休闲",0,0,0,0,0,0]
[{"$f":"IF(源数据!A1309=\"\",\"\",源数据!A1309)","v":"西服修身外套包邮 女"},{"$f":"IF(源数据!B1309=\"\",\"\",源数据!B1309)","v":1},{"$f":"IF(源数据!C1309=\"\",\"\",源数据!C1309)","v":1},{"$f":"IF(源数据!D1309=\"\",\"\",源数据!D1309)","v":0},0,0,"女",0,"外套",0,0,"西服",0,"修身",0,0,0,0,0]
[{"$f":"IF(源数据!A1310=\"\",\"\",源数据!A1310)","v":"西服中长袖"},{"$f":"IF(源数据!B1310=\"\",\"\",源数据!B1310)","v":1},{"$f":"IF(源数据!C1310=\"\",\"\",源数据!C1310)","v":1},{"$f":"IF(源数据!D1310=\"\",\"\",源数据!D1310)","v":0},0,0,0,0,0,0,0,"西服",0,0,0,0,0,0,0]
[{"$f":"IF(源数据!A1311=\"\",\"\",源数据!A1311)","v":"西瓜家女装"},{"$f":"IF(源数据!B1311=\"\",\"\",源数据!B1311)","v":1},{"$f":"IF(源数据!C1311=\"\",\"\",源数据!C1311)","v":1},{"$f":"IF(源数据!D1311=\"\",\"\",源数据!D1311)","v":0},0,0,"女","女装",0,0,0,0,0,0,0,0,0,0,0]
[{"$f":"IF(源数据!A1312=\"\",\"\",源数据!A1312)","v":"西外"},{"$f":"IF(源数据!B1312=\"\",\"\",源数据!B1312)","v":1},{"$f":"IF(源数据!C1312=\"\",\"\",源数据!C1312)","v":1},{"$f":"IF(源数据!D1312=\"\",\"\",源数据!D1312)","v":0},0,0,0,0,0,0,0,0,0,0,0,0,0,0,0]
[{"$f":"IF(源数据!A1313=\"\",\"\",源数据!A1313)","v":"西装"},{"$f":"IF(源数据!B1313=\"\",\"\",源数据!B1313)","v":52},{"$f":"IF(源数据!C1313=\"\",\"\",源数据!C1313)","v":0.90380000000000005},{"$f":"IF(源数据!D1313=\"\",\"\",源数据!D1313)","v":0},0,0,0,0,0,0,0,0,0,0,0,0,0,0,0]
[{"$f":"IF(源数据!A1314=\"\",\"\",源数据!A1314)","v":"西装 -呢 --格 --肩 - -雪纺 - -花"},{"$f":"IF(源数据!B1314=\"\",\"\",源数据!B1314)","v":1},{"$f":"IF(源数据!C1314=\"\",\"\",源数据!C1314)","v":1},{"$f":"IF(源数据!D1314=\"\",\"\",源数据!D1314)","v":0},0,0,0,0,0,0,0,0,0,0,0,0,0,0,0]
[{"$f":"IF(源数据!A1315=\"\",\"\",源数据!A1315)","v":"西装 白 韩"},{"$f":"IF(源数据!B1315=\"\",\"\",源数据!B1315)","v":1},{"$f":"IF(源数据!C1315=\"\",\"\",源数据!C1315)","v":1},{"$f":"IF(源数据!D1315=\"\",\"\",源数据!D1315)","v":0},0,0,0,0,0,0,0,0,0,0,0,0,0,0,0]
[{"$f":"IF(源数据!A1316=\"\",\"\",源数据!A1316)","v":"西装 白色"},{"$f":"IF(源数据!B1316=\"\",\"\",源数据!B1316)","v":3},{"$f":"IF(源数据!C1316=\"\",\"\",源数据!C1316)","v":1},{"$f":"IF(源数据!D1316=\"\",\"\",源数据!D1316)","v":0},0,0,0,0,0,0,0,0,0,0,0,0,"白色",0,0]
[{"$f":"IF(源数据!A1317=\"\",\"\",源数据!A1317)","v":"西装 长款"},{"$f":"IF(源数据!B1317=\"\",\"\",源数据!B1317)","v":2},{"$f":"IF(源数据!C1317=\"\",\"\",源数据!C1317)","v":0.5},{"$f":"IF(源数据!D1317=\"\",\"\",源数据!D1317)","v":0},0,0,0,0,0,0,0,0,0,0,0,0,0,0,0]
[{"$f":"IF(源数据!A1318=\"\",\"\",源数据!A1318)","v":"西装 春秋 修身 女"},{"$f":"IF(源数据!B1318=\"\",\"\",源数据!B1318)","v":1},{"$f":"IF(源数据!C1318=\"\",\"\",源数据!C1318)","v":1},{"$f":"IF(源数据!D1318=\"\",\"\",源数据!D1318)","v":0},0,0,"女",0,0,0,0,0,0,"修身",0,"春秋",0,0,0]
[{"$f":"IF(源数据!A1319=\"\",\"\",源数据!A1319)","v":"西装 韩版 修身 女"},{"$f":"IF(源数据!B1319=\"\",\"\",源数据!B1319)","v":1},{"$f":"IF(源数据!C1319=\"\",\"\",源数据!C1319)","v":1},{"$f":"IF(源数据!D1319=\"\",\"\",源数据!D1319)","v":0},0,0,"女",0,0,0,0,0,0,"修身",0,0,0,0,0]
[{"$f":"IF(源数据!A1320=\"\",\"\",源数据!A1320)","v":"西装 黑"},{"$f":"IF(源数据!B1320=\"\",\"\",源数据!B1320)","v":1},{"$f":"IF(源数据!C1320=\"\",\"\",源数据!C1320)","v":1},{"$f":"IF(源数据!D1320=\"\",\"\",源数据!D1320)","v":0},0,0,0,0,0,0,0,0,0,0,0,0,0,0,0]
[{"$f":"IF(源数据!A1321=\"\",\"\",源数据!A1321)","v":"西装 红"},{"$f":"IF(源数据!B1321=\"\",\"\",源数据!B1321)","v":1},{"$f":"IF(源数据!C1321=\"\",\"\",源数据!C1321)","v":1},{"$f":"IF(源数据!D1321=\"\",\"\",源数据!D1321)","v":0},0,0,0,0,0,0,0,0,0,0,0,0,0,0,0]
[{"$f":"IF(源数据!A1322=\"\",\"\",源数据!A1322)","v":"西装 女"},{"$f":"IF(源数据!B1322=\"\",\"\",源数据!B1322)","v":41},{"$f":"IF(源数据!C1322=\"\",\"\",源数据!C1322)","v":0.78049999999999997},{"$f":"IF(源数据!D1322=\"\",\"\",源数据!D1322)","v":0},0,0,"女",0,0,0,0,0,0,0,0,0,0,0,0]
[{"$f":"IF(源数据!A1323=\"\",\"\",源数据!A1323)","v":"西装 女 包邮"},{"$f":"IF(源数据!B1323=\"\",\"\",源数据!B1323)","v":1},{"$f":"IF(源数据!C1323=\"\",\"\",源数据!C1323)","v":1},{"$f":"IF(源数据!D1323=\"\",\"\",源数据!D1323)","v":0},0,0,"女",0,0,0,0,0,0,0,0,0,0,0,0]
[{"$f":"IF(源数据!A1324=\"\",\"\",源数据!A1324)","v":"西装 女 春"},{"$f":"IF(源数据!B1324=\"\",\"\",源数据!B1324)","v":1},{"$f":"IF(源数据!C1324=\"\",\"\",源数据!C1324)","v":0},{"$f":"IF(源数据!D1324=\"\",\"\",源数据!D1324)","v":0},0,0,"女",0,0,0,0,0,0,0,0,0,0,0,0]
[{"$f":"IF(源数据!A1325=\"\",\"\",源数据!A1325)","v":"西装 女 春秋"},{"$f":"IF(源数据!B1325=\"\",\"\",源数据!B1325)","v":2},{"$f":"IF(源数据!C1325=\"\",\"\",源数据!C1325)","v":0.5},{"$f":"IF(源数据!D1325=\"\",\"\",源数据!D1325)","v":0},0,0,"女",0,0,0,0,0,0,0,0,"春秋",0,0,0]
[{"$f":"IF(源数据!A1326=\"\",\"\",源数据!A1326)","v":"西装 女 春秋 白"},{"$f":"IF(源数据!B1326=\"\",\"\",源数据!B1326)","v":1},{"$f":"IF(源数据!C1326=\"\",\"\",源数据!C1326)","v":1},{"$f":"IF(源数据!D1326=\"\",\"\",源数据!D1326)","v":0},0,0,"女",0,0,0,0,0,0,0,0,"春秋",0,0,0]
[{"$f":"IF(源数据!A1327=\"\",\"\",源数据!A1327)","v":"西装 女 韩版"},{"$f":"IF(源数据!B1327=\"\",\"\",源数据!B1327)","v":1},{"$f":"IF(源数据!C1327=\"\",\"\",源数据!C1327)","v":0},{"$f":"IF(源数据!D1327=\"\",\"\",源数据!D1327)","v":0},0,0,"女",0,0,0,0,0,0,0,0,0,0,0,0]
[{"$f":"IF(源数据!A1328=\"\",\"\",源数据!A1328)","v":"西装 女 外套"},{"$f":"IF(源数据!B1328=\"\",\"\",源数据!B1328)","v":74},{"$f":"IF(源数据!C1328=\"\",\"\",源数据!C1328)","v":0.79730000000000001},{"$f":"IF(源数据!D1328=\"\",\"\",源数据!D1328)","v":1},0,0,"女",0,"外套",0,0,0,0,0,0,0,0,0,0]
[{"$f":"IF(源数据!A1329=\"\",\"\",源数据!A1329)","v":"西装 女 外套 春秋"},{"$f":"IF(源数据!B1329=\"\",\"\",源数据!B1329)","v":3},{"$f":"IF(源数据!C1329=\"\",\"\",源数据!C1329)","v":0.66669999999999996},{"$f":"IF(源数据!D1329=\"\",\"\",源数据!D1329)","v":0},0,0,"女",0,"外套",0,0,0,0,0,0,"春秋",0,0,0]
[{"$f":"IF(源数据!A1330=\"\",\"\",源数据!A1330)","v":"西装 女 修身"},{"$f":"IF(源数据!B1330=\"\",\"\",源数据!B1330)","v":11},{"$f":"IF(源数据!C1330=\"\",\"\",源数据!C1330)","v":0.81820000000000004},{"$f":"IF(源数据!D1330=\"\",\"\",源数据!D1330)","v":0},0,0,"女",0,0,0,0,0,0,"修身",0,0,0,0,0]
[{"$f":"IF(源数据!A1331=\"\",\"\",源数据!A1331)","v":"西装 女 修身 白色"},{"$f":"IF(源数据!B1331=\"\",\"\",源数据!B1331)","v":1},{"$f":"IF(源数据!C1331=\"\",\"\",源数据!C1331)","v":1},{"$f":"IF(源数据!D1331=\"\",\"\",源数据!D1331)","v":0},0,0,"女",0,0,0,0,0,0,"修身",0,0,"白色",0,0]
[{"$f":"IF(源数据!A1332=\"\",\"\",源数据!A1332)","v":"西装 女 修身 包邮"},{"$f":"IF(源数据!B1332=\"\",\"\",源数据!B1332)","v":1},{"$f":"IF(源数据!C1332=\"\",\"\",源数据!C1332)","v":1},{"$f":"IF(源数据!D1332=\"\",\"\",源数据!D1332)","v":0},0,0,"女",0,0,0,0,0,0,"修身",0,0,0,0,0]
[{"$f":"IF(源数据!A1333=\"\",\"\",源数据!A1333)","v":"西装 女 修身 春秋"},{"$f":"IF(源数据!B1333=\"\",\"\",源数据!B1333)","v":1},{"$f":"IF(源数据!C1333=\"\",\"\",源数据!C1333)","v":1},{"$f":"IF(源数据!D1333=\"\",\"\",源数据!D1333)","v":0},0,0,"女",0,0,0,0,0,0,"修身",0,"春秋",0,0,0]
[{"$f":"IF(源数据!A1334=\"\",\"\",源数据!A1334)","v":"西装 女 修身 韩版"},{"$f":"IF(源数据!B1334=\"\",\"\",源数据!B1334)","v":2},{"$f":"IF(源数据!C1334=\"\",\"\",源数据!C1334)","v":1},{"$f":"IF(源数据!D1334=\"\",\"\",源数据!D1334)","v":0},0,0,"女",0,0,0,0,0,0,"修身",0,0,0,0,0]
[{"$f":"IF(源数据!A1335=\"\",\"\",源数据!A1335)","v":"西装 女 修身 中长款 秋"},{"$f":"IF(源数据!B1335=\"\",\"\",源数据!B1335)","v":1},{"$f":"IF(源数据!C1335=\"\",\"\",源数据!C1335)","v":1},{"$f":"IF(源数据!D1335=\"\",\"\",源数据!D1335)","v":0},0,0,"女",0,0,0,0,0,0,"修身",0,0,0,0,0]
[{"$f":"IF(源数据!A1336=\"\",\"\",源数据!A1336)","v":"西装 女 中长"},{"$f":"IF(源数据!B1336=\"\",\"\",源数据!B1336)","v":2},{"$f":"IF(源数据!C1336=\"\",\"\",源数据!C1336)","v":1},{"$f":"IF(源数据!D1336=\"\",\"\",源数据!D1336)","v":0},0,0,"女",0,0,0,0,0,0,0,0,0,0,0,0]
[{"$f":"IF(源数据!A1337=\"\",\"\",源数据!A1337)","v":"西装 女 中长款"},{"$f":"IF(源数据!B1337=\"\",\"\",源数据!B1337)","v":24},{"$f":"IF(源数据!C1337=\"\",\"\",源数据!C1337)","v":0.83330000000000004},{"$f":"IF(源数据!D1337=\"\",\"\",源数据!D1337)","v":0},0,0,"女",0,0,0,0,0,0,0,0,0,0,0,0]
[{"$f":"IF(源数据!A1338=\"\",\"\",源数据!A1338)","v":"西装 女 中长款 春"},{"$f":"IF(源数据!B1338=\"\",\"\",源数据!B1338)","v":4},{"$f":"IF(源数据!C1338=\"\",\"\",源数据!C1338)","v":0.75},{"$f":"IF(源数据!D1338=\"\",\"\",源数据!D1338)","v":0},0,0,"女",0,0,0,0,0,0,0,0,0,0,0,0]
[{"$f":"IF(源数据!A1339=\"\",\"\",源数据!A1339)","v":"西装 女 中长款 春秋"},{"$f":"IF(源数据!B1339=\"\",\"\",源数据!B1339)","v":3},{"$f":"IF(源数据!C1339=\"\",\"\",源数据!C1339)","v":0.33329999999999999},{"$f":"IF(源数据!D1339=\"\",\"\",源数据!D1339)","v":0},0,0,"女",0,0,0,0,0,0,0,0,"春秋",0,0,0]
[{"$f":"IF(源数据!A1340=\"\",\"\",源数据!A1340)","v":"西装 女 中长款 春秋 包邮"},{"$f":"IF(源数据!B1340=\"\",\"\",源数据!B1340)","v":1},{"$f":"IF(源数据!C1340=\"\",\"\",源数据!C1340)","v":0},{"$f":"IF(源数据!D1340=\"\",\"\",源数据!D1340)","v":0},0,0,"女",0,0,0,0,0,0,0,0,"春秋",0,0,0]
[{"$f":"IF(源数据!A1341=\"\",\"\",源数据!A1341)","v":"西装 女 中长款 韩版"},{"$f":"IF(源数据!B1341=\"\",\"\",源数据!B1341)","v":2},{"$f":"IF(源数据!C1341=\"\",\"\",源数据!C1341)","v":0},{"$f":"IF(源数据!D1341=\"\",\"\",源数据!D1341)","v":0},0,0,"女",0,0,0,0,0,0,0,0,0,0,0,0]
[{"$f":"IF(源数据!A1342=\"\",\"\",源数据!A1342)","v":"西装 女 中长款包邮"},{"$f":"IF(源数据!B1342=\"\",\"\",源数据!B1342)","v":1},{"$f":"IF(源数据!C1342=\"\",\"\",源数据!C1342)","v":0},{"$f":"IF(源数据!D1342=\"\",\"\",源数据!D1342)","v":0},0,0,"女",0,0,0,0,0,0,0,0,0,0,0,0]
[{"$f":"IF(源数据!A1343=\"\",\"\",源数据!A1343)","v":"西装 女 中长款春秋"},{"$f":"IF(源数据!B1343=\"\",\"\",源数据!B1343)","v":1},{"$f":"IF(源数据!C1343=\"\",\"\",源数据!C1343)","v":1},{"$f":"IF(源数据!D1343=\"\",\"\",源数据!D1343)","v":0},0,0,"女",0,0,0,0,0,0,0,0,"春秋",0,0,0]
[{"$f":"IF(源数据!A1344=\"\",\"\",源数据!A1344)","v":"西装 女款 2013"},{"$f":"IF(源数据!B1344=\"\",\"\",源数据!B1344)","v":1},{"$f":"IF(源数据!C1344=\"\",\"\",源数据!C1344)","v":1},{"$f":"IF(源数据!D1344=\"\",\"\",源数据!D1344)","v":0},0,0,"女",0,0,0,2013,0,0,0,0,0,0,0,0]
[{"$f":"IF(源数据!A1345=\"\",\"\",源数据!A1345)","v":"西装 女修身黑色"},{"$f":"IF(源数据!B1345=\"\",\"\",源数据!B1345)","v":1},{"$f":"IF(源数据!C1345=\"\",\"\",源数据!C1345)","v":1},{"$f":"IF(源数据!D1345=\"\",\"\",源数据!D1345)","v":0},0,0,"女",0,0,0,0,0,0,"修身",0,0,0,0,0]
[{"$f":"IF(源数据!A1346=\"\",\"\",源数据!A1346)","v":"西装 拼接 女"},{"$f":"IF(源数据!B1346=\"\",\"\",源数据!B1346)","v":2},{"$f":"IF(源数据!C1346=\"\",\"\",源数据!C1346)","v":1},{"$f":"IF(源数据!D1346=\"\",\"\",源数据!D1346)","v":0},0,0,"女",0,0,0,0,0,0,0,0,0,0,0,0]
[{"$f":"IF(源数据!A1347=\"\",\"\",源数据!A1347)","v":"西装 拼接雪纺"},{"$f":"IF(源数据!B1347=\"\",\"\",源数据!B1347)","v":1},{"$f":"IF(源数据!C1347=\"\",\"\",源数据!C1347)","v":0},{"$f":"IF(源数据!D1347=\"\",\"\",源数据!D1347)","v":0},{"$f":"IF($A1346=\"\",\"\",IF(E$1=\"\",\"\",IF(IFERROR(SEARCH(E$1,$A1347),0) >0,E$1,0)))","v":0},{"$f":"IF($A1346=\"\",\"\",IF(F$1=\"\",\"\",IF(IFERROR(SEARCH(F$1,$A1347),0) >0,F$1,0)))","v":0},{"$f":"IF($A1346=\"\",\"\",IF(G$1=\"\",\"\",IF(IFERROR(SEARCH(G$1,$A1347),0) >0,G$1,0)))","v":0},{"$f":"IF($A1346=\"\",\"\",IF(H$1=\"\",\"\",IF(IFERROR(SEARCH(H$1,$A1347),0) >0,H$1,0)))","v":0},{"$f":"IF($A1346=\"\",\"\",IF(I$1=\"\",\"\",IF(IFERROR(SEARCH(I$1,$A1347),0) >0,I$1,0)))","v":0},{"$f":"IF($A1346=\"\",\"\",IF(J$1=\"\",\"\",IF(IFERROR(SEARCH(J$1,$A1347),0) >0,J$1,0)))","v":0},{"$f":"IF($A1346=\"\",\"\",IF(K$1=\"\",\"\",IF(IFERROR(SEARCH(K$1,$A1347),0) >0,K$1,0)))","v":0},{"$f":"IF($A1346=\"\",\"\",IF(L$1=\"\",\"\",IF(IFERROR(SEARCH(L$1,$A1347),0) >0,L$1,0)))","v":0},{"$f":"IF($A1346=\"\",\"\",IF(M$1=\"\",\"\",IF(IFERROR(SEARCH(M$1,$A1347),0) >0,M$1,0)))","v":0},{"$f":"IF($A1346=\"\",\"\",IF(N$1=\"\",\"\",IF(IFERROR(SEARCH(N$1,$A1347),0) >0,N$1,0)))","v":0},{"$f":"IF($A1346=\"\",\"\",IF(O$1=\"\",\"\",IF(IFERROR(SEARCH(O$1,$A1347),0) >0,O$1,0)))","v":0},{"$f":"IF($A1346=\"\",\"\",IF(P$1=\"\",\"\",IF(IFERROR(SEARCH(P$1,$A1347),0) >0,P$1,0)))","v":0},{"$f":"IF($A1346=\"\",\"\",IF(Q$1=\"\",\"\",IF(IFERROR(SEARCH(Q$1,$A1347),0) >0,Q$1,0)))","v":0},{"$f":"IF($A1346=\"\",\"\",IF(R$1=\"\",\"\",IF(IFERROR(SEARCH(R$1,$A1347),0) >0,R$1,0)))","v":0},{"$f":"IF($A1346=\"\",\"\",IF(S$1=\"\",\"\",IF(IFERROR(SEARCH(S$1,$A1347),0) >0,S$1,0)))","v":0}]
[{"$f":"IF(源数据!A1348=\"\",\"\",源数据!A1348)","v":"西装 外套 女"},{"$f":"IF(源数据!B1348=\"\",\"\",源数据!B1348)","v":7},{"$f":"IF(源数据!C1348=\"\",\"\",源数据!C1348)","v":0.85709999999999997},{"$f":"IF(源数据!D1348=\"\",\"\",源数据!D1348)","v":0},0,0,"女",0,"外套",0,0,0,0,0,0,0,0,0,0]
[{"$f":"IF(源数据!A1349=\"\",\"\",源数据!A1349)","v":"西装 修身"},{"$f":"IF(源数据!B1349=\"\",\"\",源数据!B1349)","v":2},{"$f":"IF(源数据!C1349=\"\",\"\",源数据!C1349)","v":1},{"$f":"IF(源数据!D1349=\"\",\"\",源数据!D1349)","v":0},0,0,0,0,0,0,0,0,0,"修身",0,0,0,0,0]
[{"$f":"IF(源数据!A1350=\"\",\"\",源数据!A1350)","v":"西装 修身 女"},{"$f":"IF(源数据!B1350=\"\",\"\",源数据!B1350)","v":1},{"$f":"IF(源数据!C1350=\"\",\"\",源数据!C1350)","v":0},{"$f":"IF(源数据!D1350=\"\",\"\",源数据!D1350)","v":0},0,0,"女",0,0,0,0,0,0,"修身",0,0,0,0,0]
[{"$f":"IF(源数据!A1351=\"\",\"\",源数据!A1351)","v":"西装 修身 女 韩版"},{"$f":"IF(源数据!B1351=\"\",\"\",源数据!B1351)","v":1},{"$f":"IF(源数据!C1351=\"\",\"\",源数据!C1351)","v":1},{"$f":"IF(源数据!D1351=\"\",\"\",源数据!D1351)","v":0},0,0,"女",0,0,0,0,0,0,"修身",0,0,0,0,0]
[{"$f":"IF(源数据!A1352=\"\",\"\",源数据!A1352)","v":"西装 雪纺"},{"$f":"IF(源数据!B1352=\"\",\"\",源数据!B1352)","v":2},{"$f":"IF(源数据!C1352=\"\",\"\",源数据!C1352)","v":0},{"$f":"IF(源数据!D1352=\"\",\"\",源数据!D1352)","v":1},0,0,0,0,0,0,0,0,0,0,0,0,0,0,0]
[{"$f":"IF(源数据!A1353=\"\",\"\",源数据!A1353)","v":"西装白色外套 女"},{"$f":"IF(源数据!B1353=\"\",\"\",源数据!B1353)","v":1},{"$f":"IF(源数据!C1353=\"\",\"\",源数据!C1353)","v":0},{"$f":"IF(源数据!D1353=\"\",\"\",源数据!D1353)","v":0},0,0,"女",0,"外套",0,0,0,0,0,0,0,"白色",0,0]
[{"$f":"IF(源数据!A1354=\"\",\"\",源数据!A1354)","v":"西装潮女包邮"},{"$f":"IF(源数据!B1354=\"\",\"\",源数据!B1354)","v":1},{"$f":"IF(源数据!C1354=\"\",\"\",源数据!C1354)","v":1},{"$f":"IF(源数据!D1354=\"\",\"\",源数据!D1354)","v":0},"潮",0,"女",0,0,0,0,0,0,0,0,0,0,0,0]
[{"$f":"IF(源数据!A1355=\"\",\"\",源数据!A1355)","v":"西装春秋"},{"$f":"IF(源数据!B1355=\"\",\"\",源数据!B1355)","v":1},{"$f":"IF(源数据!C1355=\"\",\"\",源数据!C1355)","v":0},{"$f":"IF(源数据!D1355=\"\",\"\",源数据!D1355)","v":0},0,0,0,0,0,0,0,0,0,0,0,"春秋",0,0,0]
[{"$f":"IF(源数据!A1356=\"\",\"\",源数据!A1356)","v":"西装韩版"},{"$f":"IF(源数据!B1356=\"\",\"\",源数据!B1356)","v":1},{"$f":"IF(源数据!C1356=\"\",\"\",源数据!C1356)","v":1},{"$f":"IF(源数据!D1356=\"\",\"\",源数据!D1356)","v":0},0,0,0,0,0,0,0,0,0,0,0,0,0,0,0]
[{"$f":"IF(源数据!A1357=\"\",\"\",源数据!A1357)","v":"西装女"},{"$f":"IF(源数据!B1357=\"\",\"\",源数据!B1357)","v":14},{"$f":"IF(源数据!C1357=\"\",\"\",源数据!C1357)","v":0.35709999999999997},{"$f":"IF(源数据!D1357=\"\",\"\",源数据!D1357)","v":0},0,0,"女",0,0,0,0,0,0,0,0,0,0,0,0]
[{"$f":"IF(源数据!A1358=\"\",\"\",源数据!A1358)","v":"西装女 韩版"},{"$f":"IF(源数据!B1358=\"\",\"\",源数据!B1358)","v":1},{"$f":"IF(源数据!C1358=\"\",\"\",源数据!C1358)","v":1},{"$f":"IF(源数据!D1358=\"\",\"\",源数据!D1358)","v":0},0,0,"女",0,0,0,0,0,0,0,0,0,0,0,0]
[{"$f":"IF(源数据!A1359=\"\",\"\",源数据!A1359)","v":"西装女 韩版 修身白"},{"$f":"IF(源数据!B1359=\"\",\"\",源数据!B1359)","v":1},{"$f":"IF(源数据!C1359=\"\",\"\",源数据!C1359)","v":1},{"$f":"IF(源数据!D1359=\"\",\"\",源数据!D1359)","v":0},0,0,"女",0,0,0,0,0,0,"修身",0,0,0,0,0]
[{"$f":"IF(源数据!A1360=\"\",\"\",源数据!A1360)","v":"西装女 修身长款"},{"$f":"IF(源数据!B1360=\"\",\"\",源数据!B1360)","v":1},{"$f":"IF(源数据!C1360=\"\",\"\",源数据!C1360)","v":1},{"$f":"IF(源数据!D1360=\"\",\"\",源数据!D1360)","v":0},0,0,"女",0,0,0,0,0,0,"修身",0,0,0,0,0]
[{"$f":"IF(源数据!A1361=\"\",\"\",源数据!A1361)","v":"西装女2013新款"},{"$f":"IF(源数据!B1361=\"\",\"\",源数据!B1361)","v":1},{"$f":"IF(源数据!C1361=\"\",\"\",源数据!C1361)","v":1},{"$f":"IF(源数据!D1361=\"\",\"\",源数据!D1361)","v":0},0,0,"女",0,0,0,2013,0,0,0,0,0,0,0,0]
[{"$f":"IF(源数据!A1362=\"\",\"\",源数据!A1362)","v":"西装女款"},{"$f":"IF(源数据!B1362=\"\",\"\",源数据!B1362)","v":1},{"$f":"IF(源数据!C1362=\"\",\"\",源数据!C1362)","v":1},{"$f":"IF(源数据!D1362=\"\",\"\",源数据!D1362)","v":0},0,0,"女",0,0,0,0,0,0,0,0,0,0,0,0]
[{"$f":"IF(源数据!A1363=\"\",\"\",源数据!A1363)","v":"西装女款2013新款"},{"$f":"IF(源数据!B1363=\"\",\"\",源数据!B1363)","v":1},{"$f":"IF(源数据!C1363=\"\",\"\",源数据!C1363)","v":1},{"$f":"IF(源数据!D1363=\"\",\"\",源数据!D1363)","v":0},0,0,"女",0,0,0,2013,0,0,0,0,0,0,0,0]
[{"$f":"IF(源数据!A1364=\"\",\"\",源数据!A1364)","v":"西装女士修身"},{"$f":"IF(源数据!B1364=\"\",\"\",源数据!B1364)","v":1},{"$f":"IF(源数据!C1364=\"\",\"\",源数据!C1364)","v":1},{"$f":"IF(源数据!D1364=\"\",\"\",源数据!D1364)","v":0},0,0,"女",0,0,0,0,0,0,"修身",0,0,0,0,0]
[{"$f":"IF(源数据!A1365=\"\",\"\",源数据!A1365)","v":"西装女外套"},{"$f":"IF(源数据!B1365=\"\",\"\",源数据!B1365)","v":1},{"$f":"IF(源数据!C1365=\"\",\"\",源数据!C1365)","v":1},{"$f":"IF(源数据!D1365=\"\",\"\",源数据!D1365)","v":0},0,0,"女",0,"外套",0,0,0,0,0,0,0,0,0,0]
[{"$f":"IF(源数据!A1366=\"\",\"\",源数据!A1366)","v":"西装女休闲"},{"$f":"IF(源数据!B1366=\"\",\"\",源数据!B1366)","v":1},{"$f":"IF(源数据!C1366=\"\",\"\",源数据!C1366)","v":0},{"$f":"IF(源数据!D1366=\"\",\"\",源数据!D1366)","v":0},0,0,"女",0,0,0,0,0,"休闲",0,0,0,0,0,0]
[{"$f":"IF(源数据!A1367=\"\",\"\",源数据!A1367)","v":"西装女修身包邮"},{"$f":"IF(源数据!B1367=\"\",\"\",源数据!B1367)","v":1},{"$f":"IF(源数据!C1367=\"\",\"\",源数据!C1367)","v":0},{"$f":"IF(源数据!D1367=\"\",\"\",源数据!D1367)","v":0},0,0,"女",0,0,0,0,0,0,"修身",0,0,0,0,0]
[{"$f":"IF(源数据!A1368=\"\",\"\",源数据!A1368)","v":"西装女中长款"},{"$f":"IF(源数据!B1368=\"\",\"\",源数据!B1368)","v":3},{"$f":"IF(源数据!C1368=\"\",\"\",源数据!C1368)","v":1},{"$f":"IF(源数据!D1368=\"\",\"\",源数据!D1368)","v":0},0,0,"女",0,0,0,0,0,0,0,0,0,0,0,0]
[{"$f":"IF(源数据!A1369=\"\",\"\",源数据!A1369)","v":"西装女中长款修身"},{"$f":"IF(源数据!B1369=\"\",\"\",源数据!B1369)","v":1},{"$f":"IF(源数据!C1369=\"\",\"\",源数据!C1369)","v":0},{"$f":"IF(源数据!D1369=\"\",\"\",源数据!D1369)","v":0},0,0,"女",0,0,0,0,0,0,"修身",0,0,0,0,0]
[{"$f":"IF(源数据!A1370=\"\",\"\",源数据!A1370)","v":"西装女装韩版"},{"$f":"IF(源数据!B1370=\"\",\"\",源数据!B1370)","v":2},{"$f":"IF(源数据!C1370=\"\",\"\",源数据!C1370)","v":0.5},{"$f":"IF(源数据!D1370=\"\",\"\",源数据!D1370)","v":0},0,0,"女","女装",0,0,0,0,0,0,0,0,0,0,0]
[{"$f":"IF(源数据!A1371=\"\",\"\",源数据!A1371)","v":"西装拼接 女"},{"$f":"IF(源数据!B1371=\"\",\"\",源数据!B1371)","v":1},{"$f":"IF(源数据!C1371=\"\",\"\",源数据!C1371)","v":1},{"$f":"IF(源数据!D1371=\"\",\"\",源数据!D1371)","v":0},0,0,"女",0,0,0,0,0,0,0,0,0,0,0,0]
[{"$f":"IF(源数据!A1372=\"\",\"\",源数据!A1372)","v":"西装外套"},{"$f":"IF(源数据!B1372=\"\",\"\",源数据!B1372)","v":11},{"$f":"IF(源数据!C1372=\"\",\"\",源数据!C1372)","v":0.90910000000000002},{"$f":"IF(源数据!D1372=\"\",\"\",源数据!D1372)","v":0},0,0,0,0,"外套",0,0,0,0,0,0,0,0,0,0]
[{"$f":"IF(源数据!A1373=\"\",\"\",源数据!A1373)","v":"西装外套 春"},{"$f":"IF(源数据!B1373=\"\",\"\",源数据!B1373)","v":1},{"$f":"IF(源数据!C1373=\"\",\"\",源数据!C1373)","v":1},{"$f":"IF(源数据!D1373=\"\",\"\",源数据!D1373)","v":0},0,0,0,0,"外套",0,0,0,0,0,0,0,0,0,0]
[{"$f":"IF(源数据!A1374=\"\",\"\",源数据!A1374)","v":"西装外套 春 女装"},{"$f":"IF(源数据!B1374=\"\",\"\",源数据!B1374)","v":1},{"$f":"IF(源数据!C1374=\"\",\"\",源数据!C1374)","v":1},{"$f":"IF(源数据!D1374=\"\",\"\",源数据!D1374)","v":0},0,0,"女","女装","外套",0,0,0,0,0,0,0,0,0,0]
[{"$f":"IF(源数据!A1375=\"\",\"\",源数据!A1375)","v":"西装外套 女"},{"$f":"IF(源数据!B1375=\"\",\"\",源数据!B1375)","v":56},{"$f":"IF(源数据!C1375=\"\",\"\",源数据!C1375)","v":0.80359999999999998},{"$f":"IF(源数据!D1375=\"\",\"\",源数据!D1375)","v":0},0,0,"女",0,"外套",0,0,0,0,0,0,0,0,0,0]
[{"$f":"IF(源数据!A1376=\"\",\"\",源数据!A1376)","v":"西装外套 女 包邮"},{"$f":"IF(源数据!B1376=\"\",\"\",源数据!B1376)","v":1},{"$f":"IF(源数据!C1376=\"\",\"\",源数据!C1376)","v":0},{"$f":"IF(源数据!D1376=\"\",\"\",源数据!D1376)","v":1},0,0,"女",0,"外套",0,0,0,0,0,0,0,0,0,0]
[{"$f":"IF(源数据!A1377=\"\",\"\",源数据!A1377)","v":"西装外套 女 潮"},{"$f":"IF(源数据!B1377=\"\",\"\",源数据!B1377)","v":1},{"$f":"IF(源数据!C1377=\"\",\"\",源数据!C1377)","v":1},{"$f":"IF(源数据!D1377=\"\",\"\",源数据!D1377)","v":0},"潮",0,"女",0,"外套",0,0,0,0,0,0,0,0,0,0]
[{"$f":"IF(源数据!A1378=\"\",\"\",源数据!A1378)","v":"西装外套 女 春秋"},{"$f":"IF(源数据!B1378=\"\",\"\",源数据!B1378)","v":5},{"$f":"IF(源数据!C1378=\"\",\"\",源数据!C1378)","v":0.8},{"$f":"IF(源数据!D1378=\"\",\"\",源数据!D1378)","v":0},0,0,"女",0,"外套",0,0,0,0,0,0,"春秋",0,0,0]
[{"$f":"IF(源数据!A1379=\"\",\"\",源数据!A1379)","v":"西装外套 女 春秋 包邮"},{"$f":"IF(源数据!B1379=\"\",\"\",源数据!B1379)","v":1},{"$f":"IF(源数据!C1379=\"\",\"\",源数据!C1379)","v":1},{"$f":"IF(源数据!D1379=\"\",\"\",源数据!D1379)","v":0},0,0,"女",0,"外套",0,0,0,0,0,0,"春秋",0,0,0]
[{"$f":"IF(源数据!A1380=\"\",\"\",源数据!A1380)","v":"西装外套 女 春秋 韩版"},{"$f":"IF(源数据!B1380=\"\",\"\",源数据!B1380)","v":2},{"$f":"IF(源数据!C1380=\"\",\"\",源数据!C1380)","v":1},{"$f":"IF(源数据!D1380=\"\",\"\",源数据!D1380)","v":0},0,0,"女",0,"外套",0,0,0,0,0,0,"春秋",0,0,0]
[{"$f":"IF(源数据!A1381=\"\",\"\",源数据!A1381)","v":"西装外套 女 春秋 韩版包邮"},{"$f":"IF(源数据!B1381=\"\",\"\",源数据!B1381)","v":1},{"$f":"IF(源数据!C1381=\"\",\"\",源数据!C1381)","v":1},{"$f":"IF(源数据!D1381=\"\",\"\",源数据!D1381)","v":0},0,0,"女",0,"外套",0,0,0,0,0,0,"春秋",0,0,0]
[{"$f":"IF(源数据!A1382=\"\",\"\",源数据!A1382)","v":"西装外套 女 春秋 中长款"},{"$f":"IF(源数据!B1382=\"\",\"\",源数据!B1382)","v":1},{"$f":"IF(源数据!C1382=\"\",\"\",源数据!C1382)","v":1},{"$f":"IF(源数据!D1382=\"\",\"\",源数据!D1382)","v":0},0,0,"女",0,"外套",0,0,0,0,0,0,"春秋",0,0,0]
[{"$f":"IF(源数据!A1383=\"\",\"\",源数据!A1383)","v":"西装外套 女 春装"},{"$f":"IF(源数据!B1383=\"\",\"\",源数据!B1383)","v":1},{"$f":"IF(源数据!C1383=\"\",\"\",源数据!C1383)","v":1},{"$f":"IF(源数据!D1383=\"\",\"\",源数据!D1383)","v":0},0,"春装","女",0,"外套",0,0,0,0,0,0,0,0,0,0]
[{"$f":"IF(源数据!A1384=\"\",\"\",源数据!A1384)","v":"西装外套 女 韩版"},{"$f":"IF(源数据!B1384=\"\",\"\",源数据!B1384)","v":82},{"$f":"IF(源数据!C1384=\"\",\"\",源数据!C1384)","v":0.81710000000000005},{"$f":"IF(源数据!D1384=\"\",\"\",源数据!D1384)","v":1},0,0,"女",0,"外套",0,0,0,0,0,0,0,0,0,0]
[{"$f":"IF(源数据!A1385=\"\",\"\",源数据!A1385)","v":"西装外套 女 韩版白色"},{"$f":"IF(源数据!B1385=\"\",\"\",源数据!B1385)","v":1},{"$f":"IF(源数据!C1385=\"\",\"\",源数据!C1385)","v":1},{"$f":"IF(源数据!D1385=\"\",\"\",源数据!D1385)","v":0},0,0,"女",0,"外套",0,0,0,0,0,0,0,"白色",0,0]
[{"$f":"IF(源数据!A1386=\"\",\"\",源数据!A1386)","v":"西装外套 女 休闲"},{"$f":"IF(源数据!B1386=\"\",\"\",源数据!B1386)","v":1},{"$f":"IF(源数据!C1386=\"\",\"\",源数据!C1386)","v":1},{"$f":"IF(源数据!D1386=\"\",\"\",源数据!D1386)","v":0},0,0,"女",0,"外套",0,0,0,"休闲",0,0,0,0,0,0]
[{"$f":"IF(源数据!A1387=\"\",\"\",源数据!A1387)","v":"西装外套 女 修身"},{"$f":"IF(源数据!B1387=\"\",\"\",源数据!B1387)","v":8},{"$f":"IF(源数据!C1387=\"\",\"\",源数据!C1387)","v":1},{"$f":"IF(源数据!D1387=\"\",\"\",源数据!D1387)","v":0},0,0,"女",0,"外套",0,0,0,0,"修身",0,0,0,0,0]
[{"$f":"IF(源数据!A1388=\"\",\"\",源数据!A1388)","v":"西装外套 女 中长款"},{"$f":"IF(源数据!B1388=\"\",\"\",源数据!B1388)","v":4},{"$f":"IF(源数据!C1388=\"\",\"\",源数据!C1388)","v":0.75},{"$f":"IF(源数据!D1388=\"\",\"\",源数据!D1388)","v":1},0,0,"女",0,"外套",0,0,0,0,0,0,0,0,0,0]
[{"$f":"IF(源数据!A1389=\"\",\"\",源数据!A1389)","v":"西装外套 女 中长款包邮"},{"$f":"IF(源数据!B1389=\"\",\"\",源数据!B1389)","v":1},{"$f":"IF(源数据!C1389=\"\",\"\",源数据!C1389)","v":1},{"$f":"IF(源数据!D1389=\"\",\"\",源数据!D1389)","v":1},0,0,"女",0,"外套",0,0,0,0,0,0,0,0,0,0]
[{"$f":"IF(源数据!A1390=\"\",\"\",源数据!A1390)","v":"西装外套 女 中长款春"},{"$f":"IF(源数据!B1390=\"\",\"\",源数据!B1390)","v":1},{"$f":"IF(源数据!C1390=\"\",\"\",源数据!C1390)","v":1},{"$f":"IF(源数据!D1390=\"\",\"\",源数据!D1390)","v":0},0,0,"女",0,"外套",0,0,0,0,0,0,0,0,0,0]
[{"$f":"IF(源数据!A1391=\"\",\"\",源数据!A1391)","v":"西装外套 女装"},{"$f":"IF(源数据!B1391=\"\",\"\",源数据!B1391)","v":1},{"$f":"IF(源数据!C1391=\"\",\"\",源数据!C1391)","v":0},{"$f":"IF(源数据!D1391=\"\",\"\",源数据!D1391)","v":0},0,0,"女","女装","外套",0,0,0,0,0,0,0,0,0,0]
[{"$f":"IF(源数据!A1392=\"\",\"\",源数据!A1392)","v":"西装外套 中长款女 韩版"},{"$f":"IF(源数据!B1392=\"\",\"\",源数据!B1392)","v":1},{"$f":"IF(源数据!C1392=\"\",\"\",源数据!C1392)","v":1},{"$f":"IF(源数据!D1392=\"\",\"\",源数据!D1392)","v":0},0,0,"女",0,"外套",0,0,0,0,0,0,0,0,0,0]
[{"$f":"IF(源数据!A1393=\"\",\"\",源数据!A1393)","v":"西装外套春秋款女"},{"$f":"IF(源数据!B1393=\"\",\"\",源数据!B1393)","v":1},{"$f":"IF(源数据!C1393=\"\",\"\",源数据!C1393)","v":1},{"$f":"IF(源数据!D1393=\"\",\"\",源数据!D1393)","v":0},0,0,"女",0,"外套",0,0,0,0,0,0,"春秋",0,0,0]
[{"$f":"IF(源数据!A1394=\"\",\"\",源数据!A1394)","v":"西装外套春秋女"},{"$f":"IF(源数据!B1394=\"\",\"\",源数据!B1394)","v":1},{"$f":"IF(源数据!C1394=\"\",\"\",源数据!C1394)","v":1},{"$f":"IF(源数据!D1394=\"\",\"\",源数据!D1394)","v":0},0,0,"女",0,"外套",0,0,0,0,0,0,"春秋",0,0,0]
[{"$f":"IF(源数据!A1395=\"\",\"\",源数据!A1395)","v":"西装外套女"},{"$f":"IF(源数据!B1395=\"\",\"\",源数据!B1395)","v":15},{"$f":"IF(源数据!C1395=\"\",\"\",源数据!C1395)","v":0.93330000000000002},{"$f":"IF(源数据!D1395=\"\",\"\",源数据!D1395)","v":0},0,0,"女",0,"外套",0,0,0,0,0,0,0,0,0,0]
[{"$f":"IF(源数据!A1396=\"\",\"\",源数据!A1396)","v":"西装外套女 包邮"},{"$f":"IF(源数据!B1396=\"\",\"\",源数据!B1396)","v":1},{"$f":"IF(源数据!C1396=\"\",\"\",源数据!C1396)","v":1},{"$f":"IF(源数据!D1396=\"\",\"\",源数据!D1396)","v":0},0,0,"女",0,"外套",0,0,0,0,0,0,0,0,0,0]
[{"$f":"IF(源数据!A1397=\"\",\"\",源数据!A1397)","v":"西装外套女 春秋 韩版"},{"$f":"IF(源数据!B1397=\"\",\"\",源数据!B1397)","v":1},{"$f":"IF(源数据!C1397=\"\",\"\",源数据!C1397)","v":1},{"$f":"IF(源数据!D1397=\"\",\"\",源数据!D1397)","v":0},0,0,"女",0,"外套",0,0,0,0,0,0,"春秋",0,0,0]
[{"$f":"IF(源数据!A1398=\"\",\"\",源数据!A1398)","v":"西装外套女2013"},{"$f":"IF(源数据!B1398=\"\",\"\",源数据!B1398)","v":1},{"$f":"IF(源数据!C1398=\"\",\"\",源数据!C1398)","v":1},{"$f":"IF(源数据!D1398=\"\",\"\",源数据!D1398)","v":0},0,0,"女",0,"外套",0,2013,0,0,0,0,0,0,0,0]
[{"$f":"IF(源数据!A1399=\"\",\"\",源数据!A1399)","v":"西装外套女春秋"},{"$f":"IF(源数据!B1399=\"\",\"\",源数据!B1399)","v":1},{"$f":"IF(源数据!C1399=\"\",\"\",源数据!C1399)","v":1},{"$f":"IF(源数据!D1399=\"\",\"\",源数据!D1399)","v":0},0,0,"女",0,"外套",0,0,0,0,0,0,"春秋",0,0,0]
[{"$f":"IF(源数据!A1400=\"\",\"\",源数据!A1400)","v":"西装外套女中长款雪纺"},{"$f":"IF(源数据!B1400=\"\",\"\",源数据!B1400)","v":1},{"$f":"IF(源数据!C1400=\"\",\"\",源数据!C1400)","v":1},{"$f":"IF(源数据!D1400=\"\",\"\",源数据!D1400)","v":0},0,0,"女",0,"外套",0,0,0,0,0,0,0,0,0,0]
[{"$f":"IF(源数据!A1401=\"\",\"\",源数据!A1401)","v":"西装外套西服 女"},{"$f":"IF(源数据!B1401=\"\",\"\",源数据!B1401)","v":1},{"$f":"IF(源数据!C1401=\"\",\"\",源数据!C1401)","v":1},{"$f":"IF(源数据!D1401=\"\",\"\",源数据!D1401)","v":0},0,0,"女",0,"外套",0,0,"西服",0,0,0,0,0,0,0]
[{"$f":"IF(源数据!A1402=\"\",\"\",源数据!A1402)","v":"西装外套小西服韩版修身外套"},{"$f":"IF(源数据!B1402=\"\",\"\",源数据!B1402)","v":1},{"$f":"IF(源数据!C1402=\"\",\"\",源数据!C1402)","v":0},{"$f":"IF(源数据!D1402=\"\",\"\",源数据!D1402)","v":0},0,0,0,0,"外套",0,0,"西服",0,"修身",0,0,0,0,0]
[{"$f":"IF(源数据!A1403=\"\",\"\",源数据!A1403)","v":"西装外套修身韩版女"},{"$f":"IF(源数据!B1403=\"\",\"\",源数据!B1403)","v":1},{"$f":"IF(源数据!C1403=\"\",\"\",源数据!C1403)","v":1},{"$f":"IF(源数据!D1403=\"\",\"\",源数据!D1403)","v":0},0,0,"女",0,"外套",0,0,0,0,"修身",0,0,0,0,0]
[{"$f":"IF(源数据!A1404=\"\",\"\",源数据!A1404)","v":"西装西服"},{"$f":"IF(源数据!B1404=\"\",\"\",源数据!B1404)","v":1},{"$f":"IF(源数据!C1404=\"\",\"\",源数据!C1404)","v":1},{"$f":"IF(源数据!D1404=\"\",\"\",源数据!D1404)","v":0},0,0,0,0,0,0,0,"西服",0,0,0,0,0,0,0]
[{"$f":"IF(源数据!A1405=\"\",\"\",源数据!A1405)","v":"西装小外套 女"},{"$f":"IF(源数据!B1405=\"\",\"\",源数据!B1405)","v":1},{"$f":"IF(源数据!C1405=\"\",\"\",源数据!C1405)","v":1},{"$f":"IF(源数据!D1405=\"\",\"\",源数据!D1405)","v":0},0,0,"女",0,"外套",0,0,0,0,0,0,0,0,0,0]
[{"$f":"IF(源数据!A1406=\"\",\"\",源数据!A1406)","v":"西装小外套女"},{"$f":"IF(源数据!B1406=\"\",\"\",源数据!B1406)","v":1},{"$f":"IF(源数据!C1406=\"\",\"\",源数据!C1406)","v":1},{"$f":"IF(源数据!D1406=\"\",\"\",源数据!D1406)","v":0},0,0,"女",0,"外套",0,0,0,0,0,0,0,0,0,0]
[{"$f":"IF(源数据!A1407=\"\",\"\",源数据!A1407)","v":"西装休闲外套 女"},{"$f":"IF(源数据!B1407=\"\",\"\",源数据!B1407)","v":1},{"$f":"IF(源数据!C1407=\"\",\"\",源数据!C1407)","v":1},{"$f":"IF(源数据!D1407=\"\",\"\",源数据!D1407)","v":0},0,0,"女",0,"外套",0,0,0,"休闲",0,0,0,0,0,0]
[{"$f":"IF(源数据!A1408=\"\",\"\",源数据!A1408)","v":"西装修身"},{"$f":"IF(源数据!B1408=\"\",\"\",源数据!B1408)","v":1},{"$f":"IF(源数据!C1408=\"\",\"\",源数据!C1408)","v":1},{"$f":"IF(源数据!D1408=\"\",\"\",源数据!D1408)","v":0},0,0,0,0,0,0,0,0,0,"修身",0,0,0,0,0]
[{"$f":"IF(源数据!A1409=\"\",\"\",源数据!A1409)","v":"西装雪纺"},{"$f":"IF(源数据!B1409=\"\",\"\",源数据!B1409)","v":1},{"$f":"IF(源数据!C1409=\"\",\"\",源数据!C1409)","v":1},{"$f":"IF(源数据!D1409=\"\",\"\",源数据!D1409)","v":0},0,0,0,0,0,0,0,0,0,0,0,0,0,0,0]
[{"$f":"IF(源数据!A1410=\"\",\"\",源数据!A1410)","v":"西装雪纺修身中长款"},{"$f":"IF(源数据!B1410=\"\",\"\",源数据!B1410)","v":1},{"$f":"IF(源数据!C1410=\"\",\"\",源数据!C1410)","v":1},{"$f":"IF(源数据!D1410=\"\",\"\",源数据!D1410)","v":0},0,0,0,0,0,0,0,0,0,"修身",0,0,0,0,0]
[{"$f":"IF(源数据!A1411=\"\",\"\",源数据!A1411)","v":"西装中长款韩版女"},{"$f":"IF(源数据!B1411=\"\",\"\",源数据!B1411)","v":1},{"$f":"IF(源数据!C1411=\"\",\"\",源数据!C1411)","v":1},{"$f":"IF(源数据!D1411=\"\",\"\",源数据!D1411)","v":0},{"$f":"IF($A1410=\"\",\"\",IF(E$1=\"\",\"\",IF(IFERROR(SEARCH(E$1,$A1411),0) >0,E$1,0)))","v":0},{"$f":"IF($A1410=\"\",\"\",IF(F$1=\"\",\"\",IF(IFERROR(SEARCH(F$1,$A1411),0) >0,F$1,0)))","v":0},{"$f":"IF($A1410=\"\",\"\",IF(G$1=\"\",\"\",IF(IFERROR(SEARCH(G$1,$A1411),0) >0,G$1,0)))","v":"女"},{"$f":"IF($A1410=\"\",\"\",IF(H$1=\"\",\"\",IF(IFERROR(SEARCH(H$1,$A1411),0) >0,H$1,0)))","v":0},{"$f":"IF($A1410=\"\",\"\",IF(I$1=\"\",\"\",IF(IFERROR(SEARCH(I$1,$A1411),0) >0,I$1,0)))","v":0},{"$f":"IF($A1410=\"\",\"\",IF(J$1=\"\",\"\",IF(IFERROR(SEARCH(J$1,$A1411),0) >0,J$1,0)))","v":0},{"$f":"IF($A1410=\"\",\"\",IF(K$1=\"\",\"\",IF(IFERROR(SEARCH(K$1,$A1411),0) >0,K$1,0)))","v":0},{"$f":"IF($A1410=\"\",\"\",IF(L$1=\"\",\"\",IF(IFERROR(SEARCH(L$1,$A1411),0) >0,L$1,0)))","v":0},{"$f":"IF($A1410=\"\",\"\",IF(M$1=\"\",\"\",IF(IFERROR(SEARCH(M$1,$A1411),0) >0,M$1,0)))","v":0},{"$f":"IF($A1410=\"\",\"\",IF(N$1=\"\",\"\",IF(IFERROR(SEARCH(N$1,$A1411),0) >0,N$1,0)))","v":0},{"$f":"IF($A1410=\"\",\"\",IF(O$1=\"\",\"\",IF(IFERROR(SEARCH(O$1,$A1411),0) >0,O$1,0)))","v":0},{"$f":"IF($A1410=\"\",\"\",IF(P$1=\"\",\"\",IF(IFERROR(SEARCH(P$1,$A1411),0) >0,P$1,0)))","v":0},{"$f":"IF($A1410=\"\",\"\",IF(Q$1=\"\",\"\",IF(IFERROR(SEARCH(Q$1,$A1411),0) >0,Q$1,0)))","v":0},{"$f":"IF($A1410=\"\",\"\",IF(R$1=\"\",\"\",IF(IFERROR(SEARCH(R$1,$A1411),0) >0,R$1,0)))","v":0},{"$f":"IF($A1410=\"\",\"\",IF(S$1=\"\",\"\",IF(IFERROR(SEARCH(S$1,$A1411),0) >0,S$1,0)))","v":0}]
[{"$f":"IF(源数据!A1412=\"\",\"\",源数据!A1412)","v":"西裝 女 雪紡"},{"$f":"IF(源数据!B1412=\"\",\"\",源数据!B1412)","v":1},{"$f":"IF(源数据!C1412=\"\",\"\",源数据!C1412)","v":1},{"$f":"IF(源数据!D1412=\"\",\"\",源数据!D1412)","v":0},0,0,"女",0,0,0,0,0,0,0,0,0,0,0,0]
[{"$f":"IF(源数据!A1413=\"\",\"\",源数据!A1413)","v":"西裝外套"},{"$f":"IF(源数据!B1413=\"\",\"\",源数据!B1413)","v":1},{"$f":"IF(源数据!C1413=\"\",\"\",源数据!C1413)","v":1},{"$f":"IF(源数据!D1413=\"\",\"\",源数据!D1413)","v":0},0,0,0,0,"外套",0,0,0,0,0,0,0,0,0,0]
[{"$f":"IF(源数据!A1414=\"\",\"\",源数据!A1414)","v":"小 外套"},{"$f":"IF(源数据!B1414=\"\",\"\",源数据!B1414)","v":1},{"$f":"IF(源数据!C1414=\"\",\"\",源数据!C1414)","v":1},{"$f":"IF(源数据!D1414=\"\",\"\",源数据!D1414)","v":0},0,0,0,0,"外套",0,0,0,0,0,0,0,0,0,0]
[{"$f":"IF(源数据!A1415=\"\",\"\",源数据!A1415)","v":"小 西装 修身 韩版"},{"$f":"IF(源数据!B1415=\"\",\"\",源数据!B1415)","v":1},{"$f":"IF(源数据!C1415=\"\",\"\",源数据!C1415)","v":1},{"$f":"IF(源数据!D1415=\"\",\"\",源数据!D1415)","v":0},0,0,0,0,0,0,0,0,0,"修身",0,0,0,0,0]
[{"$f":"IF(源数据!A1416=\"\",\"\",源数据!A1416)","v":"小 西装 修身 韩版女"},{"$f":"IF(源数据!B1416=\"\",\"\",源数据!B1416)","v":1},{"$f":"IF(源数据!C1416=\"\",\"\",源数据!C1416)","v":1},{"$f":"IF(源数据!D1416=\"\",\"\",源数据!D1416)","v":0},0,0,"女",0,0,0,0,0,0,"修身",0,0,0,0,0]
[{"$f":"IF(源数据!A1417=\"\",\"\",源数据!A1417)","v":"小艾*包邮*2012韩国秋装一粒扣修身卷袖小西装外套 中长款女西服"},{"$f":"IF(源数据!B1417=\"\",\"\",源数据!B1417)","v":1},{"$f":"IF(源数据!C1417=\"\",\"\",源数据!C1417)","v":1},{"$f":"IF(源数据!D1417=\"\",\"\",源数据!D1417)","v":0},0,0,"女",0,"外套","小西装",0,"西服",0,"修身",0,0,0,0,0]
[{"$f":"IF(源数据!A1418=\"\",\"\",源数据!A1418)","v":"小太阳能 女装"},{"$f":"IF(源数据!B1418=\"\",\"\",源数据!B1418)","v":1},{"$f":"IF(源数据!C1418=\"\",\"\",源数据!C1418)","v":0},{"$f":"IF(源数据!D1418=\"\",\"\",源数据!D1418)","v":0},0,0,"女","女装",0,0,0,0,0,0,0,0,0,0,0]
[{"$f":"IF(源数据!A1419=\"\",\"\",源数据!A1419)","v":"小外套"},{"$f":"IF(源数据!B1419=\"\",\"\",源数据!B1419)","v":15},{"$f":"IF(源数据!C1419=\"\",\"\",源数据!C1419)","v":0.73329999999999995},{"$f":"IF(源数据!D1419=\"\",\"\",源数据!D1419)","v":0},0,0,0,0,"外套",0,0,0,0,0,0,0,0,0,0]
[{"$f":"IF(源数据!A1420=\"\",\"\",源数据!A1420)","v":"小外套 女"},{"$f":"IF(源数据!B1420=\"\",\"\",源数据!B1420)","v":2},{"$f":"IF(源数据!C1420=\"\",\"\",源数据!C1420)","v":1},{"$f":"IF(源数据!D1420=\"\",\"\",源数据!D1420)","v":0},0,0,"女",0,"外套",0,0,0,0,0,0,0,0,0,0]
[{"$f":"IF(源数据!A1421=\"\",\"\",源数据!A1421)","v":"小外套 女 春秋"},{"$f":"IF(源数据!B1421=\"\",\"\",源数据!B1421)","v":12},{"$f":"IF(源数据!C1421=\"\",\"\",源数据!C1421)","v":0.83330000000000004},{"$f":"IF(源数据!D1421=\"\",\"\",源数据!D1421)","v":0},0,0,"女",0,"外套",0,0,0,0,0,0,"春秋",0,0,0]
[{"$f":"IF(源数据!A1422=\"\",\"\",源数据!A1422)","v":"小外套女"},{"$f":"IF(源数据!B1422=\"\",\"\",源数据!B1422)","v":1},{"$f":"IF(源数据!C1422=\"\",\"\",源数据!C1422)","v":1},{"$f":"IF(源数据!D1422=\"\",\"\",源数据!D1422)","v":0},0,0,"女",0,"外套",0,0,0,0,0,0,0,0,0,0]
[{"$f":"IF(源数据!A1423=\"\",\"\",源数据!A1423)","v":"小西服"},{"$f":"IF(源数据!B1423=\"\",\"\",源数据!B1423)","v":21},{"$f":"IF(源数据!C1423=\"\",\"\",源数据!C1423)","v":0.76190000000000002},{"$f":"IF(源数据!D1423=\"\",\"\",源数据!D1423)","v":1},0,0,0,0,0,0,0,"西服",0,0,0,0,0,0,0]
[{"$f":"IF(源数据!A1424=\"\",\"\",源数据!A1424)","v":"小西服  女"},{"$f":"IF(源数据!B1424=\"\",\"\",源数据!B1424)","v":1},{"$f":"IF(源数据!C1424=\"\",\"\",源数据!C1424)","v":1},{"$f":"IF(源数据!D1424=\"\",\"\",源数据!D1424)","v":0},0,0,"女",0,0,0,0,"西服",0,0,0,0,0,0,0]
[{"$f":"IF(源数据!A1425=\"\",\"\",源数据!A1425)","v":"小西服 长款"},{"$f":"IF(源数据!B1425=\"\",\"\",源数据!B1425)","v":1},{"$f":"IF(源数据!C1425=\"\",\"\",源数据!C1425)","v":1},{"$f":"IF(源数据!D1425=\"\",\"\",源数据!D1425)","v":0},0,0,0,0,0,0,0,"西服",0,0,0,0,0,0,0]
[{"$f":"IF(源数据!A1426=\"\",\"\",源数据!A1426)","v":"小西服 韩版 潮 女"},{"$f":"IF(源数据!B1426=\"\",\"\",源数据!B1426)","v":1},{"$f":"IF(源数据!C1426=\"\",\"\",源数据!C1426)","v":1},{"$f":"IF(源数据!D1426=\"\",\"\",源数据!D1426)","v":0},"潮",0,"女",0,0,0,0,"西服",0,0,0,0,0,0,0]
[{"$f":"IF(源数据!A1427=\"\",\"\",源数据!A1427)","v":"小西服 韩版 女"},{"$f":"IF(源数据!B1427=\"\",\"\",源数据!B1427)","v":3},{"$f":"IF(源数据!C1427=\"\",\"\",源数据!C1427)","v":0.66669999999999996},{"$f":"IF(源数据!D1427=\"\",\"\",源数据!D1427)","v":0},0,0,"女",0,0,0,0,"西服",0,0,0,0,0,0,0]
[{"$f":"IF(源数据!A1428=\"\",\"\",源数据!A1428)","v":"小西服 黑"},{"$f":"IF(源数据!B1428=\"\",\"\",源数据!B1428)","v":1},{"$f":"IF(源数据!C1428=\"\",\"\",源数据!C1428)","v":1},{"$f":"IF(源数据!D1428=\"\",\"\",源数据!D1428)","v":0},0,0,0,0,0,0,0,"西服",0,0,0,0,0,0,0]
[{"$f":"IF(源数据!A1429=\"\",\"\",源数据!A1429)","v":"小西服 女"},{"$f":"IF(源数据!B1429=\"\",\"\",源数据!B1429)","v":28},{"$f":"IF(源数据!C1429=\"\",\"\",源数据!C1429)","v":0.85709999999999997},{"$f":"IF(源数据!D1429=\"\",\"\",源数据!D1429)","v":0},0,0,"女",0,0,0,0,"西服",0,0,0,0,0,0,0]
[{"$f":"IF(源数据!A1430=\"\",\"\",源数据!A1430)","v":"小西服 女 包邮"},{"$f":"IF(源数据!B1430=\"\",\"\",源数据!B1430)","v":7},{"$f":"IF(源数据!C1430=\"\",\"\",源数据!C1430)","v":0.85709999999999997},{"$f":"IF(源数据!D1430=\"\",\"\",源数据!D1430)","v":0},0,0,"女",0,0,0,0,"西服",0,0,0,0,0,0,0]
[{"$f":"IF(源数据!A1431=\"\",\"\",源数据!A1431)","v":"小西服 女 韩版"},{"$f":"IF(源数据!B1431=\"\",\"\",源数据!B1431)","v":1},{"$f":"IF(源数据!C1431=\"\",\"\",源数据!C1431)","v":1},{"$f":"IF(源数据!D1431=\"\",\"\",源数据!D1431)","v":0},0,0,"女",0,0,0,0,"西服",0,0,0,0,0,0,0]
[{"$f":"IF(源数据!A1432=\"\",\"\",源数据!A1432)","v":"小西服 女 韩版 潮"},{"$f":"IF(源数据!B1432=\"\",\"\",源数据!B1432)","v":5},{"$f":"IF(源数据!C1432=\"\",\"\",源数据!C1432)","v":0.6},{"$f":"IF(源数据!D1432=\"\",\"\",源数据!D1432)","v":1},"潮",0,"女",0,0,0,0,"西服",0,0,0,0,0,0,0]
[{"$f":"IF(源数据!A1433=\"\",\"\",源数据!A1433)","v":"小西服 女 韩版 潮 包邮"},{"$f":"IF(源数据!B1433=\"\",\"\",源数据!B1433)","v":1},{"$f":"IF(源数据!C1433=\"\",\"\",源数据!C1433)","v":0},{"$f":"IF(源数据!D1433=\"\",\"\",源数据!D1433)","v":0},"潮",0,"女",0,0,0,0,"西服",0,0,0,0,0,0,0]
[{"$f":"IF(源数据!A1434=\"\",\"\",源数据!A1434)","v":"小西服 女 休闲"},{"$f":"IF(源数据!B1434=\"\",\"\",源数据!B1434)","v":1},{"$f":"IF(源数据!C1434=\"\",\"\",源数据!C1434)","v":1},{"$f":"IF(源数据!D1434=\"\",\"\",源数据!D1434)","v":0},0,0,"女",0,0,0,0,"西服","休闲",0,0,0,0,0,0]
[{"$f":"IF(源数据!A1435=\"\",\"\",源数据!A1435)","v":"小西服 女包邮"},{"$f":"IF(源数据!B1435=\"\",\"\",源数据!B1435)","v":1},{"$f":"IF(源数据!C1435=\"\",\"\",源数据!C1435)","v":1},{"$f":"IF(源数据!D1435=\"\",\"\",源数据!D1435)","v":0},0,0,"女",0,0,0,0,"西服",0,0,0,0,0,0,0]
[{"$f":"IF(源数据!A1436=\"\",\"\",源数据!A1436)","v":"小西服 女韩版 潮"},{"$f":"IF(源数据!B1436=\"\",\"\",源数据!B1436)","v":1},{"$f":"IF(源数据!C1436=\"\",\"\",源数据!C1436)","v":1},{"$f":"IF(源数据!D1436=\"\",\"\",源数据!D1436)","v":0},"潮",0,"女",0,0,0,0,"西服",0,0,0,0,0,0,0]
[{"$f":"IF(源数据!A1437=\"\",\"\",源数据!A1437)","v":"小西服 外套 女 春装"},{"$f":"IF(源数据!B1437=\"\",\"\",源数据!B1437)","v":1},{"$f":"IF(源数据!C1437=\"\",\"\",源数据!C1437)","v":0},{"$f":"IF(源数据!D1437=\"\",\"\",源数据!D1437)","v":0},0,"春装","女",0,"外套",0,0,"西服",0,0,0,0,0,0,0]
[{"$f":"IF(源数据!A1438=\"\",\"\",源数据!A1438)","v":"小西服 休闲 女"},{"$f":"IF(源数据!B1438=\"\",\"\",源数据!B1438)","v":1},{"$f":"IF(源数据!C1438=\"\",\"\",源数据!C1438)","v":1},{"$f":"IF(源数据!D1438=\"\",\"\",源数据!D1438)","v":0},0,0,"女",0,0,0,0,"西服","休闲",0,0,0,0,0,0]
[{"$f":"IF(源数据!A1439=\"\",\"\",源数据!A1439)","v":"小西服 休闲 女款"},{"$f":"IF(源数据!B1439=\"\",\"\",源数据!B1439)","v":1},{"$f":"IF(源数据!C1439=\"\",\"\",源数据!C1439)","v":1},{"$f":"IF(源数据!D1439=\"\",\"\",源数据!D1439)","v":0},0,0,"女",0,0,0,0,"西服","休闲",0,0,0,0,0,0]
[{"$f":"IF(源数据!A1440=\"\",\"\",源数据!A1440)","v":"小西服 修身 女款"},{"$f":"IF(源数据!B1440=\"\",\"\",源数据!B1440)","v":23},{"$f":"IF(源数据!C1440=\"\",\"\",源数据!C1440)","v":0.52170000000000005},{"$f":"IF(源数据!D1440=\"\",\"\",源数据!D1440)","v":0},0,0,"女",0,0,0,0,"西服",0,"修身",0,0,0,0,0]
[{"$f":"IF(源数据!A1441=\"\",\"\",源数据!A1441)","v":"小西服 雪纺"},{"$f":"IF(源数据!B1441=\"\",\"\",源数据!B1441)","v":1},{"$f":"IF(源数据!C1441=\"\",\"\",源数据!C1441)","v":0},{"$f":"IF(源数据!D1441=\"\",\"\",源数据!D1441)","v":0},0,0,0,0,0,0,0,"西服",0,0,0,0,0,0,0]
[{"$f":"IF(源数据!A1442=\"\",\"\",源数据!A1442)","v":"小西服 中长款 女"},{"$f":"IF(源数据!B1442=\"\",\"\",源数据!B1442)","v":1},{"$f":"IF(源数据!C1442=\"\",\"\",源数据!C1442)","v":1},{"$f":"IF(源数据!D1442=\"\",\"\",源数据!D1442)","v":0},0,0,"女",0,0,0,0,"西服",0,0,0,0,0,0,0]
[{"$f":"IF(源数据!A1443=\"\",\"\",源数据!A1443)","v":"小西服（女）"},{"$f":"IF(源数据!B1443=\"\",\"\",源数据!B1443)","v":1},{"$f":"IF(源数据!C1443=\"\",\"\",源数据!C1443)","v":1},{"$f":"IF(源数据!D1443=\"\",\"\",源数据!D1443)","v":0},0,0,"女",0,0,0,0,"西服",0,0,0,0,0,0,0]
[{"$f":"IF(源数据!A1444=\"\",\"\",源数据!A1444)","v":"小西服白色"},{"$f":"IF(源数据!B1444=\"\",\"\",源数据!B1444)","v":2},{"$f":"IF(源数据!C1444=\"\",\"\",源数据!C1444)","v":1},{"$f":"IF(源数据!D1444=\"\",\"\",源数据!D1444)","v":0},0,0,0,0,0,0,0,"西服",0,0,0,0,"白色",0,0]
[{"$f":"IF(源数据!A1445=\"\",\"\",源数据!A1445)","v":"小西服包邮女"},{"$f":"IF(源数据!B1445=\"\",\"\",源数据!B1445)","v":1},{"$f":"IF(源数据!C1445=\"\",\"\",源数据!C1445)","v":0},{"$f":"IF(源数据!D1445=\"\",\"\",源数据!D1445)","v":0},0,0,"女",0,0,0,0,"西服",0,0,0,0,0,0,0]
[{"$f":"IF(源数据!A1446=\"\",\"\",源数据!A1446)","v":"小西服韩版修身中长款"},{"$f":"IF(源数据!B1446=\"\",\"\",源数据!B1446)","v":1},{"$f":"IF(源数据!C1446=\"\",\"\",源数据!C1446)","v":1},{"$f":"IF(源数据!D1446=\"\",\"\",源数据!D1446)","v":0},0,0,0,0,0,0,0,"西服",0,"修身",0,0,0,0,0]
[{"$f":"IF(源数据!A1447=\"\",\"\",源数据!A1447)","v":"小西服女"},{"$f":"IF(源数据!B1447=\"\",\"\",源数据!B1447)","v":5},{"$f":"IF(源数据!C1447=\"\",\"\",源数据!C1447)","v":0.8},{"$f":"IF(源数据!D1447=\"\",\"\",源数据!D1447)","v":0},0,0,"女",0,0,0,0,"西服",0,0,0,0,0,0,0]
[{"$f":"IF(源数据!A1448=\"\",\"\",源数据!A1448)","v":"小西服女韩版"},{"$f":"IF(源数据!B1448=\"\",\"\",源数据!B1448)","v":1},{"$f":"IF(源数据!C1448=\"\",\"\",源数据!C1448)","v":1},{"$f":"IF(源数据!D1448=\"\",\"\",源数据!D1448)","v":0},0,0,"女",0,0,0,0,"西服",0,0,0,0,0,0,0]
[{"$f":"IF(源数据!A1449=\"\",\"\",源数据!A1449)","v":"小西服女款"},{"$f":"IF(源数据!B1449=\"\",\"\",源数据!B1449)","v":1},{"$f":"IF(源数据!C1449=\"\",\"\",源数据!C1449)","v":1},{"$f":"IF(源数据!D1449=\"\",\"\",源数据!D1449)","v":0},0,0,"女",0,0,0,0,"西服",0,0,0,0,0,0,0]
[{"$f":"IF(源数据!A1450=\"\",\"\",源数据!A1450)","v":"小西服女款修身"},{"$f":"IF(源数据!B1450=\"\",\"\",源数据!B1450)","v":11},{"$f":"IF(源数据!C1450=\"\",\"\",源数据!C1450)","v":0.72729999999999995},{"$f":"IF(源数据!D1450=\"\",\"\",源数据!D1450)","v":1},0,0,"女",0,0,0,0,"西服",0,"修身",0,0,0,0,0]
[{"$f":"IF(源数据!A1451=\"\",\"\",源数据!A1451)","v":"小西服女雪纺"},{"$f":"IF(源数据!B1451=\"\",\"\",源数据!B1451)","v":1},{"$f":"IF(源数据!C1451=\"\",\"\",源数据!C1451)","v":1},{"$f":"IF(源数据!D1451=\"\",\"\",源数据!D1451)","v":0},0,0,"女",0,0,0,0,"西服",0,0,0,0,0,0,0]
[{"$f":"IF(源数据!A1452=\"\",\"\",源数据!A1452)","v":"小西服女装白色"},{"$f":"IF(源数据!B1452=\"\",\"\",源数据!B1452)","v":1},{"$f":"IF(源数据!C1452=\"\",\"\",源数据!C1452)","v":1},{"$f":"IF(源数据!D1452=\"\",\"\",源数据!D1452)","v":0},0,0,"女","女装",0,0,0,"西服",0,0,0,0,"白色",0,0]
[{"$f":"IF(源数据!A1453=\"\",\"\",源数据!A1453)","v":"小西服女装新款"},{"$f":"IF(源数据!B1453=\"\",\"\",源数据!B1453)","v":12},{"$f":"IF(源数据!C1453=\"\",\"\",源数据!C1453)","v":0.5},{"$f":"IF(源数据!D1453=\"\",\"\",源数据!D1453)","v":0},0,0,"女","女装",0,0,0,"西服",0,0,0,0,0,0,0]
[{"$f":"IF(源数据!A1454=\"\",\"\",源数据!A1454)","v":"小西服女装新款 中长款"},{"$f":"IF(源数据!B1454=\"\",\"\",源数据!B1454)","v":1},{"$f":"IF(源数据!C1454=\"\",\"\",源数据!C1454)","v":0},{"$f":"IF(源数据!D1454=\"\",\"\",源数据!D1454)","v":0},0,0,"女","女装",0,0,0,"西服",0,0,0,0,0,0,0]
[{"$f":"IF(源数据!A1455=\"\",\"\",源数据!A1455)","v":"小西服女装新款包邮"},{"$f":"IF(源数据!B1455=\"\",\"\",源数据!B1455)","v":1},{"$f":"IF(源数据!C1455=\"\",\"\",源数据!C1455)","v":0},{"$f":"IF(源数据!D1455=\"\",\"\",源数据!D1455)","v":0},0,0,"女","女装",0,0,0,"西服",0,0,0,0,0,0,0]
[{"$f":"IF(源数据!A1456=\"\",\"\",源数据!A1456)","v":"小西服女装中长款"},{"$f":"IF(源数据!B1456=\"\",\"\",源数据!B1456)","v":1},{"$f":"IF(源数据!C1456=\"\",\"\",源数据!C1456)","v":0},{"$f":"IF(源数据!D1456=\"\",\"\",源数据!D1456)","v":0},0,0,"女","女装",0,0,0,"西服",0,0,0,0,0,0,0]
[{"$f":"IF(源数据!A1457=\"\",\"\",源数据!A1457)","v":"小西服外套女修身"},{"$f":"IF(源数据!B1457=\"\",\"\",源数据!B1457)","v":9},{"$f":"IF(源数据!C1457=\"\",\"\",源数据!C1457)","v":0.66669999999999996},{"$f":"IF(源数据!D1457=\"\",\"\",源数据!D1457)","v":0},0,0,"女",0,"外套",0,0,"西服",0,"修身",0,0,0,0,0]
[{"$f":"IF(源数据!A1458=\"\",\"\",源数据!A1458)","v":"小西服西装外套女装"},{"$f":"IF(源数据!B1458=\"\",\"\",源数据!B1458)","v":1},{"$f":"IF(源数据!C1458=\"\",\"\",源数据!C1458)","v":1},{"$f":"IF(源数据!D1458=\"\",\"\",源数据!D1458)","v":0},0,0,"女","女装","外套",0,0,"西服",0,0,0,0,0,0,0]
[{"$f":"IF(源数据!A1459=\"\",\"\",源数据!A1459)","v":"小西装"},{"$f":"IF(源数据!B1459=\"\",\"\",源数据!B1459)","v":172},{"$f":"IF(源数据!C1459=\"\",\"\",源数据!C1459)","v":0.64529999999999998},{"$f":"IF(源数据!D1459=\"\",\"\",源数据!D1459)","v":7},0,0,0,0,0,"小西装",0,0,0,0,0,0,0,0,0]
[{"$f":"IF(源数据!A1460=\"\",\"\",源数据!A1460)","v":"小西装 白色"},{"$f":"IF(源数据!B1460=\"\",\"\",源数据!B1460)","v":1},{"$f":"IF(源数据!C1460=\"\",\"\",源数据!C1460)","v":1},{"$f":"IF(源数据!D1460=\"\",\"\",源数据!D1460)","v":0},0,0,0,0,0,"小西装",0,0,0,0,0,0,"白色",0,0]
[{"$f":"IF(源数据!A1461=\"\",\"\",源数据!A1461)","v":"小西装 长款"},{"$f":"IF(源数据!B1461=\"\",\"\",源数据!B1461)","v":1},{"$f":"IF(源数据!C1461=\"\",\"\",源数据!C1461)","v":1},{"$f":"IF(源数据!D1461=\"\",\"\",源数据!D1461)","v":0},0,0,0,0,0,"小西装",0,0,0,0,0,0,0,0,0]
[{"$f":"IF(源数据!A1462=\"\",\"\",源数据!A1462)","v":"小西装 长款 包邮"},{"$f":"IF(源数据!B1462=\"\",\"\",源数据!B1462)","v":1},{"$f":"IF(源数据!C1462=\"\",\"\",源数据!C1462)","v":1},{"$f":"IF(源数据!D1462=\"\",\"\",源数据!D1462)","v":0},0,0,0,0,0,"小西装",0,0,0,0,0,0,0,0,0]
[{"$f":"IF(源数据!A1463=\"\",\"\",源数据!A1463)","v":"小西装 长款 修身"},{"$f":"IF(源数据!B1463=\"\",\"\",源数据!B1463)","v":3},{"$f":"IF(源数据!C1463=\"\",\"\",源数据!C1463)","v":1},{"$f":"IF(源数据!D1463=\"\",\"\",源数据!D1463)","v":0},0,0,0,0,0,"小西装",0,0,0,"修身",0,0,0,0,0]
[{"$f":"IF(源数据!A1464=\"\",\"\",源数据!A1464)","v":"小西装 春"},{"$f":"IF(源数据!B1464=\"\",\"\",源数据!B1464)","v":1},{"$f":"IF(源数据!C1464=\"\",\"\",源数据!C1464)","v":1},{"$f":"IF(源数据!D1464=\"\",\"\",源数据!D1464)","v":0},0,0,0,0,0,"小西装",0,0,0,0,0,0,0,0,0]
[{"$f":"IF(源数据!A1465=\"\",\"\",源数据!A1465)","v":"小西装 春秋"},{"$f":"IF(源数据!B1465=\"\",\"\",源数据!B1465)","v":1},{"$f":"IF(源数据!C1465=\"\",\"\",源数据!C1465)","v":1},{"$f":"IF(源数据!D1465=\"\",\"\",源数据!D1465)","v":0},0,0,0,0,0,"小西装",0,0,0,0,0,"春秋",0,0,0]
[{"$f":"IF(源数据!A1466=\"\",\"\",源数据!A1466)","v":"小西装 春秋 韩版"},{"$f":"IF(源数据!B1466=\"\",\"\",源数据!B1466)","v":1},{"$f":"IF(源数据!C1466=\"\",\"\",源数据!C1466)","v":1},{"$f":"IF(源数据!D1466=\"\",\"\",源数据!D1466)","v":0},0,0,0,0,0,"小西装",0,0,0,0,0,"春秋",0,0,0]
[{"$f":"IF(源数据!A1467=\"\",\"\",源数据!A1467)","v":"小西装 红色"},{"$f":"IF(源数据!B1467=\"\",\"\",源数据!B1467)","v":1},{"$f":"IF(源数据!C1467=\"\",\"\",源数据!C1467)","v":1},{"$f":"IF(源数据!D1467=\"\",\"\",源数据!D1467)","v":0},0,0,0,0,0,"小西装",0,0,0,0,0,0,0,0,0]
[{"$f":"IF(源数据!A1468=\"\",\"\",源数据!A1468)","v":"小西装 帽"},{"$f":"IF(源数据!B1468=\"\",\"\",源数据!B1468)","v":1},{"$f":"IF(源数据!C1468=\"\",\"\",源数据!C1468)","v":0},{"$f":"IF(源数据!D1468=\"\",\"\",源数据!D1468)","v":0},0,0,0,0,0,"小西装",0,0,0,0,0,0,0,0,0]
[{"$f":"IF(源数据!A1469=\"\",\"\",源数据!A1469)","v":"小西装 女"},{"$f":"IF(源数据!B1469=\"\",\"\",源数据!B1469)","v":87},{"$f":"IF(源数据!C1469=\"\",\"\",源数据!C1469)","v":0.73560000000000003},{"$f":"IF(源数据!D1469=\"\",\"\",源数据!D1469)","v":0},0,0,"女",0,0,"小西装",0,0,0,0,0,0,0,0,0]
[{"$f":"IF(源数据!A1470=\"\",\"\",源数据!A1470)","v":"小西装 女 2013新款"},{"$f":"IF(源数据!B1470=\"\",\"\",源数据!B1470)","v":1},{"$f":"IF(源数据!C1470=\"\",\"\",源数据!C1470)","v":1},{"$f":"IF(源数据!D1470=\"\",\"\",源数据!D1470)","v":0},0,0,"女",0,0,"小西装",2013,0,0,0,0,0,0,0,0]
[{"$f":"IF(源数据!A1471=\"\",\"\",源数据!A1471)","v":"小西装 女 白色"},{"$f":"IF(源数据!B1471=\"\",\"\",源数据!B1471)","v":1},{"$f":"IF(源数据!C1471=\"\",\"\",源数据!C1471)","v":1},{"$f":"IF(源数据!D1471=\"\",\"\",源数据!D1471)","v":0},0,0,"女",0,0,"小西装",0,0,0,0,0,0,"白色",0,0]
[{"$f":"IF(源数据!A1472=\"\",\"\",源数据!A1472)","v":"小西装 女 包邮"},{"$f":"IF(源数据!B1472=\"\",\"\",源数据!B1472)","v":6},{"$f":"IF(源数据!C1472=\"\",\"\",源数据!C1472)","v":1},{"$f":"IF(源数据!D1472=\"\",\"\",源数据!D1472)","v":0},0,0,"女",0,0,"小西装",0,0,0,0,0,0,0,0,0]
[{"$f":"IF(源数据!A1473=\"\",\"\",源数据!A1473)","v":"小西装 女 包邮 春"},{"$f":"IF(源数据!B1473=\"\",\"\",源数据!B1473)","v":2},{"$f":"IF(源数据!C1473=\"\",\"\",源数据!C1473)","v":1},{"$f":"IF(源数据!D1473=\"\",\"\",源数据!D1473)","v":0},0,0,"女",0,0,"小西装",0,0,0,0,0,0,0,0,0]
[{"$f":"IF(源数据!A1474=\"\",\"\",源数据!A1474)","v":"小西装 女 春秋"},{"$f":"IF(源数据!B1474=\"\",\"\",源数据!B1474)","v":4},{"$f":"IF(源数据!C1474=\"\",\"\",源数据!C1474)","v":0.75},{"$f":"IF(源数据!D1474=\"\",\"\",源数据!D1474)","v":0},0,0,"女",0,0,"小西装",0,0,0,0,0,"春秋",0,0,0]
[{"$f":"IF(源数据!A1475=\"\",\"\",源数据!A1475)","v":"小西装 女 春秋 新"},{"$f":"IF(源数据!B1475=\"\",\"\",源数据!B1475)","v":1},{"$f":"IF(源数据!C1475=\"\",\"\",源数据!C1475)","v":1},{"$f":"IF(源数据!D1475=\"\",\"\",源数据!D1475)","v":0},{"$f":"IF($A1474=\"\",\"\",IF(E$1=\"\",\"\",IF(IFERROR(SEARCH(E$1,$A1475),0) >0,E$1,0)))","v":0},{"$f":"IF($A1474=\"\",\"\",IF(F$1=\"\",\"\",IF(IFERROR(SEARCH(F$1,$A1475),0) >0,F$1,0)))","v":0},{"$f":"IF($A1474=\"\",\"\",IF(G$1=\"\",\"\",IF(IFERROR(SEARCH(G$1,$A1475),0) >0,G$1,0)))","v":"女"},{"$f":"IF($A1474=\"\",\"\",IF(H$1=\"\",\"\",IF(IFERROR(SEARCH(H$1,$A1475),0) >0,H$1,0)))","v":0},{"$f":"IF($A1474=\"\",\"\",IF(I$1=\"\",\"\",IF(IFERROR(SEARCH(I$1,$A1475),0) >0,I$1,0)))","v":0},{"$f":"IF($A1474=\"\",\"\",IF(J$1=\"\",\"\",IF(IFERROR(SEARCH(J$1,$A1475),0) >0,J$1,0)))","v":"小西装"},{"$f":"IF($A1474=\"\",\"\",IF(K$1=\"\",\"\",IF(IFERROR(SEARCH(K$1,$A1475),0) >0,K$1,0)))","v":0},{"$f":"IF($A1474=\"\",\"\",IF(L$1=\"\",\"\",IF(IFERROR(SEARCH(L$1,$A1475),0) >0,L$1,0)))","v":0},{"$f":"IF($A1474=\"\",\"\",IF(M$1=\"\",\"\",IF(IFERROR(SEARCH(M$1,$A1475),0) >0,M$1,0)))","v":0},{"$f":"IF($A1474=\"\",\"\",IF(N$1=\"\",\"\",IF(IFERROR(SEARCH(N$1,$A1475),0) >0,N$1,0)))","v":0},{"$f":"IF($A1474=\"\",\"\",IF(O$1=\"\",\"\",IF(IFERROR(SEARCH(O$1,$A1475),0) >0,O$1,0)))","v":0},{"$f":"IF($A1474=\"\",\"\",IF(P$1=\"\",\"\",IF(IFERROR(SEARCH(P$1,$A1475),0) >0,P$1,0)))","v":"春秋"},{"$f":"IF($A1474=\"\",\"\",IF(Q$1=\"\",\"\",IF(IFERROR(SEARCH(Q$1,$A1475),0) >0,Q$1,0)))","v":0},{"$f":"IF($A1474=\"\",\"\",IF(R$1=\"\",\"\",IF(IFERROR(SEARCH(R$1,$A1475),0) >0,R$1,0)))","v":0},{"$f":"IF($A1474=\"\",\"\",IF(S$1=\"\",\"\",IF(IFERROR(SEARCH(S$1,$A1475),0) >0,S$1,0)))","v":0}]
[{"$f":"IF(源数据!A1476=\"\",\"\",源数据!A1476)","v":"小西装 女 韩版"},{"$f":"IF(源数据!B1476=\"\",\"\",源数据!B1476)","v":11},{"$f":"IF(源数据!C1476=\"\",\"\",源数据!C1476)","v":0.81820000000000004},{"$f":"IF(源数据!D1476=\"\",\"\",源数据!D1476)","v":1},0,0,"女",0,0,"小西装",0,0,0,0,0,0,0,0,0]
[{"$f":"IF(源数据!A1477=\"\",\"\",源数据!A1477)","v":"小西装 女 韩版 包邮"},{"$f":"IF(源数据!B1477=\"\",\"\",源数据!B1477)","v":1},{"$f":"IF(源数据!C1477=\"\",\"\",源数据!C1477)","v":0},{"$f":"IF(源数据!D1477=\"\",\"\",源数据!D1477)","v":0},0,0,"女",0,0,"小西装",0,0,0,0,0,0,0,0,0]
[{"$f":"IF(源数据!A1478=\"\",\"\",源数据!A1478)","v":"小西装 女 韩版 潮"},{"$f":"IF(源数据!B1478=\"\",\"\",源数据!B1478)","v":4},{"$f":"IF(源数据!C1478=\"\",\"\",源数据!C1478)","v":1},{"$f":"IF(源数据!D1478=\"\",\"\",源数据!D1478)","v":0},"潮",0,"女",0,0,"小西装",0,0,0,0,0,0,0,0,0]
[{"$f":"IF(源数据!A1479=\"\",\"\",源数据!A1479)","v":"小西装 女 韩版 春秋"},{"$f":"IF(源数据!B1479=\"\",\"\",源数据!B1479)","v":2},{"$f":"IF(源数据!C1479=\"\",\"\",源数据!C1479)","v":1},{"$f":"IF(源数据!D1479=\"\",\"\",源数据!D1479)","v":0},0,0,"女",0,0,"小西装",0,0,0,0,0,"春秋",0,0,0]
[{"$f":"IF(源数据!A1480=\"\",\"\",源数据!A1480)","v":"小西装 女 韩版 休闲"},{"$f":"IF(源数据!B1480=\"\",\"\",源数据!B1480)","v":1},{"$f":"IF(源数据!C1480=\"\",\"\",源数据!C1480)","v":1},{"$f":"IF(源数据!D1480=\"\",\"\",源数据!D1480)","v":0},0,0,"女",0,0,"小西装",0,0,"休闲",0,0,0,0,0,0]
[{"$f":"IF(源数据!A1481=\"\",\"\",源数据!A1481)","v":"小西装 女 韩版 修身"},{"$f":"IF(源数据!B1481=\"\",\"\",源数据!B1481)","v":17},{"$f":"IF(源数据!C1481=\"\",\"\",源数据!C1481)","v":0.64710000000000001},{"$f":"IF(源数据!D1481=\"\",\"\",源数据!D1481)","v":0},0,0,"女",0,0,"小西装",0,0,0,"修身",0,0,0,0,0]
[{"$f":"IF(源数据!A1482=\"\",\"\",源数据!A1482)","v":"小西装 女 韩版 修身包邮"},{"$f":"IF(源数据!B1482=\"\",\"\",源数据!B1482)","v":1},{"$f":"IF(源数据!C1482=\"\",\"\",源数据!C1482)","v":1},{"$f":"IF(源数据!D1482=\"\",\"\",源数据!D1482)","v":0},0,0,"女",0,0,"小西装",0,0,0,"修身",0,0,0,0,0]
[{"$f":"IF(源数据!A1483=\"\",\"\",源数据!A1483)","v":"小西装 女 黑色"},{"$f":"IF(源数据!B1483=\"\",\"\",源数据!B1483)","v":1},{"$f":"IF(源数据!C1483=\"\",\"\",源数据!C1483)","v":1},{"$f":"IF(源数据!D1483=\"\",\"\",源数据!D1483)","v":0},0,0,"女",0,0,"小西装",0,0,0,0,0,0,0,0,0]
[{"$f":"IF(源数据!A1484=\"\",\"\",源数据!A1484)","v":"小西装 女 修身"},{"$f":"IF(源数据!B1484=\"\",\"\",源数据!B1484)","v":12},{"$f":"IF(源数据!C1484=\"\",\"\",源数据!C1484)","v":0.75},{"$f":"IF(源数据!D1484=\"\",\"\",源数据!D1484)","v":1},0,0,"女",0,0,"小西装",0,0,0,"修身",0,0,0,0,0]
[{"$f":"IF(源数据!A1485=\"\",\"\",源数据!A1485)","v":"小西装 女 修身 长款"},{"$f":"IF(源数据!B1485=\"\",\"\",源数据!B1485)","v":1},{"$f":"IF(源数据!C1485=\"\",\"\",源数据!C1485)","v":1},{"$f":"IF(源数据!D1485=\"\",\"\",源数据!D1485)","v":0},0,0,"女",0,0,"小西装",0,0,0,"修身",0,0,0,0,0]
[{"$f":"IF(源数据!A1486=\"\",\"\",源数据!A1486)","v":"小西装 女 雪纺"},{"$f":"IF(源数据!B1486=\"\",\"\",源数据!B1486)","v":1},{"$f":"IF(源数据!C1486=\"\",\"\",源数据!C1486)","v":1},{"$f":"IF(源数据!D1486=\"\",\"\",源数据!D1486)","v":0},0,0,"女",0,0,"小西装",0,0,0,0,0,0,0,0,0]
[{"$f":"IF(源数据!A1487=\"\",\"\",源数据!A1487)","v":"小西装 女 中长款"},{"$f":"IF(源数据!B1487=\"\",\"\",源数据!B1487)","v":2},{"$f":"IF(源数据!C1487=\"\",\"\",源数据!C1487)","v":0.5},{"$f":"IF(源数据!D1487=\"\",\"\",源数据!D1487)","v":0},0,0,"女",0,0,"小西装",0,0,0,0,0,0,0,0,0]
[{"$f":"IF(源数据!A1488=\"\",\"\",源数据!A1488)","v":"小西装 女 中长款 韩版"},{"$f":"IF(源数据!B1488=\"\",\"\",源数据!B1488)","v":1},{"$f":"IF(源数据!C1488=\"\",\"\",源数据!C1488)","v":0},{"$f":"IF(源数据!D1488=\"\",\"\",源数据!D1488)","v":0},0,0,"女",0,0,"小西装",0,0,0,0,0,0,0,0,0]
[{"$f":"IF(源数据!A1489=\"\",\"\",源数据!A1489)","v":"小西装 女2013"},{"$f":"IF(源数据!B1489=\"\",\"\",源数据!B1489)","v":1},{"$f":"IF(源数据!C1489=\"\",\"\",源数据!C1489)","v":1},{"$f":"IF(源数据!D1489=\"\",\"\",源数据!D1489)","v":0},0,0,"女",0,0,"小西装",2013,0,0,0,0,0,0,0,0]
[{"$f":"IF(源数据!A1490=\"\",\"\",源数据!A1490)","v":"小西装 女白色"},{"$f":"IF(源数据!B1490=\"\",\"\",源数据!B1490)","v":1},{"$f":"IF(源数据!C1490=\"\",\"\",源数据!C1490)","v":1},{"$f":"IF(源数据!D1490=\"\",\"\",源数据!D1490)","v":0},0,0,"女",0,0,"小西装",0,0,0,0,0,0,"白色",0,0]
[{"$f":"IF(源数据!A1491=\"\",\"\",源数据!A1491)","v":"小西装 女红色"},{"$f":"IF(源数据!B1491=\"\",\"\",源数据!B1491)","v":1},{"$f":"IF(源数据!C1491=\"\",\"\",源数据!C1491)","v":1},{"$f":"IF(源数据!D1491=\"\",\"\",源数据!D1491)","v":0},0,0,"女",0,0,"小西装",0,0,0,0,0,0,0,0,0]
[{"$f":"IF(源数据!A1492=\"\",\"\",源数据!A1492)","v":"小西装 女款"},{"$f":"IF(源数据!B1492=\"\",\"\",源数据!B1492)","v":1},{"$f":"IF(源数据!C1492=\"\",\"\",源数据!C1492)","v":1},{"$f":"IF(源数据!D1492=\"\",\"\",源数据!D1492)","v":0},0,0,"女",0,0,"小西装",0,0,0,0,0,0,0,0,0]
[{"$f":"IF(源数据!A1493=\"\",\"\",源数据!A1493)","v":"小西装 女修身中长款"},{"$f":"IF(源数据!B1493=\"\",\"\",源数据!B1493)","v":1},{"$f":"IF(源数据!C1493=\"\",\"\",源数据!C1493)","v":1},{"$f":"IF(源数据!D1493=\"\",\"\",源数据!D1493)","v":0},0,0,"女",0,0,"小西装",0,0,0,"修身",0,0,0,0,0]
[{"$f":"IF(源数据!A1494=\"\",\"\",源数据!A1494)","v":"小西装 拼接"},{"$f":"IF(源数据!B1494=\"\",\"\",源数据!B1494)","v":1},{"$f":"IF(源数据!C1494=\"\",\"\",源数据!C1494)","v":1},{"$f":"IF(源数据!D1494=\"\",\"\",源数据!D1494)","v":0},0,0,0,0,0,"小西装",0,0,0,0,0,0,0,0,0]
[{"$f":"IF(源数据!A1495=\"\",\"\",源数据!A1495)","v":"小西装 拼接 雪纺"},{"$f":"IF(源数据!B1495=\"\",\"\",源数据!B1495)","v":1},{"$f":"IF(源数据!C1495=\"\",\"\",源数据!C1495)","v":1},{"$f":"IF(源数据!D1495=\"\",\"\",源数据!D1495)","v":0},0,0,0,0,0,"小西装",0,0,0,0,0,0,0,0,0]
[{"$f":"IF(源数据!A1496=\"\",\"\",源数据!A1496)","v":"小西装 休闲 女 白色"},{"$f":"IF(源数据!B1496=\"\",\"\",源数据!B1496)","v":1},{"$f":"IF(源数据!C1496=\"\",\"\",源数据!C1496)","v":1},{"$f":"IF(源数据!D1496=\"\",\"\",源数据!D1496)","v":0},0,0,"女",0,0,"小西装",0,0,"休闲",0,0,0,"白色",0,0]
[{"$f":"IF(源数据!A1497=\"\",\"\",源数据!A1497)","v":"小西装 休闲款 女"},{"$f":"IF(源数据!B1497=\"\",\"\",源数据!B1497)","v":1},{"$f":"IF(源数据!C1497=\"\",\"\",源数据!C1497)","v":1},{"$f":"IF(源数据!D1497=\"\",\"\",源数据!D1497)","v":0},0,0,"女",0,0,"小西装",0,0,"休闲",0,0,0,0,0,0]
[{"$f":"IF(源数据!A1498=\"\",\"\",源数据!A1498)","v":"小西装 修身 韩版 女"},{"$f":"IF(源数据!B1498=\"\",\"\",源数据!B1498)","v":1},{"$f":"IF(源数据!C1498=\"\",\"\",源数据!C1498)","v":1},{"$f":"IF(源数据!D1498=\"\",\"\",源数据!D1498)","v":0},0,0,"女",0,0,"小西装",0,0,0,"修身",0,0,0,0,0]
[{"$f":"IF(源数据!A1499=\"\",\"\",源数据!A1499)","v":"小西装 修身 女"},{"$f":"IF(源数据!B1499=\"\",\"\",源数据!B1499)","v":2},{"$f":"IF(源数据!C1499=\"\",\"\",源数据!C1499)","v":1},{"$f":"IF(源数据!D1499=\"\",\"\",源数据!D1499)","v":0},0,0,"女",0,0,"小西装",0,0,0,"修身",0,0,0,0,0]
[{"$f":"IF(源数据!A1500=\"\",\"\",源数据!A1500)","v":"小西装 修身 女  白色休闲"},{"$f":"IF(源数据!B1500=\"\",\"\",源数据!B1500)","v":1},{"$f":"IF(源数据!C1500=\"\",\"\",源数据!C1500)","v":0},{"$f":"IF(源数据!D1500=\"\",\"\",源数据!D1500)","v":1},0,0,"女",0,0,"小西装",0,0,"休闲","修身",0,0,"白色",0,0]
[{"$f":"IF(源数据!A1501=\"\",\"\",源数据!A1501)","v":"小西装 修身 女 春"},{"$f":"IF(源数据!B1501=\"\",\"\",源数据!B1501)","v":1},{"$f":"IF(源数据!C1501=\"\",\"\",源数据!C1501)","v":1},{"$f":"IF(源数据!D1501=\"\",\"\",源数据!D1501)","v":0},0,0,"女",0,0,"小西装",0,0,0,"修身",0,0,0,0,0]
[{"$f":"IF(源数据!A1502=\"\",\"\",源数据!A1502)","v":"小西装 修身 女 韩版"},{"$f":"IF(源数据!B1502=\"\",\"\",源数据!B1502)","v":94},{"$f":"IF(源数据!C1502=\"\",\"\",源数据!C1502)","v":0.74470000000000003},{"$f":"IF(源数据!D1502=\"\",\"\",源数据!D1502)","v":3},0,0,"女",0,0,"小西装",0,0,0,"修身",0,0,0,0,0]
[{"$f":"IF(源数据!A1503=\"\",\"\",源数据!A1503)","v":"小西装 修身 女 韩版 白色"},{"$f":"IF(源数据!B1503=\"\",\"\",源数据!B1503)","v":1},{"$f":"IF(源数据!C1503=\"\",\"\",源数据!C1503)","v":1},{"$f":"IF(源数据!D1503=\"\",\"\",源数据!D1503)","v":0},0,0,"女",0,0,"小西装",0,0,0,"修身",0,0,"白色",0,0]
[{"$f":"IF(源数据!A1504=\"\",\"\",源数据!A1504)","v":"小西装 修身 女 韩版包邮"},{"$f":"IF(源数据!B1504=\"\",\"\",源数据!B1504)","v":1},{"$f":"IF(源数据!C1504=\"\",\"\",源数据!C1504)","v":0},{"$f":"IF(源数据!D1504=\"\",\"\",源数据!D1504)","v":0},0,0,"女",0,0,"小西装",0,0,0,"修身",0,0,0,0,0]
[{"$f":"IF(源数据!A1505=\"\",\"\",源数据!A1505)","v":"小西装 修身 女 韩版免运费"},{"$f":"IF(源数据!B1505=\"\",\"\",源数据!B1505)","v":1},{"$f":"IF(源数据!C1505=\"\",\"\",源数据!C1505)","v":0},{"$f":"IF(源数据!D1505=\"\",\"\",源数据!D1505)","v":0},0,0,"女",0,0,"小西装",0,0,0,"修身",0,0,0,0,0]
[{"$f":"IF(源数据!A1506=\"\",\"\",源数据!A1506)","v":"小西装 修身 女 雪纺"},{"$f":"IF(源数据!B1506=\"\",\"\",源数据!B1506)","v":1},{"$f":"IF(源数据!C1506=\"\",\"\",源数据!C1506)","v":1},{"$f":"IF(源数据!D1506=\"\",\"\",源数据!D1506)","v":0},0,0,"女",0,0,"小西装",0,0,0,"修身",0,0,0,0,0]
[{"$f":"IF(源数据!A1507=\"\",\"\",源数据!A1507)","v":"小西装 修身 女 中长款"},{"$f":"IF(源数据!B1507=\"\",\"\",源数据!B1507)","v":1},{"$f":"IF(源数据!C1507=\"\",\"\",源数据!C1507)","v":1},{"$f":"IF(源数据!D1507=\"\",\"\",源数据!D1507)","v":0},0,0,"女",0,0,"小西装",0,0,0,"修身",0,0,0,0,0]
[{"$f":"IF(源数据!A1508=\"\",\"\",源数据!A1508)","v":"小西装 修身 女款"},{"$f":"IF(源数据!B1508=\"\",\"\",源数据!B1508)","v":1},{"$f":"IF(源数据!C1508=\"\",\"\",源数据!C1508)","v":0},{"$f":"IF(源数据!D1508=\"\",\"\",源数据!D1508)","v":0},0,0,"女",0,0,"小西装",0,0,0,"修身",0,0,0,0,0]
[{"$f":"IF(源数据!A1509=\"\",\"\",源数据!A1509)","v":"小西装 修身 中长款 女"},{"$f":"IF(源数据!B1509=\"\",\"\",源数据!B1509)","v":1},{"$f":"IF(源数据!C1509=\"\",\"\",源数据!C1509)","v":1},{"$f":"IF(源数据!D1509=\"\",\"\",源数据!D1509)","v":0},0,0,"女",0,0,"小西装",0,0,0,"修身",0,0,0,0,0]
[{"$f":"IF(源数据!A1510=\"\",\"\",源数据!A1510)","v":"小西装 雪纺"},{"$f":"IF(源数据!B1510=\"\",\"\",源数据!B1510)","v":1},{"$f":"IF(源数据!C1510=\"\",\"\",源数据!C1510)","v":1},{"$f":"IF(源数据!D1510=\"\",\"\",源数据!D1510)","v":0},0,0,0,0,0,"小西装",0,0,0,0,0,0,0,0,0]
[{"$f":"IF(源数据!A1511=\"\",\"\",源数据!A1511)","v":"小西装 雪纺 修身"},{"$f":"IF(源数据!B1511=\"\",\"\",源数据!B1511)","v":1},{"$f":"IF(源数据!C1511=\"\",\"\",源数据!C1511)","v":0},{"$f":"IF(源数据!D1511=\"\",\"\",源数据!D1511)","v":0},0,0,0,0,0,"小西装",0,0,0,"修身",0,0,0,0,0]
[{"$f":"IF(源数据!A1512=\"\",\"\",源数据!A1512)","v":"小西装 雪纺拼接"},{"$f":"IF(源数据!B1512=\"\",\"\",源数据!B1512)","v":1},{"$f":"IF(源数据!C1512=\"\",\"\",源数据!C1512)","v":1},{"$f":"IF(源数据!D1512=\"\",\"\",源数据!D1512)","v":0},0,0,0,0,0,"小西装",0,0,0,0,0,0,0,0,0]
[{"$f":"IF(源数据!A1513=\"\",\"\",源数据!A1513)","v":"小西装 一粒扣"},{"$f":"IF(源数据!B1513=\"\",\"\",源数据!B1513)","v":2},{"$f":"IF(源数据!C1513=\"\",\"\",源数据!C1513)","v":0.5},{"$f":"IF(源数据!D1513=\"\",\"\",源数据!D1513)","v":0},0,0,0,0,0,"小西装",0,0,0,0,0,0,0,0,0]
[{"$f":"IF(源数据!A1514=\"\",\"\",源数据!A1514)","v":"小西装 中长款 女"},{"$f":"IF(源数据!B1514=\"\",\"\",源数据!B1514)","v":1},{"$f":"IF(源数据!C1514=\"\",\"\",源数据!C1514)","v":1},{"$f":"IF(源数据!D1514=\"\",\"\",源数据!D1514)","v":0},0,0,"女",0,0,"小西装",0,0,0,0,0,0,0,0,0]
[{"$f":"IF(源数据!A1515=\"\",\"\",源数据!A1515)","v":"小西装/西服"},{"$f":"IF(源数据!B1515=\"\",\"\",源数据!B1515)","v":1},{"$f":"IF(源数据!C1515=\"\",\"\",源数据!C1515)","v":1},{"$f":"IF(源数据!D1515=\"\",\"\",源数据!D1515)","v":0},0,0,0,0,0,"小西装",0,"西服",0,0,0,0,0,0,0]
[{"$f":"IF(源数据!A1516=\"\",\"\",源数据!A1516)","v":"小西装2013"},{"$f":"IF(源数据!B1516=\"\",\"\",源数据!B1516)","v":1},{"$f":"IF(源数据!C1516=\"\",\"\",源数据!C1516)","v":1},{"$f":"IF(源数据!D1516=\"\",\"\",源数据!D1516)","v":0},0,0,0,0,0,"小西装",2013,0,0,0,0,0,0,0,0]
[{"$f":"IF(源数据!A1517=\"\",\"\",源数据!A1517)","v":"小西装2013 女春装"},{"$f":"IF(源数据!B1517=\"\",\"\",源数据!B1517)","v":1},{"$f":"IF(源数据!C1517=\"\",\"\",源数据!C1517)","v":1},{"$f":"IF(源数据!D1517=\"\",\"\",源数据!D1517)","v":0},0,"春装","女",0,0,"小西装",2013,0,0,0,0,0,0,0,0]
[{"$f":"IF(源数据!A1518=\"\",\"\",源数据!A1518)","v":"小西装2013新款女"},{"$f":"IF(源数据!B1518=\"\",\"\",源数据!B1518)","v":1},{"$f":"IF(源数据!C1518=\"\",\"\",源数据!C1518)","v":1},{"$f":"IF(源数据!D1518=\"\",\"\",源数据!D1518)","v":0},0,0,"女",0,0,"小西装",2013,0,0,0,0,0,0,0,0]
[{"$f":"IF(源数据!A1519=\"\",\"\",源数据!A1519)","v":"小西装白"},{"$f":"IF(源数据!B1519=\"\",\"\",源数据!B1519)","v":1},{"$f":"IF(源数据!C1519=\"\",\"\",源数据!C1519)","v":1},{"$f":"IF(源数据!D1519=\"\",\"\",源数据!D1519)","v":0},0,0,0,0,0,"小西装",0,0,0,0,0,0,0,0,0]
[{"$f":"IF(源数据!A1520=\"\",\"\",源数据!A1520)","v":"小西装白色"},{"$f":"IF(源数据!B1520=\"\",\"\",源数据!B1520)","v":1},{"$f":"IF(源数据!C1520=\"\",\"\",源数据!C1520)","v":1},{"$f":"IF(源数据!D1520=\"\",\"\",源数据!D1520)","v":0},0,0,0,0,0,"小西装",0,0,0,0,0,0,"白色",0,0]
[{"$f":"IF(源数据!A1521=\"\",\"\",源数据!A1521)","v":"小西装包邮"},{"$f":"IF(源数据!B1521=\"\",\"\",源数据!B1521)","v":3},{"$f":"IF(源数据!C1521=\"\",\"\",源数据!C1521)","v":0.66669999999999996},{"$f":"IF(源数据!D1521=\"\",\"\",源数据!D1521)","v":0},0,0,0,0,0,"小西装",0,0,0,0,0,0,0,0,0]
[{"$f":"IF(源数据!A1522=\"\",\"\",源数据!A1522)","v":"小西装长袖"},{"$f":"IF(源数据!B1522=\"\",\"\",源数据!B1522)","v":1},{"$f":"IF(源数据!C1522=\"\",\"\",源数据!C1522)","v":1},{"$f":"IF(源数据!D1522=\"\",\"\",源数据!D1522)","v":0},0,0,0,0,0,"小西装",0,0,0,0,0,0,0,0,0]
[{"$f":"IF(源数据!A1523=\"\",\"\",源数据!A1523)","v":"小西装春装女"},{"$f":"IF(源数据!B1523=\"\",\"\",源数据!B1523)","v":1},{"$f":"IF(源数据!C1523=\"\",\"\",源数据!C1523)","v":0},{"$f":"IF(源数据!D1523=\"\",\"\",源数据!D1523)","v":1},0,"春装","女",0,0,"小西装",0,0,0,0,0,0,0,0,0]
[{"$f":"IF(源数据!A1524=\"\",\"\",源数据!A1524)","v":"小西装服韩版外套"},{"$f":"IF(源数据!B1524=\"\",\"\",源数据!B1524)","v":1},{"$f":"IF(源数据!C1524=\"\",\"\",源数据!C1524)","v":1},{"$f":"IF(源数据!D1524=\"\",\"\",源数据!D1524)","v":0},0,0,0,0,"外套","小西装",0,0,0,0,0,0,0,0,0]
[{"$f":"IF(源数据!A1525=\"\",\"\",源数据!A1525)","v":"小西装韩版"},{"$f":"IF(源数据!B1525=\"\",\"\",源数据!B1525)","v":1},{"$f":"IF(源数据!C1525=\"\",\"\",源数据!C1525)","v":0},{"$f":"IF(源数据!D1525=\"\",\"\",源数据!D1525)","v":0},0,0,0,0,0,"小西装",0,0,0,0,0,0,0,0,0]
[{"$f":"IF(源数据!A1526=\"\",\"\",源数据!A1526)","v":"小西装韩版休闲西装外套女 2013春装新款女装中长款修身西"},{"$f":"IF(源数据!B1526=\"\",\"\",源数据!B1526)","v":1},{"$f":"IF(源数据!C1526=\"\",\"\",源数据!C1526)","v":1},{"$f":"IF(源数据!D1526=\"\",\"\",源数据!D1526)","v":0},0,"春装","女","女装","外套","小西装",2013,0,"休闲","修身",0,0,0,0,0]
[{"$f":"IF(源数据!A1527=\"\",\"\",源数据!A1527)","v":"小西装韩版休闲西装外套女 2013春装新款女装中长款修身西服"},{"$f":"IF(源数据!B1527=\"\",\"\",源数据!B1527)","v":1},{"$f":"IF(源数据!C1527=\"\",\"\",源数据!C1527)","v":1},{"$f":"IF(源数据!D1527=\"\",\"\",源数据!D1527)","v":0},0,"春装","女","女装","外套","小西装",2013,"西服","休闲","修身",0,0,0,0,0]
[{"$f":"IF(源数据!A1528=\"\",\"\",源数据!A1528)","v":"小西装韩版休闲西装外套女 2013春装新款女装中长款修身西服 西装"},{"$f":"IF(源数据!B1528=\"\",\"\",源数据!B1528)","v":2},{"$f":"IF(源数据!C1528=\"\",\"\",源数据!C1528)","v":0},{"$f":"IF(源数据!D1528=\"\",\"\",源数据!D1528)","v":0},0,"春装","女","女装","外套","小西装",2013,"西服","休闲","修身",0,0,0,0,0]
[{"$f":"IF(源数据!A1529=\"\",\"\",源数据!A1529)","v":"小西装韩版修身女"},{"$f":"IF(源数据!B1529=\"\",\"\",源数据!B1529)","v":34},{"$f":"IF(源数据!C1529=\"\",\"\",源数据!C1529)","v":0.79410000000000003},{"$f":"IF(源数据!D1529=\"\",\"\",源数据!D1529)","v":0},0,0,"女",0,0,"小西装",0,0,0,"修身",0,0,0,0,0]
[{"$f":"IF(源数据!A1530=\"\",\"\",源数据!A1530)","v":"小西装韩版修身女 春秋"},{"$f":"IF(源数据!B1530=\"\",\"\",源数据!B1530)","v":1},{"$f":"IF(源数据!C1530=\"\",\"\",源数据!C1530)","v":1},{"$f":"IF(源数据!D1530=\"\",\"\",源数据!D1530)","v":0},0,0,"女",0,0,"小西装",0,0,0,"修身",0,"春秋",0,0,0]
[{"$f":"IF(源数据!A1531=\"\",\"\",源数据!A1531)","v":"小西装韩版修身中长款休闲西服"},{"$f":"IF(源数据!B1531=\"\",\"\",源数据!B1531)","v":1},{"$f":"IF(源数据!C1531=\"\",\"\",源数据!C1531)","v":0},{"$f":"IF(源数据!D1531=\"\",\"\",源数据!D1531)","v":0},0,0,0,0,0,"小西装",0,"西服","休闲","修身",0,0,0,0,0]
[{"$f":"IF(源数据!A1532=\"\",\"\",源数据!A1532)","v":"小西装免邮"},{"$f":"IF(源数据!B1532=\"\",\"\",源数据!B1532)","v":1},{"$f":"IF(源数据!C1532=\"\",\"\",源数据!C1532)","v":1},{"$f":"IF(源数据!D1532=\"\",\"\",源数据!D1532)","v":0},0,0,0,0,0,"小西装",0,0,0,0,0,0,0,0,0]
[{"$f":"IF(源数据!A1533=\"\",\"\",源数据!A1533)","v":"小西装女"},{"$f":"IF(源数据!B1533=\"\",\"\",源数据!B1533)","v":49},{"$f":"IF(源数据!C1533=\"\",\"\",源数据!C1533)","v":0.73470000000000002},{"$f":"IF(源数据!D1533=\"\",\"\",源数据!D1533)","v":2},0,0,"女",0,0,"小西装",0,0,0,0,0,0,0,0,0]
[{"$f":"IF(源数据!A1534=\"\",\"\",源数据!A1534)","v":"小西装女 包邮"},{"$f":"IF(源数据!B1534=\"\",\"\",源数据!B1534)","v":2},{"$f":"IF(源数据!C1534=\"\",\"\",源数据!C1534)","v":1},{"$f":"IF(源数据!D1534=\"\",\"\",源数据!D1534)","v":0},0,0,"女",0,0,"小西装",0,0,0,0,0,0,0,0,0]
[{"$f":"IF(源数据!A1535=\"\",\"\",源数据!A1535)","v":"小西装女白色"},{"$f":"IF(源数据!B1535=\"\",\"\",源数据!B1535)","v":1},{"$f":"IF(源数据!C1535=\"\",\"\",源数据!C1535)","v":1},{"$f":"IF(源数据!D1535=\"\",\"\",源数据!D1535)","v":0},0,0,"女",0,0,"小西装",0,0,0,0,0,0,"白色",0,0]
[{"$f":"IF(源数据!A1536=\"\",\"\",源数据!A1536)","v":"小西装女包邮"},{"$f":"IF(源数据!B1536=\"\",\"\",源数据!B1536)","v":6},{"$f":"IF(源数据!C1536=\"\",\"\",源数据!C1536)","v":0.5},{"$f":"IF(源数据!D1536=\"\",\"\",源数据!D1536)","v":0},0,0,"女",0,0,"小西装",0,0,0,0,0,0,0,0,0]
[{"$f":"IF(源数据!A1537=\"\",\"\",源数据!A1537)","v":"小西装女长款"},{"$f":"IF(源数据!B1537=\"\",\"\",源数据!B1537)","v":2},{"$f":"IF(源数据!C1537=\"\",\"\",源数据!C1537)","v":0},{"$f":"IF(源数据!D1537=\"\",\"\",源数据!D1537)","v":0},0,0,"女",0,0,"小西装",0,0,0,0,0,0,0,0,0]
[{"$f":"IF(源数据!A1538=\"\",\"\",源数据!A1538)","v":"小西装女韩版"},{"$f":"IF(源数据!B1538=\"\",\"\",源数据!B1538)","v":1},{"$f":"IF(源数据!C1538=\"\",\"\",源数据!C1538)","v":1},{"$f":"IF(源数据!D1538=\"\",\"\",源数据!D1538)","v":0},0,0,"女",0,0,"小西装",0,0,0,0,0,0,0,0,0]
[{"$f":"IF(源数据!A1539=\"\",\"\",源数据!A1539)","v":"小西装女韩版外套身新款拼接"},{"$f":"IF(源数据!B1539=\"\",\"\",源数据!B1539)","v":1},{"$f":"IF(源数据!C1539=\"\",\"\",源数据!C1539)","v":0},{"$f":"IF(源数据!D1539=\"\",\"\",源数据!D1539)","v":1},{"$f":"IF($A1538=\"\",\"\",IF(E$1=\"\",\"\",IF(IFERROR(SEARCH(E$1,$A1539),0) >0,E$1,0)))","v":0},{"$f":"IF($A1538=\"\",\"\",IF(F$1=\"\",\"\",IF(IFERROR(SEARCH(F$1,$A1539),0) >0,F$1,0)))","v":0},{"$f":"IF($A1538=\"\",\"\",IF(G$1=\"\",\"\",IF(IFERROR(SEARCH(G$1,$A1539),0) >0,G$1,0)))","v":"女"},{"$f":"IF($A1538=\"\",\"\",IF(H$1=\"\",\"\",IF(IFERROR(SEARCH(H$1,$A1539),0) >0,H$1,0)))","v":0},{"$f":"IF($A1538=\"\",\"\",IF(I$1=\"\",\"\",IF(IFERROR(SEARCH(I$1,$A1539),0) >0,I$1,0)))","v":"外套"},{"$f":"IF($A1538=\"\",\"\",IF(J$1=\"\",\"\",IF(IFERROR(SEARCH(J$1,$A1539),0) >0,J$1,0)))","v":"小西装"},{"$f":"IF($A1538=\"\",\"\",IF(K$1=\"\",\"\",IF(IFERROR(SEARCH(K$1,$A1539),0) >0,K$1,0)))","v":0},{"$f":"IF($A1538=\"\",\"\",IF(L$1=\"\",\"\",IF(IFERROR(SEARCH(L$1,$A1539),0) >0,L$1,0)))","v":0},{"$f":"IF($A1538=\"\",\"\",IF(M$1=\"\",\"\",IF(IFERROR(SEARCH(M$1,$A1539),0) >0,M$1,0)))","v":0},{"$f":"IF($A1538=\"\",\"\",IF(N$1=\"\",\"\",IF(IFERROR(SEARCH(N$1,$A1539),0) >0,N$1,0)))","v":0},{"$f":"IF($A1538=\"\",\"\",IF(O$1=\"\",\"\",IF(IFERROR(SEARCH(O$1,$A1539),0) >0,O$1,0)))","v":0},{"$f":"IF($A1538=\"\",\"\",IF(P$1=\"\",\"\",IF(IFERROR(SEARCH(P$1,$A1539),0) >0,P$1,0)))","v":0},{"$f":"IF($A1538=\"\",\"\",IF(Q$1=\"\",\"\",IF(IFERROR(SEARCH(Q$1,$A1539),0) >0,Q$1,0)))","v":0},{"$f":"IF($A1538=\"\",\"\",IF(R$1=\"\",\"\",IF(IFERROR(SEARCH(R$1,$A1539),0) >0,R$1,0)))","v":0},{"$f":"IF($A1538=\"\",\"\",IF(S$1=\"\",\"\",IF(IFERROR(SEARCH(S$1,$A1539),0) >0,S$1,0)))","v":0}]
[{"$f":"IF(源数据!A1540=\"\",\"\",源数据!A1540)","v":"小西装女款"},{"$f":"IF(源数据!B1540=\"\",\"\",源数据!B1540)","v":1},{"$f":"IF(源数据!C1540=\"\",\"\",源数据!C1540)","v":1},{"$f":"IF(源数据!D1540=\"\",\"\",源数据!D1540)","v":0},0,0,"女",0,0,"小西装",0,0,0,0,0,0,0,0,0]
[{"$f":"IF(源数据!A1541=\"\",\"\",源数据!A1541)","v":"小西装女款韩版"},{"$f":"IF(源数据!B1541=\"\",\"\",源数据!B1541)","v":4},{"$f":"IF(源数据!C1541=\"\",\"\",源数据!C1541)","v":1},{"$f":"IF(源数据!D1541=\"\",\"\",源数据!D1541)","v":0},0,0,"女",0,0,"小西装",0,0,0,0,0,0,0,0,0]
[{"$f":"IF(源数据!A1542=\"\",\"\",源数据!A1542)","v":"小西装女款修身"},{"$f":"IF(源数据!B1542=\"\",\"\",源数据!B1542)","v":1},{"$f":"IF(源数据!C1542=\"\",\"\",源数据!C1542)","v":1},{"$f":"IF(源数据!D1542=\"\",\"\",源数据!D1542)","v":0},0,0,"女",0,0,"小西装",0,0,0,"修身",0,0,0,0,0]
[{"$f":"IF(源数据!A1543=\"\",\"\",源数据!A1543)","v":"小西装女生"},{"$f":"IF(源数据!B1543=\"\",\"\",源数据!B1543)","v":1},{"$f":"IF(源数据!C1543=\"\",\"\",源数据!C1543)","v":1},{"$f":"IF(源数据!D1543=\"\",\"\",源数据!D1543)","v":0},0,0,"女",0,0,"小西装",0,0,0,0,0,0,0,0,0]
[{"$f":"IF(源数据!A1544=\"\",\"\",源数据!A1544)","v":"小西装女士西装女装西服外套"},{"$f":"IF(源数据!B1544=\"\",\"\",源数据!B1544)","v":1},{"$f":"IF(源数据!C1544=\"\",\"\",源数据!C1544)","v":1},{"$f":"IF(源数据!D1544=\"\",\"\",源数据!D1544)","v":0},0,0,"女","女装","外套","小西装",0,"西服",0,0,0,0,0,0,0]
[{"$f":"IF(源数据!A1545=\"\",\"\",源数据!A1545)","v":"小西装女式"},{"$f":"IF(源数据!B1545=\"\",\"\",源数据!B1545)","v":2},{"$f":"IF(源数据!C1545=\"\",\"\",源数据!C1545)","v":1},{"$f":"IF(源数据!D1545=\"\",\"\",源数据!D1545)","v":0},0,0,"女",0,0,"小西装",0,0,0,0,0,0,0,0,0]
[{"$f":"IF(源数据!A1546=\"\",\"\",源数据!A1546)","v":"小西装女外套"},{"$f":"IF(源数据!B1546=\"\",\"\",源数据!B1546)","v":5},{"$f":"IF(源数据!C1546=\"\",\"\",源数据!C1546)","v":0.6},{"$f":"IF(源数据!D1546=\"\",\"\",源数据!D1546)","v":0},0,0,"女",0,"外套","小西装",0,0,0,0,0,0,0,0,0]
[{"$f":"IF(源数据!A1547=\"\",\"\",源数据!A1547)","v":"小西装女修身"},{"$f":"IF(源数据!B1547=\"\",\"\",源数据!B1547)","v":1},{"$f":"IF(源数据!C1547=\"\",\"\",源数据!C1547)","v":1},{"$f":"IF(源数据!D1547=\"\",\"\",源数据!D1547)","v":0},0,0,"女",0,0,"小西装",0,0,0,"修身",0,0,0,0,0]
[{"$f":"IF(源数据!A1548=\"\",\"\",源数据!A1548)","v":"小西装女修身长款"},{"$f":"IF(源数据!B1548=\"\",\"\",源数据!B1548)","v":1},{"$f":"IF(源数据!C1548=\"\",\"\",源数据!C1548)","v":1},{"$f":"IF(源数据!D1548=\"\",\"\",源数据!D1548)","v":0},0,0,"女",0,0,"小西装",0,0,0,"修身",0,0,0,0,0]
[{"$f":"IF(源数据!A1549=\"\",\"\",源数据!A1549)","v":"小西装女装"},{"$f":"IF(源数据!B1549=\"\",\"\",源数据!B1549)","v":1},{"$f":"IF(源数据!C1549=\"\",\"\",源数据!C1549)","v":0},{"$f":"IF(源数据!D1549=\"\",\"\",源数据!D1549)","v":0},0,0,"女","女装",0,"小西装",0,0,0,0,0,0,0,0,0]
[{"$f":"IF(源数据!A1550=\"\",\"\",源数据!A1550)","v":"小西装特价"},{"$f":"IF(源数据!B1550=\"\",\"\",源数据!B1550)","v":1},{"$f":"IF(源数据!C1550=\"\",\"\",源数据!C1550)","v":0},{"$f":"IF(源数据!D1550=\"\",\"\",源数据!D1550)","v":0},0,0,0,0,0,"小西装",0,0,0,0,0,0,0,0,0]
[{"$f":"IF(源数据!A1551=\"\",\"\",源数据!A1551)","v":"小西装外套"},{"$f":"IF(源数据!B1551=\"\",\"\",源数据!B1551)","v":9},{"$f":"IF(源数据!C1551=\"\",\"\",源数据!C1551)","v":0.66669999999999996},{"$f":"IF(源数据!D1551=\"\",\"\",源数据!D1551)","v":0},0,0,0,0,"外套","小西装",0,0,0,0,0,0,0,0,0]
[{"$f":"IF(源数据!A1552=\"\",\"\",源数据!A1552)","v":"小西装外套 女"},{"$f":"IF(源数据!B1552=\"\",\"\",源数据!B1552)","v":64},{"$f":"IF(源数据!C1552=\"\",\"\",源数据!C1552)","v":0.73440000000000005},{"$f":"IF(源数据!D1552=\"\",\"\",源数据!D1552)","v":3},0,0,"女",0,"外套","小西装",0,0,0,0,0,0,0,0,0]
[{"$f":"IF(源数据!A1553=\"\",\"\",源数据!A1553)","v":"小西装外套 女 春秋"},{"$f":"IF(源数据!B1553=\"\",\"\",源数据!B1553)","v":2},{"$f":"IF(源数据!C1553=\"\",\"\",源数据!C1553)","v":0},{"$f":"IF(源数据!D1553=\"\",\"\",源数据!D1553)","v":0},0,0,"女",0,"外套","小西装",0,0,0,0,0,"春秋",0,0,0]
[{"$f":"IF(源数据!A1554=\"\",\"\",源数据!A1554)","v":"小西装外套 女包邮"},{"$f":"IF(源数据!B1554=\"\",\"\",源数据!B1554)","v":32},{"$f":"IF(源数据!C1554=\"\",\"\",源数据!C1554)","v":0.8125},{"$f":"IF(源数据!D1554=\"\",\"\",源数据!D1554)","v":1},0,0,"女",0,"外套","小西装",0,0,0,0,0,0,0,0,0]
[{"$f":"IF(源数据!A1555=\"\",\"\",源数据!A1555)","v":"小西装外套 女装 春秋"},{"$f":"IF(源数据!B1555=\"\",\"\",源数据!B1555)","v":1},{"$f":"IF(源数据!C1555=\"\",\"\",源数据!C1555)","v":1},{"$f":"IF(源数据!D1555=\"\",\"\",源数据!D1555)","v":0},0,0,"女","女装","外套","小西装",0,0,0,0,0,"春秋",0,0,0]
[{"$f":"IF(源数据!A1556=\"\",\"\",源数据!A1556)","v":"小西装外套春秋 包邮"},{"$f":"IF(源数据!B1556=\"\",\"\",源数据!B1556)","v":1},{"$f":"IF(源数据!C1556=\"\",\"\",源数据!C1556)","v":0},{"$f":"IF(源数据!D1556=\"\",\"\",源数据!D1556)","v":0},0,0,0,0,"外套","小西装",0,0,0,0,0,"春秋",0,0,0]
[{"$f":"IF(源数据!A1557=\"\",\"\",源数据!A1557)","v":"小西装外套春装"},{"$f":"IF(源数据!B1557=\"\",\"\",源数据!B1557)","v":1},{"$f":"IF(源数据!C1557=\"\",\"\",源数据!C1557)","v":1},{"$f":"IF(源数据!D1557=\"\",\"\",源数据!D1557)","v":0},0,"春装",0,0,"外套","小西装",0,0,0,0,0,0,0,0,0]
[{"$f":"IF(源数据!A1558=\"\",\"\",源数据!A1558)","v":"小西装外套女"},{"$f":"IF(源数据!B1558=\"\",\"\",源数据!B1558)","v":28},{"$f":"IF(源数据!C1558=\"\",\"\",源数据!C1558)","v":0.78569999999999995},{"$f":"IF(源数据!D1558=\"\",\"\",源数据!D1558)","v":0},0,0,"女",0,"外套","小西装",0,0,0,0,0,0,0,0,0]
[{"$f":"IF(源数据!A1559=\"\",\"\",源数据!A1559)","v":"小西装外套女 红色"},{"$f":"IF(源数据!B1559=\"\",\"\",源数据!B1559)","v":1},{"$f":"IF(源数据!C1559=\"\",\"\",源数据!C1559)","v":1},{"$f":"IF(源数据!D1559=\"\",\"\",源数据!D1559)","v":0},0,0,"女",0,"外套","小西装",0,0,0,0,0,0,0,0,0]
[{"$f":"IF(源数据!A1560=\"\",\"\",源数据!A1560)","v":"小西装外套女韩版"},{"$f":"IF(源数据!B1560=\"\",\"\",源数据!B1560)","v":1},{"$f":"IF(源数据!C1560=\"\",\"\",源数据!C1560)","v":0},{"$f":"IF(源数据!D1560=\"\",\"\",源数据!D1560)","v":0},0,0,"女",0,"外套","小西装",0,0,0,0,0,0,0,0,0]
[{"$f":"IF(源数据!A1561=\"\",\"\",源数据!A1561)","v":"小西装外套女士"},{"$f":"IF(源数据!B1561=\"\",\"\",源数据!B1561)","v":1},{"$f":"IF(源数据!C1561=\"\",\"\",源数据!C1561)","v":1},{"$f":"IF(源数据!D1561=\"\",\"\",源数据!D1561)","v":0},0,0,"女",0,"外套","小西装",0,0,0,0,0,0,0,0,0]
[{"$f":"IF(源数据!A1562=\"\",\"\",源数据!A1562)","v":"小西装外套女修身"},{"$f":"IF(源数据!B1562=\"\",\"\",源数据!B1562)","v":1},{"$f":"IF(源数据!C1562=\"\",\"\",源数据!C1562)","v":1},{"$f":"IF(源数据!D1562=\"\",\"\",源数据!D1562)","v":0},0,0,"女",0,"外套","小西装",0,0,0,"修身",0,0,0,0,0]
[{"$f":"IF(源数据!A1563=\"\",\"\",源数据!A1563)","v":"小西装外套女修身春秋韩版"},{"$f":"IF(源数据!B1563=\"\",\"\",源数据!B1563)","v":1},{"$f":"IF(源数据!C1563=\"\",\"\",源数据!C1563)","v":1},{"$f":"IF(源数据!D1563=\"\",\"\",源数据!D1563)","v":0},0,0,"女",0,"外套","小西装",0,0,0,"修身",0,"春秋",0,0,0]
[{"$f":"IF(源数据!A1564=\"\",\"\",源数据!A1564)","v":"小西装外套女修身春秋韩版西服长袖"},{"$f":"IF(源数据!B1564=\"\",\"\",源数据!B1564)","v":1},{"$f":"IF(源数据!C1564=\"\",\"\",源数据!C1564)","v":1},{"$f":"IF(源数据!D1564=\"\",\"\",源数据!D1564)","v":0},0,0,"女",0,"外套","小西装",0,"西服",0,"修身",0,"春秋",0,0,0]
[{"$f":"IF(源数据!A1565=\"\",\"\",源数据!A1565)","v":"小西装外套修身休闲拼接雪纺"},{"$f":"IF(源数据!B1565=\"\",\"\",源数据!B1565)","v":3},{"$f":"IF(源数据!C1565=\"\",\"\",源数据!C1565)","v":0},{"$f":"IF(源数据!D1565=\"\",\"\",源数据!D1565)","v":0},0,0,0,0,"外套","小西装",0,0,"休闲","修身",0,0,0,0,0]
[{"$f":"IF(源数据!A1566=\"\",\"\",源数据!A1566)","v":"小西装外套修身休闲拼接雪纺长袖小西装"},{"$f":"IF(源数据!B1566=\"\",\"\",源数据!B1566)","v":1},{"$f":"IF(源数据!C1566=\"\",\"\",源数据!C1566)","v":1},{"$f":"IF(源数据!D1566=\"\",\"\",源数据!D1566)","v":0},0,0,0,0,"外套","小西装",0,0,"休闲","修身",0,0,0,0,0]
[{"$f":"IF(源数据!A1567=\"\",\"\",源数据!A1567)","v":"小西装销量最多"},{"$f":"IF(源数据!B1567=\"\",\"\",源数据!B1567)","v":1},{"$f":"IF(源数据!C1567=\"\",\"\",源数据!C1567)","v":1},{"$f":"IF(源数据!D1567=\"\",\"\",源数据!D1567)","v":0},0,0,0,0,0,"小西装",0,0,0,0,0,0,0,0,0]
[{"$f":"IF(源数据!A1568=\"\",\"\",源数据!A1568)","v":"小西装修身韩版外套"},{"$f":"IF(源数据!B1568=\"\",\"\",源数据!B1568)","v":1},{"$f":"IF(源数据!C1568=\"\",\"\",源数据!C1568)","v":1},{"$f":"IF(源数据!D1568=\"\",\"\",源数据!D1568)","v":0},0,0,0,0,"外套","小西装",0,0,0,"修身",0,0,0,0,0]
[{"$f":"IF(源数据!A1569=\"\",\"\",源数据!A1569)","v":"小西装修身女"},{"$f":"IF(源数据!B1569=\"\",\"\",源数据!B1569)","v":2},{"$f":"IF(源数据!C1569=\"\",\"\",源数据!C1569)","v":1},{"$f":"IF(源数据!D1569=\"\",\"\",源数据!D1569)","v":0},0,0,"女",0,0,"小西装",0,0,0,"修身",0,0,0,0,0]
[{"$f":"IF(源数据!A1570=\"\",\"\",源数据!A1570)","v":"新款 春装小西服"},{"$f":"IF(源数据!B1570=\"\",\"\",源数据!B1570)","v":1},{"$f":"IF(源数据!C1570=\"\",\"\",源数据!C1570)","v":1},{"$f":"IF(源数据!D1570=\"\",\"\",源数据!D1570)","v":0},0,"春装",0,0,0,0,0,"西服",0,0,0,0,0,0,0]
[{"$f":"IF(源数据!A1571=\"\",\"\",源数据!A1571)","v":"新款 小西装"},{"$f":"IF(源数据!B1571=\"\",\"\",源数据!B1571)","v":1},{"$f":"IF(源数据!C1571=\"\",\"\",源数据!C1571)","v":1},{"$f":"IF(源数据!D1571=\"\",\"\",源数据!D1571)","v":0},0,0,0,0,0,"小西装",0,0,0,0,0,0,0,0,0]
[{"$f":"IF(源数据!A1572=\"\",\"\",源数据!A1572)","v":"新款白色西服女装"},{"$f":"IF(源数据!B1572=\"\",\"\",源数据!B1572)","v":1},{"$f":"IF(源数据!C1572=\"\",\"\",源数据!C1572)","v":1},{"$f":"IF(源数据!D1572=\"\",\"\",源数据!D1572)","v":0},0,0,"女","女装",0,0,0,"西服",0,0,0,0,"白色",0,0]
[{"$f":"IF(源数据!A1573=\"\",\"\",源数据!A1573)","v":"新款春秋 外套 女"},{"$f":"IF(源数据!B1573=\"\",\"\",源数据!B1573)","v":1},{"$f":"IF(源数据!C1573=\"\",\"\",源数据!C1573)","v":1},{"$f":"IF(源数据!D1573=\"\",\"\",源数据!D1573)","v":0},0,0,"女",0,"外套",0,0,0,0,0,0,"春秋",0,0,0]
[{"$f":"IF(源数据!A1574=\"\",\"\",源数据!A1574)","v":"新款春秋女装韩版修身休闲一粒扣雪纺小西装西服女中长款外套"},{"$f":"IF(源数据!B1574=\"\",\"\",源数据!B1574)","v":1},{"$f":"IF(源数据!C1574=\"\",\"\",源数据!C1574)","v":0},{"$f":"IF(源数据!D1574=\"\",\"\",源数据!D1574)","v":0},0,0,"女","女装","外套","小西装",0,"西服","休闲","修身",0,"春秋",0,0,0]
[{"$f":"IF(源数据!A1575=\"\",\"\",源数据!A1575)","v":"新款春外套女"},{"$f":"IF(源数据!B1575=\"\",\"\",源数据!B1575)","v":1},{"$f":"IF(源数据!C1575=\"\",\"\",源数据!C1575)","v":1},{"$f":"IF(源数据!D1575=\"\",\"\",源数据!D1575)","v":0},0,0,"女",0,"外套",0,0,0,0,0,0,0,0,0,0]
[{"$f":"IF(源数据!A1576=\"\",\"\",源数据!A1576)","v":"新款春装女装外套 豹纹边 韩版耸肩修身"},{"$f":"IF(源数据!B1576=\"\",\"\",源数据!B1576)","v":1},{"$f":"IF(源数据!C1576=\"\",\"\",源数据!C1576)","v":0},{"$f":"IF(源数据!D1576=\"\",\"\",源数据!D1576)","v":0},0,"春装","女","女装","外套",0,0,0,0,"修身",0,0,0,0,0]
[{"$f":"IF(源数据!A1577=\"\",\"\",源数据!A1577)","v":"新款春装外套"},{"$f":"IF(源数据!B1577=\"\",\"\",源数据!B1577)","v":3},{"$f":"IF(源数据!C1577=\"\",\"\",源数据!C1577)","v":0},{"$f":"IF(源数据!D1577=\"\",\"\",源数据!D1577)","v":0},0,"春装",0,0,"外套",0,0,0,0,0,0,0,0,0,0]
[{"$f":"IF(源数据!A1578=\"\",\"\",源数据!A1578)","v":"新款春装外套2013女装"},{"$f":"IF(源数据!B1578=\"\",\"\",源数据!B1578)","v":2},{"$f":"IF(源数据!C1578=\"\",\"\",源数据!C1578)","v":1},{"$f":"IF(源数据!D1578=\"\",\"\",源数据!D1578)","v":0},0,"春装","女","女装","外套",0,2013,0,0,0,0,0,0,0,0]
[{"$f":"IF(源数据!A1579=\"\",\"\",源数据!A1579)","v":"新款春装小西服"},{"$f":"IF(源数据!B1579=\"\",\"\",源数据!B1579)","v":1},{"$f":"IF(源数据!C1579=\"\",\"\",源数据!C1579)","v":0},{"$f":"IF(源数据!D1579=\"\",\"\",源数据!D1579)","v":0},0,"春装",0,0,0,0,0,"西服",0,0,0,0,0,0,0]
[{"$f":"IF(源数据!A1580=\"\",\"\",源数据!A1580)","v":"新款春裝小西服"},{"$f":"IF(源数据!B1580=\"\",\"\",源数据!B1580)","v":1},{"$f":"IF(源数据!C1580=\"\",\"\",源数据!C1580)","v":1},{"$f":"IF(源数据!D1580=\"\",\"\",源数据!D1580)","v":0},0,0,0,0,0,0,0,"西服",0,0,0,0,0,0,0]
[{"$f":"IF(源数据!A1581=\"\",\"\",源数据!A1581)","v":"新款加大码女装胖mm秋冬装韩版时尚休闲中长款显瘦小西装外套黑色包邮"},{"$f":"IF(源数据!B1581=\"\",\"\",源数据!B1581)","v":1},{"$f":"IF(源数据!C1581=\"\",\"\",源数据!C1581)","v":1},{"$f":"IF(源数据!D1581=\"\",\"\",源数据!D1581)","v":0},0,0,"女","女装","外套","小西装",0,0,"休闲",0,0,0,0,0,0]
[{"$f":"IF(源数据!A1582=\"\",\"\",源数据!A1582)","v":"新款女式春秋季小外套"},{"$f":"IF(源数据!B1582=\"\",\"\",源数据!B1582)","v":1},{"$f":"IF(源数据!C1582=\"\",\"\",源数据!C1582)","v":1},{"$f":"IF(源数据!D1582=\"\",\"\",源数据!D1582)","v":0},0,0,"女",0,"外套",0,0,0,0,0,0,"春秋",0,0,0]
[{"$f":"IF(源数据!A1583=\"\",\"\",源数据!A1583)","v":"新款女式休闲西服"},{"$f":"IF(源数据!B1583=\"\",\"\",源数据!B1583)","v":1},{"$f":"IF(源数据!C1583=\"\",\"\",源数据!C1583)","v":1},{"$f":"IF(源数据!D1583=\"\",\"\",源数据!D1583)","v":0},0,0,"女",0,0,0,0,"西服","休闲",0,0,0,0,0,0]
[{"$f":"IF(源数据!A1584=\"\",\"\",源数据!A1584)","v":"新款女外套春装"},{"$f":"IF(源数据!B1584=\"\",\"\",源数据!B1584)","v":1},{"$f":"IF(源数据!C1584=\"\",\"\",源数据!C1584)","v":1},{"$f":"IF(源数据!D1584=\"\",\"\",源数据!D1584)","v":0},0,"春装","女",0,"外套",0,0,0,0,0,0,0,0,0,0]
[{"$f":"IF(源数据!A1585=\"\",\"\",源数据!A1585)","v":"新款女装外套 潮"},{"$f":"IF(源数据!B1585=\"\",\"\",源数据!B1585)","v":1},{"$f":"IF(源数据!C1585=\"\",\"\",源数据!C1585)","v":1},{"$f":"IF(源数据!D1585=\"\",\"\",源数据!D1585)","v":0},"潮",0,"女","女装","外套",0,0,0,0,0,0,0,0,0,0]
[{"$f":"IF(源数据!A1586=\"\",\"\",源数据!A1586)","v":"新款女装外套韩版"},{"$f":"IF(源数据!B1586=\"\",\"\",源数据!B1586)","v":1},{"$f":"IF(源数据!C1586=\"\",\"\",源数据!C1586)","v":1},{"$f":"IF(源数据!D1586=\"\",\"\",源数据!D1586)","v":0},0,0,"女","女装","外套",0,0,0,0,0,0,0,0,0,0]
[{"$f":"IF(源数据!A1587=\"\",\"\",源数据!A1587)","v":"新款女装西服外套"},{"$f":"IF(源数据!B1587=\"\",\"\",源数据!B1587)","v":1},{"$f":"IF(源数据!C1587=\"\",\"\",源数据!C1587)","v":0},{"$f":"IF(源数据!D1587=\"\",\"\",源数据!D1587)","v":0},0,0,"女","女装","外套",0,0,"西服",0,0,0,0,0,0,0]
[{"$f":"IF(源数据!A1588=\"\",\"\",源数据!A1588)","v":"新款时尚女版西服"},{"$f":"IF(源数据!B1588=\"\",\"\",源数据!B1588)","v":1},{"$f":"IF(源数据!C1588=\"\",\"\",源数据!C1588)","v":1},{"$f":"IF(源数据!D1588=\"\",\"\",源数据!D1588)","v":0},0,0,"女",0,0,0,0,"西服",0,0,0,0,0,0,0]
[{"$f":"IF(源数据!A1589=\"\",\"\",源数据!A1589)","v":"新款外套 女 潮"},{"$f":"IF(源数据!B1589=\"\",\"\",源数据!B1589)","v":1},{"$f":"IF(源数据!C1589=\"\",\"\",源数据!C1589)","v":1},{"$f":"IF(源数据!D1589=\"\",\"\",源数据!D1589)","v":0},"潮",0,"女",0,"外套",0,0,0,0,0,0,0,0,0,0]
[{"$f":"IF(源数据!A1590=\"\",\"\",源数据!A1590)","v":"新款西服外套女"},{"$f":"IF(源数据!B1590=\"\",\"\",源数据!B1590)","v":1},{"$f":"IF(源数据!C1590=\"\",\"\",源数据!C1590)","v":1},{"$f":"IF(源数据!D1590=\"\",\"\",源数据!D1590)","v":0},0,0,"女",0,"外套",0,0,"西服",0,0,0,0,0,0,0]
[{"$f":"IF(源数据!A1591=\"\",\"\",源数据!A1591)","v":"新款西服外套女2013"},{"$f":"IF(源数据!B1591=\"\",\"\",源数据!B1591)","v":1},{"$f":"IF(源数据!C1591=\"\",\"\",源数据!C1591)","v":0},{"$f":"IF(源数据!D1591=\"\",\"\",源数据!D1591)","v":0},0,0,"女",0,"外套",0,2013,"西服",0,0,0,0,0,0,0]
[{"$f":"IF(源数据!A1592=\"\",\"\",源数据!A1592)","v":"新款西装 女"},{"$f":"IF(源数据!B1592=\"\",\"\",源数据!B1592)","v":1},{"$f":"IF(源数据!C1592=\"\",\"\",源数据!C1592)","v":1},{"$f":"IF(源数据!D1592=\"\",\"\",源数据!D1592)","v":0},0,0,"女",0,0,0,0,0,0,0,0,0,0,0,0]
[{"$f":"IF(源数据!A1593=\"\",\"\",源数据!A1593)","v":"新款西装2013女装"},{"$f":"IF(源数据!B1593=\"\",\"\",源数据!B1593)","v":2},{"$f":"IF(源数据!C1593=\"\",\"\",源数据!C1593)","v":1},{"$f":"IF(源数据!D1593=\"\",\"\",源数据!D1593)","v":0},0,0,"女","女装",0,0,2013,0,0,0,0,0,0,0,0]
[{"$f":"IF(源数据!A1594=\"\",\"\",源数据!A1594)","v":"新款小西服"},{"$f":"IF(源数据!B1594=\"\",\"\",源数据!B1594)","v":1},{"$f":"IF(源数据!C1594=\"\",\"\",源数据!C1594)","v":0},{"$f":"IF(源数据!D1594=\"\",\"\",源数据!D1594)","v":0},0,0,0,0,0,0,0,"西服",0,0,0,0,0,0,0]
[{"$f":"IF(源数据!A1595=\"\",\"\",源数据!A1595)","v":"新款小西服外套"},{"$f":"IF(源数据!B1595=\"\",\"\",源数据!B1595)","v":1},{"$f":"IF(源数据!C1595=\"\",\"\",源数据!C1595)","v":1},{"$f":"IF(源数据!D1595=\"\",\"\",源数据!D1595)","v":0},0,0,0,0,"外套",0,0,"西服",0,0,0,0,0,0,0]
[{"$f":"IF(源数据!A1596=\"\",\"\",源数据!A1596)","v":"新款小西装 女 修身"},{"$f":"IF(源数据!B1596=\"\",\"\",源数据!B1596)","v":1},{"$f":"IF(源数据!C1596=\"\",\"\",源数据!C1596)","v":1},{"$f":"IF(源数据!D1596=\"\",\"\",源数据!D1596)","v":0},0,0,"女",0,0,"小西装",0,0,0,"修身",0,0,0,0,0]
[{"$f":"IF(源数据!A1597=\"\",\"\",源数据!A1597)","v":"新款小西装2013 女"},{"$f":"IF(源数据!B1597=\"\",\"\",源数据!B1597)","v":2},{"$f":"IF(源数据!C1597=\"\",\"\",源数据!C1597)","v":1},{"$f":"IF(源数据!D1597=\"\",\"\",源数据!D1597)","v":0},0,0,"女",0,0,"小西装",2013,0,0,0,0,0,0,0,0]
[{"$f":"IF(源数据!A1598=\"\",\"\",源数据!A1598)","v":"新款小西装女春装"},{"$f":"IF(源数据!B1598=\"\",\"\",源数据!B1598)","v":1},{"$f":"IF(源数据!C1598=\"\",\"\",源数据!C1598)","v":1},{"$f":"IF(源数据!D1598=\"\",\"\",源数据!D1598)","v":0},0,"春装","女",0,0,"小西装",0,0,0,0,0,0,0,0,0]
[{"$f":"IF(源数据!A1599=\"\",\"\",源数据!A1599)","v":"新款休闲外套 女 春秋"},{"$f":"IF(源数据!B1599=\"\",\"\",源数据!B1599)","v":1},{"$f":"IF(源数据!C1599=\"\",\"\",源数据!C1599)","v":1},{"$f":"IF(源数据!D1599=\"\",\"\",源数据!D1599)","v":0},0,0,"女",0,"外套",0,0,0,"休闲",0,0,"春秋",0,0,0]
[{"$f":"IF(源数据!A1600=\"\",\"\",源数据!A1600)","v":"新款休闲小西装2013 女"},{"$f":"IF(源数据!B1600=\"\",\"\",源数据!B1600)","v":1},{"$f":"IF(源数据!C1600=\"\",\"\",源数据!C1600)","v":0},{"$f":"IF(源数据!D1600=\"\",\"\",源数据!D1600)","v":0},0,0,"女",0,0,"小西装",2013,0,"休闲",0,0,0,0,0,0]
[{"$f":"IF(源数据!A1601=\"\",\"\",源数据!A1601)","v":"休身西服 女"},{"$f":"IF(源数据!B1601=\"\",\"\",源数据!B1601)","v":1},{"$f":"IF(源数据!C1601=\"\",\"\",源数据!C1601)","v":1},{"$f":"IF(源数据!D1601=\"\",\"\",源数据!D1601)","v":0},0,0,"女",0,0,0,0,"西服",0,0,0,0,0,0,0]
[{"$f":"IF(源数据!A1602=\"\",\"\",源数据!A1602)","v":"休闲 女 外套 春秋"},{"$f":"IF(源数据!B1602=\"\",\"\",源数据!B1602)","v":1},{"$f":"IF(源数据!C1602=\"\",\"\",源数据!C1602)","v":0},{"$f":"IF(源数据!D1602=\"\",\"\",源数据!D1602)","v":0},0,0,"女",0,"外套",0,0,0,"休闲",0,0,"春秋",0,0,0]
[{"$f":"IF(源数据!A1603=\"\",\"\",源数据!A1603)","v":"休闲 女裤 春秋 白色"},{"$f":"IF(源数据!B1603=\"\",\"\",源数据!B1603)","v":1},{"$f":"IF(源数据!C1603=\"\",\"\",源数据!C1603)","v":1},{"$f":"IF(源数据!D1603=\"\",\"\",源数据!D1603)","v":0},{"$f":"IF($A1602=\"\",\"\",IF(E$1=\"\",\"\",IF(IFERROR(SEARCH(E$1,$A1603),0) >0,E$1,0)))","v":0},{"$f":"IF($A1602=\"\",\"\",IF(F$1=\"\",\"\",IF(IFERROR(SEARCH(F$1,$A1603),0) >0,F$1,0)))","v":0},{"$f":"IF($A1602=\"\",\"\",IF(G$1=\"\",\"\",IF(IFERROR(SEARCH(G$1,$A1603),0) >0,G$1,0)))","v":"女"},{"$f":"IF($A1602=\"\",\"\",IF(H$1=\"\",\"\",IF(IFERROR(SEARCH(H$1,$A1603),0) >0,H$1,0)))","v":0},{"$f":"IF($A1602=\"\",\"\",IF(I$1=\"\",\"\",IF(IFERROR(SEARCH(I$1,$A1603),0) >0,I$1,0)))","v":0},{"$f":"IF($A1602=\"\",\"\",IF(J$1=\"\",\"\",IF(IFERROR(SEARCH(J$1,$A1603),0) >0,J$1,0)))","v":0},{"$f":"IF($A1602=\"\",\"\",IF(K$1=\"\",\"\",IF(IFERROR(SEARCH(K$1,$A1603),0) >0,K$1,0)))","v":0},{"$f":"IF($A1602=\"\",\"\",IF(L$1=\"\",\"\",IF(IFERROR(SEARCH(L$1,$A1603),0) >0,L$1,0)))","v":0},{"$f":"IF($A1602=\"\",\"\",IF(M$1=\"\",\"\",IF(IFERROR(SEARCH(M$1,$A1603),0) >0,M$1,0)))","v":"休闲"},{"$f":"IF($A1602=\"\",\"\",IF(N$1=\"\",\"\",IF(IFERROR(SEARCH(N$1,$A1603),0) >0,N$1,0)))","v":0},{"$f":"IF($A1602=\"\",\"\",IF(O$1=\"\",\"\",IF(IFERROR(SEARCH(O$1,$A1603),0) >0,O$1,0)))","v":0},{"$f":"IF($A1602=\"\",\"\",IF(P$1=\"\",\"\",IF(IFERROR(SEARCH(P$1,$A1603),0) >0,P$1,0)))","v":"春秋"},{"$f":"IF($A1602=\"\",\"\",IF(Q$1=\"\",\"\",IF(IFERROR(SEARCH(Q$1,$A1603),0) >0,Q$1,0)))","v":"白色"},{"$f":"IF($A1602=\"\",\"\",IF(R$1=\"\",\"\",IF(IFERROR(SEARCH(R$1,$A1603),0) >0,R$1,0)))","v":0},{"$f":"IF($A1602=\"\",\"\",IF(S$1=\"\",\"\",IF(IFERROR(SEARCH(S$1,$A1603),0) >0,S$1,0)))","v":0}]
[{"$f":"IF(源数据!A1604=\"\",\"\",源数据!A1604)","v":"休闲 外套"},{"$f":"IF(源数据!B1604=\"\",\"\",源数据!B1604)","v":1},{"$f":"IF(源数据!C1604=\"\",\"\",源数据!C1604)","v":1},{"$f":"IF(源数据!D1604=\"\",\"\",源数据!D1604)","v":0},0,0,0,0,"外套",0,0,0,"休闲",0,0,0,0,0,0]
[{"$f":"IF(源数据!A1605=\"\",\"\",源数据!A1605)","v":"休闲 西装 女"},{"$f":"IF(源数据!B1605=\"\",\"\",源数据!B1605)","v":3},{"$f":"IF(源数据!C1605=\"\",\"\",源数据!C1605)","v":0.66669999999999996},{"$f":"IF(源数据!D1605=\"\",\"\",源数据!D1605)","v":0},0,0,"女",0,0,0,0,0,"休闲",0,0,0,0,0,0]
[{"$f":"IF(源数据!A1606=\"\",\"\",源数据!A1606)","v":"休闲 小西装"},{"$f":"IF(源数据!B1606=\"\",\"\",源数据!B1606)","v":1},{"$f":"IF(源数据!C1606=\"\",\"\",源数据!C1606)","v":0},{"$f":"IF(源数据!D1606=\"\",\"\",源数据!D1606)","v":0},0,0,0,0,0,"小西装",0,0,"休闲",0,0,0,0,0,0]
[{"$f":"IF(源数据!A1607=\"\",\"\",源数据!A1607)","v":"休闲白色西装 女 春秋"},{"$f":"IF(源数据!B1607=\"\",\"\",源数据!B1607)","v":1},{"$f":"IF(源数据!C1607=\"\",\"\",源数据!C1607)","v":0},{"$f":"IF(源数据!D1607=\"\",\"\",源数据!D1607)","v":1},0,0,"女",0,0,0,0,0,"休闲",0,0,"春秋","白色",0,0]
[{"$f":"IF(源数据!A1608=\"\",\"\",源数据!A1608)","v":"休闲白色小西装 韩版"},{"$f":"IF(源数据!B1608=\"\",\"\",源数据!B1608)","v":1},{"$f":"IF(源数据!C1608=\"\",\"\",源数据!C1608)","v":1},{"$f":"IF(源数据!D1608=\"\",\"\",源数据!D1608)","v":0},0,0,0,0,0,"小西装",0,0,"休闲",0,0,0,"白色",0,0]
[{"$f":"IF(源数据!A1609=\"\",\"\",源数据!A1609)","v":"休闲白色小西装 女"},{"$f":"IF(源数据!B1609=\"\",\"\",源数据!B1609)","v":1},{"$f":"IF(源数据!C1609=\"\",\"\",源数据!C1609)","v":1},{"$f":"IF(源数据!D1609=\"\",\"\",源数据!D1609)","v":0},0,0,"女",0,0,"小西装",0,0,"休闲",0,0,0,"白色",0,0]
[{"$f":"IF(源数据!A1610=\"\",\"\",源数据!A1610)","v":"休闲版西服 女"},{"$f":"IF(源数据!B1610=\"\",\"\",源数据!B1610)","v":1},{"$f":"IF(源数据!C1610=\"\",\"\",源数据!C1610)","v":1},{"$f":"IF(源数据!D1610=\"\",\"\",源数据!D1610)","v":0},0,0,"女",0,0,0,0,"西服","休闲",0,0,0,0,0,0]
[{"$f":"IF(源数据!A1611=\"\",\"\",源数据!A1611)","v":"休闲长款西服韩版女"},{"$f":"IF(源数据!B1611=\"\",\"\",源数据!B1611)","v":1},{"$f":"IF(源数据!C1611=\"\",\"\",源数据!C1611)","v":0},{"$f":"IF(源数据!D1611=\"\",\"\",源数据!D1611)","v":0},0,0,"女",0,0,0,0,"西服","休闲",0,0,0,0,0,0]
[{"$f":"IF(源数据!A1612=\"\",\"\",源数据!A1612)","v":"休闲长款西装 女"},{"$f":"IF(源数据!B1612=\"\",\"\",源数据!B1612)","v":1},{"$f":"IF(源数据!C1612=\"\",\"\",源数据!C1612)","v":1},{"$f":"IF(源数据!D1612=\"\",\"\",源数据!D1612)","v":0},0,0,"女",0,0,0,0,0,"休闲",0,0,0,0,0,0]
[{"$f":"IF(源数据!A1613=\"\",\"\",源数据!A1613)","v":"休闲黑色外套女"},{"$f":"IF(源数据!B1613=\"\",\"\",源数据!B1613)","v":1},{"$f":"IF(源数据!C1613=\"\",\"\",源数据!C1613)","v":1},{"$f":"IF(源数据!D1613=\"\",\"\",源数据!D1613)","v":0},0,0,"女",0,"外套",0,0,0,"休闲",0,0,0,0,0,0]
[{"$f":"IF(源数据!A1614=\"\",\"\",源数据!A1614)","v":"休闲款女外套春"},{"$f":"IF(源数据!B1614=\"\",\"\",源数据!B1614)","v":1},{"$f":"IF(源数据!C1614=\"\",\"\",源数据!C1614)","v":1},{"$f":"IF(源数据!D1614=\"\",\"\",源数据!D1614)","v":0},0,0,"女",0,"外套",0,0,0,"休闲",0,0,0,0,0,0]
[{"$f":"IF(源数据!A1615=\"\",\"\",源数据!A1615)","v":"休闲款小西装女"},{"$f":"IF(源数据!B1615=\"\",\"\",源数据!B1615)","v":1},{"$f":"IF(源数据!C1615=\"\",\"\",源数据!C1615)","v":1},{"$f":"IF(源数据!D1615=\"\",\"\",源数据!D1615)","v":0},0,0,"女",0,0,"小西装",0,0,"休闲",0,0,0,0,0,0]
[{"$f":"IF(源数据!A1616=\"\",\"\",源数据!A1616)","v":"休闲女式西装"},{"$f":"IF(源数据!B1616=\"\",\"\",源数据!B1616)","v":1},{"$f":"IF(源数据!C1616=\"\",\"\",源数据!C1616)","v":0},{"$f":"IF(源数据!D1616=\"\",\"\",源数据!D1616)","v":0},0,0,"女",0,0,0,0,0,"休闲",0,0,0,0,0,0]
[{"$f":"IF(源数据!A1617=\"\",\"\",源数据!A1617)","v":"休闲女西服"},{"$f":"IF(源数据!B1617=\"\",\"\",源数据!B1617)","v":1},{"$f":"IF(源数据!C1617=\"\",\"\",源数据!C1617)","v":1},{"$f":"IF(源数据!D1617=\"\",\"\",源数据!D1617)","v":0},0,0,"女",0,0,0,0,"西服","休闲",0,0,0,0,0,0]
[{"$f":"IF(源数据!A1618=\"\",\"\",源数据!A1618)","v":"休闲女西装"},{"$f":"IF(源数据!B1618=\"\",\"\",源数据!B1618)","v":2},{"$f":"IF(源数据!C1618=\"\",\"\",源数据!C1618)","v":0.5},{"$f":"IF(源数据!D1618=\"\",\"\",源数据!D1618)","v":0},0,0,"女",0,0,0,0,0,"休闲",0,0,0,0,0,0]
[{"$f":"IF(源数据!A1619=\"\",\"\",源数据!A1619)","v":"休闲女西装韩版"},{"$f":"IF(源数据!B1619=\"\",\"\",源数据!B1619)","v":1},{"$f":"IF(源数据!C1619=\"\",\"\",源数据!C1619)","v":1},{"$f":"IF(源数据!D1619=\"\",\"\",源数据!D1619)","v":0},0,0,"女",0,0,0,0,0,"休闲",0,0,0,0,0,0]
[{"$f":"IF(源数据!A1620=\"\",\"\",源数据!A1620)","v":"休闲女小西装"},{"$f":"IF(源数据!B1620=\"\",\"\",源数据!B1620)","v":1},{"$f":"IF(源数据!C1620=\"\",\"\",源数据!C1620)","v":1},{"$f":"IF(源数据!D1620=\"\",\"\",源数据!D1620)","v":0},0,0,"女",0,0,"小西装",0,0,"休闲",0,0,0,0,0,0]
[{"$f":"IF(源数据!A1621=\"\",\"\",源数据!A1621)","v":"休闲女装春秋"},{"$f":"IF(源数据!B1621=\"\",\"\",源数据!B1621)","v":2},{"$f":"IF(源数据!C1621=\"\",\"\",源数据!C1621)","v":1},{"$f":"IF(源数据!D1621=\"\",\"\",源数据!D1621)","v":0},0,0,"女","女装",0,0,0,0,"休闲",0,0,"春秋",0,0,0]
[{"$f":"IF(源数据!A1622=\"\",\"\",源数据!A1622)","v":"休闲女装外套"},{"$f":"IF(源数据!B1622=\"\",\"\",源数据!B1622)","v":1},{"$f":"IF(源数据!C1622=\"\",\"\",源数据!C1622)","v":1},{"$f":"IF(源数据!D1622=\"\",\"\",源数据!D1622)","v":0},0,0,"女","女装","外套",0,0,0,"休闲",0,0,0,0,0,0]
[{"$f":"IF(源数据!A1623=\"\",\"\",源数据!A1623)","v":"休闲女装西服"},{"$f":"IF(源数据!B1623=\"\",\"\",源数据!B1623)","v":1},{"$f":"IF(源数据!C1623=\"\",\"\",源数据!C1623)","v":1},{"$f":"IF(源数据!D1623=\"\",\"\",源数据!D1623)","v":0},0,0,"女","女装",0,0,0,"西服","休闲",0,0,0,0,0,0]
[{"$f":"IF(源数据!A1624=\"\",\"\",源数据!A1624)","v":"休闲通勤西服 女"},{"$f":"IF(源数据!B1624=\"\",\"\",源数据!B1624)","v":1},{"$f":"IF(源数据!C1624=\"\",\"\",源数据!C1624)","v":1},{"$f":"IF(源数据!D1624=\"\",\"\",源数据!D1624)","v":0},0,0,"女",0,0,0,0,"西服","休闲",0,0,0,0,0,0]
[{"$f":"IF(源数据!A1625=\"\",\"\",源数据!A1625)","v":"休闲外套 春秋 女"},{"$f":"IF(源数据!B1625=\"\",\"\",源数据!B1625)","v":2},{"$f":"IF(源数据!C1625=\"\",\"\",源数据!C1625)","v":1},{"$f":"IF(源数据!D1625=\"\",\"\",源数据!D1625)","v":0},0,0,"女",0,"外套",0,0,0,"休闲",0,0,"春秋",0,0,0]
[{"$f":"IF(源数据!A1626=\"\",\"\",源数据!A1626)","v":"休闲外套 女"},{"$f":"IF(源数据!B1626=\"\",\"\",源数据!B1626)","v":1},{"$f":"IF(源数据!C1626=\"\",\"\",源数据!C1626)","v":1},{"$f":"IF(源数据!D1626=\"\",\"\",源数据!D1626)","v":0},0,0,"女",0,"外套",0,0,0,"休闲",0,0,0,0,0,0]
[{"$f":"IF(源数据!A1627=\"\",\"\",源数据!A1627)","v":"休闲外套 女 潮"},{"$f":"IF(源数据!B1627=\"\",\"\",源数据!B1627)","v":1},{"$f":"IF(源数据!C1627=\"\",\"\",源数据!C1627)","v":1},{"$f":"IF(源数据!D1627=\"\",\"\",源数据!D1627)","v":0},"潮",0,"女",0,"外套",0,0,0,"休闲",0,0,0,0,0,0]
[{"$f":"IF(源数据!A1628=\"\",\"\",源数据!A1628)","v":"休闲外套 女 春"},{"$f":"IF(源数据!B1628=\"\",\"\",源数据!B1628)","v":1},{"$f":"IF(源数据!C1628=\"\",\"\",源数据!C1628)","v":1},{"$f":"IF(源数据!D1628=\"\",\"\",源数据!D1628)","v":0},0,0,"女",0,"外套",0,0,0,"休闲",0,0,0,0,0,0]
[{"$f":"IF(源数据!A1629=\"\",\"\",源数据!A1629)","v":"休闲外套 女 春秋"},{"$f":"IF(源数据!B1629=\"\",\"\",源数据!B1629)","v":2},{"$f":"IF(源数据!C1629=\"\",\"\",源数据!C1629)","v":1},{"$f":"IF(源数据!D1629=\"\",\"\",源数据!D1629)","v":0},0,0,"女",0,"外套",0,0,0,"休闲",0,0,"春秋",0,0,0]
[{"$f":"IF(源数据!A1630=\"\",\"\",源数据!A1630)","v":"休闲外套 女 韩版"},{"$f":"IF(源数据!B1630=\"\",\"\",源数据!B1630)","v":5},{"$f":"IF(源数据!C1630=\"\",\"\",源数据!C1630)","v":1},{"$f":"IF(源数据!D1630=\"\",\"\",源数据!D1630)","v":0},0,0,"女",0,"外套",0,0,0,"休闲",0,0,0,0,0,0]
[{"$f":"IF(源数据!A1631=\"\",\"\",源数据!A1631)","v":"休闲外套 女 韩版春秋"},{"$f":"IF(源数据!B1631=\"\",\"\",源数据!B1631)","v":1},{"$f":"IF(源数据!C1631=\"\",\"\",源数据!C1631)","v":1},{"$f":"IF(源数据!D1631=\"\",\"\",源数据!D1631)","v":0},0,0,"女",0,"外套",0,0,0,"休闲",0,0,"春秋",0,0,0]
[{"$f":"IF(源数据!A1632=\"\",\"\",源数据!A1632)","v":"休闲外套春装女"},{"$f":"IF(源数据!B1632=\"\",\"\",源数据!B1632)","v":1},{"$f":"IF(源数据!C1632=\"\",\"\",源数据!C1632)","v":0},{"$f":"IF(源数据!D1632=\"\",\"\",源数据!D1632)","v":0},0,"春装","女",0,"外套",0,0,0,"休闲",0,0,0,0,0,0]
[{"$f":"IF(源数据!A1633=\"\",\"\",源数据!A1633)","v":"休闲外套女春秋装"},{"$f":"IF(源数据!B1633=\"\",\"\",源数据!B1633)","v":1},{"$f":"IF(源数据!C1633=\"\",\"\",源数据!C1633)","v":1},{"$f":"IF(源数据!D1633=\"\",\"\",源数据!D1633)","v":0},0,0,"女",0,"外套",0,0,0,"休闲",0,0,"春秋",0,0,0]
[{"$f":"IF(源数据!A1634=\"\",\"\",源数据!A1634)","v":"休闲外套女春装"},{"$f":"IF(源数据!B1634=\"\",\"\",源数据!B1634)","v":2},{"$f":"IF(源数据!C1634=\"\",\"\",源数据!C1634)","v":1},{"$f":"IF(源数据!D1634=\"\",\"\",源数据!D1634)","v":0},0,"春装","女",0,"外套",0,0,0,"休闲",0,0,0,0,0,0]
[{"$f":"IF(源数据!A1635=\"\",\"\",源数据!A1635)","v":"休闲外套女装春秋"},{"$f":"IF(源数据!B1635=\"\",\"\",源数据!B1635)","v":1},{"$f":"IF(源数据!C1635=\"\",\"\",源数据!C1635)","v":1},{"$f":"IF(源数据!D1635=\"\",\"\",源数据!D1635)","v":0},0,0,"女","女装","外套",0,0,0,"休闲",0,0,"春秋",0,0,0]
[{"$f":"IF(源数据!A1636=\"\",\"\",源数据!A1636)","v":"休闲西服"},{"$f":"IF(源数据!B1636=\"\",\"\",源数据!B1636)","v":5},{"$f":"IF(源数据!C1636=\"\",\"\",源数据!C1636)","v":0.6},{"$f":"IF(源数据!D1636=\"\",\"\",源数据!D1636)","v":0},0,0,0,0,0,0,0,"西服","休闲",0,0,0,0,0,0]
[{"$f":"IF(源数据!A1637=\"\",\"\",源数据!A1637)","v":"休闲西服 女"},{"$f":"IF(源数据!B1637=\"\",\"\",源数据!B1637)","v":8},{"$f":"IF(源数据!C1637=\"\",\"\",源数据!C1637)","v":1},{"$f":"IF(源数据!D1637=\"\",\"\",源数据!D1637)","v":0},0,0,"女",0,0,0,0,"西服","休闲",0,0,0,0,0,0]
[{"$f":"IF(源数据!A1638=\"\",\"\",源数据!A1638)","v":"休闲西服 女 春季"},{"$f":"IF(源数据!B1638=\"\",\"\",源数据!B1638)","v":1},{"$f":"IF(源数据!C1638=\"\",\"\",源数据!C1638)","v":1},{"$f":"IF(源数据!D1638=\"\",\"\",源数据!D1638)","v":0},0,0,"女",0,0,0,0,"西服","休闲",0,"春季",0,0,0,0]
[{"$f":"IF(源数据!A1639=\"\",\"\",源数据!A1639)","v":"休闲西服 女 春秋"},{"$f":"IF(源数据!B1639=\"\",\"\",源数据!B1639)","v":1},{"$f":"IF(源数据!C1639=\"\",\"\",源数据!C1639)","v":1},{"$f":"IF(源数据!D1639=\"\",\"\",源数据!D1639)","v":0},0,0,"女",0,0,0,0,"西服","休闲",0,0,"春秋",0,0,0]
[{"$f":"IF(源数据!A1640=\"\",\"\",源数据!A1640)","v":"休闲西服 女 韩版"},{"$f":"IF(源数据!B1640=\"\",\"\",源数据!B1640)","v":1},{"$f":"IF(源数据!C1640=\"\",\"\",源数据!C1640)","v":1},{"$f":"IF(源数据!D1640=\"\",\"\",源数据!D1640)","v":0},0,0,"女",0,0,0,0,"西服","休闲",0,0,0,0,0,0]
[{"$f":"IF(源数据!A1641=\"\",\"\",源数据!A1641)","v":"休闲西服 女 修身"},{"$f":"IF(源数据!B1641=\"\",\"\",源数据!B1641)","v":1},{"$f":"IF(源数据!C1641=\"\",\"\",源数据!C1641)","v":1},{"$f":"IF(源数据!D1641=\"\",\"\",源数据!D1641)","v":0},0,0,"女",0,0,0,0,"西服","休闲","修身",0,0,0,0,0]
[{"$f":"IF(源数据!A1642=\"\",\"\",源数据!A1642)","v":"休闲西服 女 中长款"},{"$f":"IF(源数据!B1642=\"\",\"\",源数据!B1642)","v":1},{"$f":"IF(源数据!C1642=\"\",\"\",源数据!C1642)","v":1},{"$f":"IF(源数据!D1642=\"\",\"\",源数据!D1642)","v":0},0,0,"女",0,0,0,0,"西服","休闲",0,0,0,0,0,0]
[{"$f":"IF(源数据!A1643=\"\",\"\",源数据!A1643)","v":"休闲西服 女韩版包邮"},{"$f":"IF(源数据!B1643=\"\",\"\",源数据!B1643)","v":1},{"$f":"IF(源数据!C1643=\"\",\"\",源数据!C1643)","v":1},{"$f":"IF(源数据!D1643=\"\",\"\",源数据!D1643)","v":0},0,0,"女",0,0,0,0,"西服","休闲",0,0,0,0,0,0]
[{"$f":"IF(源数据!A1644=\"\",\"\",源数据!A1644)","v":"休闲西服 女装"},{"$f":"IF(源数据!B1644=\"\",\"\",源数据!B1644)","v":1},{"$f":"IF(源数据!C1644=\"\",\"\",源数据!C1644)","v":1},{"$f":"IF(源数据!D1644=\"\",\"\",源数据!D1644)","v":0},0,0,"女","女装",0,0,0,"西服","休闲",0,0,0,0,0,0]
[{"$f":"IF(源数据!A1645=\"\",\"\",源数据!A1645)","v":"休闲西服女"},{"$f":"IF(源数据!B1645=\"\",\"\",源数据!B1645)","v":12},{"$f":"IF(源数据!C1645=\"\",\"\",源数据!C1645)","v":0.66669999999999996},{"$f":"IF(源数据!D1645=\"\",\"\",源数据!D1645)","v":0},0,0,"女",0,0,0,0,"西服","休闲",0,0,0,0,0,0]
[{"$f":"IF(源数据!A1646=\"\",\"\",源数据!A1646)","v":"休闲西服女 红色"},{"$f":"IF(源数据!B1646=\"\",\"\",源数据!B1646)","v":1},{"$f":"IF(源数据!C1646=\"\",\"\",源数据!C1646)","v":1},{"$f":"IF(源数据!D1646=\"\",\"\",源数据!D1646)","v":0},0,0,"女",0,0,0,0,"西服","休闲",0,0,0,0,0,0]
[{"$f":"IF(源数据!A1647=\"\",\"\",源数据!A1647)","v":"休闲西服女韩版"},{"$f":"IF(源数据!B1647=\"\",\"\",源数据!B1647)","v":3},{"$f":"IF(源数据!C1647=\"\",\"\",源数据!C1647)","v":0.66669999999999996},{"$f":"IF(源数据!D1647=\"\",\"\",源数据!D1647)","v":0},0,0,"女",0,0,0,0,"西服","休闲",0,0,0,0,0,0]
[{"$f":"IF(源数据!A1648=\"\",\"\",源数据!A1648)","v":"休闲西服女款"},{"$f":"IF(源数据!B1648=\"\",\"\",源数据!B1648)","v":2},{"$f":"IF(源数据!C1648=\"\",\"\",源数据!C1648)","v":0.5},{"$f":"IF(源数据!D1648=\"\",\"\",源数据!D1648)","v":0},0,0,"女",0,0,0,0,"西服","休闲",0,0,0,0,0,0]
[{"$f":"IF(源数据!A1649=\"\",\"\",源数据!A1649)","v":"休闲西服外套 女"},{"$f":"IF(源数据!B1649=\"\",\"\",源数据!B1649)","v":10},{"$f":"IF(源数据!C1649=\"\",\"\",源数据!C1649)","v":0.4},{"$f":"IF(源数据!D1649=\"\",\"\",源数据!D1649)","v":0},0,0,"女",0,"外套",0,0,"西服","休闲",0,0,0,0,0,0]
[{"$f":"IF(源数据!A1650=\"\",\"\",源数据!A1650)","v":"休闲西服外套 女 中长款"},{"$f":"IF(源数据!B1650=\"\",\"\",源数据!B1650)","v":1},{"$f":"IF(源数据!C1650=\"\",\"\",源数据!C1650)","v":1},{"$f":"IF(源数据!D1650=\"\",\"\",源数据!D1650)","v":0},0,0,"女",0,"外套",0,0,"西服","休闲",0,0,0,0,0,0]
[{"$f":"IF(源数据!A1651=\"\",\"\",源数据!A1651)","v":"休闲西装 女"},{"$f":"IF(源数据!B1651=\"\",\"\",源数据!B1651)","v":15},{"$f":"IF(源数据!C1651=\"\",\"\",源数据!C1651)","v":0.66669999999999996},{"$f":"IF(源数据!D1651=\"\",\"\",源数据!D1651)","v":1},0,0,"女",0,0,0,0,0,"休闲",0,0,0,0,0,0]
[{"$f":"IF(源数据!A1652=\"\",\"\",源数据!A1652)","v":"休闲西装 女 白色"},{"$f":"IF(源数据!B1652=\"\",\"\",源数据!B1652)","v":1},{"$f":"IF(源数据!C1652=\"\",\"\",源数据!C1652)","v":1},{"$f":"IF(源数据!D1652=\"\",\"\",源数据!D1652)","v":0},0,0,"女",0,0,0,0,0,"休闲",0,0,0,"白色",0,0]
[{"$f":"IF(源数据!A1653=\"\",\"\",源数据!A1653)","v":"休闲西装 女 包邮"},{"$f":"IF(源数据!B1653=\"\",\"\",源数据!B1653)","v":1},{"$f":"IF(源数据!C1653=\"\",\"\",源数据!C1653)","v":1},{"$f":"IF(源数据!D1653=\"\",\"\",源数据!D1653)","v":0},0,0,"女",0,0,0,0,0,"休闲",0,0,0,0,0,0]
[{"$f":"IF(源数据!A1654=\"\",\"\",源数据!A1654)","v":"休闲西装 女 韩版"},{"$f":"IF(源数据!B1654=\"\",\"\",源数据!B1654)","v":5},{"$f":"IF(源数据!C1654=\"\",\"\",源数据!C1654)","v":0.6},{"$f":"IF(源数据!D1654=\"\",\"\",源数据!D1654)","v":0},0,0,"女",0,0,0,0,0,"休闲",0,0,0,0,0,0]
[{"$f":"IF(源数据!A1655=\"\",\"\",源数据!A1655)","v":"休闲西装 女 外套"},{"$f":"IF(源数据!B1655=\"\",\"\",源数据!B1655)","v":2},{"$f":"IF(源数据!C1655=\"\",\"\",源数据!C1655)","v":0.5},{"$f":"IF(源数据!D1655=\"\",\"\",源数据!D1655)","v":0},0,0,"女",0,"外套",0,0,0,"休闲",0,0,0,0,0,0]
[{"$f":"IF(源数据!A1656=\"\",\"\",源数据!A1656)","v":"休闲西装 外套 女"},{"$f":"IF(源数据!B1656=\"\",\"\",源数据!B1656)","v":1},{"$f":"IF(源数据!C1656=\"\",\"\",源数据!C1656)","v":1},{"$f":"IF(源数据!D1656=\"\",\"\",源数据!D1656)","v":0},0,0,"女",0,"外套",0,0,0,"休闲",0,0,0,0,0,0]
[{"$f":"IF(源数据!A1657=\"\",\"\",源数据!A1657)","v":"休闲西装 修身 女"},{"$f":"IF(源数据!B1657=\"\",\"\",源数据!B1657)","v":1},{"$f":"IF(源数据!C1657=\"\",\"\",源数据!C1657)","v":1},{"$f":"IF(源数据!D1657=\"\",\"\",源数据!D1657)","v":0},0,0,"女",0,0,0,0,0,"休闲","修身",0,0,0,0,0]
[{"$f":"IF(源数据!A1658=\"\",\"\",源数据!A1658)","v":"休闲西装女"},{"$f":"IF(源数据!B1658=\"\",\"\",源数据!B1658)","v":7},{"$f":"IF(源数据!C1658=\"\",\"\",源数据!C1658)","v":0.57140000000000002},{"$f":"IF(源数据!D1658=\"\",\"\",源数据!D1658)","v":1},0,0,"女",0,0,0,0,0,"休闲",0,0,0,0,0,0]
[{"$f":"IF(源数据!A1659=\"\",\"\",源数据!A1659)","v":"休闲西装女包邮"},{"$f":"IF(源数据!B1659=\"\",\"\",源数据!B1659)","v":3},{"$f":"IF(源数据!C1659=\"\",\"\",源数据!C1659)","v":0.33329999999999999},{"$f":"IF(源数据!D1659=\"\",\"\",源数据!D1659)","v":0},0,0,"女",0,0,0,0,0,"休闲",0,0,0,0,0,0]
[{"$f":"IF(源数据!A1660=\"\",\"\",源数据!A1660)","v":"休闲西装女春秋"},{"$f":"IF(源数据!B1660=\"\",\"\",源数据!B1660)","v":2},{"$f":"IF(源数据!C1660=\"\",\"\",源数据!C1660)","v":1},{"$f":"IF(源数据!D1660=\"\",\"\",源数据!D1660)","v":0},0,0,"女",0,0,0,0,0,"休闲",0,0,"春秋",0,0,0]
[{"$f":"IF(源数据!A1661=\"\",\"\",源数据!A1661)","v":"休闲西装女外套"},{"$f":"IF(源数据!B1661=\"\",\"\",源数据!B1661)","v":8},{"$f":"IF(源数据!C1661=\"\",\"\",源数据!C1661)","v":0.875},{"$f":"IF(源数据!D1661=\"\",\"\",源数据!D1661)","v":1},0,0,"女",0,"外套",0,0,0,"休闲",0,0,0,0,0,0]
[{"$f":"IF(源数据!A1662=\"\",\"\",源数据!A1662)","v":"休闲西装女中长款"},{"$f":"IF(源数据!B1662=\"\",\"\",源数据!B1662)","v":1},{"$f":"IF(源数据!C1662=\"\",\"\",源数据!C1662)","v":1},{"$f":"IF(源数据!D1662=\"\",\"\",源数据!D1662)","v":0},0,0,"女",0,0,0,0,0,"休闲",0,0,0,0,0,0]
[{"$f":"IF(源数据!A1663=\"\",\"\",源数据!A1663)","v":"休闲西装女装"},{"$f":"IF(源数据!B1663=\"\",\"\",源数据!B1663)","v":1},{"$f":"IF(源数据!C1663=\"\",\"\",源数据!C1663)","v":1},{"$f":"IF(源数据!D1663=\"\",\"\",源数据!D1663)","v":0},0,0,"女","女装",0,0,0,0,"休闲",0,0,0,0,0,0]
[{"$f":"IF(源数据!A1664=\"\",\"\",源数据!A1664)","v":"休闲西装外套 女"},{"$f":"IF(源数据!B1664=\"\",\"\",源数据!B1664)","v":14},{"$f":"IF(源数据!C1664=\"\",\"\",源数据!C1664)","v":0.57140000000000002},{"$f":"IF(源数据!D1664=\"\",\"\",源数据!D1664)","v":0},0,0,"女",0,"外套",0,0,0,"休闲",0,0,0,0,0,0]
[{"$f":"IF(源数据!A1665=\"\",\"\",源数据!A1665)","v":"休闲西装外套 女 修身"},{"$f":"IF(源数据!B1665=\"\",\"\",源数据!B1665)","v":1},{"$f":"IF(源数据!C1665=\"\",\"\",源数据!C1665)","v":1},{"$f":"IF(源数据!D1665=\"\",\"\",源数据!D1665)","v":0},0,0,"女",0,"外套",0,0,0,"休闲","修身",0,0,0,0,0]
[{"$f":"IF(源数据!A1666=\"\",\"\",源数据!A1666)","v":"休闲西装外套女"},{"$f":"IF(源数据!B1666=\"\",\"\",源数据!B1666)","v":1},{"$f":"IF(源数据!C1666=\"\",\"\",源数据!C1666)","v":1},{"$f":"IF(源数据!D1666=\"\",\"\",源数据!D1666)","v":0},0,0,"女",0,"外套",0,0,0,"休闲",0,0,0,0,0,0]
[{"$f":"IF(源数据!A1667=\"\",\"\",源数据!A1667)","v":"休闲小外套"},{"$f":"IF(源数据!B1667=\"\",\"\",源数据!B1667)","v":1},{"$f":"IF(源数据!C1667=\"\",\"\",源数据!C1667)","v":1},{"$f":"IF(源数据!D1667=\"\",\"\",源数据!D1667)","v":0},{"$f":"IF($A1666=\"\",\"\",IF(E$1=\"\",\"\",IF(IFERROR(SEARCH(E$1,$A1667),0) >0,E$1,0)))","v":0},{"$f":"IF($A1666=\"\",\"\",IF(F$1=\"\",\"\",IF(IFERROR(SEARCH(F$1,$A1667),0) >0,F$1,0)))","v":0},{"$f":"IF($A1666=\"\",\"\",IF(G$1=\"\",\"\",IF(IFERROR(SEARCH(G$1,$A1667),0) >0,G$1,0)))","v":0},{"$f":"IF($A1666=\"\",\"\",IF(H$1=\"\",\"\",IF(IFERROR(SEARCH(H$1,$A1667),0) >0,H$1,0)))","v":0},{"$f":"IF($A1666=\"\",\"\",IF(I$1=\"\",\"\",IF(IFERROR(SEARCH(I$1,$A1667),0) >0,I$1,0)))","v":"外套"},{"$f":"IF($A1666=\"\",\"\",IF(J$1=\"\",\"\",IF(IFERROR(SEARCH(J$1,$A1667),0) >0,J$1,0)))","v":0},{"$f":"IF($A1666=\"\",\"\",IF(K$1=\"\",\"\",IF(IFERROR(SEARCH(K$1,$A1667),0) >0,K$1,0)))","v":0},{"$f":"IF($A1666=\"\",\"\",IF(L$1=\"\",\"\",IF(IFERROR(SEARCH(L$1,$A1667),0) >0,L$1,0)))","v":0},{"$f":"IF($A1666=\"\",\"\",IF(M$1=\"\",\"\",IF(IFERROR(SEARCH(M$1,$A1667),0) >0,M$1,0)))","v":"休闲"},{"$f":"IF($A1666=\"\",\"\",IF(N$1=\"\",\"\",IF(IFERROR(SEARCH(N$1,$A1667),0) >0,N$1,0)))","v":0},{"$f":"IF($A1666=\"\",\"\",IF(O$1=\"\",\"\",IF(IFERROR(SEARCH(O$1,$A1667),0) >0,O$1,0)))","v":0},{"$f":"IF($A1666=\"\",\"\",IF(P$1=\"\",\"\",IF(IFERROR(SEARCH(P$1,$A1667),0) >0,P$1,0)))","v":0},{"$f":"IF($A1666=\"\",\"\",IF(Q$1=\"\",\"\",IF(IFERROR(SEARCH(Q$1,$A1667),0) >0,Q$1,0)))","v":0},{"$f":"IF($A1666=\"\",\"\",IF(R$1=\"\",\"\",IF(IFERROR(SEARCH(R$1,$A1667),0) >0,R$1,0)))","v":0},{"$f":"IF($A1666=\"\",\"\",IF(S$1=\"\",\"\",IF(IFERROR(SEARCH(S$1,$A1667),0) >0,S$1,0)))","v":0}]
[{"$f":"IF(源数据!A1668=\"\",\"\",源数据!A1668)","v":"休闲小西服韩版女"},{"$f":"IF(源数据!B1668=\"\",\"\",源数据!B1668)","v":5},{"$f":"IF(源数据!C1668=\"\",\"\",源数据!C1668)","v":1},{"$f":"IF(源数据!D1668=\"\",\"\",源数据!D1668)","v":0},0,0,"女",0,0,0,0,"西服","休闲",0,0,0,0,0,0]
[{"$f":"IF(源数据!A1669=\"\",\"\",源数据!A1669)","v":"休闲小西服女"},{"$f":"IF(源数据!B1669=\"\",\"\",源数据!B1669)","v":2},{"$f":"IF(源数据!C1669=\"\",\"\",源数据!C1669)","v":0},{"$f":"IF(源数据!D1669=\"\",\"\",源数据!D1669)","v":0},0,0,"女",0,0,0,0,"西服","休闲",0,0,0,0,0,0]
[{"$f":"IF(源数据!A1670=\"\",\"\",源数据!A1670)","v":"休闲小西服女修身"},{"$f":"IF(源数据!B1670=\"\",\"\",源数据!B1670)","v":2},{"$f":"IF(源数据!C1670=\"\",\"\",源数据!C1670)","v":0.5},{"$f":"IF(源数据!D1670=\"\",\"\",源数据!D1670)","v":0},0,0,"女",0,0,0,0,"西服","休闲","修身",0,0,0,0,0]
[{"$f":"IF(源数据!A1671=\"\",\"\",源数据!A1671)","v":"休闲小西服女中"},{"$f":"IF(源数据!B1671=\"\",\"\",源数据!B1671)","v":1},{"$f":"IF(源数据!C1671=\"\",\"\",源数据!C1671)","v":0},{"$f":"IF(源数据!D1671=\"\",\"\",源数据!D1671)","v":0},0,0,"女",0,0,0,0,"西服","休闲",0,0,0,0,0,0]
[{"$f":"IF(源数据!A1672=\"\",\"\",源数据!A1672)","v":"休闲小西服女装"},{"$f":"IF(源数据!B1672=\"\",\"\",源数据!B1672)","v":1},{"$f":"IF(源数据!C1672=\"\",\"\",源数据!C1672)","v":1},{"$f":"IF(源数据!D1672=\"\",\"\",源数据!D1672)","v":0},0,0,"女","女装",0,0,0,"西服","休闲",0,0,0,0,0,0]
[{"$f":"IF(源数据!A1673=\"\",\"\",源数据!A1673)","v":"休闲小西服外套女修身"},{"$f":"IF(源数据!B1673=\"\",\"\",源数据!B1673)","v":1},{"$f":"IF(源数据!C1673=\"\",\"\",源数据!C1673)","v":1},{"$f":"IF(源数据!D1673=\"\",\"\",源数据!D1673)","v":0},0,0,"女",0,"外套",0,0,"西服","休闲","修身",0,0,0,0,0]
[{"$f":"IF(源数据!A1674=\"\",\"\",源数据!A1674)","v":"休闲小西装"},{"$f":"IF(源数据!B1674=\"\",\"\",源数据!B1674)","v":2},{"$f":"IF(源数据!C1674=\"\",\"\",源数据!C1674)","v":0.5},{"$f":"IF(源数据!D1674=\"\",\"\",源数据!D1674)","v":0},0,0,0,0,0,"小西装",0,0,"休闲",0,0,0,0,0,0]
[{"$f":"IF(源数据!A1675=\"\",\"\",源数据!A1675)","v":"休闲小西装 女"},{"$f":"IF(源数据!B1675=\"\",\"\",源数据!B1675)","v":4},{"$f":"IF(源数据!C1675=\"\",\"\",源数据!C1675)","v":0.75},{"$f":"IF(源数据!D1675=\"\",\"\",源数据!D1675)","v":0},0,0,"女",0,0,"小西装",0,0,"休闲",0,0,0,0,0,0]
[{"$f":"IF(源数据!A1676=\"\",\"\",源数据!A1676)","v":"休闲小西装 女 春"},{"$f":"IF(源数据!B1676=\"\",\"\",源数据!B1676)","v":1},{"$f":"IF(源数据!C1676=\"\",\"\",源数据!C1676)","v":1},{"$f":"IF(源数据!D1676=\"\",\"\",源数据!D1676)","v":0},0,0,"女",0,0,"小西装",0,0,"休闲",0,0,0,0,0,0]
[{"$f":"IF(源数据!A1677=\"\",\"\",源数据!A1677)","v":"休闲小西装 女 韩版"},{"$f":"IF(源数据!B1677=\"\",\"\",源数据!B1677)","v":8},{"$f":"IF(源数据!C1677=\"\",\"\",源数据!C1677)","v":0.75},{"$f":"IF(源数据!D1677=\"\",\"\",源数据!D1677)","v":0},0,0,"女",0,0,"小西装",0,0,"休闲",0,0,0,0,0,0]
[{"$f":"IF(源数据!A1678=\"\",\"\",源数据!A1678)","v":"休闲小西装女"},{"$f":"IF(源数据!B1678=\"\",\"\",源数据!B1678)","v":3},{"$f":"IF(源数据!C1678=\"\",\"\",源数据!C1678)","v":1},{"$f":"IF(源数据!D1678=\"\",\"\",源数据!D1678)","v":0},0,0,"女",0,0,"小西装",0,0,"休闲",0,0,0,0,0,0]
[{"$f":"IF(源数据!A1679=\"\",\"\",源数据!A1679)","v":"休闲小西装女包邮"},{"$f":"IF(源数据!B1679=\"\",\"\",源数据!B1679)","v":1},{"$f":"IF(源数据!C1679=\"\",\"\",源数据!C1679)","v":1},{"$f":"IF(源数据!D1679=\"\",\"\",源数据!D1679)","v":0},0,0,"女",0,0,"小西装",0,0,"休闲",0,0,0,0,0,0]
[{"$f":"IF(源数据!A1680=\"\",\"\",源数据!A1680)","v":"休闲小西装外套女包邮"},{"$f":"IF(源数据!B1680=\"\",\"\",源数据!B1680)","v":1},{"$f":"IF(源数据!C1680=\"\",\"\",源数据!C1680)","v":1},{"$f":"IF(源数据!D1680=\"\",\"\",源数据!D1680)","v":0},0,0,"女",0,"外套","小西装",0,0,"休闲",0,0,0,0,0,0]
[{"$f":"IF(源数据!A1681=\"\",\"\",源数据!A1681)","v":"休闲修身西装女"},{"$f":"IF(源数据!B1681=\"\",\"\",源数据!B1681)","v":1},{"$f":"IF(源数据!C1681=\"\",\"\",源数据!C1681)","v":1},{"$f":"IF(源数据!D1681=\"\",\"\",源数据!D1681)","v":0},0,0,"女",0,0,0,0,0,"休闲","修身",0,0,0,0,0]
[{"$f":"IF(源数据!A1682=\"\",\"\",源数据!A1682)","v":"休闲修身小西装女"},{"$f":"IF(源数据!B1682=\"\",\"\",源数据!B1682)","v":1},{"$f":"IF(源数据!C1682=\"\",\"\",源数据!C1682)","v":1},{"$f":"IF(源数据!D1682=\"\",\"\",源数据!D1682)","v":0},0,0,"女",0,0,"小西装",0,0,"休闲","修身",0,0,0,0,0]
[{"$f":"IF(源数据!A1683=\"\",\"\",源数据!A1683)","v":"休闲修身小西装女式"},{"$f":"IF(源数据!B1683=\"\",\"\",源数据!B1683)","v":1},{"$f":"IF(源数据!C1683=\"\",\"\",源数据!C1683)","v":1},{"$f":"IF(源数据!D1683=\"\",\"\",源数据!D1683)","v":0},0,0,"女",0,0,"小西装",0,0,"休闲","修身",0,0,0,0,0]
[{"$f":"IF(源数据!A1684=\"\",\"\",源数据!A1684)","v":"休闲一粒扣中长款雪纺小西装西服外套"},{"$f":"IF(源数据!B1684=\"\",\"\",源数据!B1684)","v":1},{"$f":"IF(源数据!C1684=\"\",\"\",源数据!C1684)","v":1},{"$f":"IF(源数据!D1684=\"\",\"\",源数据!D1684)","v":0},0,0,0,0,"外套","小西装",0,"西服","休闲",0,0,0,0,0,0]
[{"$f":"IF(源数据!A1685=\"\",\"\",源数据!A1685)","v":"休闲装 女 春秋"},{"$f":"IF(源数据!B1685=\"\",\"\",源数据!B1685)","v":1},{"$f":"IF(源数据!C1685=\"\",\"\",源数据!C1685)","v":1},{"$f":"IF(源数据!D1685=\"\",\"\",源数据!D1685)","v":0},0,0,"女",0,0,0,0,0,"休闲",0,0,"春秋",0,0,0]
[{"$f":"IF(源数据!A1686=\"\",\"\",源数据!A1686)","v":"修身 西装"},{"$f":"IF(源数据!B1686=\"\",\"\",源数据!B1686)","v":1},{"$f":"IF(源数据!C1686=\"\",\"\",源数据!C1686)","v":1},{"$f":"IF(源数据!D1686=\"\",\"\",源数据!D1686)","v":0},0,0,0,0,0,0,0,0,0,"修身",0,0,0,0,0]
[{"$f":"IF(源数据!A1687=\"\",\"\",源数据!A1687)","v":"修身 西装 女 春"},{"$f":"IF(源数据!B1687=\"\",\"\",源数据!B1687)","v":1},{"$f":"IF(源数据!C1687=\"\",\"\",源数据!C1687)","v":0},{"$f":"IF(源数据!D1687=\"\",\"\",源数据!D1687)","v":0},0,0,"女",0,0,0,0,0,0,"修身",0,0,0,0,0]
[{"$f":"IF(源数据!A1688=\"\",\"\",源数据!A1688)","v":"修身 小 西装 西服 外套"},{"$f":"IF(源数据!B1688=\"\",\"\",源数据!B1688)","v":1},{"$f":"IF(源数据!C1688=\"\",\"\",源数据!C1688)","v":1},{"$f":"IF(源数据!D1688=\"\",\"\",源数据!D1688)","v":0},0,0,0,0,"外套",0,0,"西服",0,"修身",0,0,0,0,0]
[{"$f":"IF(源数据!A1689=\"\",\"\",源数据!A1689)","v":"修身 小西服 女"},{"$f":"IF(源数据!B1689=\"\",\"\",源数据!B1689)","v":1},{"$f":"IF(源数据!C1689=\"\",\"\",源数据!C1689)","v":1},{"$f":"IF(源数据!D1689=\"\",\"\",源数据!D1689)","v":0},0,0,"女",0,0,0,0,"西服",0,"修身",0,0,0,0,0]
[{"$f":"IF(源数据!A1690=\"\",\"\",源数据!A1690)","v":"修身长款西装外套女"},{"$f":"IF(源数据!B1690=\"\",\"\",源数据!B1690)","v":1},{"$f":"IF(源数据!C1690=\"\",\"\",源数据!C1690)","v":1},{"$f":"IF(源数据!D1690=\"\",\"\",源数据!D1690)","v":0},0,0,"女",0,"外套",0,0,0,0,"修身",0,0,0,0,0]
[{"$f":"IF(源数据!A1691=\"\",\"\",源数据!A1691)","v":"修身韩版西服女"},{"$f":"IF(源数据!B1691=\"\",\"\",源数据!B1691)","v":1},{"$f":"IF(源数据!C1691=\"\",\"\",源数据!C1691)","v":1},{"$f":"IF(源数据!D1691=\"\",\"\",源数据!D1691)","v":0},0,0,"女",0,0,0,0,"西服",0,"修身",0,0,0,0,0]
[{"$f":"IF(源数据!A1692=\"\",\"\",源数据!A1692)","v":"修身韩版中长款西装"},{"$f":"IF(源数据!B1692=\"\",\"\",源数据!B1692)","v":4},{"$f":"IF(源数据!C1692=\"\",\"\",源数据!C1692)","v":1},{"$f":"IF(源数据!D1692=\"\",\"\",源数据!D1692)","v":0},0,0,0,0,0,0,0,0,0,"修身",0,0,0,0,0]
[{"$f":"IF(源数据!A1693=\"\",\"\",源数据!A1693)","v":"修身黑色西装女"},{"$f":"IF(源数据!B1693=\"\",\"\",源数据!B1693)","v":1},{"$f":"IF(源数据!C1693=\"\",\"\",源数据!C1693)","v":0},{"$f":"IF(源数据!D1693=\"\",\"\",源数据!D1693)","v":0},0,0,"女",0,0,0,0,0,0,"修身",0,0,0,0,0]
[{"$f":"IF(源数据!A1694=\"\",\"\",源数据!A1694)","v":"修身女款西服"},{"$f":"IF(源数据!B1694=\"\",\"\",源数据!B1694)","v":1},{"$f":"IF(源数据!C1694=\"\",\"\",源数据!C1694)","v":1},{"$f":"IF(源数据!D1694=\"\",\"\",源数据!D1694)","v":0},0,0,"女",0,0,0,0,"西服",0,"修身",0,0,0,0,0]
[{"$f":"IF(源数据!A1695=\"\",\"\",源数据!A1695)","v":"修身拼接雪纺西装女中长款休闲小西服"},{"$f":"IF(源数据!B1695=\"\",\"\",源数据!B1695)","v":1},{"$f":"IF(源数据!C1695=\"\",\"\",源数据!C1695)","v":1},{"$f":"IF(源数据!D1695=\"\",\"\",源数据!D1695)","v":0},0,0,"女",0,0,0,0,"西服","休闲","修身",0,0,0,0,0]
[{"$f":"IF(源数据!A1696=\"\",\"\",源数据!A1696)","v":"修身气质~纺一粒扣肩章开衫短袖西装"},{"$f":"IF(源数据!B1696=\"\",\"\",源数据!B1696)","v":1},{"$f":"IF(源数据!C1696=\"\",\"\",源数据!C1696)","v":1},{"$f":"IF(源数据!D1696=\"\",\"\",源数据!D1696)","v":0},0,0,0,0,0,0,0,0,0,"修身",0,0,0,0,0]
[{"$f":"IF(源数据!A1697=\"\",\"\",源数据!A1697)","v":"修身西服"},{"$f":"IF(源数据!B1697=\"\",\"\",源数据!B1697)","v":1},{"$f":"IF(源数据!C1697=\"\",\"\",源数据!C1697)","v":1},{"$f":"IF(源数据!D1697=\"\",\"\",源数据!D1697)","v":0},0,0,0,0,0,0,0,"西服",0,"修身",0,0,0,0,0]
[{"$f":"IF(源数据!A1698=\"\",\"\",源数据!A1698)","v":"修身西服 女"},{"$f":"IF(源数据!B1698=\"\",\"\",源数据!B1698)","v":1},{"$f":"IF(源数据!C1698=\"\",\"\",源数据!C1698)","v":1},{"$f":"IF(源数据!D1698=\"\",\"\",源数据!D1698)","v":0},0,0,"女",0,0,0,0,"西服",0,"修身",0,0,0,0,0]
[{"$f":"IF(源数据!A1699=\"\",\"\",源数据!A1699)","v":"修身西服 女 包邮"},{"$f":"IF(源数据!B1699=\"\",\"\",源数据!B1699)","v":2},{"$f":"IF(源数据!C1699=\"\",\"\",源数据!C1699)","v":0.5},{"$f":"IF(源数据!D1699=\"\",\"\",源数据!D1699)","v":0},0,0,"女",0,0,0,0,"西服",0,"修身",0,0,0,0,0]
[{"$f":"IF(源数据!A1700=\"\",\"\",源数据!A1700)","v":"修身西服女"},{"$f":"IF(源数据!B1700=\"\",\"\",源数据!B1700)","v":2},{"$f":"IF(源数据!C1700=\"\",\"\",源数据!C1700)","v":1},{"$f":"IF(源数据!D1700=\"\",\"\",源数据!D1700)","v":0},0,0,"女",0,0,0,0,"西服",0,"修身",0,0,0,0,0]
[{"$f":"IF(源数据!A1701=\"\",\"\",源数据!A1701)","v":"修身西服女 白色"},{"$f":"IF(源数据!B1701=\"\",\"\",源数据!B1701)","v":1},{"$f":"IF(源数据!C1701=\"\",\"\",源数据!C1701)","v":1},{"$f":"IF(源数据!D1701=\"\",\"\",源数据!D1701)","v":0},0,0,"女",0,0,0,0,"西服",0,"修身",0,0,"白色",0,0]
[{"$f":"IF(源数据!A1702=\"\",\"\",源数据!A1702)","v":"修身西服女韩版"},{"$f":"IF(源数据!B1702=\"\",\"\",源数据!B1702)","v":1},{"$f":"IF(源数据!C1702=\"\",\"\",源数据!C1702)","v":0},{"$f":"IF(源数据!D1702=\"\",\"\",源数据!D1702)","v":0},0,0,"女",0,0,0,0,"西服",0,"修身",0,0,0,0,0]
[{"$f":"IF(源数据!A1703=\"\",\"\",源数据!A1703)","v":"修身西服女式"},{"$f":"IF(源数据!B1703=\"\",\"\",源数据!B1703)","v":1},{"$f":"IF(源数据!C1703=\"\",\"\",源数据!C1703)","v":1},{"$f":"IF(源数据!D1703=\"\",\"\",源数据!D1703)","v":0},0,0,"女",0,0,0,0,"西服",0,"修身",0,0,0,0,0]
[{"$f":"IF(源数据!A1704=\"\",\"\",源数据!A1704)","v":"修身西服女中长款"},{"$f":"IF(源数据!B1704=\"\",\"\",源数据!B1704)","v":1},{"$f":"IF(源数据!C1704=\"\",\"\",源数据!C1704)","v":0},{"$f":"IF(源数据!D1704=\"\",\"\",源数据!D1704)","v":0},0,0,"女",0,0,0,0,"西服",0,"修身",0,0,0,0,0]
[{"$f":"IF(源数据!A1705=\"\",\"\",源数据!A1705)","v":"修身西服外套 女"},{"$f":"IF(源数据!B1705=\"\",\"\",源数据!B1705)","v":1},{"$f":"IF(源数据!C1705=\"\",\"\",源数据!C1705)","v":1},{"$f":"IF(源数据!D1705=\"\",\"\",源数据!D1705)","v":0},0,0,"女",0,"外套",0,0,"西服",0,"修身",0,0,0,0,0]
[{"$f":"IF(源数据!A1706=\"\",\"\",源数据!A1706)","v":"修身西装"},{"$f":"IF(源数据!B1706=\"\",\"\",源数据!B1706)","v":3},{"$f":"IF(源数据!C1706=\"\",\"\",源数据!C1706)","v":1},{"$f":"IF(源数据!D1706=\"\",\"\",源数据!D1706)","v":0},0,0,0,0,0,0,0,0,0,"修身",0,0,0,0,0]
[{"$f":"IF(源数据!A1707=\"\",\"\",源数据!A1707)","v":"修身西装 长款"},{"$f":"IF(源数据!B1707=\"\",\"\",源数据!B1707)","v":1},{"$f":"IF(源数据!C1707=\"\",\"\",源数据!C1707)","v":1},{"$f":"IF(源数据!D1707=\"\",\"\",源数据!D1707)","v":0},0,0,0,0,0,0,0,0,0,"修身",0,0,0,0,0]
[{"$f":"IF(源数据!A1708=\"\",\"\",源数据!A1708)","v":"修身西装 女"},{"$f":"IF(源数据!B1708=\"\",\"\",源数据!B1708)","v":1},{"$f":"IF(源数据!C1708=\"\",\"\",源数据!C1708)","v":1},{"$f":"IF(源数据!D1708=\"\",\"\",源数据!D1708)","v":0},0,0,"女",0,0,0,0,0,0,"修身",0,0,0,0,0]
[{"$f":"IF(源数据!A1709=\"\",\"\",源数据!A1709)","v":"修身西装 女 春"},{"$f":"IF(源数据!B1709=\"\",\"\",源数据!B1709)","v":1},{"$f":"IF(源数据!C1709=\"\",\"\",源数据!C1709)","v":1},{"$f":"IF(源数据!D1709=\"\",\"\",源数据!D1709)","v":0},0,0,"女",0,0,0,0,0,0,"修身",0,0,0,0,0]
[{"$f":"IF(源数据!A1710=\"\",\"\",源数据!A1710)","v":"修身西装 女 春秋"},{"$f":"IF(源数据!B1710=\"\",\"\",源数据!B1710)","v":1},{"$f":"IF(源数据!C1710=\"\",\"\",源数据!C1710)","v":1},{"$f":"IF(源数据!D1710=\"\",\"\",源数据!D1710)","v":0},0,0,"女",0,0,0,0,0,0,"修身",0,"春秋",0,0,0]
[{"$f":"IF(源数据!A1711=\"\",\"\",源数据!A1711)","v":"修身西装 外套 女"},{"$f":"IF(源数据!B1711=\"\",\"\",源数据!B1711)","v":1},{"$f":"IF(源数据!C1711=\"\",\"\",源数据!C1711)","v":1},{"$f":"IF(源数据!D1711=\"\",\"\",源数据!D1711)","v":0},0,0,"女",0,"外套",0,0,0,0,"修身",0,0,0,0,0]
[{"$f":"IF(源数据!A1712=\"\",\"\",源数据!A1712)","v":"修身西装女"},{"$f":"IF(源数据!B1712=\"\",\"\",源数据!B1712)","v":3},{"$f":"IF(源数据!C1712=\"\",\"\",源数据!C1712)","v":0.33329999999999999},{"$f":"IF(源数据!D1712=\"\",\"\",源数据!D1712)","v":0},0,0,"女",0,0,0,0,0,0,"修身",0,0,0,0,0]
[{"$f":"IF(源数据!A1713=\"\",\"\",源数据!A1713)","v":"修身西装女 白色"},{"$f":"IF(源数据!B1713=\"\",\"\",源数据!B1713)","v":1},{"$f":"IF(源数据!C1713=\"\",\"\",源数据!C1713)","v":1},{"$f":"IF(源数据!D1713=\"\",\"\",源数据!D1713)","v":0},0,0,"女",0,0,0,0,0,0,"修身",0,0,"白色",0,0]
[{"$f":"IF(源数据!A1714=\"\",\"\",源数据!A1714)","v":"修身西装女中长款"},{"$f":"IF(源数据!B1714=\"\",\"\",源数据!B1714)","v":3},{"$f":"IF(源数据!C1714=\"\",\"\",源数据!C1714)","v":1},{"$f":"IF(源数据!D1714=\"\",\"\",源数据!D1714)","v":0},0,0,"女",0,0,0,0,0,0,"修身",0,0,0,0,0]
[{"$f":"IF(源数据!A1715=\"\",\"\",源数据!A1715)","v":"修身西装女中长款2013春装"},{"$f":"IF(源数据!B1715=\"\",\"\",源数据!B1715)","v":1},{"$f":"IF(源数据!C1715=\"\",\"\",源数据!C1715)","v":0},{"$f":"IF(源数据!D1715=\"\",\"\",源数据!D1715)","v":0},0,"春装","女",0,0,0,2013,0,0,"修身",0,0,0,0,0]
[{"$f":"IF(源数据!A1716=\"\",\"\",源数据!A1716)","v":"修身西装女中长款春装"},{"$f":"IF(源数据!B1716=\"\",\"\",源数据!B1716)","v":1},{"$f":"IF(源数据!C1716=\"\",\"\",源数据!C1716)","v":1},{"$f":"IF(源数据!D1716=\"\",\"\",源数据!D1716)","v":0},0,"春装","女",0,0,0,0,0,0,"修身",0,0,0,0,0]
[{"$f":"IF(源数据!A1717=\"\",\"\",源数据!A1717)","v":"修身西装外套"},{"$f":"IF(源数据!B1717=\"\",\"\",源数据!B1717)","v":2},{"$f":"IF(源数据!C1717=\"\",\"\",源数据!C1717)","v":0.5},{"$f":"IF(源数据!D1717=\"\",\"\",源数据!D1717)","v":0},0,0,0,0,"外套",0,0,0,0,"修身",0,0,0,0,0]
[{"$f":"IF(源数据!A1718=\"\",\"\",源数据!A1718)","v":"修身西装外套 女"},{"$f":"IF(源数据!B1718=\"\",\"\",源数据!B1718)","v":1},{"$f":"IF(源数据!C1718=\"\",\"\",源数据!C1718)","v":1},{"$f":"IF(源数据!D1718=\"\",\"\",源数据!D1718)","v":0},0,0,"女",0,"外套",0,0,0,0,"修身",0,0,0,0,0]
[{"$f":"IF(源数据!A1719=\"\",\"\",源数据!A1719)","v":"修身西装外套女"},{"$f":"IF(源数据!B1719=\"\",\"\",源数据!B1719)","v":1},{"$f":"IF(源数据!C1719=\"\",\"\",源数据!C1719)","v":1},{"$f":"IF(源数据!D1719=\"\",\"\",源数据!D1719)","v":0},0,0,"女",0,"外套",0,0,0,0,"修身",0,0,0,0,0]
[{"$f":"IF(源数据!A1720=\"\",\"\",源数据!A1720)","v":"修身西装外套女春"},{"$f":"IF(源数据!B1720=\"\",\"\",源数据!B1720)","v":1},{"$f":"IF(源数据!C1720=\"\",\"\",源数据!C1720)","v":0},{"$f":"IF(源数据!D1720=\"\",\"\",源数据!D1720)","v":1},0,0,"女",0,"外套",0,0,0,0,"修身",0,0,0,0,0]
[{"$f":"IF(源数据!A1721=\"\",\"\",源数据!A1721)","v":"修身小西服 女"},{"$f":"IF(源数据!B1721=\"\",\"\",源数据!B1721)","v":1},{"$f":"IF(源数据!C1721=\"\",\"\",源数据!C1721)","v":1},{"$f":"IF(源数据!D1721=\"\",\"\",源数据!D1721)","v":0},0,0,"女",0,0,0,0,"西服",0,"修身",0,0,0,0,0]
[{"$f":"IF(源数据!A1722=\"\",\"\",源数据!A1722)","v":"修身小西服女"},{"$f":"IF(源数据!B1722=\"\",\"\",源数据!B1722)","v":3},{"$f":"IF(源数据!C1722=\"\",\"\",源数据!C1722)","v":0.66669999999999996},{"$f":"IF(源数据!D1722=\"\",\"\",源数据!D1722)","v":0},0,0,"女",0,0,0,0,"西服",0,"修身",0,0,0,0,0]
[{"$f":"IF(源数据!A1723=\"\",\"\",源数据!A1723)","v":"修身小西服女韩版"},{"$f":"IF(源数据!B1723=\"\",\"\",源数据!B1723)","v":1},{"$f":"IF(源数据!C1723=\"\",\"\",源数据!C1723)","v":1},{"$f":"IF(源数据!D1723=\"\",\"\",源数据!D1723)","v":0},0,0,"女",0,0,0,0,"西服",0,"修身",0,0,0,0,0]
[{"$f":"IF(源数据!A1724=\"\",\"\",源数据!A1724)","v":"修身小西装"},{"$f":"IF(源数据!B1724=\"\",\"\",源数据!B1724)","v":3},{"$f":"IF(源数据!C1724=\"\",\"\",源数据!C1724)","v":0.33329999999999999},{"$f":"IF(源数据!D1724=\"\",\"\",源数据!D1724)","v":0},0,0,0,0,0,"小西装",0,0,0,"修身",0,0,0,0,0]
[{"$f":"IF(源数据!A1725=\"\",\"\",源数据!A1725)","v":"修身小西装 女"},{"$f":"IF(源数据!B1725=\"\",\"\",源数据!B1725)","v":2},{"$f":"IF(源数据!C1725=\"\",\"\",源数据!C1725)","v":1},{"$f":"IF(源数据!D1725=\"\",\"\",源数据!D1725)","v":0},0,0,"女",0,0,"小西装",0,0,0,"修身",0,0,0,0,0]
[{"$f":"IF(源数据!A1726=\"\",\"\",源数据!A1726)","v":"修身小西装 女 韩版"},{"$f":"IF(源数据!B1726=\"\",\"\",源数据!B1726)","v":2},{"$f":"IF(源数据!C1726=\"\",\"\",源数据!C1726)","v":0},{"$f":"IF(源数据!D1726=\"\",\"\",源数据!D1726)","v":0},0,0,"女",0,0,"小西装",0,0,0,"修身",0,0,0,0,0]
[{"$f":"IF(源数据!A1727=\"\",\"\",源数据!A1727)","v":"修身小西装 中长款"},{"$f":"IF(源数据!B1727=\"\",\"\",源数据!B1727)","v":1},{"$f":"IF(源数据!C1727=\"\",\"\",源数据!C1727)","v":1},{"$f":"IF(源数据!D1727=\"\",\"\",源数据!D1727)","v":0},0,0,0,0,0,"小西装",0,0,0,"修身",0,0,0,0,0]
[{"$f":"IF(源数据!A1728=\"\",\"\",源数据!A1728)","v":"修身小西装包邮"},{"$f":"IF(源数据!B1728=\"\",\"\",源数据!B1728)","v":1},{"$f":"IF(源数据!C1728=\"\",\"\",源数据!C1728)","v":0},{"$f":"IF(源数据!D1728=\"\",\"\",源数据!D1728)","v":0},0,0,0,0,0,"小西装",0,0,0,"修身",0,0,0,0,0]
[{"$f":"IF(源数据!A1729=\"\",\"\",源数据!A1729)","v":"修身小西装女"},{"$f":"IF(源数据!B1729=\"\",\"\",源数据!B1729)","v":3},{"$f":"IF(源数据!C1729=\"\",\"\",源数据!C1729)","v":1},{"$f":"IF(源数据!D1729=\"\",\"\",源数据!D1729)","v":0},0,0,"女",0,0,"小西装",0,0,0,"修身",0,0,0,0,0]
[{"$f":"IF(源数据!A1730=\"\",\"\",源数据!A1730)","v":"修身小西装女中长款白色"},{"$f":"IF(源数据!B1730=\"\",\"\",源数据!B1730)","v":1},{"$f":"IF(源数据!C1730=\"\",\"\",源数据!C1730)","v":1},{"$f":"IF(源数据!D1730=\"\",\"\",源数据!D1730)","v":0},0,0,"女",0,0,"小西装",0,0,0,"修身",0,0,"白色",0,0]
[{"$f":"IF(源数据!A1731=\"\",\"\",源数据!A1731)","v":"修身小西装外套女"},{"$f":"IF(源数据!B1731=\"\",\"\",源数据!B1731)","v":21},{"$f":"IF(源数据!C1731=\"\",\"\",源数据!C1731)","v":0.95240000000000002},{"$f":"IF(源数据!D1731=\"\",\"\",源数据!D1731)","v":0},{"$f":"IF($A1730=\"\",\"\",IF(E$1=\"\",\"\",IF(IFERROR(SEARCH(E$1,$A1731),0) >0,E$1,0)))","v":0},{"$f":"IF($A1730=\"\",\"\",IF(F$1=\"\",\"\",IF(IFERROR(SEARCH(F$1,$A1731),0) >0,F$1,0)))","v":0},{"$f":"IF($A1730=\"\",\"\",IF(G$1=\"\",\"\",IF(IFERROR(SEARCH(G$1,$A1731),0) >0,G$1,0)))","v":"女"},{"$f":"IF($A1730=\"\",\"\",IF(H$1=\"\",\"\",IF(IFERROR(SEARCH(H$1,$A1731),0) >0,H$1,0)))","v":0},{"$f":"IF($A1730=\"\",\"\",IF(I$1=\"\",\"\",IF(IFERROR(SEARCH(I$1,$A1731),0) >0,I$1,0)))","v":"外套"},{"$f":"IF($A1730=\"\",\"\",IF(J$1=\"\",\"\",IF(IFERROR(SEARCH(J$1,$A1731),0) >0,J$1,0)))","v":"小西装"},{"$f":"IF($A1730=\"\",\"\",IF(K$1=\"\",\"\",IF(IFERROR(SEARCH(K$1,$A1731),0) >0,K$1,0)))","v":0},{"$f":"IF($A1730=\"\",\"\",IF(L$1=\"\",\"\",IF(IFERROR(SEARCH(L$1,$A1731),0) >0,L$1,0)))","v":0},{"$f":"IF($A1730=\"\",\"\",IF(M$1=\"\",\"\",IF(IFERROR(SEARCH(M$1,$A1731),0) >0,M$1,0)))","v":0},{"$f":"IF($A1730=\"\",\"\",IF(N$1=\"\",\"\",IF(IFERROR(SEARCH(N$1,$A1731),0) >0,N$1,0)))","v":"修身"},{"$f":"IF($A1730=\"\",\"\",IF(O$1=\"\",\"\",IF(IFERROR(SEARCH(O$1,$A1731),0) >0,O$1,0)))","v":0},{"$f":"IF($A1730=\"\",\"\",IF(P$1=\"\",\"\",IF(IFERROR(SEARCH(P$1,$A1731),0) >0,P$1,0)))","v":0},{"$f":"IF($A1730=\"\",\"\",IF(Q$1=\"\",\"\",IF(IFERROR(SEARCH(Q$1,$A1731),0) >0,Q$1,0)))","v":0},{"$f":"IF($A1730=\"\",\"\",IF(R$1=\"\",\"\",IF(IFERROR(SEARCH(R$1,$A1731),0) >0,R$1,0)))","v":0},{"$f":"IF($A1730=\"\",\"\",IF(S$1=\"\",\"\",IF(IFERROR(SEARCH(S$1,$A1731),0) >0,S$1,0)))","v":0}]
[{"$f":"IF(源数据!A1732=\"\",\"\",源数据!A1732)","v":"修身小西装西服"},{"$f":"IF(源数据!B1732=\"\",\"\",源数据!B1732)","v":1},{"$f":"IF(源数据!C1732=\"\",\"\",源数据!C1732)","v":1},{"$f":"IF(源数据!D1732=\"\",\"\",源数据!D1732)","v":0},0,0,0,0,0,"小西装",0,"西服",0,"修身",0,0,0,0,0]
[{"$f":"IF(源数据!A1733=\"\",\"\",源数据!A1733)","v":"修身小西装小外套 包邮"},{"$f":"IF(源数据!B1733=\"\",\"\",源数据!B1733)","v":1},{"$f":"IF(源数据!C1733=\"\",\"\",源数据!C1733)","v":1},{"$f":"IF(源数据!D1733=\"\",\"\",源数据!D1733)","v":0},0,0,0,0,"外套","小西装",0,0,0,"修身",0,0,0,0,0]
[{"$f":"IF(源数据!A1734=\"\",\"\",源数据!A1734)","v":"修身休闲白色小西装西服女中长款春秋外套潮"},{"$f":"IF(源数据!B1734=\"\",\"\",源数据!B1734)","v":1},{"$f":"IF(源数据!C1734=\"\",\"\",源数据!C1734)","v":0},{"$f":"IF(源数据!D1734=\"\",\"\",源数据!D1734)","v":0},"潮",0,"女",0,"外套","小西装",0,"西服","休闲","修身",0,"春秋","白色",0,0]
[{"$f":"IF(源数据!A1735=\"\",\"\",源数据!A1735)","v":"修身休闲西服白"},{"$f":"IF(源数据!B1735=\"\",\"\",源数据!B1735)","v":1},{"$f":"IF(源数据!C1735=\"\",\"\",源数据!C1735)","v":1},{"$f":"IF(源数据!D1735=\"\",\"\",源数据!D1735)","v":0},0,0,0,0,0,0,0,"西服","休闲","修身",0,0,0,0,0]
[{"$f":"IF(源数据!A1736=\"\",\"\",源数据!A1736)","v":"修身雪纺小西装白色"},{"$f":"IF(源数据!B1736=\"\",\"\",源数据!B1736)","v":1},{"$f":"IF(源数据!C1736=\"\",\"\",源数据!C1736)","v":1},{"$f":"IF(源数据!D1736=\"\",\"\",源数据!D1736)","v":0},0,0,0,0,0,"小西装",0,0,0,"修身",0,0,"白色",0,0]
[{"$f":"IF(源数据!A1737=\"\",\"\",源数据!A1737)","v":"修身一粒扣西服外套西装"},{"$f":"IF(源数据!B1737=\"\",\"\",源数据!B1737)","v":1},{"$f":"IF(源数据!C1737=\"\",\"\",源数据!C1737)","v":0},{"$f":"IF(源数据!D1737=\"\",\"\",源数据!D1737)","v":0},0,0,0,0,"外套",0,0,"西服",0,"修身",0,0,0,0,0]
[{"$f":"IF(源数据!A1738=\"\",\"\",源数据!A1738)","v":"修身一粒扣雪纺小西装女休闲西服中长款"},{"$f":"IF(源数据!B1738=\"\",\"\",源数据!B1738)","v":1},{"$f":"IF(源数据!C1738=\"\",\"\",源数据!C1738)","v":0},{"$f":"IF(源数据!D1738=\"\",\"\",源数据!D1738)","v":0},0,0,"女",0,0,"小西装",0,"西服","休闲","修身",0,0,0,0,0]
[{"$f":"IF(源数据!A1739=\"\",\"\",源数据!A1739)","v":"修身中长款小西装 红色"},{"$f":"IF(源数据!B1739=\"\",\"\",源数据!B1739)","v":1},{"$f":"IF(源数据!C1739=\"\",\"\",源数据!C1739)","v":1},{"$f":"IF(源数据!D1739=\"\",\"\",源数据!D1739)","v":0},0,0,0,0,0,"小西装",0,0,0,"修身",0,0,0,0,0]
[{"$f":"IF(源数据!A1740=\"\",\"\",源数据!A1740)","v":"修身中长西服"},{"$f":"IF(源数据!B1740=\"\",\"\",源数据!B1740)","v":1},{"$f":"IF(源数据!C1740=\"\",\"\",源数据!C1740)","v":0},{"$f":"IF(源数据!D1740=\"\",\"\",源数据!D1740)","v":0},0,0,0,0,0,0,0,"西服",0,"修身",0,0,0,0,0]
[{"$f":"IF(源数据!A1741=\"\",\"\",源数据!A1741)","v":"雪纺 长袖 外套"},{"$f":"IF(源数据!B1741=\"\",\"\",源数据!B1741)","v":1},{"$f":"IF(源数据!C1741=\"\",\"\",源数据!C1741)","v":1},{"$f":"IF(源数据!D1741=\"\",\"\",源数据!D1741)","v":0},0,0,0,0,"外套",0,0,0,0,0,0,0,0,0,0]
[{"$f":"IF(源数据!A1742=\"\",\"\",源数据!A1742)","v":"雪纺 拼接 西服"},{"$f":"IF(源数据!B1742=\"\",\"\",源数据!B1742)","v":1},{"$f":"IF(源数据!C1742=\"\",\"\",源数据!C1742)","v":1},{"$f":"IF(源数据!D1742=\"\",\"\",源数据!D1742)","v":0},0,0,0,0,0,0,0,"西服",0,0,0,0,0,0,0]
[{"$f":"IF(源数据!A1743=\"\",\"\",源数据!A1743)","v":"雪纺 外套 女 包邮"},{"$f":"IF(源数据!B1743=\"\",\"\",源数据!B1743)","v":1},{"$f":"IF(源数据!C1743=\"\",\"\",源数据!C1743)","v":0},{"$f":"IF(源数据!D1743=\"\",\"\",源数据!D1743)","v":0},0,0,"女",0,"外套",0,0,0,0,0,0,0,0,0,0]
[{"$f":"IF(源数据!A1744=\"\",\"\",源数据!A1744)","v":"雪纺 西服"},{"$f":"IF(源数据!B1744=\"\",\"\",源数据!B1744)","v":1},{"$f":"IF(源数据!C1744=\"\",\"\",源数据!C1744)","v":1},{"$f":"IF(源数据!D1744=\"\",\"\",源数据!D1744)","v":0},0,0,0,0,0,0,0,"西服",0,0,0,0,0,0,0]
[{"$f":"IF(源数据!A1745=\"\",\"\",源数据!A1745)","v":"雪纺 西装 长款"},{"$f":"IF(源数据!B1745=\"\",\"\",源数据!B1745)","v":1},{"$f":"IF(源数据!C1745=\"\",\"\",源数据!C1745)","v":1},{"$f":"IF(源数据!D1745=\"\",\"\",源数据!D1745)","v":0},0,0,0,0,0,0,0,0,0,0,0,0,0,0,0]
[{"$f":"IF(源数据!A1746=\"\",\"\",源数据!A1746)","v":"雪纺 西装 外套"},{"$f":"IF(源数据!B1746=\"\",\"\",源数据!B1746)","v":1},{"$f":"IF(源数据!C1746=\"\",\"\",源数据!C1746)","v":1},{"$f":"IF(源数据!D1746=\"\",\"\",源数据!D1746)","v":0},0,0,0,0,"外套",0,0,0,0,0,0,0,0,0,0]
[{"$f":"IF(源数据!A1747=\"\",\"\",源数据!A1747)","v":"雪纺 小西装"},{"$f":"IF(源数据!B1747=\"\",\"\",源数据!B1747)","v":3},{"$f":"IF(源数据!C1747=\"\",\"\",源数据!C1747)","v":0.66669999999999996},{"$f":"IF(源数据!D1747=\"\",\"\",源数据!D1747)","v":0},0,0,0,0,0,"小西装",0,0,0,0,0,0,0,0,0]
[{"$f":"IF(源数据!A1748=\"\",\"\",源数据!A1748)","v":"雪纺女装中长款小西装外套女装"},{"$f":"IF(源数据!B1748=\"\",\"\",源数据!B1748)","v":1},{"$f":"IF(源数据!C1748=\"\",\"\",源数据!C1748)","v":1},{"$f":"IF(源数据!D1748=\"\",\"\",源数据!D1748)","v":0},0,0,"女","女装","外套","小西装",0,0,0,0,0,0,0,0,0]
[{"$f":"IF(源数据!A1749=\"\",\"\",源数据!A1749)","v":"雪纺拼接 小西服 外套"},{"$f":"IF(源数据!B1749=\"\",\"\",源数据!B1749)","v":1},{"$f":"IF(源数据!C1749=\"\",\"\",源数据!C1749)","v":1},{"$f":"IF(源数据!D1749=\"\",\"\",源数据!D1749)","v":0},0,0,0,0,"外套",0,0,"西服",0,0,0,0,0,0,0]
[{"$f":"IF(源数据!A1750=\"\",\"\",源数据!A1750)","v":"雪纺拼接女士修身中长款外套"},{"$f":"IF(源数据!B1750=\"\",\"\",源数据!B1750)","v":1},{"$f":"IF(源数据!C1750=\"\",\"\",源数据!C1750)","v":1},{"$f":"IF(源数据!D1750=\"\",\"\",源数据!D1750)","v":0},0,0,"女",0,"外套",0,0,0,0,"修身",0,0,0,0,0]
[{"$f":"IF(源数据!A1751=\"\",\"\",源数据!A1751)","v":"雪纺拼接外套"},{"$f":"IF(源数据!B1751=\"\",\"\",源数据!B1751)","v":3},{"$f":"IF(源数据!C1751=\"\",\"\",源数据!C1751)","v":1},{"$f":"IF(源数据!D1751=\"\",\"\",源数据!D1751)","v":0},0,0,0,0,"外套",0,0,0,0,0,0,0,0,0,0]
[{"$f":"IF(源数据!A1752=\"\",\"\",源数据!A1752)","v":"雪纺拼接西服"},{"$f":"IF(源数据!B1752=\"\",\"\",源数据!B1752)","v":3},{"$f":"IF(源数据!C1752=\"\",\"\",源数据!C1752)","v":0},{"$f":"IF(源数据!D1752=\"\",\"\",源数据!D1752)","v":0},0,0,0,0,0,0,0,"西服",0,0,0,0,0,0,0]
[{"$f":"IF(源数据!A1753=\"\",\"\",源数据!A1753)","v":"雪纺拼接西装"},{"$f":"IF(源数据!B1753=\"\",\"\",源数据!B1753)","v":4},{"$f":"IF(源数据!C1753=\"\",\"\",源数据!C1753)","v":0},{"$f":"IF(源数据!D1753=\"\",\"\",源数据!D1753)","v":0},0,0,0,0,0,0,0,0,0,0,0,0,0,0,0]
[{"$f":"IF(源数据!A1754=\"\",\"\",源数据!A1754)","v":"雪纺拼接西装 女"},{"$f":"IF(源数据!B1754=\"\",\"\",源数据!B1754)","v":1},{"$f":"IF(源数据!C1754=\"\",\"\",源数据!C1754)","v":1},{"$f":"IF(源数据!D1754=\"\",\"\",源数据!D1754)","v":0},0,0,"女",0,0,0,0,0,0,0,0,0,0,0,0]
[{"$f":"IF(源数据!A1755=\"\",\"\",源数据!A1755)","v":"雪纺拼接西装外套"},{"$f":"IF(源数据!B1755=\"\",\"\",源数据!B1755)","v":2},{"$f":"IF(源数据!C1755=\"\",\"\",源数据!C1755)","v":0.5},{"$f":"IF(源数据!D1755=\"\",\"\",源数据!D1755)","v":0},0,0,0,0,"外套",0,0,0,0,0,0,0,0,0,0]
[{"$f":"IF(源数据!A1756=\"\",\"\",源数据!A1756)","v":"雪纺拼接小西服"},{"$f":"IF(源数据!B1756=\"\",\"\",源数据!B1756)","v":1},{"$f":"IF(源数据!C1756=\"\",\"\",源数据!C1756)","v":1},{"$f":"IF(源数据!D1756=\"\",\"\",源数据!D1756)","v":0},0,0,0,0,0,0,0,"西服",0,0,0,0,0,0,0]
[{"$f":"IF(源数据!A1757=\"\",\"\",源数据!A1757)","v":"雪纺外套"},{"$f":"IF(源数据!B1757=\"\",\"\",源数据!B1757)","v":5},{"$f":"IF(源数据!C1757=\"\",\"\",源数据!C1757)","v":0.6},{"$f":"IF(源数据!D1757=\"\",\"\",源数据!D1757)","v":1},0,0,0,0,"外套",0,0,0,0,0,0,0,0,0,0]
[{"$f":"IF(源数据!A1758=\"\",\"\",源数据!A1758)","v":"雪纺外套 女"},{"$f":"IF(源数据!B1758=\"\",\"\",源数据!B1758)","v":1},{"$f":"IF(源数据!C1758=\"\",\"\",源数据!C1758)","v":1},{"$f":"IF(源数据!D1758=\"\",\"\",源数据!D1758)","v":0},0,0,"女",0,"外套",0,0,0,0,0,0,0,0,0,0]
[{"$f":"IF(源数据!A1759=\"\",\"\",源数据!A1759)","v":"雪纺外套 女 春秋"},{"$f":"IF(源数据!B1759=\"\",\"\",源数据!B1759)","v":2},{"$f":"IF(源数据!C1759=\"\",\"\",源数据!C1759)","v":1},{"$f":"IF(源数据!D1759=\"\",\"\",源数据!D1759)","v":0},0,0,"女",0,"外套",0,0,0,0,0,0,"春秋",0,0,0]
[{"$f":"IF(源数据!A1760=\"\",\"\",源数据!A1760)","v":"雪纺外套 西装"},{"$f":"IF(源数据!B1760=\"\",\"\",源数据!B1760)","v":1},{"$f":"IF(源数据!C1760=\"\",\"\",源数据!C1760)","v":1},{"$f":"IF(源数据!D1760=\"\",\"\",源数据!D1760)","v":0},0,0,0,0,"外套",0,0,0,0,0,0,0,0,0,0]
[{"$f":"IF(源数据!A1761=\"\",\"\",源数据!A1761)","v":"雪纺外套西服"},{"$f":"IF(源数据!B1761=\"\",\"\",源数据!B1761)","v":1},{"$f":"IF(源数据!C1761=\"\",\"\",源数据!C1761)","v":1},{"$f":"IF(源数据!D1761=\"\",\"\",源数据!D1761)","v":0},0,0,0,0,"外套",0,0,"西服",0,0,0,0,0,0,0]
[{"$f":"IF(源数据!A1762=\"\",\"\",源数据!A1762)","v":"雪纺西服"},{"$f":"IF(源数据!B1762=\"\",\"\",源数据!B1762)","v":2},{"$f":"IF(源数据!C1762=\"\",\"\",源数据!C1762)","v":1},{"$f":"IF(源数据!D1762=\"\",\"\",源数据!D1762)","v":0},0,0,0,0,0,0,0,"西服",0,0,0,0,0,0,0]
[{"$f":"IF(源数据!A1763=\"\",\"\",源数据!A1763)","v":"雪纺西服女"},{"$f":"IF(源数据!B1763=\"\",\"\",源数据!B1763)","v":1},{"$f":"IF(源数据!C1763=\"\",\"\",源数据!C1763)","v":1},{"$f":"IF(源数据!D1763=\"\",\"\",源数据!D1763)","v":0},0,0,"女",0,0,0,0,"西服",0,0,0,0,0,0,0]
[{"$f":"IF(源数据!A1764=\"\",\"\",源数据!A1764)","v":"雪纺西服外套"},{"$f":"IF(源数据!B1764=\"\",\"\",源数据!B1764)","v":1},{"$f":"IF(源数据!C1764=\"\",\"\",源数据!C1764)","v":0},{"$f":"IF(源数据!D1764=\"\",\"\",源数据!D1764)","v":0},0,0,0,0,"外套",0,0,"西服",0,0,0,0,0,0,0]
[{"$f":"IF(源数据!A1765=\"\",\"\",源数据!A1765)","v":"雪纺西服外套女"},{"$f":"IF(源数据!B1765=\"\",\"\",源数据!B1765)","v":3},{"$f":"IF(源数据!C1765=\"\",\"\",源数据!C1765)","v":0.66669999999999996},{"$f":"IF(源数据!D1765=\"\",\"\",源数据!D1765)","v":0},0,0,"女",0,"外套",0,0,"西服",0,0,0,0,0,0,0]
[{"$f":"IF(源数据!A1766=\"\",\"\",源数据!A1766)","v":"雪纺西装"},{"$f":"IF(源数据!B1766=\"\",\"\",源数据!B1766)","v":7},{"$f":"IF(源数据!C1766=\"\",\"\",源数据!C1766)","v":0.85709999999999997},{"$f":"IF(源数据!D1766=\"\",\"\",源数据!D1766)","v":0},0,0,0,0,0,0,0,0,0,0,0,0,0,0,0]
[{"$f":"IF(源数据!A1767=\"\",\"\",源数据!A1767)","v":"雪纺西装 女"},{"$f":"IF(源数据!B1767=\"\",\"\",源数据!B1767)","v":4},{"$f":"IF(源数据!C1767=\"\",\"\",源数据!C1767)","v":0.5},{"$f":"IF(源数据!D1767=\"\",\"\",源数据!D1767)","v":0},0,0,"女",0,0,0,0,0,0,0,0,0,0,0,0]
[{"$f":"IF(源数据!A1768=\"\",\"\",源数据!A1768)","v":"雪纺西装薄外套"},{"$f":"IF(源数据!B1768=\"\",\"\",源数据!B1768)","v":1},{"$f":"IF(源数据!C1768=\"\",\"\",源数据!C1768)","v":0},{"$f":"IF(源数据!D1768=\"\",\"\",源数据!D1768)","v":0},0,0,0,0,"外套",0,0,0,0,0,0,0,0,0,0]
[{"$f":"IF(源数据!A1769=\"\",\"\",源数据!A1769)","v":"雪纺西装外套"},{"$f":"IF(源数据!B1769=\"\",\"\",源数据!B1769)","v":3},{"$f":"IF(源数据!C1769=\"\",\"\",源数据!C1769)","v":1},{"$f":"IF(源数据!D1769=\"\",\"\",源数据!D1769)","v":0},0,0,0,0,"外套",0,0,0,0,0,0,0,0,0,0]
[{"$f":"IF(源数据!A1770=\"\",\"\",源数据!A1770)","v":"雪纺西装外套 女"},{"$f":"IF(源数据!B1770=\"\",\"\",源数据!B1770)","v":1},{"$f":"IF(源数据!C1770=\"\",\"\",源数据!C1770)","v":1},{"$f":"IF(源数据!D1770=\"\",\"\",源数据!D1770)","v":0},0,0,"女",0,"外套",0,0,0,0,0,0,0,0,0,0]
[{"$f":"IF(源数据!A1771=\"\",\"\",源数据!A1771)","v":"雪纺西装外套中长"},{"$f":"IF(源数据!B1771=\"\",\"\",源数据!B1771)","v":1},{"$f":"IF(源数据!C1771=\"\",\"\",源数据!C1771)","v":0},{"$f":"IF(源数据!D1771=\"\",\"\",源数据!D1771)","v":0},0,0,0,0,"外套",0,0,0,0,0,0,0,0,0,0]
[{"$f":"IF(源数据!A1772=\"\",\"\",源数据!A1772)","v":"雪纺小外套"},{"$f":"IF(源数据!B1772=\"\",\"\",源数据!B1772)","v":1},{"$f":"IF(源数据!C1772=\"\",\"\",源数据!C1772)","v":1},{"$f":"IF(源数据!D1772=\"\",\"\",源数据!D1772)","v":0},0,0,0,0,"外套",0,0,0,0,0,0,0,0,0,0]
[{"$f":"IF(源数据!A1773=\"\",\"\",源数据!A1773)","v":"雪纺小西服"},{"$f":"IF(源数据!B1773=\"\",\"\",源数据!B1773)","v":1},{"$f":"IF(源数据!C1773=\"\",\"\",源数据!C1773)","v":1},{"$f":"IF(源数据!D1773=\"\",\"\",源数据!D1773)","v":0},0,0,0,0,0,0,0,"西服",0,0,0,0,0,0,0]
[{"$f":"IF(源数据!A1774=\"\",\"\",源数据!A1774)","v":"雪纺小西服 西装修身外套"},{"$f":"IF(源数据!B1774=\"\",\"\",源数据!B1774)","v":1},{"$f":"IF(源数据!C1774=\"\",\"\",源数据!C1774)","v":1},{"$f":"IF(源数据!D1774=\"\",\"\",源数据!D1774)","v":0},0,0,0,0,"外套",0,0,"西服",0,"修身",0,0,0,0,0]
[{"$f":"IF(源数据!A1775=\"\",\"\",源数据!A1775)","v":"雪纺小西服女"},{"$f":"IF(源数据!B1775=\"\",\"\",源数据!B1775)","v":1},{"$f":"IF(源数据!C1775=\"\",\"\",源数据!C1775)","v":0},{"$f":"IF(源数据!D1775=\"\",\"\",源数据!D1775)","v":0},0,0,"女",0,0,0,0,"西服",0,0,0,0,0,0,0]
[{"$f":"IF(源数据!A1776=\"\",\"\",源数据!A1776)","v":"雪纺小西服拼接"},{"$f":"IF(源数据!B1776=\"\",\"\",源数据!B1776)","v":1},{"$f":"IF(源数据!C1776=\"\",\"\",源数据!C1776)","v":1},{"$f":"IF(源数据!D1776=\"\",\"\",源数据!D1776)","v":0},0,0,0,0,0,0,0,"西服",0,0,0,0,0,0,0]
[{"$f":"IF(源数据!A1777=\"\",\"\",源数据!A1777)","v":"雪纺小西服西装女"},{"$f":"IF(源数据!B1777=\"\",\"\",源数据!B1777)","v":1},{"$f":"IF(源数据!C1777=\"\",\"\",源数据!C1777)","v":0},{"$f":"IF(源数据!D1777=\"\",\"\",源数据!D1777)","v":0},0,0,"女",0,0,0,0,"西服",0,0,0,0,0,0,0]
[{"$f":"IF(源数据!A1778=\"\",\"\",源数据!A1778)","v":"雪纺小西装"},{"$f":"IF(源数据!B1778=\"\",\"\",源数据!B1778)","v":4},{"$f":"IF(源数据!C1778=\"\",\"\",源数据!C1778)","v":0.5},{"$f":"IF(源数据!D1778=\"\",\"\",源数据!D1778)","v":0},0,0,0,0,0,"小西装",0,0,0,0,0,0,0,0,0]
[{"$f":"IF(源数据!A1779=\"\",\"\",源数据!A1779)","v":"雪纺小西装 女"},{"$f":"IF(源数据!B1779=\"\",\"\",源数据!B1779)","v":2},{"$f":"IF(源数据!C1779=\"\",\"\",源数据!C1779)","v":0.5},{"$f":"IF(源数据!D1779=\"\",\"\",源数据!D1779)","v":0},0,0,"女",0,0,"小西装",0,0,0,0,0,0,0,0,0]
[{"$f":"IF(源数据!A1780=\"\",\"\",源数据!A1780)","v":"雪纺小西装女修身"},{"$f":"IF(源数据!B1780=\"\",\"\",源数据!B1780)","v":1},{"$f":"IF(源数据!C1780=\"\",\"\",源数据!C1780)","v":1},{"$f":"IF(源数据!D1780=\"\",\"\",源数据!D1780)","v":0},0,0,"女",0,0,"小西装",0,0,0,"修身",0,0,0,0,0]
[{"$f":"IF(源数据!A1781=\"\",\"\",源数据!A1781)","v":"雪纺小西装外套女"},{"$f":"IF(源数据!B1781=\"\",\"\",源数据!B1781)","v":1},{"$f":"IF(源数据!C1781=\"\",\"\",源数据!C1781)","v":1},{"$f":"IF(源数据!D1781=\"\",\"\",源数据!D1781)","v":0},0,0,"女",0,"外套","小西装",0,0,0,0,0,0,0,0,0]
[{"$f":"IF(源数据!A1782=\"\",\"\",源数据!A1782)","v":"雪纺小西装西服外套"},{"$f":"IF(源数据!B1782=\"\",\"\",源数据!B1782)","v":1},{"$f":"IF(源数据!C1782=\"\",\"\",源数据!C1782)","v":1},{"$f":"IF(源数据!D1782=\"\",\"\",源数据!D1782)","v":0},0,0,0,0,"外套","小西装",0,"西服",0,0,0,0,0,0,0]
[{"$f":"IF(源数据!A1783=\"\",\"\",源数据!A1783)","v":"雪纺休闲西服"},{"$f":"IF(源数据!B1783=\"\",\"\",源数据!B1783)","v":1},{"$f":"IF(源数据!C1783=\"\",\"\",源数据!C1783)","v":1},{"$f":"IF(源数据!D1783=\"\",\"\",源数据!D1783)","v":0},0,0,0,0,0,0,0,"西服","休闲",0,0,0,0,0,0]
[{"$f":"IF(源数据!A1784=\"\",\"\",源数据!A1784)","v":"雪纺修身外套包邮女"},{"$f":"IF(源数据!B1784=\"\",\"\",源数据!B1784)","v":1},{"$f":"IF(源数据!C1784=\"\",\"\",源数据!C1784)","v":0},{"$f":"IF(源数据!D1784=\"\",\"\",源数据!D1784)","v":0},0,0,"女",0,"外套",0,0,0,0,"修身",0,0,0,0,0]
[{"$f":"IF(源数据!A1785=\"\",\"\",源数据!A1785)","v":"雪纺中长款西服女修身"},{"$f":"IF(源数据!B1785=\"\",\"\",源数据!B1785)","v":1},{"$f":"IF(源数据!C1785=\"\",\"\",源数据!C1785)","v":1},{"$f":"IF(源数据!D1785=\"\",\"\",源数据!D1785)","v":0},0,0,"女",0,0,0,0,"西服",0,"修身",0,0,0,0,0]
[{"$f":"IF(源数据!A1786=\"\",\"\",源数据!A1786)","v":"雪紡拼接 外套"},{"$f":"IF(源数据!B1786=\"\",\"\",源数据!B1786)","v":2},{"$f":"IF(源数据!C1786=\"\",\"\",源数据!C1786)","v":0},{"$f":"IF(源数据!D1786=\"\",\"\",源数据!D1786)","v":0},0,0,0,0,"外套",0,0,0,0,0,0,0,0,0,0]
[{"$f":"IF(源数据!A1787=\"\",\"\",源数据!A1787)","v":"羊羔绒春秋外套女"},{"$f":"IF(源数据!B1787=\"\",\"\",源数据!B1787)","v":1},{"$f":"IF(源数据!C1787=\"\",\"\",源数据!C1787)","v":1},{"$f":"IF(源数据!D1787=\"\",\"\",源数据!D1787)","v":0},0,0,"女",0,"外套",0,0,0,0,0,0,"春秋",0,0,0]
[{"$f":"IF(源数据!A1788=\"\",\"\",源数据!A1788)","v":"叶酸"},{"$f":"IF(源数据!B1788=\"\",\"\",源数据!B1788)","v":1},{"$f":"IF(源数据!C1788=\"\",\"\",源数据!C1788)","v":1},{"$f":"IF(源数据!D1788=\"\",\"\",源数据!D1788)","v":0},0,0,0,0,0,0,0,0,0,0,0,0,0,0,0]
[{"$f":"IF(源数据!A1789=\"\",\"\",源数据!A1789)","v":"一粒扣 女 西装"},{"$f":"IF(源数据!B1789=\"\",\"\",源数据!B1789)","v":1},{"$f":"IF(源数据!C1789=\"\",\"\",源数据!C1789)","v":1},{"$f":"IF(源数据!D1789=\"\",\"\",源数据!D1789)","v":0},0,0,"女",0,0,0,0,0,0,0,0,0,0,0,0]
[{"$f":"IF(源数据!A1790=\"\",\"\",源数据!A1790)","v":"一粒扣 西服 修身 韩版 女"},{"$f":"IF(源数据!B1790=\"\",\"\",源数据!B1790)","v":1},{"$f":"IF(源数据!C1790=\"\",\"\",源数据!C1790)","v":1},{"$f":"IF(源数据!D1790=\"\",\"\",源数据!D1790)","v":0},0,0,"女",0,0,0,0,"西服",0,"修身",0,0,0,0,0]
[{"$f":"IF(源数据!A1791=\"\",\"\",源数据!A1791)","v":"一粒扣 西装"},{"$f":"IF(源数据!B1791=\"\",\"\",源数据!B1791)","v":1},{"$f":"IF(源数据!C1791=\"\",\"\",源数据!C1791)","v":1},{"$f":"IF(源数据!D1791=\"\",\"\",源数据!D1791)","v":0},0,0,0,0,0,0,0,0,0,0,0,0,0,0,0]
[{"$f":"IF(源数据!A1792=\"\",\"\",源数据!A1792)","v":"一粒扣西装女"},{"$f":"IF(源数据!B1792=\"\",\"\",源数据!B1792)","v":1},{"$f":"IF(源数据!C1792=\"\",\"\",源数据!C1792)","v":1},{"$f":"IF(源数据!D1792=\"\",\"\",源数据!D1792)","v":0},0,0,"女",0,0,0,0,0,0,0,0,0,0,0,0]
[{"$f":"IF(源数据!A1793=\"\",\"\",源数据!A1793)","v":"一粒扣修身小西装女"},{"$f":"IF(源数据!B1793=\"\",\"\",源数据!B1793)","v":1},{"$f":"IF(源数据!C1793=\"\",\"\",源数据!C1793)","v":1},{"$f":"IF(源数据!D1793=\"\",\"\",源数据!D1793)","v":0},0,0,"女",0,0,"小西装",0,0,0,"修身",0,0,0,0,0]
[{"$f":"IF(源数据!A1794=\"\",\"\",源数据!A1794)","v":"一粒扣中长款西装"},{"$f":"IF(源数据!B1794=\"\",\"\",源数据!B1794)","v":1},{"$f":"IF(源数据!C1794=\"\",\"\",源数据!C1794)","v":1},{"$f":"IF(源数据!D1794=\"\",\"\",源数据!D1794)","v":0},0,0,0,0,0,0,0,0,0,0,0,0,0,0,0]
[{"$f":"IF(源数据!A1795=\"\",\"\",源数据!A1795)","v":"以纯春秋女装小外套"},{"$f":"IF(源数据!B1795=\"\",\"\",源数据!B1795)","v":1},{"$f":"IF(源数据!C1795=\"\",\"\",源数据!C1795)","v":1},{"$f":"IF(源数据!D1795=\"\",\"\",源数据!D1795)","v":0},{"$f":"IF($A1794=\"\",\"\",IF(E$1=\"\",\"\",IF(IFERROR(SEARCH(E$1,$A1795),0) >0,E$1,0)))","v":0},{"$f":"IF($A1794=\"\",\"\",IF(F$1=\"\",\"\",IF(IFERROR(SEARCH(F$1,$A1795),0) >0,F$1,0)))","v":0},{"$f":"IF($A1794=\"\",\"\",IF(G$1=\"\",\"\",IF(IFERROR(SEARCH(G$1,$A1795),0) >0,G$1,0)))","v":"女"},{"$f":"IF($A1794=\"\",\"\",IF(H$1=\"\",\"\",IF(IFERROR(SEARCH(H$1,$A1795),0) >0,H$1,0)))","v":"女装"},{"$f":"IF($A1794=\"\",\"\",IF(I$1=\"\",\"\",IF(IFERROR(SEARCH(I$1,$A1795),0) >0,I$1,0)))","v":"外套"},{"$f":"IF($A1794=\"\",\"\",IF(J$1=\"\",\"\",IF(IFERROR(SEARCH(J$1,$A1795),0) >0,J$1,0)))","v":0},{"$f":"IF($A1794=\"\",\"\",IF(K$1=\"\",\"\",IF(IFERROR(SEARCH(K$1,$A1795),0) >0,K$1,0)))","v":0},{"$f":"IF($A1794=\"\",\"\",IF(L$1=\"\",\"\",IF(IFERROR(SEARCH(L$1,$A1795),0) >0,L$1,0)))","v":0},{"$f":"IF($A1794=\"\",\"\",IF(M$1=\"\",\"\",IF(IFERROR(SEARCH(M$1,$A1795),0) >0,M$1,0)))","v":0},{"$f":"IF($A1794=\"\",\"\",IF(N$1=\"\",\"\",IF(IFERROR(SEARCH(N$1,$A1795),0) >0,N$1,0)))","v":0},{"$f":"IF($A1794=\"\",\"\",IF(O$1=\"\",\"\",IF(IFERROR(SEARCH(O$1,$A1795),0) >0,O$1,0)))","v":0},{"$f":"IF($A1794=\"\",\"\",IF(P$1=\"\",\"\",IF(IFERROR(SEARCH(P$1,$A1795),0) >0,P$1,0)))","v":"春秋"},{"$f":"IF($A1794=\"\",\"\",IF(Q$1=\"\",\"\",IF(IFERROR(SEARCH(Q$1,$A1795),0) >0,Q$1,0)))","v":0},{"$f":"IF($A1794=\"\",\"\",IF(R$1=\"\",\"\",IF(IFERROR(SEARCH(R$1,$A1795),0) >0,R$1,0)))","v":0},{"$f":"IF($A1794=\"\",\"\",IF(S$1=\"\",\"\",IF(IFERROR(SEARCH(S$1,$A1795),0) >0,S$1,0)))","v":0}]
[{"$f":"IF(源数据!A1796=\"\",\"\",源数据!A1796)","v":"折扣 红袖女装"},{"$f":"IF(源数据!B1796=\"\",\"\",源数据!B1796)","v":1},{"$f":"IF(源数据!C1796=\"\",\"\",源数据!C1796)","v":1},{"$f":"IF(源数据!D1796=\"\",\"\",源数据!D1796)","v":0},0,0,"女","女装",0,0,0,0,0,0,0,0,0,0,0]
[{"$f":"IF(源数据!A1797=\"\",\"\",源数据!A1797)","v":"中长 白西装 女"},{"$f":"IF(源数据!B1797=\"\",\"\",源数据!B1797)","v":1},{"$f":"IF(源数据!C1797=\"\",\"\",源数据!C1797)","v":1},{"$f":"IF(源数据!D1797=\"\",\"\",源数据!D1797)","v":0},0,0,"女",0,0,0,0,0,0,0,0,0,0,0,0]
[{"$f":"IF(源数据!A1798=\"\",\"\",源数据!A1798)","v":"中长 小西装 女"},{"$f":"IF(源数据!B1798=\"\",\"\",源数据!B1798)","v":1},{"$f":"IF(源数据!C1798=\"\",\"\",源数据!C1798)","v":1},{"$f":"IF(源数据!D1798=\"\",\"\",源数据!D1798)","v":0},0,0,"女",0,0,"小西装",0,0,0,0,0,0,0,0,0]
[{"$f":"IF(源数据!A1799=\"\",\"\",源数据!A1799)","v":"中长白色小西服"},{"$f":"IF(源数据!B1799=\"\",\"\",源数据!B1799)","v":1},{"$f":"IF(源数据!C1799=\"\",\"\",源数据!C1799)","v":0},{"$f":"IF(源数据!D1799=\"\",\"\",源数据!D1799)","v":0},0,0,0,0,0,0,0,"西服",0,0,0,0,"白色",0,0]
[{"$f":"IF(源数据!A1800=\"\",\"\",源数据!A1800)","v":"中长版修身西服"},{"$f":"IF(源数据!B1800=\"\",\"\",源数据!B1800)","v":1},{"$f":"IF(源数据!C1800=\"\",\"\",源数据!C1800)","v":1},{"$f":"IF(源数据!D1800=\"\",\"\",源数据!D1800)","v":0},0,0,0,0,0,0,0,"西服",0,"修身",0,0,0,0,0]
[{"$f":"IF(源数据!A1801=\"\",\"\",源数据!A1801)","v":"中长款 西装"},{"$f":"IF(源数据!B1801=\"\",\"\",源数据!B1801)","v":2},{"$f":"IF(源数据!C1801=\"\",\"\",源数据!C1801)","v":0.5},{"$f":"IF(源数据!D1801=\"\",\"\",源数据!D1801)","v":0},0,0,0,0,0,0,0,0,0,0,0,0,0,0,0]
[{"$f":"IF(源数据!A1802=\"\",\"\",源数据!A1802)","v":"中长款 西装 春"},{"$f":"IF(源数据!B1802=\"\",\"\",源数据!B1802)","v":1},{"$f":"IF(源数据!C1802=\"\",\"\",源数据!C1802)","v":1},{"$f":"IF(源数据!D1802=\"\",\"\",源数据!D1802)","v":0},0,0,0,0,0,0,0,0,0,0,0,0,0,0,0]
[{"$f":"IF(源数据!A1803=\"\",\"\",源数据!A1803)","v":"中长款 小西装"},{"$f":"IF(源数据!B1803=\"\",\"\",源数据!B1803)","v":1},{"$f":"IF(源数据!C1803=\"\",\"\",源数据!C1803)","v":1},{"$f":"IF(源数据!D1803=\"\",\"\",源数据!D1803)","v":0},0,0,0,0,0,"小西装",0,0,0,0,0,0,0,0,0]
[{"$f":"IF(源数据!A1804=\"\",\"\",源数据!A1804)","v":"中长款白色西装女"},{"$f":"IF(源数据!B1804=\"\",\"\",源数据!B1804)","v":1},{"$f":"IF(源数据!C1804=\"\",\"\",源数据!C1804)","v":1},{"$f":"IF(源数据!D1804=\"\",\"\",源数据!D1804)","v":0},0,0,"女",0,0,0,0,0,0,0,0,0,"白色",0,0]
[{"$f":"IF(源数据!A1805=\"\",\"\",源数据!A1805)","v":"中长款韩版西装"},{"$f":"IF(源数据!B1805=\"\",\"\",源数据!B1805)","v":1},{"$f":"IF(源数据!C1805=\"\",\"\",源数据!C1805)","v":1},{"$f":"IF(源数据!D1805=\"\",\"\",源数据!D1805)","v":0},0,0,0,0,0,0,0,0,0,0,0,0,0,0,0]
[{"$f":"IF(源数据!A1806=\"\",\"\",源数据!A1806)","v":"中长款黑色修身西服长袖春秋"},{"$f":"IF(源数据!B1806=\"\",\"\",源数据!B1806)","v":1},{"$f":"IF(源数据!C1806=\"\",\"\",源数据!C1806)","v":1},{"$f":"IF(源数据!D1806=\"\",\"\",源数据!D1806)","v":0},0,0,0,0,0,0,0,"西服",0,"修身",0,"春秋",0,0,0]
[{"$f":"IF(源数据!A1807=\"\",\"\",源数据!A1807)","v":"中长款拼接雪纺小西装"},{"$f":"IF(源数据!B1807=\"\",\"\",源数据!B1807)","v":1},{"$f":"IF(源数据!C1807=\"\",\"\",源数据!C1807)","v":1},{"$f":"IF(源数据!D1807=\"\",\"\",源数据!D1807)","v":0},0,0,0,0,0,"小西装",0,0,0,0,0,0,0,0,0]
[{"$f":"IF(源数据!A1808=\"\",\"\",源数据!A1808)","v":"中长款外套 女 春秋"},{"$f":"IF(源数据!B1808=\"\",\"\",源数据!B1808)","v":2},{"$f":"IF(源数据!C1808=\"\",\"\",源数据!C1808)","v":1},{"$f":"IF(源数据!D1808=\"\",\"\",源数据!D1808)","v":0},0,0,"女",0,"外套",0,0,0,0,0,0,"春秋",0,0,0]
[{"$f":"IF(源数据!A1809=\"\",\"\",源数据!A1809)","v":"中长款西 女 修身"},{"$f":"IF(源数据!B1809=\"\",\"\",源数据!B1809)","v":1},{"$f":"IF(源数据!C1809=\"\",\"\",源数据!C1809)","v":1},{"$f":"IF(源数据!D1809=\"\",\"\",源数据!D1809)","v":0},0,0,"女",0,0,0,0,0,0,"修身",0,0,0,0,0]
[{"$f":"IF(源数据!A1810=\"\",\"\",源数据!A1810)","v":"中长款西服"},{"$f":"IF(源数据!B1810=\"\",\"\",源数据!B1810)","v":1},{"$f":"IF(源数据!C1810=\"\",\"\",源数据!C1810)","v":1},{"$f":"IF(源数据!D1810=\"\",\"\",源数据!D1810)","v":0},0,0,0,0,0,0,0,"西服",0,0,0,0,0,0,0]
[{"$f":"IF(源数据!A1811=\"\",\"\",源数据!A1811)","v":"中长款西服 女"},{"$f":"IF(源数据!B1811=\"\",\"\",源数据!B1811)","v":1},{"$f":"IF(源数据!C1811=\"\",\"\",源数据!C1811)","v":1},{"$f":"IF(源数据!D1811=\"\",\"\",源数据!D1811)","v":0},0,0,"女",0,0,0,0,"西服",0,0,0,0,0,0,0]
[{"$f":"IF(源数据!A1812=\"\",\"\",源数据!A1812)","v":"中长款西服 女 包邮"},{"$f":"IF(源数据!B1812=\"\",\"\",源数据!B1812)","v":1},{"$f":"IF(源数据!C1812=\"\",\"\",源数据!C1812)","v":1},{"$f":"IF(源数据!D1812=\"\",\"\",源数据!D1812)","v":0},0,0,"女",0,0,0,0,"西服",0,0,0,0,0,0,0]
[{"$f":"IF(源数据!A1813=\"\",\"\",源数据!A1813)","v":"中长款西服女修身"},{"$f":"IF(源数据!B1813=\"\",\"\",源数据!B1813)","v":1},{"$f":"IF(源数据!C1813=\"\",\"\",源数据!C1813)","v":1},{"$f":"IF(源数据!D1813=\"\",\"\",源数据!D1813)","v":0},0,0,"女",0,0,0,0,"西服",0,"修身",0,0,0,0,0]
[{"$f":"IF(源数据!A1814=\"\",\"\",源数据!A1814)","v":"中长款西服女装"},{"$f":"IF(源数据!B1814=\"\",\"\",源数据!B1814)","v":1},{"$f":"IF(源数据!C1814=\"\",\"\",源数据!C1814)","v":0},{"$f":"IF(源数据!D1814=\"\",\"\",源数据!D1814)","v":0},0,0,"女","女装",0,0,0,"西服",0,0,0,0,0,0,0]
[{"$f":"IF(源数据!A1815=\"\",\"\",源数据!A1815)","v":"中长款西装"},{"$f":"IF(源数据!B1815=\"\",\"\",源数据!B1815)","v":4},{"$f":"IF(源数据!C1815=\"\",\"\",源数据!C1815)","v":1},{"$f":"IF(源数据!D1815=\"\",\"\",源数据!D1815)","v":0},0,0,0,0,0,0,0,0,0,0,0,0,0,0,0]
[{"$f":"IF(源数据!A1816=\"\",\"\",源数据!A1816)","v":"中长款西装 女 春"},{"$f":"IF(源数据!B1816=\"\",\"\",源数据!B1816)","v":2},{"$f":"IF(源数据!C1816=\"\",\"\",源数据!C1816)","v":1},{"$f":"IF(源数据!D1816=\"\",\"\",源数据!D1816)","v":0},0,0,"女",0,0,0,0,0,0,0,0,0,0,0,0]
[{"$f":"IF(源数据!A1817=\"\",\"\",源数据!A1817)","v":"中长款西装 女 红色"},{"$f":"IF(源数据!B1817=\"\",\"\",源数据!B1817)","v":1},{"$f":"IF(源数据!C1817=\"\",\"\",源数据!C1817)","v":1},{"$f":"IF(源数据!D1817=\"\",\"\",源数据!D1817)","v":0},0,0,"女",0,0,0,0,0,0,0,0,0,0,0,0]
[{"$f":"IF(源数据!A1818=\"\",\"\",源数据!A1818)","v":"中长款西装春秋女"},{"$f":"IF(源数据!B1818=\"\",\"\",源数据!B1818)","v":1},{"$f":"IF(源数据!C1818=\"\",\"\",源数据!C1818)","v":1},{"$f":"IF(源数据!D1818=\"\",\"\",源数据!D1818)","v":0},0,0,"女",0,0,0,0,0,0,0,0,"春秋",0,0,0]
[{"$f":"IF(源数据!A1819=\"\",\"\",源数据!A1819)","v":"中长款西装女修身"},{"$f":"IF(源数据!B1819=\"\",\"\",源数据!B1819)","v":1},{"$f":"IF(源数据!C1819=\"\",\"\",源数据!C1819)","v":1},{"$f":"IF(源数据!D1819=\"\",\"\",源数据!D1819)","v":0},0,0,"女",0,0,0,0,0,0,"修身",0,0,0,0,0]
[{"$f":"IF(源数据!A1820=\"\",\"\",源数据!A1820)","v":"中长款西装外套"},{"$f":"IF(源数据!B1820=\"\",\"\",源数据!B1820)","v":1},{"$f":"IF(源数据!C1820=\"\",\"\",源数据!C1820)","v":0},{"$f":"IF(源数据!D1820=\"\",\"\",源数据!D1820)","v":0},0,0,0,0,"外套",0,0,0,0,0,0,0,0,0,0]
[{"$f":"IF(源数据!A1821=\"\",\"\",源数据!A1821)","v":"中长款西装外套 女"},{"$f":"IF(源数据!B1821=\"\",\"\",源数据!B1821)","v":21},{"$f":"IF(源数据!C1821=\"\",\"\",源数据!C1821)","v":0.76190000000000002},{"$f":"IF(源数据!D1821=\"\",\"\",源数据!D1821)","v":0},0,0,"女",0,"外套",0,0,0,0,0,0,0,0,0,0]
[{"$f":"IF(源数据!A1822=\"\",\"\",源数据!A1822)","v":"中长款西装外套 女 包邮"},{"$f":"IF(源数据!B1822=\"\",\"\",源数据!B1822)","v":1},{"$f":"IF(源数据!C1822=\"\",\"\",源数据!C1822)","v":1},{"$f":"IF(源数据!D1822=\"\",\"\",源数据!D1822)","v":0},0,0,"女",0,"外套",0,0,0,0,0,0,0,0,0,0]
[{"$f":"IF(源数据!A1823=\"\",\"\",源数据!A1823)","v":"中长款西装外套 女春"},{"$f":"IF(源数据!B1823=\"\",\"\",源数据!B1823)","v":1},{"$f":"IF(源数据!C1823=\"\",\"\",源数据!C1823)","v":1},{"$f":"IF(源数据!D1823=\"\",\"\",源数据!D1823)","v":0},0,0,"女",0,"外套",0,0,0,0,0,0,0,0,0,0]
[{"$f":"IF(源数据!A1824=\"\",\"\",源数据!A1824)","v":"中长款西装外套女"},{"$f":"IF(源数据!B1824=\"\",\"\",源数据!B1824)","v":3},{"$f":"IF(源数据!C1824=\"\",\"\",源数据!C1824)","v":0.66669999999999996},{"$f":"IF(源数据!D1824=\"\",\"\",源数据!D1824)","v":0},0,0,"女",0,"外套",0,0,0,0,0,0,0,0,0,0]
[{"$f":"IF(源数据!A1825=\"\",\"\",源数据!A1825)","v":"中长款西装外套女红袖"},{"$f":"IF(源数据!B1825=\"\",\"\",源数据!B1825)","v":1},{"$f":"IF(源数据!C1825=\"\",\"\",源数据!C1825)","v":1},{"$f":"IF(源数据!D1825=\"\",\"\",源数据!D1825)","v":0},0,0,"女",0,"外套",0,0,0,0,0,0,0,0,0,0]
[{"$f":"IF(源数据!A1826=\"\",\"\",源数据!A1826)","v":"中长款西装修身包邮"},{"$f":"IF(源数据!B1826=\"\",\"\",源数据!B1826)","v":1},{"$f":"IF(源数据!C1826=\"\",\"\",源数据!C1826)","v":1},{"$f":"IF(源数据!D1826=\"\",\"\",源数据!D1826)","v":0},0,0,0,0,0,0,0,0,0,"修身",0,0,0,0,0]
[{"$f":"IF(源数据!A1827=\"\",\"\",源数据!A1827)","v":"中长款小西服 修身 女款"},{"$f":"IF(源数据!B1827=\"\",\"\",源数据!B1827)","v":1},{"$f":"IF(源数据!C1827=\"\",\"\",源数据!C1827)","v":1},{"$f":"IF(源数据!D1827=\"\",\"\",源数据!D1827)","v":0},0,0,"女",0,0,0,0,"西服",0,"修身",0,0,0,0,0]
[{"$f":"IF(源数据!A1828=\"\",\"\",源数据!A1828)","v":"中长款小西服外套"},{"$f":"IF(源数据!B1828=\"\",\"\",源数据!B1828)","v":1},{"$f":"IF(源数据!C1828=\"\",\"\",源数据!C1828)","v":1},{"$f":"IF(源数据!D1828=\"\",\"\",源数据!D1828)","v":0},0,0,0,0,"外套",0,0,"西服",0,0,0,0,0,0,0]
[{"$f":"IF(源数据!A1829=\"\",\"\",源数据!A1829)","v":"中长款小西服修身"},{"$f":"IF(源数据!B1829=\"\",\"\",源数据!B1829)","v":1},{"$f":"IF(源数据!C1829=\"\",\"\",源数据!C1829)","v":1},{"$f":"IF(源数据!D1829=\"\",\"\",源数据!D1829)","v":0},0,0,0,0,0,0,0,"西服",0,"修身",0,0,0,0,0]
[{"$f":"IF(源数据!A1830=\"\",\"\",源数据!A1830)","v":"中长款小西装"},{"$f":"IF(源数据!B1830=\"\",\"\",源数据!B1830)","v":1},{"$f":"IF(源数据!C1830=\"\",\"\",源数据!C1830)","v":1},{"$f":"IF(源数据!D1830=\"\",\"\",源数据!D1830)","v":0},0,0,0,0,0,"小西装",0,0,0,0,0,0,0,0,0]
[{"$f":"IF(源数据!A1831=\"\",\"\",源数据!A1831)","v":"中长款小西装 女 韩版"},{"$f":"IF(源数据!B1831=\"\",\"\",源数据!B1831)","v":1},{"$f":"IF(源数据!C1831=\"\",\"\",源数据!C1831)","v":1},{"$f":"IF(源数据!D1831=\"\",\"\",源数据!D1831)","v":0},0,0,"女",0,0,"小西装",0,0,0,0,0,0,0,0,0]
[{"$f":"IF(源数据!A1832=\"\",\"\",源数据!A1832)","v":"中长款小西装 女 修身"},{"$f":"IF(源数据!B1832=\"\",\"\",源数据!B1832)","v":1},{"$f":"IF(源数据!C1832=\"\",\"\",源数据!C1832)","v":1},{"$f":"IF(源数据!D1832=\"\",\"\",源数据!D1832)","v":0},0,0,"女",0,0,"小西装",0,0,0,"修身",0,0,0,0,0]
[{"$f":"IF(源数据!A1833=\"\",\"\",源数据!A1833)","v":"中长款小西装女"},{"$f":"IF(源数据!B1833=\"\",\"\",源数据!B1833)","v":1},{"$f":"IF(源数据!C1833=\"\",\"\",源数据!C1833)","v":1},{"$f":"IF(源数据!D1833=\"\",\"\",源数据!D1833)","v":0},0,0,"女",0,0,"小西装",0,0,0,0,0,0,0,0,0]
[{"$f":"IF(源数据!A1834=\"\",\"\",源数据!A1834)","v":"中长款休闲西服女"},{"$f":"IF(源数据!B1834=\"\",\"\",源数据!B1834)","v":1},{"$f":"IF(源数据!C1834=\"\",\"\",源数据!C1834)","v":1},{"$f":"IF(源数据!D1834=\"\",\"\",源数据!D1834)","v":0},0,0,"女",0,0,0,0,"西服","休闲",0,0,0,0,0,0]
[{"$f":"IF(源数据!A1835=\"\",\"\",源数据!A1835)","v":"中长款休闲西装 女 包邮"},{"$f":"IF(源数据!B1835=\"\",\"\",源数据!B1835)","v":1},{"$f":"IF(源数据!C1835=\"\",\"\",源数据!C1835)","v":1},{"$f":"IF(源数据!D1835=\"\",\"\",源数据!D1835)","v":0},0,0,"女",0,0,0,0,0,"休闲",0,0,0,0,0,0]
[{"$f":"IF(源数据!A1836=\"\",\"\",源数据!A1836)","v":"中长款修身西服"},{"$f":"IF(源数据!B1836=\"\",\"\",源数据!B1836)","v":1},{"$f":"IF(源数据!C1836=\"\",\"\",源数据!C1836)","v":0},{"$f":"IF(源数据!D1836=\"\",\"\",源数据!D1836)","v":0},0,0,0,0,0,0,0,"西服",0,"修身",0,0,0,0,0]
[{"$f":"IF(源数据!A1837=\"\",\"\",源数据!A1837)","v":"中长款修身西服小西装外套春秋"},{"$f":"IF(源数据!B1837=\"\",\"\",源数据!B1837)","v":1},{"$f":"IF(源数据!C1837=\"\",\"\",源数据!C1837)","v":0},{"$f":"IF(源数据!D1837=\"\",\"\",源数据!D1837)","v":0},0,0,0,0,"外套","小西装",0,"西服",0,"修身",0,"春秋",0,0,0]
[{"$f":"IF(源数据!A1838=\"\",\"\",源数据!A1838)","v":"中长款修身西装"},{"$f":"IF(源数据!B1838=\"\",\"\",源数据!B1838)","v":2},{"$f":"IF(源数据!C1838=\"\",\"\",源数据!C1838)","v":0.5},{"$f":"IF(源数据!D1838=\"\",\"\",源数据!D1838)","v":0},0,0,0,0,0,0,0,0,0,"修身",0,0,0,0,0]
[{"$f":"IF(源数据!A1839=\"\",\"\",源数据!A1839)","v":"中长款修身小西女"},{"$f":"IF(源数据!B1839=\"\",\"\",源数据!B1839)","v":1},{"$f":"IF(源数据!C1839=\"\",\"\",源数据!C1839)","v":1},{"$f":"IF(源数据!D1839=\"\",\"\",源数据!D1839)","v":0},0,0,"女",0,0,0,0,0,0,"修身",0,0,0,0,0]
[{"$f":"IF(源数据!A1840=\"\",\"\",源数据!A1840)","v":"中长款雪纺小西服"},{"$f":"IF(源数据!B1840=\"\",\"\",源数据!B1840)","v":2},{"$f":"IF(源数据!C1840=\"\",\"\",源数据!C1840)","v":0},{"$f":"IF(源数据!D1840=\"\",\"\",源数据!D1840)","v":0},0,0,0,0,0,0,0,"西服",0,0,0,0,0,0,0]
[{"$f":"IF(源数据!A1841=\"\",\"\",源数据!A1841)","v":"中长款一粒扣雪纺小西装西服外套"},{"$f":"IF(源数据!B1841=\"\",\"\",源数据!B1841)","v":1},{"$f":"IF(源数据!C1841=\"\",\"\",源数据!C1841)","v":1},{"$f":"IF(源数据!D1841=\"\",\"\",源数据!D1841)","v":0},0,0,0,0,"外套","小西装",0,"西服",0,0,0,0,0,0,0]
[{"$f":"IF(源数据!A1842=\"\",\"\",源数据!A1842)","v":"中长外套"},{"$f":"IF(源数据!B1842=\"\",\"\",源数据!B1842)","v":1},{"$f":"IF(源数据!C1842=\"\",\"\",源数据!C1842)","v":1},{"$f":"IF(源数据!D1842=\"\",\"\",源数据!D1842)","v":0},0,0,0,0,"外套",0,0,0,0,0,0,0,0,0,0]
[{"$f":"IF(源数据!A1843=\"\",\"\",源数据!A1843)","v":"中长外套 女 春秋"},{"$f":"IF(源数据!B1843=\"\",\"\",源数据!B1843)","v":4},{"$f":"IF(源数据!C1843=\"\",\"\",源数据!C1843)","v":0.5},{"$f":"IF(源数据!D1843=\"\",\"\",源数据!D1843)","v":0},0,0,"女",0,"外套",0,0,0,0,0,0,"春秋",0,0,0]
[{"$f":"IF(源数据!A1844=\"\",\"\",源数据!A1844)","v":"中长西服外套女"},{"$f":"IF(源数据!B1844=\"\",\"\",源数据!B1844)","v":1},{"$f":"IF(源数据!C1844=\"\",\"\",源数据!C1844)","v":1},{"$f":"IF(源数据!D1844=\"\",\"\",源数据!D1844)","v":0},0,0,"女",0,"外套",0,0,"西服",0,0,0,0,0,0,0]
[{"$f":"IF(源数据!A1845=\"\",\"\",源数据!A1845)","v":"中长西装外套 女"},{"$f":"IF(源数据!B1845=\"\",\"\",源数据!B1845)","v":1},{"$f":"IF(源数据!C1845=\"\",\"\",源数据!C1845)","v":1},{"$f":"IF(源数据!D1845=\"\",\"\",源数据!D1845)","v":0},0,0,"女",0,"外套",0,0,0,0,0,0,0,0,0,0]
[{"$f":"IF(源数据!A1846=\"\",\"\",源数据!A1846)","v":"中长西装外套 女 免邮"},{"$f":"IF(源数据!B1846=\"\",\"\",源数据!B1846)","v":1},{"$f":"IF(源数据!C1846=\"\",\"\",源数据!C1846)","v":1},{"$f":"IF(源数据!D1846=\"\",\"\",源数据!D1846)","v":0},0,0,"女",0,"外套",0,0,0,0,0,0,0,0,0,0]
[{"$f":"IF(源数据!A1847=\"\",\"\",源数据!A1847)","v":"中长小西装修身"},{"$f":"IF(源数据!B1847=\"\",\"\",源数据!B1847)","v":1},{"$f":"IF(源数据!C1847=\"\",\"\",源数据!C1847)","v":1},{"$f":"IF(源数据!D1847=\"\",\"\",源数据!D1847)","v":0},0,0,0,0,0,"小西装",0,0,0,"修身",0,0,0,0,0]
[{"$f":"IF(源数据!A1848=\"\",\"\",源数据!A1848)","v":"中长小西装修身韩版"},{"$f":"IF(源数据!B1848=\"\",\"\",源数据!B1848)","v":1},{"$f":"IF(源数据!C1848=\"\",\"\",源数据!C1848)","v":1},{"$f":"IF(源数据!D1848=\"\",\"\",源数据!D1848)","v":0},0,0,0,0,0,"小西装",0,0,0,"修身",0,0,0,0,0]
[{"$f":"IF(源数据!A1849=\"\",\"\",源数据!A1849)","v":"中长休闲西服女"},{"$f":"IF(源数据!B1849=\"\",\"\",源数据!B1849)","v":1},{"$f":"IF(源数据!C1849=\"\",\"\",源数据!C1849)","v":1},{"$f":"IF(源数据!D1849=\"\",\"\",源数据!D1849)","v":0},0,0,"女",0,0,0,0,"西服","休闲",0,0,0,0,0,0]
[{"$f":"IF(源数据!A1850=\"\",\"\",源数据!A1850)","v":"中长袖西装"},{"$f":"IF(源数据!B1850=\"\",\"\",源数据!B1850)","v":1},{"$f":"IF(源数据!C1850=\"\",\"\",源数据!C1850)","v":1},{"$f":"IF(源数据!D1850=\"\",\"\",源数据!D1850)","v":0},0,0,0,0,0,0,0,0,0,0,0,0,0,0,0]
[{"$f":"IF(源数据!A1851=\"\",\"\",源数据!A1851)","v":""},{"$f":"IF(源数据!B1851=\"\",\"\",源数据!B1851)","v":""},{"$f":"IF(源数据!C1851=\"\",\"\",源数据!C1851)","v":""},{"$f":"IF(源数据!D1851=\"\",\"\",源数据!D1851)","v":""},0,0,0,0,0,0,0,0,0,0,0,0,0,0,0]
[{"$f":"IF(源数据!A1852=\"\",\"\",源数据!A1852)","v":""},{"$f":"IF(源数据!B1852=\"\",\"\",源数据!B1852)","v":""},{"$f":"IF(源数据!C1852=\"\",\"\",源数据!C1852)","v":""},{"$f":"IF(源数据!D1852=\"\",\"\",源数据!D1852)","v":""},"","","","","","","","","","","","","","",""]
[{"$f":"IF(源数据!A1853=\"\",\"\",源数据!A1853)","v":""},{"$f":"IF(源数据!B1853=\"\",\"\",源数据!B1853)","v":""},{"$f":"IF(源数据!C1853=\"\",\"\",源数据!C1853)","v":""},{"$f":"IF(源数据!D1853=\"\",\"\",源数据!D1853)","v":""},"","","","","","","","","","","","","","",""]
[{"$f":"IF(源数据!A1854=\"\",\"\",源数据!A1854)","v":""},{"$f":"IF(源数据!B1854=\"\",\"\",源数据!B1854)","v":""},{"$f":"IF(源数据!C1854=\"\",\"\",源数据!C1854)","v":""},{"$f":"IF(源数据!D1854=\"\",\"\",源数据!D1854)","v":""},"","","","","","","","","","","","","","",""]
[{"$f":"IF(源数据!A1855=\"\",\"\",源数据!A1855)","v":""},{"$f":"IF(源数据!B1855=\"\",\"\",源数据!B1855)","v":""},{"$f":"IF(源数据!C1855=\"\",\"\",源数据!C1855)","v":""},{"$f":"IF(源数据!D1855=\"\",\"\",源数据!D1855)","v":""},"","","","","","","","","","","","","","",""]
[{"$f":"IF(源数据!A1856=\"\",\"\",源数据!A1856)","v":""},{"$f":"IF(源数据!B1856=\"\",\"\",源数据!B1856)","v":""},{"$f":"IF(源数据!C1856=\"\",\"\",源数据!C1856)","v":""},{"$f":"IF(源数据!D1856=\"\",\"\",源数据!D1856)","v":""},"","","","","","","","","","","","","","",""]
[{"$f":"IF(源数据!A1857=\"\",\"\",源数据!A1857)","v":""},{"$f":"IF(源数据!B1857=\"\",\"\",源数据!B1857)","v":""},{"$f":"IF(源数据!C1857=\"\",\"\",源数据!C1857)","v":""},{"$f":"IF(源数据!D1857=\"\",\"\",源数据!D1857)","v":""},"","","","","","","","","","","","","","",""]
[{"$f":"IF(源数据!A1858=\"\",\"\",源数据!A1858)","v":""},{"$f":"IF(源数据!B1858=\"\",\"\",源数据!B1858)","v":""},{"$f":"IF(源数据!C1858=\"\",\"\",源数据!C1858)","v":""},{"$f":"IF(源数据!D1858=\"\",\"\",源数据!D1858)","v":""},"","","","","","","","","","","","","","",""]
[{"$f":"IF(源数据!A1859=\"\",\"\",源数据!A1859)","v":""},{"$f":"IF(源数据!B1859=\"\",\"\",源数据!B1859)","v":""},{"$f":"IF(源数据!C1859=\"\",\"\",源数据!C1859)","v":""},{"$f":"IF(源数据!D1859=\"\",\"\",源数据!D1859)","v":""},{"$f":"IF($A1858=\"\",\"\",IF(E$1=\"\",\"\",IF(IFERROR(SEARCH(E$1,$A1859),0) >0,E$1,0)))","v":""},{"$f":"IF($A1858=\"\",\"\",IF(F$1=\"\",\"\",IF(IFERROR(SEARCH(F$1,$A1859),0) >0,F$1,0)))","v":""},{"$f":"IF($A1858=\"\",\"\",IF(G$1=\"\",\"\",IF(IFERROR(SEARCH(G$1,$A1859),0) >0,G$1,0)))","v":""},{"$f":"IF($A1858=\"\",\"\",IF(H$1=\"\",\"\",IF(IFERROR(SEARCH(H$1,$A1859),0) >0,H$1,0)))","v":""},{"$f":"IF($A1858=\"\",\"\",IF(I$1=\"\",\"\",IF(IFERROR(SEARCH(I$1,$A1859),0) >0,I$1,0)))","v":""},{"$f":"IF($A1858=\"\",\"\",IF(J$1=\"\",\"\",IF(IFERROR(SEARCH(J$1,$A1859),0) >0,J$1,0)))","v":""},{"$f":"IF($A1858=\"\",\"\",IF(K$1=\"\",\"\",IF(IFERROR(SEARCH(K$1,$A1859),0) >0,K$1,0)))","v":""},{"$f":"IF($A1858=\"\",\"\",IF(L$1=\"\",\"\",IF(IFERROR(SEARCH(L$1,$A1859),0) >0,L$1,0)))","v":""},{"$f":"IF($A1858=\"\",\"\",IF(M$1=\"\",\"\",IF(IFERROR(SEARCH(M$1,$A1859),0) >0,M$1,0)))","v":""},{"$f":"IF($A1858=\"\",\"\",IF(N$1=\"\",\"\",IF(IFERROR(SEARCH(N$1,$A1859),0) >0,N$1,0)))","v":""},{"$f":"IF($A1858=\"\",\"\",IF(O$1=\"\",\"\",IF(IFERROR(SEARCH(O$1,$A1859),0) >0,O$1,0)))","v":""},{"$f":"IF($A1858=\"\",\"\",IF(P$1=\"\",\"\",IF(IFERROR(SEARCH(P$1,$A1859),0) >0,P$1,0)))","v":""},{"$f":"IF($A1858=\"\",\"\",IF(Q$1=\"\",\"\",IF(IFERROR(SEARCH(Q$1,$A1859),0) >0,Q$1,0)))","v":""},{"$f":"IF($A1858=\"\",\"\",IF(R$1=\"\",\"\",IF(IFERROR(SEARCH(R$1,$A1859),0) >0,R$1,0)))","v":""},{"$f":"IF($A1858=\"\",\"\",IF(S$1=\"\",\"\",IF(IFERROR(SEARCH(S$1,$A1859),0) >0,S$1,0)))","v":""}]
[{"$f":"IF(源数据!A1860=\"\",\"\",源数据!A1860)","v":""},{"$f":"IF(源数据!B1860=\"\",\"\",源数据!B1860)","v":""},{"$f":"IF(源数据!C1860=\"\",\"\",源数据!C1860)","v":""},{"$f":"IF(源数据!D1860=\"\",\"\",源数据!D1860)","v":""},"","","","","","","","","","","","","","",""]
[{"$f":"IF(源数据!A1861=\"\",\"\",源数据!A1861)","v":""},{"$f":"IF(源数据!B1861=\"\",\"\",源数据!B1861)","v":""},{"$f":"IF(源数据!C1861=\"\",\"\",源数据!C1861)","v":""},{"$f":"IF(源数据!D1861=\"\",\"\",源数据!D1861)","v":""},"","","","","","","","","","","","","","",""]
[{"$f":"IF(源数据!A1862=\"\",\"\",源数据!A1862)","v":""},{"$f":"IF(源数据!B1862=\"\",\"\",源数据!B1862)","v":""},{"$f":"IF(源数据!C1862=\"\",\"\",源数据!C1862)","v":""},{"$f":"IF(源数据!D1862=\"\",\"\",源数据!D1862)","v":""},"","","","","","","","","","","","","","",""]
[{"$f":"IF(源数据!A1863=\"\",\"\",源数据!A1863)","v":""},{"$f":"IF(源数据!B1863=\"\",\"\",源数据!B1863)","v":""},{"$f":"IF(源数据!C1863=\"\",\"\",源数据!C1863)","v":""},{"$f":"IF(源数据!D1863=\"\",\"\",源数据!D1863)","v":""},"","","","","","","","","","","","","","",""]
[{"$f":"IF(源数据!A1864=\"\",\"\",源数据!A1864)","v":""},{"$f":"IF(源数据!B1864=\"\",\"\",源数据!B1864)","v":""},{"$f":"IF(源数据!C1864=\"\",\"\",源数据!C1864)","v":""},{"$f":"IF(源数据!D1864=\"\",\"\",源数据!D1864)","v":""},"","","","","","","","","","","","","","",""]
[{"$f":"IF(源数据!A1865=\"\",\"\",源数据!A1865)","v":""},{"$f":"IF(源数据!B1865=\"\",\"\",源数据!B1865)","v":""},{"$f":"IF(源数据!C1865=\"\",\"\",源数据!C1865)","v":""},{"$f":"IF(源数据!D1865=\"\",\"\",源数据!D1865)","v":""},"","","","","","","","","","","","","","",""]
[{"$f":"IF(源数据!A1866=\"\",\"\",源数据!A1866)","v":""},{"$f":"IF(源数据!B1866=\"\",\"\",源数据!B1866)","v":""},{"$f":"IF(源数据!C1866=\"\",\"\",源数据!C1866)","v":""},{"$f":"IF(源数据!D1866=\"\",\"\",源数据!D1866)","v":""},"","","","","","","","","","","","","","",""]
[{"$f":"IF(源数据!A1867=\"\",\"\",源数据!A1867)","v":""},{"$f":"IF(源数据!B1867=\"\",\"\",源数据!B1867)","v":""},{"$f":"IF(源数据!C1867=\"\",\"\",源数据!C1867)","v":""},{"$f":"IF(源数据!D1867=\"\",\"\",源数据!D1867)","v":""},"","","","","","","","","","","","","","",""]
[{"$f":"IF(源数据!A1868=\"\",\"\",源数据!A1868)","v":""},{"$f":"IF(源数据!B1868=\"\",\"\",源数据!B1868)","v":""},{"$f":"IF(源数据!C1868=\"\",\"\",源数据!C1868)","v":""},{"$f":"IF(源数据!D1868=\"\",\"\",源数据!D1868)","v":""},"","","","","","","","","","","","","","",""]
[{"$f":"IF(源数据!A1869=\"\",\"\",源数据!A1869)","v":""},{"$f":"IF(源数据!B1869=\"\",\"\",源数据!B1869)","v":""},{"$f":"IF(源数据!C1869=\"\",\"\",源数据!C1869)","v":""},{"$f":"IF(源数据!D1869=\"\",\"\",源数据!D1869)","v":""},"","","","","","","","","","","","","","",""]
[{"$f":"IF(源数据!A1870=\"\",\"\",源数据!A1870)","v":""},{"$f":"IF(源数据!B1870=\"\",\"\",源数据!B1870)","v":""},{"$f":"IF(源数据!C1870=\"\",\"\",源数据!C1870)","v":""},{"$f":"IF(源数据!D1870=\"\",\"\",源数据!D1870)","v":""},"","","","","","","","","","","","","","",""]
[{"$f":"IF(源数据!A1871=\"\",\"\",源数据!A1871)","v":""},{"$f":"IF(源数据!B1871=\"\",\"\",源数据!B1871)","v":""},{"$f":"IF(源数据!C1871=\"\",\"\",源数据!C1871)","v":""},{"$f":"IF(源数据!D1871=\"\",\"\",源数据!D1871)","v":""},"","","","","","","","","","","","","","",""]
[{"$f":"IF(源数据!A1872=\"\",\"\",源数据!A1872)","v":""},{"$f":"IF(源数据!B1872=\"\",\"\",源数据!B1872)","v":""},{"$f":"IF(源数据!C1872=\"\",\"\",源数据!C1872)","v":""},{"$f":"IF(源数据!D1872=\"\",\"\",源数据!D1872)","v":""},"","","","","","","","","","","","","","",""]
[{"$f":"IF(源数据!A1873=\"\",\"\",源数据!A1873)","v":""},{"$f":"IF(源数据!B1873=\"\",\"\",源数据!B1873)","v":""},{"$f":"IF(源数据!C1873=\"\",\"\",源数据!C1873)","v":""},{"$f":"IF(源数据!D1873=\"\",\"\",源数据!D1873)","v":""},"","","","","","","","","","","","","","",""]
[{"$f":"IF(源数据!A1874=\"\",\"\",源数据!A1874)","v":""},{"$f":"IF(源数据!B1874=\"\",\"\",源数据!B1874)","v":""},{"$f":"IF(源数据!C1874=\"\",\"\",源数据!C1874)","v":""},{"$f":"IF(源数据!D1874=\"\",\"\",源数据!D1874)","v":""},"","","","","","","","","","","","","","",""]
[{"$f":"IF(源数据!A1875=\"\",\"\",源数据!A1875)","v":""},{"$f":"IF(源数据!B1875=\"\",\"\",源数据!B1875)","v":""},{"$f":"IF(源数据!C1875=\"\",\"\",源数据!C1875)","v":""},{"$f":"IF(源数据!D1875=\"\",\"\",源数据!D1875)","v":""},"","","","","","","","","","","","","","",""]
[{"$f":"IF(源数据!A1876=\"\",\"\",源数据!A1876)","v":""},{"$f":"IF(源数据!B1876=\"\",\"\",源数据!B1876)","v":""},{"$f":"IF(源数据!C1876=\"\",\"\",源数据!C1876)","v":""},{"$f":"IF(源数据!D1876=\"\",\"\",源数据!D1876)","v":""},"","","","","","","","","","","","","","",""]
[{"$f":"IF(源数据!A1877=\"\",\"\",源数据!A1877)","v":""},{"$f":"IF(源数据!B1877=\"\",\"\",源数据!B1877)","v":""},{"$f":"IF(源数据!C1877=\"\",\"\",源数据!C1877)","v":""},{"$f":"IF(源数据!D1877=\"\",\"\",源数据!D1877)","v":""},"","","","","","","","","","","","","","",""]
[{"$f":"IF(源数据!A1878=\"\",\"\",源数据!A1878)","v":""},{"$f":"IF(源数据!B1878=\"\",\"\",源数据!B1878)","v":""},{"$f":"IF(源数据!C1878=\"\",\"\",源数据!C1878)","v":""},{"$f":"IF(源数据!D1878=\"\",\"\",源数据!D1878)","v":""},"","","","","","","","","","","","","","",""]
[{"$f":"IF(源数据!A1879=\"\",\"\",源数据!A1879)","v":""},{"$f":"IF(源数据!B1879=\"\",\"\",源数据!B1879)","v":""},{"$f":"IF(源数据!C1879=\"\",\"\",源数据!C1879)","v":""},{"$f":"IF(源数据!D1879=\"\",\"\",源数据!D1879)","v":""},"","","","","","","","","","","","","","",""]
[{"$f":"IF(源数据!A1880=\"\",\"\",源数据!A1880)","v":""},{"$f":"IF(源数据!B1880=\"\",\"\",源数据!B1880)","v":""},{"$f":"IF(源数据!C1880=\"\",\"\",源数据!C1880)","v":""},{"$f":"IF(源数据!D1880=\"\",\"\",源数据!D1880)","v":""},"","","","","","","","","","","","","","",""]
[{"$f":"IF(源数据!A1881=\"\",\"\",源数据!A1881)","v":""},{"$f":"IF(源数据!B1881=\"\",\"\",源数据!B1881)","v":""},{"$f":"IF(源数据!C1881=\"\",\"\",源数据!C1881)","v":""},{"$f":"IF(源数据!D1881=\"\",\"\",源数据!D1881)","v":""},"","","","","","","","","","","","","","",""]
[{"$f":"IF(源数据!A1882=\"\",\"\",源数据!A1882)","v":""},{"$f":"IF(源数据!B1882=\"\",\"\",源数据!B1882)","v":""},{"$f":"IF(源数据!C1882=\"\",\"\",源数据!C1882)","v":""},{"$f":"IF(源数据!D1882=\"\",\"\",源数据!D1882)","v":""},"","","","","","","","","","","","","","",""]
[{"$f":"IF(源数据!A1883=\"\",\"\",源数据!A1883)","v":""},{"$f":"IF(源数据!B1883=\"\",\"\",源数据!B1883)","v":""},{"$f":"IF(源数据!C1883=\"\",\"\",源数据!C1883)","v":""},{"$f":"IF(源数据!D1883=\"\",\"\",源数据!D1883)","v":""},"","","","","","","","","","","","","","",""]
[{"$f":"IF(源数据!A1884=\"\",\"\",源数据!A1884)","v":""},{"$f":"IF(源数据!B1884=\"\",\"\",源数据!B1884)","v":""},{"$f":"IF(源数据!C1884=\"\",\"\",源数据!C1884)","v":""},{"$f":"IF(源数据!D1884=\"\",\"\",源数据!D1884)","v":""},"","","","","","","","","","","","","","",""]
[{"$f":"IF(源数据!A1885=\"\",\"\",源数据!A1885)","v":""},{"$f":"IF(源数据!B1885=\"\",\"\",源数据!B1885)","v":""},{"$f":"IF(源数据!C1885=\"\",\"\",源数据!C1885)","v":""},{"$f":"IF(源数据!D1885=\"\",\"\",源数据!D1885)","v":""},"","","","","","","","","","","","","","",""]
[{"$f":"IF(源数据!A1886=\"\",\"\",源数据!A1886)","v":""},{"$f":"IF(源数据!B1886=\"\",\"\",源数据!B1886)","v":""},{"$f":"IF(源数据!C1886=\"\",\"\",源数据!C1886)","v":""},{"$f":"IF(源数据!D1886=\"\",\"\",源数据!D1886)","v":""},"","","","","","","","","","","","","","",""]
[{"$f":"IF(源数据!A1887=\"\",\"\",源数据!A1887)","v":""},{"$f":"IF(源数据!B1887=\"\",\"\",源数据!B1887)","v":""},{"$f":"IF(源数据!C1887=\"\",\"\",源数据!C1887)","v":""},{"$f":"IF(源数据!D1887=\"\",\"\",源数据!D1887)","v":""},"","","","","","","","","","","","","","",""]
[{"$f":"IF(源数据!A1888=\"\",\"\",源数据!A1888)","v":""},{"$f":"IF(源数据!B1888=\"\",\"\",源数据!B1888)","v":""},{"$f":"IF(源数据!C1888=\"\",\"\",源数据!C1888)","v":""},{"$f":"IF(源数据!D1888=\"\",\"\",源数据!D1888)","v":""},"","","","","","","","","","","","","","",""]
[{"$f":"IF(源数据!A1889=\"\",\"\",源数据!A1889)","v":""},{"$f":"IF(源数据!B1889=\"\",\"\",源数据!B1889)","v":""},{"$f":"IF(源数据!C1889=\"\",\"\",源数据!C1889)","v":""},{"$f":"IF(源数据!D1889=\"\",\"\",源数据!D1889)","v":""},"","","","","","","","","","","","","","",""]
[{"$f":"IF(源数据!A1890=\"\",\"\",源数据!A1890)","v":""},{"$f":"IF(源数据!B1890=\"\",\"\",源数据!B1890)","v":""},{"$f":"IF(源数据!C1890=\"\",\"\",源数据!C1890)","v":""},{"$f":"IF(源数据!D1890=\"\",\"\",源数据!D1890)","v":""},"","","","","","","","","","","","","","",""]
[{"$f":"IF(源数据!A1891=\"\",\"\",源数据!A1891)","v":""},{"$f":"IF(源数据!B1891=\"\",\"\",源数据!B1891)","v":""},{"$f":"IF(源数据!C1891=\"\",\"\",源数据!C1891)","v":""},{"$f":"IF(源数据!D1891=\"\",\"\",源数据!D1891)","v":""},"","","","","","","","","","","","","","",""]
[{"$f":"IF(源数据!A1892=\"\",\"\",源数据!A1892)","v":""},{"$f":"IF(源数据!B1892=\"\",\"\",源数据!B1892)","v":""},{"$f":"IF(源数据!C1892=\"\",\"\",源数据!C1892)","v":""},{"$f":"IF(源数据!D1892=\"\",\"\",源数据!D1892)","v":""},"","","","","","","","","","","","","","",""]
[{"$f":"IF(源数据!A1893=\"\",\"\",源数据!A1893)","v":""},{"$f":"IF(源数据!B1893=\"\",\"\",源数据!B1893)","v":""},{"$f":"IF(源数据!C1893=\"\",\"\",源数据!C1893)","v":""},{"$f":"IF(源数据!D1893=\"\",\"\",源数据!D1893)","v":""},"","","","","","","","","","","","","","",""]
[{"$f":"IF(源数据!A1894=\"\",\"\",源数据!A1894)","v":""},{"$f":"IF(源数据!B1894=\"\",\"\",源数据!B1894)","v":""},{"$f":"IF(源数据!C1894=\"\",\"\",源数据!C1894)","v":""},{"$f":"IF(源数据!D1894=\"\",\"\",源数据!D1894)","v":""},"","","","","","","","","","","","","","",""]
[{"$f":"IF(源数据!A1895=\"\",\"\",源数据!A1895)","v":""},{"$f":"IF(源数据!B1895=\"\",\"\",源数据!B1895)","v":""},{"$f":"IF(源数据!C1895=\"\",\"\",源数据!C1895)","v":""},{"$f":"IF(源数据!D1895=\"\",\"\",源数据!D1895)","v":""},"","","","","","","","","","","","","","",""]
[{"$f":"IF(源数据!A1896=\"\",\"\",源数据!A1896)","v":""},{"$f":"IF(源数据!B1896=\"\",\"\",源数据!B1896)","v":""},{"$f":"IF(源数据!C1896=\"\",\"\",源数据!C1896)","v":""},{"$f":"IF(源数据!D1896=\"\",\"\",源数据!D1896)","v":""},"","","","","","","","","","","","","","",""]
[{"$f":"IF(源数据!A1897=\"\",\"\",源数据!A1897)","v":""},{"$f":"IF(源数据!B1897=\"\",\"\",源数据!B1897)","v":""},{"$f":"IF(源数据!C1897=\"\",\"\",源数据!C1897)","v":""},{"$f":"IF(源数据!D1897=\"\",\"\",源数据!D1897)","v":""},"","","","","","","","","","","","","","",""]
[{"$f":"IF(源数据!A1898=\"\",\"\",源数据!A1898)","v":""},{"$f":"IF(源数据!B1898=\"\",\"\",源数据!B1898)","v":""},{"$f":"IF(源数据!C1898=\"\",\"\",源数据!C1898)","v":""},{"$f":"IF(源数据!D1898=\"\",\"\",源数据!D1898)","v":""},"","","","","","","","","","","","","","",""]
[{"$f":"IF(源数据!A1899=\"\",\"\",源数据!A1899)","v":""},{"$f":"IF(源数据!B1899=\"\",\"\",源数据!B1899)","v":""},{"$f":"IF(源数据!C1899=\"\",\"\",源数据!C1899)","v":""},{"$f":"IF(源数据!D1899=\"\",\"\",源数据!D1899)","v":""},"","","","","","","","","","","","","","",""]
[{"$f":"IF(源数据!A1900=\"\",\"\",源数据!A1900)","v":""},{"$f":"IF(源数据!B1900=\"\",\"\",源数据!B1900)","v":""},{"$f":"IF(源数据!C1900=\"\",\"\",源数据!C1900)","v":""},{"$f":"IF(源数据!D1900=\"\",\"\",源数据!D1900)","v":""},"","","","","","","","","","","","","","",""]
[{"$f":"IF(源数据!A1901=\"\",\"\",源数据!A1901)","v":""},{"$f":"IF(源数据!B1901=\"\",\"\",源数据!B1901)","v":""},{"$f":"IF(源数据!C1901=\"\",\"\",源数据!C1901)","v":""},{"$f":"IF(源数据!D1901=\"\",\"\",源数据!D1901)","v":""},"","","","","","","","","","","","","","",""]
[{"$f":"IF(源数据!A1902=\"\",\"\",源数据!A1902)","v":""},{"$f":"IF(源数据!B1902=\"\",\"\",源数据!B1902)","v":""},{"$f":"IF(源数据!C1902=\"\",\"\",源数据!C1902)","v":""},{"$f":"IF(源数据!D1902=\"\",\"\",源数据!D1902)","v":""},"","","","","","","","","","","","","","",""]
[{"$f":"IF(源数据!A1903=\"\",\"\",源数据!A1903)","v":""},{"$f":"IF(源数据!B1903=\"\",\"\",源数据!B1903)","v":""},{"$f":"IF(源数据!C1903=\"\",\"\",源数据!C1903)","v":""},{"$f":"IF(源数据!D1903=\"\",\"\",源数据!D1903)","v":""},"","","","","","","","","","","","","","",""]
[{"$f":"IF(源数据!A1904=\"\",\"\",源数据!A1904)","v":""},{"$f":"IF(源数据!B1904=\"\",\"\",源数据!B1904)","v":""},{"$f":"IF(源数据!C1904=\"\",\"\",源数据!C1904)","v":""},{"$f":"IF(源数据!D1904=\"\",\"\",源数据!D1904)","v":""},"","","","","","","","","","","","","","",""]
[{"$f":"IF(源数据!A1905=\"\",\"\",源数据!A1905)","v":""},{"$f":"IF(源数据!B1905=\"\",\"\",源数据!B1905)","v":""},{"$f":"IF(源数据!C1905=\"\",\"\",源数据!C1905)","v":""},{"$f":"IF(源数据!D1905=\"\",\"\",源数据!D1905)","v":""},"","","","","","","","","","","","","","",""]
[{"$f":"IF(源数据!A1906=\"\",\"\",源数据!A1906)","v":""},{"$f":"IF(源数据!B1906=\"\",\"\",源数据!B1906)","v":""},{"$f":"IF(源数据!C1906=\"\",\"\",源数据!C1906)","v":""},{"$f":"IF(源数据!D1906=\"\",\"\",源数据!D1906)","v":""},"","","","","","","","","","","","","","",""]
[{"$f":"IF(源数据!A1907=\"\",\"\",源数据!A1907)","v":""},{"$f":"IF(源数据!B1907=\"\",\"\",源数据!B1907)","v":""},{"$f":"IF(源数据!C1907=\"\",\"\",源数据!C1907)","v":""},{"$f":"IF(源数据!D1907=\"\",\"\",源数据!D1907)","v":""},"","","","","","","","","","","","","","",""]
[{"$f":"IF(源数据!A1908=\"\",\"\",源数据!A1908)","v":""},{"$f":"IF(源数据!B1908=\"\",\"\",源数据!B1908)","v":""},{"$f":"IF(源数据!C1908=\"\",\"\",源数据!C1908)","v":""},{"$f":"IF(源数据!D1908=\"\",\"\",源数据!D1908)","v":""},"","","","","","","","","","","","","","",""]
[{"$f":"IF(源数据!A1909=\"\",\"\",源数据!A1909)","v":""},{"$f":"IF(源数据!B1909=\"\",\"\",源数据!B1909)","v":""},{"$f":"IF(源数据!C1909=\"\",\"\",源数据!C1909)","v":""},{"$f":"IF(源数据!D1909=\"\",\"\",源数据!D1909)","v":""},"","","","","","","","","","","","","","",""]
[{"$f":"IF(源数据!A1910=\"\",\"\",源数据!A1910)","v":""},{"$f":"IF(源数据!B1910=\"\",\"\",源数据!B1910)","v":""},{"$f":"IF(源数据!C1910=\"\",\"\",源数据!C1910)","v":""},{"$f":"IF(源数据!D1910=\"\",\"\",源数据!D1910)","v":""},"","","","","","","","","","","","","","",""]
[{"$f":"IF(源数据!A1911=\"\",\"\",源数据!A1911)","v":""},{"$f":"IF(源数据!B1911=\"\",\"\",源数据!B1911)","v":""},{"$f":"IF(源数据!C1911=\"\",\"\",源数据!C1911)","v":""},{"$f":"IF(源数据!D1911=\"\",\"\",源数据!D1911)","v":""},"","","","","","","","","","","","","","",""]
[{"$f":"IF(源数据!A1912=\"\",\"\",源数据!A1912)","v":""},{"$f":"IF(源数据!B1912=\"\",\"\",源数据!B1912)","v":""},{"$f":"IF(源数据!C1912=\"\",\"\",源数据!C1912)","v":""},{"$f":"IF(源数据!D1912=\"\",\"\",源数据!D1912)","v":""},"","","","","","","","","","","","","","",""]
[{"$f":"IF(源数据!A1913=\"\",\"\",源数据!A1913)","v":""},{"$f":"IF(源数据!B1913=\"\",\"\",源数据!B1913)","v":""},{"$f":"IF(源数据!C1913=\"\",\"\",源数据!C1913)","v":""},{"$f":"IF(源数据!D1913=\"\",\"\",源数据!D1913)","v":""},"","","","","","","","","","","","","","",""]
[{"$f":"IF(源数据!A1914=\"\",\"\",源数据!A1914)","v":""},{"$f":"IF(源数据!B1914=\"\",\"\",源数据!B1914)","v":""},{"$f":"IF(源数据!C1914=\"\",\"\",源数据!C1914)","v":""},{"$f":"IF(源数据!D1914=\"\",\"\",源数据!D1914)","v":""},"","","","","","","","","","","","","","",""]
[{"$f":"IF(源数据!A1915=\"\",\"\",源数据!A1915)","v":""},{"$f":"IF(源数据!B1915=\"\",\"\",源数据!B1915)","v":""},{"$f":"IF(源数据!C1915=\"\",\"\",源数据!C1915)","v":""},{"$f":"IF(源数据!D1915=\"\",\"\",源数据!D1915)","v":""},"","","","","","","","","","","","","","",""]
[{"$f":"IF(源数据!A1916=\"\",\"\",源数据!A1916)","v":""},{"$f":"IF(源数据!B1916=\"\",\"\",源数据!B1916)","v":""},{"$f":"IF(源数据!C1916=\"\",\"\",源数据!C1916)","v":""},{"$f":"IF(源数据!D1916=\"\",\"\",源数据!D1916)","v":""},"","","","","","","","","","","","","","",""]
[{"$f":"IF(源数据!A1917=\"\",\"\",源数据!A1917)","v":""},{"$f":"IF(源数据!B1917=\"\",\"\",源数据!B1917)","v":""},{"$f":"IF(源数据!C1917=\"\",\"\",源数据!C1917)","v":""},{"$f":"IF(源数据!D1917=\"\",\"\",源数据!D1917)","v":""},"","","","","","","","","","","","","","",""]
[{"$f":"IF(源数据!A1918=\"\",\"\",源数据!A1918)","v":""},{"$f":"IF(源数据!B1918=\"\",\"\",源数据!B1918)","v":""},{"$f":"IF(源数据!C1918=\"\",\"\",源数据!C1918)","v":""},{"$f":"IF(源数据!D1918=\"\",\"\",源数据!D1918)","v":""},"","","","","","","","","","","","","","",""]
[{"$f":"IF(源数据!A1919=\"\",\"\",源数据!A1919)","v":""},{"$f":"IF(源数据!B1919=\"\",\"\",源数据!B1919)","v":""},{"$f":"IF(源数据!C1919=\"\",\"\",源数据!C1919)","v":""},{"$f":"IF(源数据!D1919=\"\",\"\",源数据!D1919)","v":""},"","","","","","","","","","","","","","",""]
[{"$f":"IF(源数据!A1920=\"\",\"\",源数据!A1920)","v":""},{"$f":"IF(源数据!B1920=\"\",\"\",源数据!B1920)","v":""},{"$f":"IF(源数据!C1920=\"\",\"\",源数据!C1920)","v":""},{"$f":"IF(源数据!D1920=\"\",\"\",源数据!D1920)","v":""},"","","","","","","","","","","","","","",""]
[{"$f":"IF(源数据!A1921=\"\",\"\",源数据!A1921)","v":""},{"$f":"IF(源数据!B1921=\"\",\"\",源数据!B1921)","v":""},{"$f":"IF(源数据!C1921=\"\",\"\",源数据!C1921)","v":""},{"$f":"IF(源数据!D1921=\"\",\"\",源数据!D1921)","v":""},"","","","","","","","","","","","","","",""]
[{"$f":"IF(源数据!A1922=\"\",\"\",源数据!A1922)","v":""},{"$f":"IF(源数据!B1922=\"\",\"\",源数据!B1922)","v":""},{"$f":"IF(源数据!C1922=\"\",\"\",源数据!C1922)","v":""},{"$f":"IF(源数据!D1922=\"\",\"\",源数据!D1922)","v":""},"","","","","","","","","","","","","","",""]
[{"$f":"IF(源数据!A1923=\"\",\"\",源数据!A1923)","v":""},{"$f":"IF(源数据!B1923=\"\",\"\",源数据!B1923)","v":""},{"$f":"IF(源数据!C1923=\"\",\"\",源数据!C1923)","v":""},{"$f":"IF(源数据!D1923=\"\",\"\",源数据!D1923)","v":""},{"$f":"IF($A1922=\"\",\"\",IF(E$1=\"\",\"\",IF(IFERROR(SEARCH(E$1,$A1923),0) >0,E$1,0)))","v":""},{"$f":"IF($A1922=\"\",\"\",IF(F$1=\"\",\"\",IF(IFERROR(SEARCH(F$1,$A1923),0) >0,F$1,0)))","v":""},{"$f":"IF($A1922=\"\",\"\",IF(G$1=\"\",\"\",IF(IFERROR(SEARCH(G$1,$A1923),0) >0,G$1,0)))","v":""},{"$f":"IF($A1922=\"\",\"\",IF(H$1=\"\",\"\",IF(IFERROR(SEARCH(H$1,$A1923),0) >0,H$1,0)))","v":""},{"$f":"IF($A1922=\"\",\"\",IF(I$1=\"\",\"\",IF(IFERROR(SEARCH(I$1,$A1923),0) >0,I$1,0)))","v":""},{"$f":"IF($A1922=\"\",\"\",IF(J$1=\"\",\"\",IF(IFERROR(SEARCH(J$1,$A1923),0) >0,J$1,0)))","v":""},{"$f":"IF($A1922=\"\",\"\",IF(K$1=\"\",\"\",IF(IFERROR(SEARCH(K$1,$A1923),0) >0,K$1,0)))","v":""},{"$f":"IF($A1922=\"\",\"\",IF(L$1=\"\",\"\",IF(IFERROR(SEARCH(L$1,$A1923),0) >0,L$1,0)))","v":""},{"$f":"IF($A1922=\"\",\"\",IF(M$1=\"\",\"\",IF(IFERROR(SEARCH(M$1,$A1923),0) >0,M$1,0)))","v":""},{"$f":"IF($A1922=\"\",\"\",IF(N$1=\"\",\"\",IF(IFERROR(SEARCH(N$1,$A1923),0) >0,N$1,0)))","v":""},{"$f":"IF($A1922=\"\",\"\",IF(O$1=\"\",\"\",IF(IFERROR(SEARCH(O$1,$A1923),0) >0,O$1,0)))","v":""},{"$f":"IF($A1922=\"\",\"\",IF(P$1=\"\",\"\",IF(IFERROR(SEARCH(P$1,$A1923),0) >0,P$1,0)))","v":""},{"$f":"IF($A1922=\"\",\"\",IF(Q$1=\"\",\"\",IF(IFERROR(SEARCH(Q$1,$A1923),0) >0,Q$1,0)))","v":""},{"$f":"IF($A1922=\"\",\"\",IF(R$1=\"\",\"\",IF(IFERROR(SEARCH(R$1,$A1923),0) >0,R$1,0)))","v":""},{"$f":"IF($A1922=\"\",\"\",IF(S$1=\"\",\"\",IF(IFERROR(SEARCH(S$1,$A1923),0) >0,S$1,0)))","v":""}]
[{"$f":"IF(源数据!A1924=\"\",\"\",源数据!A1924)","v":""},{"$f":"IF(源数据!B1924=\"\",\"\",源数据!B1924)","v":""},{"$f":"IF(源数据!C1924=\"\",\"\",源数据!C1924)","v":""},{"$f":"IF(源数据!D1924=\"\",\"\",源数据!D1924)","v":""},"","","","","","","","","","","","","","",""]
[{"$f":"IF(源数据!A1925=\"\",\"\",源数据!A1925)","v":""},{"$f":"IF(源数据!B1925=\"\",\"\",源数据!B1925)","v":""},{"$f":"IF(源数据!C1925=\"\",\"\",源数据!C1925)","v":""},{"$f":"IF(源数据!D1925=\"\",\"\",源数据!D1925)","v":""},"","","","","","","","","","","","","","",""]
[{"$f":"IF(源数据!A1926=\"\",\"\",源数据!A1926)","v":""},{"$f":"IF(源数据!B1926=\"\",\"\",源数据!B1926)","v":""},{"$f":"IF(源数据!C1926=\"\",\"\",源数据!C1926)","v":""},{"$f":"IF(源数据!D1926=\"\",\"\",源数据!D1926)","v":""},"","","","","","","","","","","","","","",""]
[{"$f":"IF(源数据!A1927=\"\",\"\",源数据!A1927)","v":""},{"$f":"IF(源数据!B1927=\"\",\"\",源数据!B1927)","v":""},{"$f":"IF(源数据!C1927=\"\",\"\",源数据!C1927)","v":""},{"$f":"IF(源数据!D1927=\"\",\"\",源数据!D1927)","v":""},"","","","","","","","","","","","","","",""]
[{"$f":"IF(源数据!A1928=\"\",\"\",源数据!A1928)","v":""},{"$f":"IF(源数据!B1928=\"\",\"\",源数据!B1928)","v":""},{"$f":"IF(源数据!C1928=\"\",\"\",源数据!C1928)","v":""},{"$f":"IF(源数据!D1928=\"\",\"\",源数据!D1928)","v":""},"","","","","","","","","","","","","","",""]
[{"$f":"IF(源数据!A1929=\"\",\"\",源数据!A1929)","v":""},{"$f":"IF(源数据!B1929=\"\",\"\",源数据!B1929)","v":""},{"$f":"IF(源数据!C1929=\"\",\"\",源数据!C1929)","v":""},{"$f":"IF(源数据!D1929=\"\",\"\",源数据!D1929)","v":""},"","","","","","","","","","","","","","",""]
[{"$f":"IF(源数据!A1930=\"\",\"\",源数据!A1930)","v":""},{"$f":"IF(源数据!B1930=\"\",\"\",源数据!B1930)","v":""},{"$f":"IF(源数据!C1930=\"\",\"\",源数据!C1930)","v":""},{"$f":"IF(源数据!D1930=\"\",\"\",源数据!D1930)","v":""},"","","","","","","","","","","","","","",""]
[{"$f":"IF(源数据!A1931=\"\",\"\",源数据!A1931)","v":""},{"$f":"IF(源数据!B1931=\"\",\"\",源数据!B1931)","v":""},{"$f":"IF(源数据!C1931=\"\",\"\",源数据!C1931)","v":""},{"$f":"IF(源数据!D1931=\"\",\"\",源数据!D1931)","v":""},"","","","","","","","","","","","","","",""]
[{"$f":"IF(源数据!A1932=\"\",\"\",源数据!A1932)","v":""},{"$f":"IF(源数据!B1932=\"\",\"\",源数据!B1932)","v":""},{"$f":"IF(源数据!C1932=\"\",\"\",源数据!C1932)","v":""},{"$f":"IF(源数据!D1932=\"\",\"\",源数据!D1932)","v":""},"","","","","","","","","","","","","","",""]
[{"$f":"IF(源数据!A1933=\"\",\"\",源数据!A1933)","v":""},{"$f":"IF(源数据!B1933=\"\",\"\",源数据!B1933)","v":""},{"$f":"IF(源数据!C1933=\"\",\"\",源数据!C1933)","v":""},{"$f":"IF(源数据!D1933=\"\",\"\",源数据!D1933)","v":""},"","","","","","","","","","","","","","",""]
[{"$f":"IF(源数据!A1934=\"\",\"\",源数据!A1934)","v":""},{"$f":"IF(源数据!B1934=\"\",\"\",源数据!B1934)","v":""},{"$f":"IF(源数据!C1934=\"\",\"\",源数据!C1934)","v":""},{"$f":"IF(源数据!D1934=\"\",\"\",源数据!D1934)","v":""},"","","","","","","","","","","","","","",""]
[{"$f":"IF(源数据!A1935=\"\",\"\",源数据!A1935)","v":""},{"$f":"IF(源数据!B1935=\"\",\"\",源数据!B1935)","v":""},{"$f":"IF(源数据!C1935=\"\",\"\",源数据!C1935)","v":""},{"$f":"IF(源数据!D1935=\"\",\"\",源数据!D1935)","v":""},"","","","","","","","","","","","","","",""]
[{"$f":"IF(源数据!A1936=\"\",\"\",源数据!A1936)","v":""},{"$f":"IF(源数据!B1936=\"\",\"\",源数据!B1936)","v":""},{"$f":"IF(源数据!C1936=\"\",\"\",源数据!C1936)","v":""},{"$f":"IF(源数据!D1936=\"\",\"\",源数据!D1936)","v":""},"","","","","","","","","","","","","","",""]
[{"$f":"IF(源数据!A1937=\"\",\"\",源数据!A1937)","v":""},{"$f":"IF(源数据!B1937=\"\",\"\",源数据!B1937)","v":""},{"$f":"IF(源数据!C1937=\"\",\"\",源数据!C1937)","v":""},{"$f":"IF(源数据!D1937=\"\",\"\",源数据!D1937)","v":""},"","","","","","","","","","","","","","",""]
[{"$f":"IF(源数据!A1938=\"\",\"\",源数据!A1938)","v":""},{"$f":"IF(源数据!B1938=\"\",\"\",源数据!B1938)","v":""},{"$f":"IF(源数据!C1938=\"\",\"\",源数据!C1938)","v":""},{"$f":"IF(源数据!D1938=\"\",\"\",源数据!D1938)","v":""},"","","","","","","","","","","","","","",""]
[{"$f":"IF(源数据!A1939=\"\",\"\",源数据!A1939)","v":""},{"$f":"IF(源数据!B1939=\"\",\"\",源数据!B1939)","v":""},{"$f":"IF(源数据!C1939=\"\",\"\",源数据!C1939)","v":""},{"$f":"IF(源数据!D1939=\"\",\"\",源数据!D1939)","v":""},"","","","","","","","","","","","","","",""]
[{"$f":"IF(源数据!A1940=\"\",\"\",源数据!A1940)","v":""},{"$f":"IF(源数据!B1940=\"\",\"\",源数据!B1940)","v":""},{"$f":"IF(源数据!C1940=\"\",\"\",源数据!C1940)","v":""},{"$f":"IF(源数据!D1940=\"\",\"\",源数据!D1940)","v":""},"","","","","","","","","","","","","","",""]
[{"$f":"IF(源数据!A1941=\"\",\"\",源数据!A1941)","v":""},{"$f":"IF(源数据!B1941=\"\",\"\",源数据!B1941)","v":""},{"$f":"IF(源数据!C1941=\"\",\"\",源数据!C1941)","v":""},{"$f":"IF(源数据!D1941=\"\",\"\",源数据!D1941)","v":""},"","","","","","","","","","","","","","",""]
[{"$f":"IF(源数据!A1942=\"\",\"\",源数据!A1942)","v":""},{"$f":"IF(源数据!B1942=\"\",\"\",源数据!B1942)","v":""},{"$f":"IF(源数据!C1942=\"\",\"\",源数据!C1942)","v":""},{"$f":"IF(源数据!D1942=\"\",\"\",源数据!D1942)","v":""},"","","","","","","","","","","","","","",""]
[{"$f":"IF(源数据!A1943=\"\",\"\",源数据!A1943)","v":""},{"$f":"IF(源数据!B1943=\"\",\"\",源数据!B1943)","v":""},{"$f":"IF(源数据!C1943=\"\",\"\",源数据!C1943)","v":""},{"$f":"IF(源数据!D1943=\"\",\"\",源数据!D1943)","v":""},"","","","","","","","","","","","","","",""]
[{"$f":"IF(源数据!A1944=\"\",\"\",源数据!A1944)","v":""},{"$f":"IF(源数据!B1944=\"\",\"\",源数据!B1944)","v":""},{"$f":"IF(源数据!C1944=\"\",\"\",源数据!C1944)","v":""},{"$f":"IF(源数据!D1944=\"\",\"\",源数据!D1944)","v":""},"","","","","","","","","","","","","","",""]
[{"$f":"IF(源数据!A1945=\"\",\"\",源数据!A1945)","v":""},{"$f":"IF(源数据!B1945=\"\",\"\",源数据!B1945)","v":""},{"$f":"IF(源数据!C1945=\"\",\"\",源数据!C1945)","v":""},{"$f":"IF(源数据!D1945=\"\",\"\",源数据!D1945)","v":""},"","","","","","","","","","","","","","",""]
[{"$f":"IF(源数据!A1946=\"\",\"\",源数据!A1946)","v":""},{"$f":"IF(源数据!B1946=\"\",\"\",源数据!B1946)","v":""},{"$f":"IF(源数据!C1946=\"\",\"\",源数据!C1946)","v":""},{"$f":"IF(源数据!D1946=\"\",\"\",源数据!D1946)","v":""},"","","","","","","","","","","","","","",""]
[{"$f":"IF(源数据!A1947=\"\",\"\",源数据!A1947)","v":""},{"$f":"IF(源数据!B1947=\"\",\"\",源数据!B1947)","v":""},{"$f":"IF(源数据!C1947=\"\",\"\",源数据!C1947)","v":""},{"$f":"IF(源数据!D1947=\"\",\"\",源数据!D1947)","v":""},"","","","","","","","","","","","","","",""]
[{"$f":"IF(源数据!A1948=\"\",\"\",源数据!A1948)","v":""},{"$f":"IF(源数据!B1948=\"\",\"\",源数据!B1948)","v":""},{"$f":"IF(源数据!C1948=\"\",\"\",源数据!C1948)","v":""},{"$f":"IF(源数据!D1948=\"\",\"\",源数据!D1948)","v":""},"","","","","","","","","","","","","","",""]
[{"$f":"IF(源数据!A1949=\"\",\"\",源数据!A1949)","v":""},{"$f":"IF(源数据!B1949=\"\",\"\",源数据!B1949)","v":""},{"$f":"IF(源数据!C1949=\"\",\"\",源数据!C1949)","v":""},{"$f":"IF(源数据!D1949=\"\",\"\",源数据!D1949)","v":""},"","","","","","","","","","","","","","",""]
[{"$f":"IF(源数据!A1950=\"\",\"\",源数据!A1950)","v":""},{"$f":"IF(源数据!B1950=\"\",\"\",源数据!B1950)","v":""},{"$f":"IF(源数据!C1950=\"\",\"\",源数据!C1950)","v":""},{"$f":"IF(源数据!D1950=\"\",\"\",源数据!D1950)","v":""},"","","","","","","","","","","","","","",""]
[{"$f":"IF(源数据!A1951=\"\",\"\",源数据!A1951)","v":""},{"$f":"IF(源数据!B1951=\"\",\"\",源数据!B1951)","v":""},{"$f":"IF(源数据!C1951=\"\",\"\",源数据!C1951)","v":""},{"$f":"IF(源数据!D1951=\"\",\"\",源数据!D1951)","v":""},"","","","","","","","","","","","","","",""]
[{"$f":"IF(源数据!A1952=\"\",\"\",源数据!A1952)","v":""},{"$f":"IF(源数据!B1952=\"\",\"\",源数据!B1952)","v":""},{"$f":"IF(源数据!C1952=\"\",\"\",源数据!C1952)","v":""},{"$f":"IF(源数据!D1952=\"\",\"\",源数据!D1952)","v":""},"","","","","","","","","","","","","","",""]
[{"$f":"IF(源数据!A1953=\"\",\"\",源数据!A1953)","v":""},{"$f":"IF(源数据!B1953=\"\",\"\",源数据!B1953)","v":""},{"$f":"IF(源数据!C1953=\"\",\"\",源数据!C1953)","v":""},{"$f":"IF(源数据!D1953=\"\",\"\",源数据!D1953)","v":""},"","","","","","","","","","","","","","",""]
[{"$f":"IF(源数据!A1954=\"\",\"\",源数据!A1954)","v":""},{"$f":"IF(源数据!B1954=\"\",\"\",源数据!B1954)","v":""},{"$f":"IF(源数据!C1954=\"\",\"\",源数据!C1954)","v":""},{"$f":"IF(源数据!D1954=\"\",\"\",源数据!D1954)","v":""},"","","","","","","","","","","","","","",""]
[{"$f":"IF(源数据!A1955=\"\",\"\",源数据!A1955)","v":""},{"$f":"IF(源数据!B1955=\"\",\"\",源数据!B1955)","v":""},{"$f":"IF(源数据!C1955=\"\",\"\",源数据!C1955)","v":""},{"$f":"IF(源数据!D1955=\"\",\"\",源数据!D1955)","v":""},"","","","","","","","","","","","","","",""]
[{"$f":"IF(源数据!A1956=\"\",\"\",源数据!A1956)","v":""},{"$f":"IF(源数据!B1956=\"\",\"\",源数据!B1956)","v":""},{"$f":"IF(源数据!C1956=\"\",\"\",源数据!C1956)","v":""},{"$f":"IF(源数据!D1956=\"\",\"\",源数据!D1956)","v":""},"","","","","","","","","","","","","","",""]
[{"$f":"IF(源数据!A1957=\"\",\"\",源数据!A1957)","v":""},{"$f":"IF(源数据!B1957=\"\",\"\",源数据!B1957)","v":""},{"$f":"IF(源数据!C1957=\"\",\"\",源数据!C1957)","v":""},{"$f":"IF(源数据!D1957=\"\",\"\",源数据!D1957)","v":""},"","","","","","","","","","","","","","",""]
[{"$f":"IF(源数据!A1958=\"\",\"\",源数据!A1958)","v":""},{"$f":"IF(源数据!B1958=\"\",\"\",源数据!B1958)","v":""},{"$f":"IF(源数据!C1958=\"\",\"\",源数据!C1958)","v":""},{"$f":"IF(源数据!D1958=\"\",\"\",源数据!D1958)","v":""},"","","","","","","","","","","","","","",""]
[{"$f":"IF(源数据!A1959=\"\",\"\",源数据!A1959)","v":""},{"$f":"IF(源数据!B1959=\"\",\"\",源数据!B1959)","v":""},{"$f":"IF(源数据!C1959=\"\",\"\",源数据!C1959)","v":""},{"$f":"IF(源数据!D1959=\"\",\"\",源数据!D1959)","v":""},"","","","","","","","","","","","","","",""]
[{"$f":"IF(源数据!A1960=\"\",\"\",源数据!A1960)","v":""},{"$f":"IF(源数据!B1960=\"\",\"\",源数据!B1960)","v":""},{"$f":"IF(源数据!C1960=\"\",\"\",源数据!C1960)","v":""},{"$f":"IF(源数据!D1960=\"\",\"\",源数据!D1960)","v":""},"","","","","","","","","","","","","","",""]
[{"$f":"IF(源数据!A1961=\"\",\"\",源数据!A1961)","v":""},{"$f":"IF(源数据!B1961=\"\",\"\",源数据!B1961)","v":""},{"$f":"IF(源数据!C1961=\"\",\"\",源数据!C1961)","v":""},{"$f":"IF(源数据!D1961=\"\",\"\",源数据!D1961)","v":""},"","","","","","","","","","","","","","",""]
[{"$f":"IF(源数据!A1962=\"\",\"\",源数据!A1962)","v":""},{"$f":"IF(源数据!B1962=\"\",\"\",源数据!B1962)","v":""},{"$f":"IF(源数据!C1962=\"\",\"\",源数据!C1962)","v":""},{"$f":"IF(源数据!D1962=\"\",\"\",源数据!D1962)","v":""},"","","","","","","","","","","","","","",""]
[{"$f":"IF(源数据!A1963=\"\",\"\",源数据!A1963)","v":""},{"$f":"IF(源数据!B1963=\"\",\"\",源数据!B1963)","v":""},{"$f":"IF(源数据!C1963=\"\",\"\",源数据!C1963)","v":""},{"$f":"IF(源数据!D1963=\"\",\"\",源数据!D1963)","v":""},"","","","","","","","","","","","","","",""]
[{"$f":"IF(源数据!A1964=\"\",\"\",源数据!A1964)","v":""},{"$f":"IF(源数据!B1964=\"\",\"\",源数据!B1964)","v":""},{"$f":"IF(源数据!C1964=\"\",\"\",源数据!C1964)","v":""},{"$f":"IF(源数据!D1964=\"\",\"\",源数据!D1964)","v":""},"","","","","","","","","","","","","","",""]
[{"$f":"IF(源数据!A1965=\"\",\"\",源数据!A1965)","v":""},{"$f":"IF(源数据!B1965=\"\",\"\",源数据!B1965)","v":""},{"$f":"IF(源数据!C1965=\"\",\"\",源数据!C1965)","v":""},{"$f":"IF(源数据!D1965=\"\",\"\",源数据!D1965)","v":""},"","","","","","","","","","","","","","",""]
[{"$f":"IF(源数据!A1966=\"\",\"\",源数据!A1966)","v":""},{"$f":"IF(源数据!B1966=\"\",\"\",源数据!B1966)","v":""},{"$f":"IF(源数据!C1966=\"\",\"\",源数据!C1966)","v":""},{"$f":"IF(源数据!D1966=\"\",\"\",源数据!D1966)","v":""},"","","","","","","","","","","","","","",""]
[{"$f":"IF(源数据!A1967=\"\",\"\",源数据!A1967)","v":""},{"$f":"IF(源数据!B1967=\"\",\"\",源数据!B1967)","v":""},{"$f":"IF(源数据!C1967=\"\",\"\",源数据!C1967)","v":""},{"$f":"IF(源数据!D1967=\"\",\"\",源数据!D1967)","v":""},"","","","","","","","","","","","","","",""]
[{"$f":"IF(源数据!A1968=\"\",\"\",源数据!A1968)","v":""},{"$f":"IF(源数据!B1968=\"\",\"\",源数据!B1968)","v":""},{"$f":"IF(源数据!C1968=\"\",\"\",源数据!C1968)","v":""},{"$f":"IF(源数据!D1968=\"\",\"\",源数据!D1968)","v":""},"","","","","","","","","","","","","","",""]
[{"$f":"IF(源数据!A1969=\"\",\"\",源数据!A1969)","v":""},{"$f":"IF(源数据!B1969=\"\",\"\",源数据!B1969)","v":""},{"$f":"IF(源数据!C1969=\"\",\"\",源数据!C1969)","v":""},{"$f":"IF(源数据!D1969=\"\",\"\",源数据!D1969)","v":""},"","","","","","","","","","","","","","",""]
[{"$f":"IF(源数据!A1970=\"\",\"\",源数据!A1970)","v":""},{"$f":"IF(源数据!B1970=\"\",\"\",源数据!B1970)","v":""},{"$f":"IF(源数据!C1970=\"\",\"\",源数据!C1970)","v":""},{"$f":"IF(源数据!D1970=\"\",\"\",源数据!D1970)","v":""},"","","","","","","","","","","","","","",""]
[{"$f":"IF(源数据!A1971=\"\",\"\",源数据!A1971)","v":""},{"$f":"IF(源数据!B1971=\"\",\"\",源数据!B1971)","v":""},{"$f":"IF(源数据!C1971=\"\",\"\",源数据!C1971)","v":""},{"$f":"IF(源数据!D1971=\"\",\"\",源数据!D1971)","v":""},"","","","","","","","","","","","","","",""]
[{"$f":"IF(源数据!A1972=\"\",\"\",源数据!A1972)","v":""},{"$f":"IF(源数据!B1972=\"\",\"\",源数据!B1972)","v":""},{"$f":"IF(源数据!C1972=\"\",\"\",源数据!C1972)","v":""},{"$f":"IF(源数据!D1972=\"\",\"\",源数据!D1972)","v":""},"","","","","","","","","","","","","","",""]
[{"$f":"IF(源数据!A1973=\"\",\"\",源数据!A1973)","v":""},{"$f":"IF(源数据!B1973=\"\",\"\",源数据!B1973)","v":""},{"$f":"IF(源数据!C1973=\"\",\"\",源数据!C1973)","v":""},{"$f":"IF(源数据!D1973=\"\",\"\",源数据!D1973)","v":""},"","","","","","","","","","","","","","",""]
[{"$f":"IF(源数据!A1974=\"\",\"\",源数据!A1974)","v":""},{"$f":"IF(源数据!B1974=\"\",\"\",源数据!B1974)","v":""},{"$f":"IF(源数据!C1974=\"\",\"\",源数据!C1974)","v":""},{"$f":"IF(源数据!D1974=\"\",\"\",源数据!D1974)","v":""},"","","","","","","","","","","","","","",""]
[{"$f":"IF(源数据!A1975=\"\",\"\",源数据!A1975)","v":""},{"$f":"IF(源数据!B1975=\"\",\"\",源数据!B1975)","v":""},{"$f":"IF(源数据!C1975=\"\",\"\",源数据!C1975)","v":""},{"$f":"IF(源数据!D1975=\"\",\"\",源数据!D1975)","v":""},"","","","","","","","","","","","","","",""]
[{"$f":"IF(源数据!A1976=\"\",\"\",源数据!A1976)","v":""},{"$f":"IF(源数据!B1976=\"\",\"\",源数据!B1976)","v":""},{"$f":"IF(源数据!C1976=\"\",\"\",源数据!C1976)","v":""},{"$f":"IF(源数据!D1976=\"\",\"\",源数据!D1976)","v":""},"","","","","","","","","","","","","","",""]
[{"$f":"IF(源数据!A1977=\"\",\"\",源数据!A1977)","v":""},{"$f":"IF(源数据!B1977=\"\",\"\",源数据!B1977)","v":""},{"$f":"IF(源数据!C1977=\"\",\"\",源数据!C1977)","v":""},{"$f":"IF(源数据!D1977=\"\",\"\",源数据!D1977)","v":""},"","","","","","","","","","","","","","",""]
[{"$f":"IF(源数据!A1978=\"\",\"\",源数据!A1978)","v":""},{"$f":"IF(源数据!B1978=\"\",\"\",源数据!B1978)","v":""},{"$f":"IF(源数据!C1978=\"\",\"\",源数据!C1978)","v":""},{"$f":"IF(源数据!D1978=\"\",\"\",源数据!D1978)","v":""},"","","","","","","","","","","","","","",""]
[{"$f":"IF(源数据!A1979=\"\",\"\",源数据!A1979)","v":""},{"$f":"IF(源数据!B1979=\"\",\"\",源数据!B1979)","v":""},{"$f":"IF(源数据!C1979=\"\",\"\",源数据!C1979)","v":""},{"$f":"IF(源数据!D1979=\"\",\"\",源数据!D1979)","v":""},"","","","","","","","","","","","","","",""]
[{"$f":"IF(源数据!A1980=\"\",\"\",源数据!A1980)","v":""},{"$f":"IF(源数据!B1980=\"\",\"\",源数据!B1980)","v":""},{"$f":"IF(源数据!C1980=\"\",\"\",源数据!C1980)","v":""},{"$f":"IF(源数据!D1980=\"\",\"\",源数据!D1980)","v":""},"","","","","","","","","","","","","","",""]
[{"$f":"IF(源数据!A1981=\"\",\"\",源数据!A1981)","v":""},{"$f":"IF(源数据!B1981=\"\",\"\",源数据!B1981)","v":""},{"$f":"IF(源数据!C1981=\"\",\"\",源数据!C1981)","v":""},{"$f":"IF(源数据!D1981=\"\",\"\",源数据!D1981)","v":""},"","","","","","","","","","","","","","",""]
[{"$f":"IF(源数据!A1982=\"\",\"\",源数据!A1982)","v":""},{"$f":"IF(源数据!B1982=\"\",\"\",源数据!B1982)","v":""},{"$f":"IF(源数据!C1982=\"\",\"\",源数据!C1982)","v":""},{"$f":"IF(源数据!D1982=\"\",\"\",源数据!D1982)","v":""},"","","","","","","","","","","","","","",""]
[{"$f":"IF(源数据!A1983=\"\",\"\",源数据!A1983)","v":""},{"$f":"IF(源数据!B1983=\"\",\"\",源数据!B1983)","v":""},{"$f":"IF(源数据!C1983=\"\",\"\",源数据!C1983)","v":""},{"$f":"IF(源数据!D1983=\"\",\"\",源数据!D1983)","v":""},"","","","","","","","","","","","","","",""]
[{"$f":"IF(源数据!A1984=\"\",\"\",源数据!A1984)","v":""},{"$f":"IF(源数据!B1984=\"\",\"\",源数据!B1984)","v":""},{"$f":"IF(源数据!C1984=\"\",\"\",源数据!C1984)","v":""},{"$f":"IF(源数据!D1984=\"\",\"\",源数据!D1984)","v":""},"","","","","","","","","","","","","","",""]
[{"$f":"IF(源数据!A1985=\"\",\"\",源数据!A1985)","v":""},{"$f":"IF(源数据!B1985=\"\",\"\",源数据!B1985)","v":""},{"$f":"IF(源数据!C1985=\"\",\"\",源数据!C1985)","v":""},{"$f":"IF(源数据!D1985=\"\",\"\",源数据!D1985)","v":""},"","","","","","","","","","","","","","",""]
[{"$f":"IF(源数据!A1986=\"\",\"\",源数据!A1986)","v":""},{"$f":"IF(源数据!B1986=\"\",\"\",源数据!B1986)","v":""},{"$f":"IF(源数据!C1986=\"\",\"\",源数据!C1986)","v":""},{"$f":"IF(源数据!D1986=\"\",\"\",源数据!D1986)","v":""},"","","","","","","","","","","","","","",""]
[{"$f":"IF(源数据!A1987=\"\",\"\",源数据!A1987)","v":""},{"$f":"IF(源数据!B1987=\"\",\"\",源数据!B1987)","v":""},{"$f":"IF(源数据!C1987=\"\",\"\",源数据!C1987)","v":""},{"$f":"IF(源数据!D1987=\"\",\"\",源数据!D1987)","v":""},{"$f":"IF($A1986=\"\",\"\",IF(E$1=\"\",\"\",IF(IFERROR(SEARCH(E$1,$A1987),0) >0,E$1,0)))","v":""},{"$f":"IF($A1986=\"\",\"\",IF(F$1=\"\",\"\",IF(IFERROR(SEARCH(F$1,$A1987),0) >0,F$1,0)))","v":""},{"$f":"IF($A1986=\"\",\"\",IF(G$1=\"\",\"\",IF(IFERROR(SEARCH(G$1,$A1987),0) >0,G$1,0)))","v":""},{"$f":"IF($A1986=\"\",\"\",IF(H$1=\"\",\"\",IF(IFERROR(SEARCH(H$1,$A1987),0) >0,H$1,0)))","v":""},{"$f":"IF($A1986=\"\",\"\",IF(I$1=\"\",\"\",IF(IFERROR(SEARCH(I$1,$A1987),0) >0,I$1,0)))","v":""},{"$f":"IF($A1986=\"\",\"\",IF(J$1=\"\",\"\",IF(IFERROR(SEARCH(J$1,$A1987),0) >0,J$1,0)))","v":""},{"$f":"IF($A1986=\"\",\"\",IF(K$1=\"\",\"\",IF(IFERROR(SEARCH(K$1,$A1987),0) >0,K$1,0)))","v":""},{"$f":"IF($A1986=\"\",\"\",IF(L$1=\"\",\"\",IF(IFERROR(SEARCH(L$1,$A1987),0) >0,L$1,0)))","v":""},{"$f":"IF($A1986=\"\",\"\",IF(M$1=\"\",\"\",IF(IFERROR(SEARCH(M$1,$A1987),0) >0,M$1,0)))","v":""},{"$f":"IF($A1986=\"\",\"\",IF(N$1=\"\",\"\",IF(IFERROR(SEARCH(N$1,$A1987),0) >0,N$1,0)))","v":""},{"$f":"IF($A1986=\"\",\"\",IF(O$1=\"\",\"\",IF(IFERROR(SEARCH(O$1,$A1987),0) >0,O$1,0)))","v":""},{"$f":"IF($A1986=\"\",\"\",IF(P$1=\"\",\"\",IF(IFERROR(SEARCH(P$1,$A1987),0) >0,P$1,0)))","v":""},{"$f":"IF($A1986=\"\",\"\",IF(Q$1=\"\",\"\",IF(IFERROR(SEARCH(Q$1,$A1987),0) >0,Q$1,0)))","v":""},{"$f":"IF($A1986=\"\",\"\",IF(R$1=\"\",\"\",IF(IFERROR(SEARCH(R$1,$A1987),0) >0,R$1,0)))","v":""},{"$f":"IF($A1986=\"\",\"\",IF(S$1=\"\",\"\",IF(IFERROR(SEARCH(S$1,$A1987),0) >0,S$1,0)))","v":""}]
[{"$f":"IF(源数据!A1988=\"\",\"\",源数据!A1988)","v":""},{"$f":"IF(源数据!B1988=\"\",\"\",源数据!B1988)","v":""},{"$f":"IF(源数据!C1988=\"\",\"\",源数据!C1988)","v":""},{"$f":"IF(源数据!D1988=\"\",\"\",源数据!D1988)","v":""},"","","","","","","","","","","","","","",""]
[{"$f":"IF(源数据!A1989=\"\",\"\",源数据!A1989)","v":""},{"$f":"IF(源数据!B1989=\"\",\"\",源数据!B1989)","v":""},{"$f":"IF(源数据!C1989=\"\",\"\",源数据!C1989)","v":""},{"$f":"IF(源数据!D1989=\"\",\"\",源数据!D1989)","v":""},"","","","","","","","","","","","","","",""]
[{"$f":"IF(源数据!A1990=\"\",\"\",源数据!A1990)","v":""},{"$f":"IF(源数据!B1990=\"\",\"\",源数据!B1990)","v":""},{"$f":"IF(源数据!C1990=\"\",\"\",源数据!C1990)","v":""},{"$f":"IF(源数据!D1990=\"\",\"\",源数据!D1990)","v":""},"","","","","","","","","","","","","","",""]
[{"$f":"IF(源数据!A1991=\"\",\"\",源数据!A1991)","v":""},{"$f":"IF(源数据!B1991=\"\",\"\",源数据!B1991)","v":""},{"$f":"IF(源数据!C1991=\"\",\"\",源数据!C1991)","v":""},{"$f":"IF(源数据!D1991=\"\",\"\",源数据!D1991)","v":""},"","","","","","","","","","","","","","",""]
[{"$f":"IF(源数据!A1992=\"\",\"\",源数据!A1992)","v":""},{"$f":"IF(源数据!B1992=\"\",\"\",源数据!B1992)","v":""},{"$f":"IF(源数据!C1992=\"\",\"\",源数据!C1992)","v":""},{"$f":"IF(源数据!D1992=\"\",\"\",源数据!D1992)","v":""},"","","","","","","","","","","","","","",""]
[{"$f":"IF(源数据!A1993=\"\",\"\",源数据!A1993)","v":""},{"$f":"IF(源数据!B1993=\"\",\"\",源数据!B1993)","v":""},{"$f":"IF(源数据!C1993=\"\",\"\",源数据!C1993)","v":""},{"$f":"IF(源数据!D1993=\"\",\"\",源数据!D1993)","v":""},"","","","","","","","","","","","","","",""]
[{"$f":"IF(源数据!A1994=\"\",\"\",源数据!A1994)","v":""},{"$f":"IF(源数据!B1994=\"\",\"\",源数据!B1994)","v":""},{"$f":"IF(源数据!C1994=\"\",\"\",源数据!C1994)","v":""},{"$f":"IF(源数据!D1994=\"\",\"\",源数据!D1994)","v":""},"","","","","","","","","","","","","","",""]
[{"$f":"IF(源数据!A1995=\"\",\"\",源数据!A1995)","v":""},{"$f":"IF(源数据!B1995=\"\",\"\",源数据!B1995)","v":""},{"$f":"IF(源数据!C1995=\"\",\"\",源数据!C1995)","v":""},{"$f":"IF(源数据!D1995=\"\",\"\",源数据!D1995)","v":""},"","","","","","","","","","","","","","",""]
[{"$f":"IF(源数据!A1996=\"\",\"\",源数据!A1996)","v":""},{"$f":"IF(源数据!B1996=\"\",\"\",源数据!B1996)","v":""},{"$f":"IF(源数据!C1996=\"\",\"\",源数据!C1996)","v":""},{"$f":"IF(源数据!D1996=\"\",\"\",源数据!D1996)","v":""},"","","","","","","","","","","","","","",""]
[{"$f":"IF(源数据!A1997=\"\",\"\",源数据!A1997)","v":""},{"$f":"IF(源数据!B1997=\"\",\"\",源数据!B1997)","v":""},{"$f":"IF(源数据!C1997=\"\",\"\",源数据!C1997)","v":""},{"$f":"IF(源数据!D1997=\"\",\"\",源数据!D1997)","v":""},"","","","","","","","","","","","","","",""]
[{"$f":"IF(源数据!A1998=\"\",\"\",源数据!A1998)","v":""},{"$f":"IF(源数据!B1998=\"\",\"\",源数据!B1998)","v":""},{"$f":"IF(源数据!C1998=\"\",\"\",源数据!C1998)","v":""},{"$f":"IF(源数据!D1998=\"\",\"\",源数据!D1998)","v":""},"","","","","","","","","","","","","","",""]
[{"$f":"IF(源数据!A1999=\"\",\"\",源数据!A1999)","v":""},{"$f":"IF(源数据!B1999=\"\",\"\",源数据!B1999)","v":""},{"$f":"IF(源数据!C1999=\"\",\"\",源数据!C1999)","v":""},{"$f":"IF(源数据!D1999=\"\",\"\",源数据!D1999)","v":""},"","","","","","","","","","","","","","",""]
[{"$f":"IF(源数据!A2000=\"\",\"\",源数据!A2000)","v":""},{"$f":"IF(源数据!B2000=\"\",\"\",源数据!B2000)","v":""},{"$f":"IF(源数据!C2000=\"\",\"\",源数据!C2000)","v":""},{"$f":"IF(源数据!D2000=\"\",\"\",源数据!D2000)","v":""},"","","","","","","","","","","","","","",""]
[{"$f":"IF(源数据!A2008=\"\",\"\",源数据!A2008)","v":""},{"$f":"IF(源数据!B2008=\"\",\"\",源数据!B2008)","v":""},{"$f":"IF(源数据!C2008=\"\",\"\",源数据!C2008)","v":""},{"$f":"IF(源数据!D2008=\"\",\"\",源数据!D2008)","v":""},"","","","","","","","","","","","","","",""]
[{"$f":"IF(源数据!A2042=\"\",\"\",源数据!A2042)","v":""},{"$f":"IF(源数据!B2042=\"\",\"\",源数据!B2042)","v":""},{"$f":"IF(源数据!C2042=\"\",\"\",源数据!C2042)","v":""},{"$f":"IF(源数据!D2042=\"\",\"\",源数据!D2042)","v":""},"","","","","","","","","","","","","","",""]
[{"$f":"IF(源数据!A2069=\"\",\"\",源数据!A2069)","v":""},{"$f":"IF(源数据!B2069=\"\",\"\",源数据!B2069)","v":""},{"$f":"IF(源数据!C2069=\"\",\"\",源数据!C2069)","v":""},{"$f":"IF(源数据!D2069=\"\",\"\",源数据!D2069)","v":""},"","","","","","","","","","","","","","",""]
[{"$f":"IF(源数据!A2107=\"\",\"\",源数据!A2107)","v":""},{"$f":"IF(源数据!B2107=\"\",\"\",源数据!B2107)","v":""},{"$f":"IF(源数据!C2107=\"\",\"\",源数据!C2107)","v":""},{"$f":"IF(源数据!D2107=\"\",\"\",源数据!D2107)","v":""},"","","","","","","","","","","","","","",""]
[{"$f":"IF(源数据!A2130=\"\",\"\",源数据!A2130)","v":""},{"$f":"IF(源数据!B2130=\"\",\"\",源数据!B2130)","v":""},{"$f":"IF(源数据!C2130=\"\",\"\",源数据!C2130)","v":""},{"$f":"IF(源数据!D2130=\"\",\"\",源数据!D2130)","v":""},"","","","","","","","","","","","","","",""]
[{"$f":"IF(源数据!A2172=\"\",\"\",源数据!A2172)","v":""},{"$f":"IF(源数据!B2172=\"\",\"\",源数据!B2172)","v":""},{"$f":"IF(源数据!C2172=\"\",\"\",源数据!C2172)","v":""},{"$f":"IF(源数据!D2172=\"\",\"\",源数据!D2172)","v":""},"","","","","","","","","","","","","","",""]
[{"$f":"IF(源数据!A2191=\"\",\"\",源数据!A2191)","v":""},{"$f":"IF(源数据!B2191=\"\",\"\",源数据!B2191)","v":""},{"$f":"IF(源数据!C2191=\"\",\"\",源数据!C2191)","v":""},{"$f":"IF(源数据!D2191=\"\",\"\",源数据!D2191)","v":""},"","","","","","","","","","","","","","",""]
[{"$f":"IF(源数据!A2237=\"\",\"\",源数据!A2237)","v":""},{"$f":"IF(源数据!B2237=\"\",\"\",源数据!B2237)","v":""},{"$f":"IF(源数据!C2237=\"\",\"\",源数据!C2237)","v":""},{"$f":"IF(源数据!D2237=\"\",\"\",源数据!D2237)","v":""},"","","","","","","","","","","","","","",""]
[{"$f":"IF(源数据!A2283=\"\",\"\",源数据!A2283)","v":""},{"$f":"IF(源数据!B2283=\"\",\"\",源数据!B2283)","v":""},{"$f":"IF(源数据!C2283=\"\",\"\",源数据!C2283)","v":""},{"$f":"IF(源数据!D2283=\"\",\"\",源数据!D2283)","v":""},"","","","","","","","","","","","","","",""]
[{"$f":"IF(源数据!A2302=\"\",\"\",源数据!A2302)","v":""},{"$f":"IF(源数据!B2302=\"\",\"\",源数据!B2302)","v":""},{"$f":"IF(源数据!C2302=\"\",\"\",源数据!C2302)","v":""},{"$f":"IF(源数据!D2302=\"\",\"\",源数据!D2302)","v":""},"","","","","","","","","","","","","","",""]
[{"$f":"IF(源数据!A2340=\"\",\"\",源数据!A2340)","v":""},{"$f":"IF(源数据!B2340=\"\",\"\",源数据!B2340)","v":""},{"$f":"IF(源数据!C2340=\"\",\"\",源数据!C2340)","v":""},{"$f":"IF(源数据!D2340=\"\",\"\",源数据!D2340)","v":""},"","","","","","","","","","","","","","",""]
[{"$f":"IF(源数据!A2367=\"\",\"\",源数据!A2367)","v":""},{"$f":"IF(源数据!B2367=\"\",\"\",源数据!B2367)","v":""},{"$f":"IF(源数据!C2367=\"\",\"\",源数据!C2367)","v":""},{"$f":"IF(源数据!D2367=\"\",\"\",源数据!D2367)","v":""},"","","","","","","","","","","","","","",""]
[{"$f":"IF(源数据!A2401=\"\",\"\",源数据!A2401)","v":""},{"$f":"IF(源数据!B2401=\"\",\"\",源数据!B2401)","v":""},{"$f":"IF(源数据!C2401=\"\",\"\",源数据!C2401)","v":""},{"$f":"IF(源数据!D2401=\"\",\"\",源数据!D2401)","v":""},"","","","","","","","","","","","","","",""]
[{"$f":"IF(源数据!A2432=\"\",\"\",源数据!A2432)","v":""},{"$f":"IF(源数据!B2432=\"\",\"\",源数据!B2432)","v":""},{"$f":"IF(源数据!C2432=\"\",\"\",源数据!C2432)","v":""},{"$f":"IF(源数据!D2432=\"\",\"\",源数据!D2432)","v":""},"","","","","","","","","","","","","","",""]
[{"$f":"IF(源数据!A2462=\"\",\"\",源数据!A2462)","v":""},{"$f":"IF(源数据!B2462=\"\",\"\",源数据!B2462)","v":""},{"$f":"IF(源数据!C2462=\"\",\"\",源数据!C2462)","v":""},{"$f":"IF(源数据!D2462=\"\",\"\",源数据!D2462)","v":""},"","","","","","","","","","","","","","",""]
[{"$f":"IF(源数据!A2497=\"\",\"\",源数据!A2497)","v":""},{"$f":"IF(源数据!B2497=\"\",\"\",源数据!B2497)","v":""},{"$f":"IF(源数据!C2497=\"\",\"\",源数据!C2497)","v":""},{"$f":"IF(源数据!D2497=\"\",\"\",源数据!D2497)","v":""},"","","","","","","","","","","","","","",""]
[{"$f":"IF(源数据!A2523=\"\",\"\",源数据!A2523)","v":""},{"$f":"IF(源数据!B2523=\"\",\"\",源数据!B2523)","v":""},{"$f":"IF(源数据!C2523=\"\",\"\",源数据!C2523)","v":""},{"$f":"IF(源数据!D2523=\"\",\"\",源数据!D2523)","v":""},"","","","","","","","","","","","","","",""]
[{"$f":"IF(源数据!A2562=\"\",\"\",源数据!A2562)","v":""},{"$f":"IF(源数据!B2562=\"\",\"\",源数据!B2562)","v":""},{"$f":"IF(源数据!C2562=\"\",\"\",源数据!C2562)","v":""},{"$f":"IF(源数据!D2562=\"\",\"\",源数据!D2562)","v":""},"","","","","","","","","","","","","","",""]
[{"$f":"IF(源数据!A2580=\"\",\"\",源数据!A2580)","v":""},{"$f":"IF(源数据!B2580=\"\",\"\",源数据!B2580)","v":""},{"$f":"IF(源数据!C2580=\"\",\"\",源数据!C2580)","v":""},{"$f":"IF(源数据!D2580=\"\",\"\",源数据!D2580)","v":""},"","","","","","","","","","","","","","",""]
[{"$f":"IF(源数据!A2627=\"\",\"\",源数据!A2627)","v":""},{"$f":"IF(源数据!B2627=\"\",\"\",源数据!B2627)","v":""},{"$f":"IF(源数据!C2627=\"\",\"\",源数据!C2627)","v":""},{"$f":"IF(源数据!D2627=\"\",\"\",源数据!D2627)","v":""},{"$f":"IF($A2626=\"\",\"\",IF(E$1=\"\",\"\",IF(IFERROR(SEARCH(E$1,$A2627),0) >0,E$1,0)))","v":""},{"$f":"IF($A2626=\"\",\"\",IF(F$1=\"\",\"\",IF(IFERROR(SEARCH(F$1,$A2627),0) >0,F$1,0)))","v":""},{"$f":"IF($A2626=\"\",\"\",IF(G$1=\"\",\"\",IF(IFERROR(SEARCH(G$1,$A2627),0) >0,G$1,0)))","v":""},{"$f":"IF($A2626=\"\",\"\",IF(H$1=\"\",\"\",IF(IFERROR(SEARCH(H$1,$A2627),0) >0,H$1,0)))","v":""},{"$f":"IF($A2626=\"\",\"\",IF(I$1=\"\",\"\",IF(IFERROR(SEARCH(I$1,$A2627),0) >0,I$1,0)))","v":""},{"$f":"IF($A2626=\"\",\"\",IF(J$1=\"\",\"\",IF(IFERROR(SEARCH(J$1,$A2627),0) >0,J$1,0)))","v":""},{"$f":"IF($A2626=\"\",\"\",IF(K$1=\"\",\"\",IF(IFERROR(SEARCH(K$1,$A2627),0) >0,K$1,0)))","v":""},{"$f":"IF($A2626=\"\",\"\",IF(L$1=\"\",\"\",IF(IFERROR(SEARCH(L$1,$A2627),0) >0,L$1,0)))","v":""},{"$f":"IF($A2626=\"\",\"\",IF(M$1=\"\",\"\",IF(IFERROR(SEARCH(M$1,$A2627),0) >0,M$1,0)))","v":""},{"$f":"IF($A2626=\"\",\"\",IF(N$1=\"\",\"\",IF(IFERROR(SEARCH(N$1,$A2627),0) >0,N$1,0)))","v":""},{"$f":"IF($A2626=\"\",\"\",IF(O$1=\"\",\"\",IF(IFERROR(SEARCH(O$1,$A2627),0) >0,O$1,0)))","v":""},{"$f":"IF($A2626=\"\",\"\",IF(P$1=\"\",\"\",IF(IFERROR(SEARCH(P$1,$A2627),0) >0,P$1,0)))","v":""},{"$f":"IF($A2626=\"\",\"\",IF(Q$1=\"\",\"\",IF(IFERROR(SEARCH(Q$1,$A2627),0) >0,Q$1,0)))","v":""},{"$f":"IF($A2626=\"\",\"\",IF(R$1=\"\",\"\",IF(IFERROR(SEARCH(R$1,$A2627),0) >0,R$1,0)))","v":""},{"$f":"IF($A2626=\"\",\"\",IF(S$1=\"\",\"\",IF(IFERROR(SEARCH(S$1,$A2627),0) >0,S$1,0)))","v":""}]
[{"$f":"IF(源数据!A2641=\"\",\"\",源数据!A2641)","v":""},{"$f":"IF(源数据!B2641=\"\",\"\",源数据!B2641)","v":""},{"$f":"IF(源数据!C2641=\"\",\"\",源数据!C2641)","v":""},{"$f":"IF(源数据!D2641=\"\",\"\",源数据!D2641)","v":""},"","","","","","","","","","","","","","",""]
[{"$f":"IF(源数据!A2692=\"\",\"\",源数据!A2692)","v":""},{"$f":"IF(源数据!B2692=\"\",\"\",源数据!B2692)","v":""},{"$f":"IF(源数据!C2692=\"\",\"\",源数据!C2692)","v":""},{"$f":"IF(源数据!D2692=\"\",\"\",源数据!D2692)","v":""},"","","","","","","","","","","","","","",""]
[{"$f":"IF(源数据!A2702=\"\",\"\",源数据!A2702)","v":""},{"$f":"IF(源数据!B2702=\"\",\"\",源数据!B2702)","v":""},{"$f":"IF(源数据!C2702=\"\",\"\",源数据!C2702)","v":""},{"$f":"IF(源数据!D2702=\"\",\"\",源数据!D2702)","v":""},"","","","","","","","","","","","","","",""]
[{"$f":"IF(源数据!A2725=\"\",\"\",源数据!A2725)","v":""},{"$f":"IF(源数据!B2725=\"\",\"\",源数据!B2725)","v":""},{"$f":"IF(源数据!C2725=\"\",\"\",源数据!C2725)","v":""},{"$f":"IF(源数据!D2725=\"\",\"\",源数据!D2725)","v":""},"","","","","","","","","","","","","","",""]
[{"$f":"IF(源数据!A2763=\"\",\"\",源数据!A2763)","v":""},{"$f":"IF(源数据!B2763=\"\",\"\",源数据!B2763)","v":""},{"$f":"IF(源数据!C2763=\"\",\"\",源数据!C2763)","v":""},{"$f":"IF(源数据!D2763=\"\",\"\",源数据!D2763)","v":""},"","","","","","","","","","","","","","",""]
[{"$f":"IF(源数据!A2790=\"\",\"\",源数据!A2790)","v":""},{"$f":"IF(源数据!B2790=\"\",\"\",源数据!B2790)","v":""},{"$f":"IF(源数据!C2790=\"\",\"\",源数据!C2790)","v":""},{"$f":"IF(源数据!D2790=\"\",\"\",源数据!D2790)","v":""},"","","","","","","","","","","","","","",""]
[{"$f":"IF(源数据!A2820=\"\",\"\",源数据!A2820)","v":""},{"$f":"IF(源数据!B2820=\"\",\"\",源数据!B2820)","v":""},{"$f":"IF(源数据!C2820=\"\",\"\",源数据!C2820)","v":""},{"$f":"IF(源数据!D2820=\"\",\"\",源数据!D2820)","v":""},"","","","","","","","","","","","","","",""]
[{"$f":"IF(源数据!A2855=\"\",\"\",源数据!A2855)","v":""},{"$f":"IF(源数据!B2855=\"\",\"\",源数据!B2855)","v":""},{"$f":"IF(源数据!C2855=\"\",\"\",源数据!C2855)","v":""},{"$f":"IF(源数据!D2855=\"\",\"\",源数据!D2855)","v":""},"","","","","","","","","","","","","","",""]
[{"$f":"IF(源数据!A2904=\"\",\"\",源数据!A2904)","v":""},{"$f":"IF(源数据!B2904=\"\",\"\",源数据!B2904)","v":""},{"$f":"IF(源数据!C2904=\"\",\"\",源数据!C2904)","v":""},{"$f":"IF(源数据!D2904=\"\",\"\",源数据!D2904)","v":""},"","","","","","","","","","","","","","",""]
[{"$f":"IF(源数据!A2945=\"\",\"\",源数据!A2945)","v":""},{"$f":"IF(源数据!B2945=\"\",\"\",源数据!B2945)","v":""},{"$f":"IF(源数据!C2945=\"\",\"\",源数据!C2945)","v":""},{"$f":"IF(源数据!D2945=\"\",\"\",源数据!D2945)","v":""},"","","","","","","","","","","","","","",""]
[{"$f":"IF(源数据!A2969=\"\",\"\",源数据!A2969)","v":""},{"$f":"IF(源数据!B2969=\"\",\"\",源数据!B2969)","v":""},{"$f":"IF(源数据!C2969=\"\",\"\",源数据!C2969)","v":""},{"$f":"IF(源数据!D2969=\"\",\"\",源数据!D2969)","v":""},"","","","","","","","","","","","","","",""]
[{"$nulls":4},"","","","","","","","","","","","","","",""]
[{"$nulls":4},"","","","","","","","","","","","","","",""]
[{"$nulls":4},"","","","","","","","","","","","","","",""]
[{"$nulls":4},"","","","","","","","","","","","","","",""]
[{"$nulls":4},"","","","","","","","","","","","","","",""]
[{"$nulls":4},"","","","","","","","","","","","","","",""]
[{"$nulls":4},"","","","","","","","","","","","","","",""]
[{"$nulls":4},"","","","","","","","","","","","","","",""]
[{"$nulls":4},"","","","","","","","","","","","","","",""]
[{"$nulls":4},"","","","","","","","","","","","","","",""]
[{"$nulls":4},"","","","","","","","","","","","","","",""]
[{"$nulls":4},"","","","","","","","","","","","","","",""]
[{"$nulls":4},"","","","","","","","","","","","","","",""]
[{"$nulls":4},"","","","","","","","","","","","","","",""]
[{"$nulls":4},"","","","","","","","","","","","","","",""]
[{"$nulls":4},"","","","","","","","","","","","","","",""]
[{"$nulls":4},"","","","","","","","","","","","","","",""]
[{"$nulls":4},"","","","","","","","","","","","","","",""]
[{"$nulls":4},"","","","","","","","","","","","","","",""]
[{"$nulls":4},{"$f":"IF($A3586=\"\",\"\",IF(E$1=\"\",\"\",IF(IFERROR(SEARCH(E$1,$A3587),0) >0,E$1,0)))","v":""},{"$f":"IF($A3586=\"\",\"\",IF(F$1=\"\",\"\",IF(IFERROR(SEARCH(F$1,$A3587),0) >0,F$1,0)))","v":""},{"$f":"IF($A3586=\"\",\"\",IF(G$1=\"\",\"\",IF(IFERROR(SEARCH(G$1,$A3587),0) >0,G$1,0)))","v":""},{"$f":"IF($A3586=\"\",\"\",IF(H$1=\"\",\"\",IF(IFERROR(SEARCH(H$1,$A3587),0) >0,H$1,0)))","v":""},{"$f":"IF($A3586=\"\",\"\",IF(I$1=\"\",\"\",IF(IFERROR(SEARCH(I$1,$A3587),0) >0,I$1,0)))","v":""},{"$f":"IF($A3586=\"\",\"\",IF(J$1=\"\",\"\",IF(IFERROR(SEARCH(J$1,$A3587),0) >0,J$1,0)))","v":""},{"$f":"IF($A3586=\"\",\"\",IF(K$1=\"\",\"\",IF(IFERROR(SEARCH(K$1,$A3587),0) >0,K$1,0)))","v":""},{"$f":"IF($A3586=\"\",\"\",IF(L$1=\"\",\"\",IF(IFERROR(SEARCH(L$1,$A3587),0) >0,L$1,0)))","v":""},{"$f":"IF($A3586=\"\",\"\",IF(M$1=\"\",\"\",IF(IFERROR(SEARCH(M$1,$A3587),0) >0,M$1,0)))","v":""},{"$f":"IF($A3586=\"\",\"\",IF(N$1=\"\",\"\",IF(IFERROR(SEARCH(N$1,$A3587),0) >0,N$1,0)))","v":""},{"$f":"IF($A3586=\"\",\"\",IF(O$1=\"\",\"\",IF(IFERROR(SEARCH(O$1,$A3587),0) >0,O$1,0)))","v":""},{"$f":"IF($A3586=\"\",\"\",IF(P$1=\"\",\"\",IF(IFERROR(SEARCH(P$1,$A3587),0) >0,P$1,0)))","v":""},{"$f":"IF($A3586=\"\",\"\",IF(Q$1=\"\",\"\",IF(IFERROR(SEARCH(Q$1,$A3587),0) >0,Q$1,0)))","v":""},{"$f":"IF($A3586=\"\",\"\",IF(R$1=\"\",\"\",IF(IFERROR(SEARCH(R$1,$A3587),0) >0,R$1,0)))","v":""},{"$f":"IF($A3586=\"\",\"\",IF(S$1=\"\",\"\",IF(IFERROR(SEARCH(S$1,$A3587),0) >0,S$1,0)))","v":""}]
[{"$nulls":4},"","","","","","","","","","","","","","",""]
[{"$nulls":4},"","","","","","","","","","","","","","",""]
[{"$nulls":4},"","","","","","","","","","","","","","",""]
[{"$nulls":4},"","","","","","","","","","","","","","",""]
[{"$nulls":4},"","","","","","","","","","","","","","",""]
[{"$nulls":4},"","","","","","","","","","","","","","",""]
[{"$nulls":4},"","","","","","","","","","","","","","",""]
[{"$nulls":4},"","","","","","","","","","","","","","",""]
[{"$nulls":4},"","","","","","","","","","","","","","",""]
[{"$nulls":4},"","","","","","","","","","","","","","",""]
[{"$nulls":4},"","","","","","","","","","","","","","",""]
[{"$nulls":4},"","","","","","","","","","","","","","",""]
[{"$nulls":4},"","","","","","","","","","","","","","",""]
[{"$nulls":4},"","","","","","","","","","","","","","",""]
[{"$nulls":4},"","","","","","","","","","","","","","",""]
[{"$nulls":4},"","","","","","","","","","","","","","",""]
[{"$nulls":4},"","","","","","","","","","","","","","",""]
[{"$nulls":4},"","","","","","","","","","","","","","",""]
[{"$nulls":4},"","","","","","","","","","","","","","",""]
[{"$nulls":4},"","","","","","","","","","","","","","",""]
[{"$nulls":4},"","","","","","","","","","","","","","",""]
[{"$nulls":4},"","","","","","","","","","","","","","",""]
[{"$nulls":4},"","","","","","","","","","","","","","",""]
[{"$nulls":4},"","","","","","","","","","","","","","",""]
[{"$nulls":4},"","","","","","","","","","","","","","",""]
[{"$nulls":4},{"$f":"IF($A4418=\"\",\"\",IF(E$1=\"\",\"\",IF(IFERROR(SEARCH(E$1,$A4419),0) >0,E$1,0)))","v":""},{"$f":"IF($A4418=\"\",\"\",IF(F$1=\"\",\"\",IF(IFERROR(SEARCH(F$1,$A4419),0) >0,F$1,0)))","v":""},{"$f":"IF($A4418=\"\",\"\",IF(G$1=\"\",\"\",IF(IFERROR(SEARCH(G$1,$A4419),0) >0,G$1,0)))","v":""},{"$f":"IF($A4418=\"\",\"\",IF(H$1=\"\",\"\",IF(IFERROR(SEARCH(H$1,$A4419),0) >0,H$1,0)))","v":""},{"$f":"IF($A4418=\"\",\"\",IF(I$1=\"\",\"\",IF(IFERROR(SEARCH(I$1,$A4419),0) >0,I$1,0)))","v":""},{"$f":"IF($A4418=\"\",\"\",IF(J$1=\"\",\"\",IF(IFERROR(SEARCH(J$1,$A4419),0) >0,J$1,0)))","v":""},{"$f":"IF($A4418=\"\",\"\",IF(K$1=\"\",\"\",IF(IFERROR(SEARCH(K$1,$A4419),0) >0,K$1,0)))","v":""},{"$f":"IF($A4418=\"\",\"\",IF(L$1=\"\",\"\",IF(IFERROR(SEARCH(L$1,$A4419),0) >0,L$1,0)))","v":""},{"$f":"IF($A4418=\"\",\"\",IF(M$1=\"\",\"\",IF(IFERROR(SEARCH(M$1,$A4419),0) >0,M$1,0)))","v":""},{"$f":"IF($A4418=\"\",\"\",IF(N$1=\"\",\"\",IF(IFERROR(SEARCH(N$1,$A4419),0) >0,N$1,0)))","v":""},{"$f":"IF($A4418=\"\",\"\",IF(O$1=\"\",\"\",IF(IFERROR(SEARCH(O$1,$A4419),0) >0,O$1,0)))","v":""},{"$f":"IF($A4418=\"\",\"\",IF(P$1=\"\",\"\",IF(IFERROR(SEARCH(P$1,$A4419),0) >0,P$1,0)))","v":""},{"$f":"IF($A4418=\"\",\"\",IF(Q$1=\"\",\"\",IF(IFERROR(SEARCH(Q$1,$A4419),0) >0,Q$1,0)))","v":""},{"$f":"IF($A4418=\"\",\"\",IF(R$1=\"\",\"\",IF(IFERROR(SEARCH(R$1,$A4419),0) >0,R$1,0)))","v":""},{"$f":"IF($A4418=\"\",\"\",IF(S$1=\"\",\"\",IF(IFERROR(SEARCH(S$1,$A4419),0) >0,S$1,0)))","v":""}]
[{"$nulls":4},"","","","","","","","","","","","","","",""]
[{"$nulls":4},"","","","","","","","","","","","","","",""]
[{"$nulls":4},"","","","","","","","","","","","","","",""]
[{"$nulls":4},"","","","","","","","","","","","","","",""]
[{"$nulls":4},"","","","","","","","","","","","","","",""]
[{"$nulls":4},"","","","","","","","","","","","","","",""]
[{"$nulls":4},"","","","","","","","","","","","","","",""]
[{"$nulls":4},"","","","","","","","","","","","","","",""]
[{"$nulls":4},"","","","","","","","","","","","","","",""]
[{"$nulls":4},"","","","","","","","","","","","","","",""]
[{"$nulls":4},"","","","","","","","","","","","","","",""]
[{"$nulls":4},"","","","","","","","","","","","","","",""]
[{"$nulls":4},"","","","","","","","","","","","","","",""]
[{"$nulls":4},"","","","","","","","","","","","","","",""]
[{"$nulls":4},"","","","","","","","","","","","","","",""]
[{"$nulls":4},"","","","","","","","","","","","","","",""]
[{"$nulls":4},"","","","","","","","","","","","","","",""]
[{"$nulls":4},"","","","","","","","","","","","","","",""]
[{"$nulls":4},"","","","","","","","","","","","","","",""]
[{"$nulls":4},"","","","","","","","","","","","","","",""]
[{"$nulls":4},"","","","","","","","","","","","","","",""]
[{"$nulls":4},"","","","","","","","","","","","","","",""]
[{"$nulls":4},"","","","","","","","","","","","","","",""]
[{"$nulls":4},"","","","","","","","","","","","","","",""]
[{"$nulls":4},"","","","","","","","","","","","","","",""]
[{"$nulls":4},"","","","","","","","","","","","","","",""]
[{"$nulls":4},"","","","","","","","","","","","","","",""]
[{"$nulls":4},"","","","","","","","","","","","","","",""]
[{"$nulls":4},"","","","","","","","","","","","","","",""]
[{"$nulls":4},"","","","","","","","","","","","","","",""]
[{"$nulls":4},"","","","","","","","","","","","","","",""]
[{"$nulls":4},"","","","","","","","","","","","","","",""]
[{"$nulls":4},"","","","","","","","","","","","","","",""]
[{"$nulls":4},"","","","","","","","","","","","","","",""]
[{"$nulls":4},"","","","","","","","","","","","","","",""]
[{"$nulls":4},"","","","","","","","","","","","","","",""]
[{"$nulls":4},"","","","","","","","","","","","","","",""]
[{"$nulls":4},"","","","","","","","","","","","","","",""]
[{"$nulls":4},"","","","","","","","","","","","","","",""]
[{"$nulls":4},"","","","","","","","","","","","","","",""]
[{"$nulls":4},"","","","","","","","","","","","","","",""]
[{"$nulls":4},"","","","","","","","","","","","","","",""]
[{"$nulls":4},"","","","","","","","","","","","","","",""]
[{"$nulls":4},"","","","","","","","","","","","","","",""]
[{"$nulls":4},"","","","","","","","","","","","","","",""]
[{"$nulls":4},"","","","","","","","","","","","","","",""]
[{"$nulls":4},"","","","","","","","","","","","","","",""]
[{"$nulls":4},"","","","","","","","","","","","","","",""]
[{"$nulls":4},"","","","","","","","","","","","","","",""]
[{"$nulls":4},"","","","","","","","","","","","","","",""]
[{"$nulls":4},"","","","","","","","","","","","","","",""]
[{"$nulls":4},"","","","","","","","","","","","","","",""]
[{"$nulls":4},"","","","","","","","","","","","","","",""]
[{"$nulls":4},"","","","","","","","","","","","","","",""]
[{"$nulls":4},"","","","","","","","","","","","","","",""]
[{"$nulls":4},"","","","","","","","","","","","","","",""]
[{"$nulls":4},"","","","","","","","","","","","","","",""]
[{"$nulls":4},"","","","","","","","","","","","","","",""]
[{"$nulls":4},"","","","","","","","","","","","","","",""]
[{"$nulls":4},"","","","","","","","","","","","","","",""]
[{"$nulls":4},"","","","","","","","","","","","","","",""]
[{"$nulls":4},"","","","","","","","","","","","","","",""]
[{"$nulls":4},"","","","","","","","","","","","","","",""]
[{"$nulls":4},"","","","","","","","","","","","","","",""]
[{"$nulls":4},"","","","","","","","","","","","","","",""]
[{"$nulls":4},"","","","","","","","","","","","","","",""]
[{"$nulls":4},"","","","","","","","","","","","","","",""]
[{"$nulls":4},"","","","","","","","","","","","","","",""]
[{"$nulls":4},"","","","","","","","","","","","","","",""]
[{"$nulls":4},"","","","","","","","","","","","","","",""]
[{"$nulls":4},"","","","","","","","","","","","","","",""]
[{"$nulls":4},"","","","","","","","","","","","","","",""]
[{"$nulls":4},"","","","","","","","","","","","","","",""]
[{"$nulls":4},"","","","","","","","","","","","","","",""]
[{"$nulls":4},"","","","","","","","","","","","","","",""]
[{"$nulls":4},"","","","","","","","","","","","","","",""]
[{"$nulls":4},"","","","","","","","","","","","","","",""]
[{"$nulls":4},"","","","","","","","","","","","","","",""]
[{"$nulls":4},"","","","","","","","","","","","","","",""]
[{"$nulls":4},"","","","","","","","","","","","","","",""]
[{"$nulls":4},"","","","","","","","","","","","","","",""]
[{"$nulls":4},"","","","","","","","","","","","","","",""]
[{"$nulls":4},"","","","","","","","","","","","","","",""]
[{"$nulls":4},"","","","","","","","","","","","","","",""]
[{"$nulls":4},"","","","","","","","","","","","","","",""]
[{"$nulls":4},"","","","","","","","","","","","","","",""]
[{"$nulls":4},"","","","","","","","","","","","","","",""]
[{"$nulls":4},"","","","","","","","","","","","","","",""]
[{"$nulls":4},"","","","","","","","","","","","","","",""]
[{"$nulls":4},"","","","","","","","","","","","","","",""]
[{"$nulls":4},"","","","","","","","","","","","","","",""]
[{"$nulls":4},"","","","","","","","","","","","","","",""]
[{"$nulls":4},"","","","","","","","","","","","","","",""]
[{"$nulls":4},"","","","","","","","","","","","","","",""]
[{"$nulls":4},"","","","","","","","","","","","","","",""]
[{"$nulls":4},"","","","","","","","","","","","","","",""]
[{"$nulls":4},"","","","","","","","","","","","","","",""]
[{"$nulls":4},"","","","","","","","","","","","","","",""]
[{"$nulls":4},"","","","","","","","","","","","","","",""]
[{"$nulls":4},"","","","","","","","","","","","","","",""]
[{"$nulls":4},"","","","","","","","","","","","","","",""]
[{"$nulls":4},"","","","","","","","","","","","","","",""]
[{"$nulls":4},"","","","","","","","","","","","","","",""]
[{"$nulls":4},"","","","","","","","","","","","","","",""]
[{"$nulls":4},"","","","","","","","","","","","","","",""]
[{"$nulls":4},"","","","","","","","","","","","","","",""]
[{"$nulls":4},"","","","","","","","","","","","","","",""]
[{"$nulls":4},"","","","","","","","","","","","","","",""]
[{"$nulls":4},"","","","","","","","","","","","","","",""]
[{"$nulls":4},"","","","","","","","","","","","","","",""]
[{"$nulls":4},"","","","","","","","","","","","","","",""]
[{"$nulls":4},"","","","","","","","","","","","","","",""]
[{"$nulls":4},"","","","","","","","","","","","","","",""]
[{"$nulls":4},"","","","","","","","","","","","","","",""]
[{"$nulls":4},"","","","","","","","","","","","","","",""]
[{"$nulls":4},"","","","","","","","","","","","","","",""]
[{"$nulls":4},"","","","","","","","","","","","","","",""]
[{"$nulls":4},"","","","","","","","","","","","","","",""]
[{"$nulls":4},"","","","","","","","","","","","","","",""]
[{"$nulls":4},"","","","","","","","","","","","","","",""]
[{"$nulls":4},"","","","","","","","","","","","","","",""]
[{"$nulls":4},"","","","","","","","","","","","","","",""]
[{"$nulls":4},"","","","","","","","","","","","","","",""]
[{"$nulls":4},"","","","","","","","","","","","","","",""]
[{"$nulls":4},"","","","","","","","","","","","","","",""]
[{"$nulls":4},"","","","","","","","","","","","","","",""]
[{"$nulls":4},"","","","","","","","","","","","","","",""]
[{"$nulls":4},"","","","","","","","","","","","","","",""]
[{"$nulls":4},"","","","","","","","","","","","","","",""]
[{"$nulls":4},"","","","","","","","","","","","","","",""]
[{"$nulls":4},"","","","","","","","","","","","","","",""]
[{"$nulls":4},"","","","","","","","","","","","","","",""]
[{"$nulls":4},"","","","","","","","","","","","","","",""]
[{"$nulls":4},"","","","","","","","","","","","","","",""]
[{"$nulls":4},"","","","","","","","","","","","","","",""]
[{"$nulls":4},"","","","","","","","","","","","","","",""]
[{"$nulls":4},"","","","","","","","","","","","","","",""]
[{"$nulls":4},"","","","","","","","","","","","","","",""]
[{"$nulls":4},"","","","","","","","","","","","","","",""]
[{"$nulls":4},"","","","","","","","","","","","","","",""]
[{"$nulls":4},"","","","","","","","","","","","","","",""]
[{"$nulls":4},"","","","","","","","","","","","","","",""]
[{"$nulls":4},"","","","","","","","","","","","","","",""]
[{"$nulls":4},"","","","","","","","","","","","","","",""]
[{"$nulls":4},"","","","","","","","","","","","","","",""]
[{"$nulls":4},"","","","","","","","","","","","","","",""]
[{"$nulls":4},"","","","","","","","","","","","","","",""]
[{"$nulls":4},"","","","","","","","","","","","","","",""]
[{"$nulls":4},"","","","","","","","","","","","","","",""]
[{"$nulls":4},"","","","","","","","","","","","","","",""]
[{"$nulls":4},"","","","","","","","","","","","","","",""]
[{"$nulls":4},"","","","","","","","","","","","","","",""]
[{"$nulls":4},"","","","","","","","","","","","","","",""]
[{"$nulls":4},"","","","","","","","","","","","","","",""]
[{"$nulls":4},"","","","","","","","","","","","","","",""]
[{"$nulls":4},"","","","","","","","","","","","","","",""]
[{"$nulls":4},"","","","","","","","","","","","","","",""]
[{"$nulls":4},"","","","","","","","","","","","","","",""]
[{"$nulls":4},"","","","","","","","","","","","","","",""]
[{"$nulls":4},"","","","","","","","","","","","","","",""]
[{"$nulls":4},"","","","","","","","","","","","","","",""]
[{"$nulls":4},"","","","","","","","","","","","","","",""]
[{"$nulls":4},"","","","","","","","","","","","","","",""]
[{"$nulls":4},"","","","","","","","","","","","","","",""]
[{"$nulls":4},"","","","","","","","","","","","","","",""]
[{"$nulls":4},"","","","","","","","","","","","","","",""]
[{"$nulls":4},"","","","","","","","","","","","","","",""]
[{"$nulls":4},"","","","","","","","","","","","","","",""]
[{"$nulls":4},"","","","","","","","","","","","","","",""]
[{"$nulls":4},"","","","","","","","","","","","","","",""]
[{"$nulls":4},"","","","","","","","","","","","","","",""]
[{"$nulls":4},"","","","","","","","","","","","","","",""]
[{"$nulls":4},"","","","","","","","","","","","","","",""]
[{"$nulls":4},"","","","","","","","","","","","","","",""]
[{"$nulls":4},"","","","","","","","","","","","","","",""]
[{"$nulls":4},"","","","","","","","","","","","","","",""]
[{"$nulls":4},"","","","","","","","","","","","","","",""]
[{"$nulls":4},"","","","","","","","","","","","","","",""]
[{"$nulls":4},"","","","","","","","","","","","","","",""]
[{"$nulls":4},"","","","","","","","","","","","","","",""]
[{"$nulls":4},"","","","","","","","","","","","","","",""]
[{"$nulls":4},"","","","","","","","","","","","","","",""]
[{"$nulls":4},"","","","","","","","","","","","","","",""]
[{"$nulls":4},"","","","","","","","","","","","","","",""]
[{"$nulls":4},"","","","","","","","","","","","","","",""]
[{"$nulls":4},"","","","","","","","","","","","","","",""]
[{"$nulls":4},"","","","","","","","","","","","","","",""]
[{"$nulls":4},"","","","","","","","","","","","","","",""]
[{"$nulls":4},"","","","","","","","","","","","","","",""]
[{"$nulls":4},"","","","","","","","","","","","","","",""]
[{"$nulls":4},"","","","","","","","","","","","","","",""]
[{"$nulls":4},"","","","","","","","","","","","","","",""]
[{"$nulls":4},"","","","","","","","","","","","","","",""]
[{"$nulls":4},"","","","","","","","","","","","","","",""]
[{"$nulls":4},"","","","","","","","","","","","","","",""]
[{"$nulls":4},"","","","","","","","","","","","","","",""]
[{"$nulls":4},"","","","","","","","","","","","","","",""]
[{"$nulls":4},"","","","","","","","","","","","","","",""]
[{"$nulls":4},"","","","","","","","","","","","","","",""]
[{"$nulls":4},"","","","","","","","","","","","","","",""]
[{"$nulls":4},"","","","","","","","","","","","","","",""]
[{"$nulls":4},"","","","","","","","","","","","","","",""]
[{"$nulls":4},"","","","","","","","","","","","","","",""]
[{"$nulls":4},"","","","","","","","","","","","","","",""]
[{"$nulls":4},"","","","","","","","","","","","","","",""]
[{"$nulls":4},"","","","","","","","","","","","","","",""]
[{"$nulls":4},"","","","","","","","","","","","","","",""]
[{"$nulls":4},"","","","","","","","","","","","","","",""]
[{"$nulls":4},"","","","","","","","","","","","","","",""]
[{"$nulls":4},"","","","","","","","","","","","","","",""]
[{"$nulls":4},"","","","","","","","","","","","","","",""]
[{"$nulls":4},"","","","","","","","","","","","","","",""]
[{"$nulls":4},"","","","","","","","","","","","","","",""]
[{"$nulls":4},"","","","","","","","","","","","","","",""]
[{"$nulls":4},"","","","","","","","","","","","","","",""]
[{"$nulls":4},"","","","","","","","","","","","","","",""]
[{"$nulls":4},"","","","","","","","","","","","","","",""]
[{"$nulls":4},"","","","","","","","","","","","","","",""]
[{"$nulls":4},"","","","","","","","","","","","","","",""]
[{"$nulls":4},"","","","","","","","","","","","","","",""]
[{"$nulls":4},"","","","","","","","","","","","","","",""]
[{"$nulls":4},"","","","","","","","","","","","","","",""]
[{"$nulls":4},"","","","","","","","","","","","","","",""]
[{"$nulls":4},"","","","","","","","","","","","","","",""]
[{"$nulls":4},"","","","","","","","","","","","","","",""]
[{"$nulls":4},"","","","","","","","","","","","","","",""]
[{"$nulls":4},"","","","","","","","","","","","","","",""]
[{"$nulls":4},"","","","","","","","","","","","","","",""]
[{"$nulls":4},"","","","","","","","","","","","","","",""]
[{"$nulls":4},"","","","","","","","","","","","","","",""]
[{"$nulls":4},"","","","","","","","","","","","","","",""]
[{"$nulls":4},"","","","","","","","","","","","","","",""]
[{"$nulls":4},"","","","","","","","","","","","","","",""]
[{"$nulls":4},"","","","","","","","","","","","","","",""]
[{"$nulls":4},"","","","","","","","","","","","","","",""]
[{"$nulls":4},"","","","","","","","","","","","","","",""]
[{"$nulls":4},"","","","","","","","","","","","","","",""]
[{"$nulls":4},"","","","","","","","","","","","","","",""]
[{"$nulls":4},"","","","","","","","","","","","","","",""]
[{"$nulls":4},"","","","","","","","","","","","","","",""]
[{"$nulls":4},"","","","","","","","","","","","","","",""]
[{"$nulls":4},"","","","","","","","","","","","","","",""]
[{"$nulls":4},"","","","","","","","","","","","","","",""]
[{"$nulls":4},"","","","","","","","","","","","","","",""]
[{"$nulls":4},"","","","","","","","","","","","","","",""]
[{"$nulls":4},"","","","","","","","","","","","","","",""]
[{"$nulls":4},"","","","","","","","","","","","","","",""]
[{"$nulls":4},"","","","","","","","","","","","","","",""]
[{"$nulls":4},"","","","","","","","","","","","","","",""]
[{"$nulls":4},"","","","","","","","","","","","","","",""]
[{"$nulls":4},"","","","","","","","","","","","","","",""]
[{"$nulls":4},"","","","","","","","","","","","","","",""]
[{"$nulls":4},"","","","","","","","","","","","","","",""]
[{"$nulls":4},"","","","","","","","","","","","","","",""]
[{"$nulls":4},"","","","","","","","","","","","","","",""]
[{"$nulls":4},"","","","","","","","","","","","","","",""]
[{"$nulls":4},"","","","","","","","","","","","","","",""]
[{"$nulls":4},"","","","","","","","","","","","","","",""]
[{"$nulls":4},"","","","","","","","","","","","","","",""]
[{"$nulls":4},"","","","","","","","","","","","","","",""]
[{"$nulls":4},"","","","","","","","","","","","","","",""]
[{"$nulls":4},"","","","","","","","","","","","","","",""]
[{"$nulls":4},"","","","","","","","","","","","","","",""]
[{"$nulls":4},"","","","","","","","","","","","","","",""]
[{"$nulls":4},"","","","","","","","","","","","","","",""]
[{"$nulls":4},"","","","","","","","","","","","","","",""]
[{"$nulls":4},"","","","","","","","","","","","","","",""]
[{"$nulls":4},"","","","","","","","","","","","","","",""]
[{"$nulls":4},"","","","","","","","","","","","","","",""]
[{"$nulls":4},"","","","","","","","","","","","","","",""]
[{"$nulls":4},"","","","","","","","","","","","","","",""]
[{"$nulls":4},"","","","","","","","","","","","","","",""]
[{"$nulls":4},"","","","","","","","","","","","","","",""]
[{"$nulls":4},"","","","","","","","","","","","","","",""]
[{"$nulls":4},"","","","","","","","","","","","","","",""]
[{"$nulls":4},"","","","","","","","","","","","","","",""]
[{"$nulls":4},"","","","","","","","","","","","","","",""]
[{"$nulls":4},"","","","","","","","","","","","","","",""]
[{"$nulls":4},"","","","","","","","","","","","","","",""]
[{"$nulls":4},"","","","","","","","","","","","","","",""]
[{"$nulls":4},"","","","","","","","","","","","","","",""]
[{"$nulls":4},"","","","","","","","","","","","","","",""]
[{"$nulls":4},"","","","","","","","","","","","","","",""]
[{"$nulls":4},"","","","","","","","","","","","","","",""]
[{"$nulls":4},"","","","","","","","","","","","","","",""]
[{"$nulls":4},"","","","","","","","","","","","","","",""]
[{"$nulls":4},{"$f":"IF($A13442=\"\",\"\",IF(E$1=\"\",\"\",IF(IFERROR(SEARCH(E$1,$A13443),0) >0,E$1,0)))","v":""},{"$f":"IF($A13442=\"\",\"\",IF(F$1=\"\",\"\",IF(IFERROR(SEARCH(F$1,$A13443),0) >0,F$1,0)))","v":""},{"$f":"IF($A13442=\"\",\"\",IF(G$1=\"\",\"\",IF(IFERROR(SEARCH(G$1,$A13443),0) >0,G$1,0)))","v":""},{"$f":"IF($A13442=\"\",\"\",IF(H$1=\"\",\"\",IF(IFERROR(SEARCH(H$1,$A13443),0) >0,H$1,0)))","v":""},{"$f":"IF($A13442=\"\",\"\",IF(I$1=\"\",\"\",IF(IFERROR(SEARCH(I$1,$A13443),0) >0,I$1,0)))","v":""},{"$f":"IF($A13442=\"\",\"\",IF(J$1=\"\",\"\",IF(IFERROR(SEARCH(J$1,$A13443),0) >0,J$1,0)))","v":""},{"$f":"IF($A13442=\"\",\"\",IF(K$1=\"\",\"\",IF(IFERROR(SEARCH(K$1,$A13443),0) >0,K$1,0)))","v":""},{"$f":"IF($A13442=\"\",\"\",IF(L$1=\"\",\"\",IF(IFERROR(SEARCH(L$1,$A13443),0) >0,L$1,0)))","v":""},{"$f":"IF($A13442=\"\",\"\",IF(M$1=\"\",\"\",IF(IFERROR(SEARCH(M$1,$A13443),0) >0,M$1,0)))","v":""},{"$f":"IF($A13442=\"\",\"\",IF(N$1=\"\",\"\",IF(IFERROR(SEARCH(N$1,$A13443),0) >0,N$1,0)))","v":""},{"$f":"IF($A13442=\"\",\"\",IF(O$1=\"\",\"\",IF(IFERROR(SEARCH(O$1,$A13443),0) >0,O$1,0)))","v":""},{"$f":"IF($A13442=\"\",\"\",IF(P$1=\"\",\"\",IF(IFERROR(SEARCH(P$1,$A13443),0) >0,P$1,0)))","v":""},{"$f":"IF($A13442=\"\",\"\",IF(Q$1=\"\",\"\",IF(IFERROR(SEARCH(Q$1,$A13443),0) >0,Q$1,0)))","v":""},{"$f":"IF($A13442=\"\",\"\",IF(R$1=\"\",\"\",IF(IFERROR(SEARCH(R$1,$A13443),0) >0,R$1,0)))","v":""},{"$f":"IF($A13442=\"\",\"\",IF(S$1=\"\",\"\",IF(IFERROR(SEARCH(S$1,$A13443),0) >0,S$1,0)))","v":""}]
[{"$nulls":4},"","","","","","","","","","","","","","",""]
[{"$nulls":4},"","","","","","","","","","","","","","",""]
[{"$nulls":4},"","","","","","","","","","","","","","",""]
[{"$nulls":4},"","","","","","","","","","","","","","",""]
[{"$nulls":4},"","","","","","","","","","","","","","",""]
[{"$nulls":4},"","","","","","","","","","","","","","",""]
[{"$nulls":4},"","","","","","","","","","","","","","",""]
[{"$nulls":4},"","","","","","","","","","","","","","",""]
[{"$nulls":4},"","","","","","","","","","","","","","",""]
[{"$nulls":4},"","","","","","","","","","","","","","",""]
[{"$nulls":4},"","","","","","","","","","","","","","",""]
[{"$nulls":4},"","","","","","","","","","","","","","",""]
[{"$nulls":4},"","","","","","","","","","","","","","",""]
[{"$nulls":4},"","","","","","","","","","","","","","",""]
[{"$nulls":4},"","","","","","","","","","","","","","",""]
[{"$nulls":4},"","","","","","","","","","","","","","",""]
[{"$nulls":4},"","","","","","","","","","","","","","",""]
[{"$nulls":4},"","","","","","","","","","","","","","",""]
[{"$nulls":4},"","","","","","","","","","","","","","",""]
[{"$nulls":4},"","","","","","","","","","","","","","",""]
[{"$nulls":4},"","","","","","","","","","","","","","",""]
[{"$nulls":4},"","","","","","","","","","","","","","",""]
[{"$nulls":4},"","","","","","","","","","","","","","",""]
[{"$nulls":4},"","","","","","","","","","","","","","",""]
[{"$nulls":4},"","","","","","","","","","","","","","",""]
[{"$nulls":4},{"$f":"IF($A14274=\"\",\"\",IF(E$1=\"\",\"\",IF(IFERROR(SEARCH(E$1,$A14275),0) >0,E$1,0)))","v":""},{"$f":"IF($A14274=\"\",\"\",IF(F$1=\"\",\"\",IF(IFERROR(SEARCH(F$1,$A14275),0) >0,F$1,0)))","v":""},{"$f":"IF($A14274=\"\",\"\",IF(G$1=\"\",\"\",IF(IFERROR(SEARCH(G$1,$A14275),0) >0,G$1,0)))","v":""},{"$f":"IF($A14274=\"\",\"\",IF(H$1=\"\",\"\",IF(IFERROR(SEARCH(H$1,$A14275),0) >0,H$1,0)))","v":""},{"$f":"IF($A14274=\"\",\"\",IF(I$1=\"\",\"\",IF(IFERROR(SEARCH(I$1,$A14275),0) >0,I$1,0)))","v":""},{"$f":"IF($A14274=\"\",\"\",IF(J$1=\"\",\"\",IF(IFERROR(SEARCH(J$1,$A14275),0) >0,J$1,0)))","v":""},{"$f":"IF($A14274=\"\",\"\",IF(K$1=\"\",\"\",IF(IFERROR(SEARCH(K$1,$A14275),0) >0,K$1,0)))","v":""},{"$f":"IF($A14274=\"\",\"\",IF(L$1=\"\",\"\",IF(IFERROR(SEARCH(L$1,$A14275),0) >0,L$1,0)))","v":""},{"$f":"IF($A14274=\"\",\"\",IF(M$1=\"\",\"\",IF(IFERROR(SEARCH(M$1,$A14275),0) >0,M$1,0)))","v":""},{"$f":"IF($A14274=\"\",\"\",IF(N$1=\"\",\"\",IF(IFERROR(SEARCH(N$1,$A14275),0) >0,N$1,0)))","v":""},{"$f":"IF($A14274=\"\",\"\",IF(O$1=\"\",\"\",IF(IFERROR(SEARCH(O$1,$A14275),0) >0,O$1,0)))","v":""},{"$f":"IF($A14274=\"\",\"\",IF(P$1=\"\",\"\",IF(IFERROR(SEARCH(P$1,$A14275),0) >0,P$1,0)))","v":""},{"$f":"IF($A14274=\"\",\"\",IF(Q$1=\"\",\"\",IF(IFERROR(SEARCH(Q$1,$A14275),0) >0,Q$1,0)))","v":""},{"$f":"IF($A14274=\"\",\"\",IF(R$1=\"\",\"\",IF(IFERROR(SEARCH(R$1,$A14275),0) >0,R$1,0)))","v":""},{"$f":"IF($A14274=\"\",\"\",IF(S$1=\"\",\"\",IF(IFERROR(SEARCH(S$1,$A14275),0) >0,S$1,0)))","v":""}]
[{"$nulls":4},"","","","","","","","","","","","","","",""]
[{"$nulls":4},"","","","","","","","","","","","","","",""]
[{"$nulls":4},"","","","","","","","","","","","","","",""]
[{"$nulls":4},"","","","","","","","","","","","","","",""]
[{"$nulls":4},"","","","","","","","","","","","","","",""]
[{"$nulls":4},"","","","","","","","","","","","","","",""]
[{"$nulls":4},"","","","","","","","","","","","","","",""]
[{"$nulls":4},"","","","","","","","","","","","","","",""]
[{"$nulls":4},"","","","","","","","","","","","","","",""]
[{"$nulls":4},"","","","","","","","","","","","","","",""]
[{"$nulls":4},"","","","","","","","","","","","","","",""]
[{"$nulls":4},"","","","","","","","","","","","","","",""]
[{"$nulls":4},"","","","","","","","","","","","","","",""]
[{"$nulls":4},"","","","","","","","","","","","","","",""]
[{"$nulls":4},"","","","","","","","","","","","","","",""]
[{"$nulls":4},"","","","","","","","","","","","","","",""]
[{"$nulls":4},"","","","","","","","","","","","","","",""]
[{"$nulls":4},"","","","","","","","","","","","","","",""]
[{"$nulls":4},"","","","","","","","","","","","","","",""]
[{"$nulls":4},"","","","","","","","","","","","","","",""]
[{"$nulls":4},"","","","","","","","","","","","","","",""]
[{"$nulls":4},"","","","","","","","","","","","","","",""]
[{"$nulls":4},"","","","","","","","","","","","","","",""]
[{"$nulls":4},"","","","","","","","","","","","","","",""]
[{"$nulls":4},"","","","","","","","","","","","","","",""]
[{"$nulls":4},"","","","","","","","","","","","","","",""]
[{"$nulls":4},"","","","","","","","","","","","","","",""]
[{"$nulls":4},"","","","","","","","","","","","","","",""]
[{"$nulls":4},"","","","","","","","","","","","","","",""]
[{"$nulls":4},"","","","","","","","","","","","","","",""]
[{"$nulls":4},"","","","","","","","","","","","","","",""]
[{"$nulls":4},"","","","","","","","","","","","","","",""]
[{"$nulls":4},"","","","","","","","","","","","","","",""]
[{"$nulls":4},"","","","","","","","","","","","","","",""]
[{"$nulls":4},"","","","","","","","","","","","","","",""]
[{"$nulls":4},"","","","","","","","","","","","","","",""]
[{"$nulls":4},"","","","","","","","","","","","","","",""]
[{"$nulls":4},"","","","","","","","","","","","","","",""]
[{"$nulls":4},"","","","","","","","","","","","","","",""]
[{"$nulls":4},"","","","","","","","","","","","","","",""]
[{"$nulls":4},"","","","","","","","","","","","","","",""]
[{"$nulls":4},"","","","","","","","","","","","","","",""]
[{"$nulls":4},"","","","","","","","","","","","","","",""]
[{"$nulls":4},"","","","","","","","","","","","","","",""]
[{"$nulls":4},"","","","","","","","","","","","","","",""]
[{"$nulls":4},"","","","","","","","","","","","","","",""]
[{"$nulls":4},"","","","","","","","","","","","","","",""]
[{"$nulls":4},"","","","","","","","","","","","","","",""]
[{"$nulls":4},"","","","","","","","","","","","","","",""]
[{"$nulls":4},"","","","","","","","","","","","","","",""]
[{"$nulls":4},"","","","","","","","","","","","","","",""]
[{"$nulls":4},"","","","","","","","","","","","","","",""]
[{"$nulls":4},"","","","","","","","","","","","","","",""]
[{"$nulls":4},"","","","","","","","","","","","","","",""]
[{"$nulls":4},"","","","","","","","","","","","","","",""]
[{"$nulls":4},"","","","","","","","","","","","","","",""]
[{"$nulls":4},"","","","","","","","","","","","","","",""]
[{"$nulls":4},"","","","","","","","","","","","","","",""]
[{"$nulls":4},"","","","","","","","","","","","","","",""]
[{"$nulls":4},"","","","","","","","","","","","","","",""]
[{"$nulls":4},"","","","","","","","","","","","","","",""]
[{"$nulls":4},"","","","","","","","","","","","","","",""]
[{"$nulls":4},"","","","","","","","","","","","","","",""]
[{"$nulls":4},"","","","","","","","","","","","","","",""]
[{"$nulls":4},"","","","","","","","","","","","","","",""]
[{"$nulls":4},"","","","","","","","","","","","","","",""]
[{"$nulls":4},"","","","","","","","","","","","","","",""]
[{"$nulls":4},"","","","","","","","","","","","","","",""]
[{"$nulls":4},{"$f":"IF($A16450=\"\",\"\",IF(E$1=\"\",\"\",IF(IFERROR(SEARCH(E$1,$A16451),0) >0,E$1,0)))","v":""},{"$f":"IF($A16450=\"\",\"\",IF(F$1=\"\",\"\",IF(IFERROR(SEARCH(F$1,$A16451),0) >0,F$1,0)))","v":""},{"$f":"IF($A16450=\"\",\"\",IF(G$1=\"\",\"\",IF(IFERROR(SEARCH(G$1,$A16451),0) >0,G$1,0)))","v":""},{"$f":"IF($A16450=\"\",\"\",IF(H$1=\"\",\"\",IF(IFERROR(SEARCH(H$1,$A16451),0) >0,H$1,0)))","v":""},{"$f":"IF($A16450=\"\",\"\",IF(I$1=\"\",\"\",IF(IFERROR(SEARCH(I$1,$A16451),0) >0,I$1,0)))","v":""},{"$f":"IF($A16450=\"\",\"\",IF(J$1=\"\",\"\",IF(IFERROR(SEARCH(J$1,$A16451),0) >0,J$1,0)))","v":""},{"$f":"IF($A16450=\"\",\"\",IF(K$1=\"\",\"\",IF(IFERROR(SEARCH(K$1,$A16451),0) >0,K$1,0)))","v":""},{"$f":"IF($A16450=\"\",\"\",IF(L$1=\"\",\"\",IF(IFERROR(SEARCH(L$1,$A16451),0) >0,L$1,0)))","v":""},{"$f":"IF($A16450=\"\",\"\",IF(M$1=\"\",\"\",IF(IFERROR(SEARCH(M$1,$A16451),0) >0,M$1,0)))","v":""},{"$f":"IF($A16450=\"\",\"\",IF(N$1=\"\",\"\",IF(IFERROR(SEARCH(N$1,$A16451),0) >0,N$1,0)))","v":""},{"$f":"IF($A16450=\"\",\"\",IF(O$1=\"\",\"\",IF(IFERROR(SEARCH(O$1,$A16451),0) >0,O$1,0)))","v":""},{"$f":"IF($A16450=\"\",\"\",IF(P$1=\"\",\"\",IF(IFERROR(SEARCH(P$1,$A16451),0) >0,P$1,0)))","v":""},{"$f":"IF($A16450=\"\",\"\",IF(Q$1=\"\",\"\",IF(IFERROR(SEARCH(Q$1,$A16451),0) >0,Q$1,0)))","v":""},{"$f":"IF($A16450=\"\",\"\",IF(R$1=\"\",\"\",IF(IFERROR(SEARCH(R$1,$A16451),0) >0,R$1,0)))","v":""},{"$f":"IF($A16450=\"\",\"\",IF(S$1=\"\",\"\",IF(IFERROR(SEARCH(S$1,$A16451),0) >0,S$1,0)))","v":""}]
[{"$nulls":4},"","","","","","","","","","","","","","",""]
[{"$nulls":4},"","","","","","","","","","","","","","",""]
[{"$nulls":4},"","","","","","","","","","","","","","",""]
[{"$nulls":4},"","","","","","","","","","","","","","",""]
[{"$nulls":4},"","","","","","","","","","","","","","",""]
[{"$nulls":4},"","","","","","","","","","","","","","",""]
[{"$nulls":4},"","","","","","","","","","","","","","",""]
[{"$nulls":4},"","","","","","","","","","","","","","",""]
[{"$nulls":4},"","","","","","","","","","","","","","",""]
[{"$nulls":4},"","","","","","","","","","","","","","",""]
[{"$nulls":4},"","","","","","","","","","","","","","",""]
[{"$nulls":4},"","","","","","","","","","","","","","",""]
[{"$nulls":4},"","","","","","","","","","","","","","",""]
[{"$nulls":4},"","","","","","","","","","","","","","",""]
[{"$nulls":4},"","","","","","","","","","","","","","",""]
[{"$nulls":4},"","","","","","","","","","","","","","",""]
[{"$nulls":4},"","","","","","","","","","","","","","",""]
[{"$nulls":4},"","","","","","","","","","","","","","",""]
[{"$nulls":4},"","","","","","","","","","","","","","",""]
[{"$nulls":4},"","","","","","","","","","","","","","",""]
[{"$nulls":4},"","","","","","","","","","","","","","",""]
[{"$nulls":4},"","","","","","","","","","","","","","",""]
[{"$nulls":4},"","","","","","","","","","","","","","",""]
[{"$nulls":4},{"$f":"IF($A17218=\"\",\"\",IF(E$1=\"\",\"\",IF(IFERROR(SEARCH(E$1,$A17219),0) >0,E$1,0)))","v":""},{"$f":"IF($A17218=\"\",\"\",IF(F$1=\"\",\"\",IF(IFERROR(SEARCH(F$1,$A17219),0) >0,F$1,0)))","v":""},{"$f":"IF($A17218=\"\",\"\",IF(G$1=\"\",\"\",IF(IFERROR(SEARCH(G$1,$A17219),0) >0,G$1,0)))","v":""},{"$f":"IF($A17218=\"\",\"\",IF(H$1=\"\",\"\",IF(IFERROR(SEARCH(H$1,$A17219),0) >0,H$1,0)))","v":""},{"$f":"IF($A17218=\"\",\"\",IF(I$1=\"\",\"\",IF(IFERROR(SEARCH(I$1,$A17219),0) >0,I$1,0)))","v":""},{"$f":"IF($A17218=\"\",\"\",IF(J$1=\"\",\"\",IF(IFERROR(SEARCH(J$1,$A17219),0) >0,J$1,0)))","v":""},{"$f":"IF($A17218=\"\",\"\",IF(K$1=\"\",\"\",IF(IFERROR(SEARCH(K$1,$A17219),0) >0,K$1,0)))","v":""},{"$f":"IF($A17218=\"\",\"\",IF(L$1=\"\",\"\",IF(IFERROR(SEARCH(L$1,$A17219),0) >0,L$1,0)))","v":""},{"$f":"IF($A17218=\"\",\"\",IF(M$1=\"\",\"\",IF(IFERROR(SEARCH(M$1,$A17219),0) >0,M$1,0)))","v":""},{"$f":"IF($A17218=\"\",\"\",IF(N$1=\"\",\"\",IF(IFERROR(SEARCH(N$1,$A17219),0) >0,N$1,0)))","v":""},{"$f":"IF($A17218=\"\",\"\",IF(O$1=\"\",\"\",IF(IFERROR(SEARCH(O$1,$A17219),0) >0,O$1,0)))","v":""},{"$f":"IF($A17218=\"\",\"\",IF(P$1=\"\",\"\",IF(IFERROR(SEARCH(P$1,$A17219),0) >0,P$1,0)))","v":""},{"$f":"IF($A17218=\"\",\"\",IF(Q$1=\"\",\"\",IF(IFERROR(SEARCH(Q$1,$A17219),0) >0,Q$1,0)))","v":""},{"$f":"IF($A17218=\"\",\"\",IF(R$1=\"\",\"\",IF(IFERROR(SEARCH(R$1,$A17219),0) >0,R$1,0)))","v":""},{"$f":"IF($A17218=\"\",\"\",IF(S$1=\"\",\"\",IF(IFERROR(SEARCH(S$1,$A17219),0) >0,S$1,0)))","v":""}]
[{"$nulls":4},"","","","","","","","","","","","","","",""]
[{"$nulls":4},"","","","","","","","","","","","","","",""]
[{"$nulls":4},"","","","","","","","","","","","","","",""]
[{"$nulls":4},"","","","","","","","","","","","","","",""]
[{"$nulls":4},"","","","","","","","","","","","","","",""]
[{"$nulls":4},"","","","","","","","","","","","","","",""]
[{"$nulls":4},"","","","","","","","","","","","","","",""]
[{"$nulls":4},"","","","","","","","","","","","","","",""]
[{"$nulls":4},"","","","","","","","","","","","","","",""]
[{"$nulls":4},"","","","","","","","","","","","","","",""]
[{"$nulls":4},"","","","","","","","","","","","","","",""]
[{"$nulls":4},"","","","","","","","","","","","","","",""]
[{"$nulls":4},"","","","","","","","","","","","","","",""]
[{"$nulls":4},"","","","","","","","","","","","","","",""]
[{"$nulls":4},"","","","","","","","","","","","","","",""]
[{"$nulls":4},"","","","","","","","","","","","","","",""]
[{"$nulls":4},"","","","","","","","","","","","","","",""]
[{"$nulls":4},"","","","","","","","","","","","","","",""]
[{"$nulls":4},"","","","","","","","","","","","","","",""]
[{"$nulls":4},"","","","","","","","","","","","","","",""]
[{"$nulls":4},"","","","","","","","","","","","","","",""]
[{"$nulls":4},"","","","","","","","","","","","","","",""]
[{"$nulls":4},"","","","","","","","","","","","","","",""]
[{"$nulls":4},"","","","","","","","","","","","","","",""]
[{"$nulls":4},"","","","","","","","","","","","","","",""]
[{"$nulls":4},"","","","","","","","","","","","","","",""]
[{"$nulls":4},"","","","","","","","","","","","","","",""]
[{"$nulls":4},"","","","","","","","","","","","","","",""]
[{"$nulls":4},"","","","","","","","","","","","","","",""]
[{"$nulls":4},"","","","","","","","","","","","","","",""]
[{"$nulls":4},{"$f":"IF($A18178=\"\",\"\",IF(E$1=\"\",\"\",IF(IFERROR(SEARCH(E$1,$A18179),0) >0,E$1,0)))","v":""},{"$f":"IF($A18178=\"\",\"\",IF(F$1=\"\",\"\",IF(IFERROR(SEARCH(F$1,$A18179),0) >0,F$1,0)))","v":""},{"$f":"IF($A18178=\"\",\"\",IF(G$1=\"\",\"\",IF(IFERROR(SEARCH(G$1,$A18179),0) >0,G$1,0)))","v":""},{"$f":"IF($A18178=\"\",\"\",IF(H$1=\"\",\"\",IF(IFERROR(SEARCH(H$1,$A18179),0) >0,H$1,0)))","v":""},{"$f":"IF($A18178=\"\",\"\",IF(I$1=\"\",\"\",IF(IFERROR(SEARCH(I$1,$A18179),0) >0,I$1,0)))","v":""},{"$f":"IF($A18178=\"\",\"\",IF(J$1=\"\",\"\",IF(IFERROR(SEARCH(J$1,$A18179),0) >0,J$1,0)))","v":""},{"$f":"IF($A18178=\"\",\"\",IF(K$1=\"\",\"\",IF(IFERROR(SEARCH(K$1,$A18179),0) >0,K$1,0)))","v":""},{"$f":"IF($A18178=\"\",\"\",IF(L$1=\"\",\"\",IF(IFERROR(SEARCH(L$1,$A18179),0) >0,L$1,0)))","v":""},{"$f":"IF($A18178=\"\",\"\",IF(M$1=\"\",\"\",IF(IFERROR(SEARCH(M$1,$A18179),0) >0,M$1,0)))","v":""},{"$f":"IF($A18178=\"\",\"\",IF(N$1=\"\",\"\",IF(IFERROR(SEARCH(N$1,$A18179),0) >0,N$1,0)))","v":""},{"$f":"IF($A18178=\"\",\"\",IF(O$1=\"\",\"\",IF(IFERROR(SEARCH(O$1,$A18179),0) >0,O$1,0)))","v":""},{"$f":"IF($A18178=\"\",\"\",IF(P$1=\"\",\"\",IF(IFERROR(SEARCH(P$1,$A18179),0) >0,P$1,0)))","v":""},{"$f":"IF($A18178=\"\",\"\",IF(Q$1=\"\",\"\",IF(IFERROR(SEARCH(Q$1,$A18179),0) >0,Q$1,0)))","v":""},{"$f":"IF($A18178=\"\",\"\",IF(R$1=\"\",\"\",IF(IFERROR(SEARCH(R$1,$A18179),0) >0,R$1,0)))","v":""},{"$f":"IF($A18178=\"\",\"\",IF(S$1=\"\",\"\",IF(IFERROR(SEARCH(S$1,$A18179),0) >0,S$1,0)))","v":""}]
[{"$nulls":4},"","","","","","","","","","","","","","",""]
[{"$nulls":4},"","","","","","","","","","","","","","",""]
[{"$nulls":4},"","","","","","","","","","","","","","",""]
[{"$nulls":4},"","","","","","","","","","","","","","",""]
[{"$nulls":4},"","","","","","","","","","","","","","",""]
[{"$nulls":4},"","","","","","","","","","","","","","",""]
[{"$nulls":4},"","","","","","","","","","","","","","",""]
[{"$nulls":4},"","","","","","","","","","","","","","",""]
[{"$nulls":4},"","","","","","","","","","","","","","",""]
[{"$nulls":4},"","","","","","","","","","","","","","",""]
[{"$nulls":4},"","","","","","","","","","","","","","",""]
[{"$nulls":4},"","","","","","","","","","","","","","",""]
[{"$nulls":4},"","","","","","","","","","","","","","",""]
[{"$nulls":4},"","","","","","","","","","","","","","",""]
[{"$nulls":4},"","","","","","","","","","","","","","",""]
[{"$nulls":4},"","","","","","","","","","","","","","",""]
[{"$nulls":4},"","","","","","","","","","","","","","",""]
[{"$nulls":4},"","","","","","","","","","","","","","",""]
[{"$nulls":4},"","","","","","","","","","","","","","",""]
[{"$nulls":4},"","","","","","","","","","","","","","",""]
[{"$nulls":4},"","","","","","","","","","","","","","",""]
[{"$nulls":4},"","","","","","","","","","","","","","",""]
[{"$nulls":4},"","","","","","","","","","","","","","",""]
[{"$nulls":4},"","","","","","","","","","","","","","",""]
[{"$nulls":4},"","","","","","","","","","","","","","",""]
[{"$nulls":4},"","","","","","","","","","","","","","",""]
[{"$nulls":4},"","","","","","","","","","","","","","",""]
[{"$nulls":4},"","","","","","","","","","","","","","",""]
[{"$nulls":4},"","","","","","","","","","","","","","",""]
[{"$nulls":4},"","","","","","","","","","","","","","",""]
[{"$nulls":4},"","","","","","","","","","","","","","",""]
[{"$nulls":4},"","","","","","","","","","","","","","",""]
[{"$nulls":4},"","","","","","","","","","","","","","",""]
[{"$nulls":4},"","","","","","","","","","","","","","",""]
[{"$nulls":4},"","","","","","","","","","","","","","",""]
[{"$nulls":4},"","","","","","","","","","","","","","",""]
[{"$nulls":4},"","","","","","","","","","","","","","",""]
[{"$nulls":4},"","","","","","","","","","","","","","",""]
[{"$nulls":4},"","","","","","","","","","","","","","",""]
[{"$nulls":4},"","","","","","","","","","","","","","",""]
[{"$nulls":4},"","","","","","","","","","","","","","",""]
[{"$nulls":4},"","","","","","","","","","","","","","",""]
[{"$nulls":4},"","","","","","","","","","","","","","",""]
[{"$nulls":4},"","","","","","","","","","","","","","",""]
[{"$nulls":4},"","","","","","","","","","","","","","",""]
[{"$nulls":4},"","","","","","","","","","","","","","",""]
[{"$nulls":4},"","","","","","","","","","","","","","",""]
[{"$nulls":4},"","","","","","","","","","","","","","",""]
[{"$nulls":4},"","","","","","","","","","","","","","",""]
[{"$nulls":4},"","","","","","","","","","","","","","",""]
[{"$nulls":4},"","","","","","","","","","","","","","",""]
[{"$nulls":4},"","","","","","","","","","","","","","",""]
[{"$nulls":4},"","","","","","","","","","","","","","",""]
[{"$nulls":4},"","","","","","","","","","","","","","",""]
[{"$nulls":4},"","","","","","","","","","","","","","",""]
[{"$nulls":4},"","","","","","","","","","","","","","",""]
[{"$nulls":4},"","","","","","","","","","","","","","",""]
[{"$nulls":4},"","","","","","","","","","","","","","",""]
[{"$nulls":4},"","","","","","","","","","","","","","",""]
[{"$nulls":4},"","","","","","","","","","","","","","",""]
[{"$nulls":4},"","","","","","","","","","","","","","",""]
[{"$nulls":4},"","","","","","","","","","","","","","",""]
[{"$nulls":4},"","","","","","","","","","","","","","",""]
[{"$nulls":4},"","","","","","","","","","","","","","",""]
[{"$nulls":4},"","","","","","","","","","","","","","",""]
[{"$nulls":4},"","","","","","","","","","","","","","",""]
[{"$nulls":4},"","","","","","","","","","","","","","",""]
[{"$nulls":4},"","","","","","","","","","","","","","",""]
[{"$nulls":4},"","","","","","","","","","","","","","",""]
[{"$nulls":4},"","","","","","","","","","","","","","",""]
[{"$nulls":4},"","","","","","","","","","","","","","",""]
[{"$nulls":4},"","","","","","","","","","","","","","",""]
[{"$nulls":4},"","","","","","","","","","","","","","",""]
[{"$nulls":4},"","","","","","","","","","","","","","",""]
[{"$nulls":4},"","","","","","","","","","","","","","",""]
[{"$nulls":4},"","","","","","","","","","","","","","",""]
[{"$nulls":4},"","","","","","","","","","","","","","",""]
[{"$nulls":4},"","","","","","","","","","","","","","",""]
[{"$nulls":4},"","","","","","","","","","","","","","",""]
[{"$nulls":4},"","","","","","","","","","","","","","",""]
[{"$nulls":4},"","","","","","","","","","","","","","",""]
[{"$nulls":4},"","","","","","","","","","","","","","",""]
[{"$nulls":4},"","","","","","","","","","","","","","",""]
[{"$nulls":4},"","","","","","","","","","","","","","",""]
[{"$nulls":4},"","","","","","","","","","","","","","",""]
[{"$nulls":4},"","","","","","","","","","","","","","",""]
[{"$nulls":4},"","","","","","","","","","","","","","",""]
[{"$nulls":4},"","","","","","","","","","","","","","",""]
[{"$nulls":4},"","","","","","","","","","","","","","",""]
[{"$nulls":4},"","","","","","","","","","","","","","",""]
[{"$nulls":4},"","","","","","","","","","","","","","",""]
[{"$nulls":4},"","","","","","","","","","","","","","",""]
[{"$nulls":4},{"$f":"IF($A21122=\"\",\"\",IF(E$1=\"\",\"\",IF(IFERROR(SEARCH(E$1,$A21123),0) >0,E$1,0)))","v":""},{"$f":"IF($A21122=\"\",\"\",IF(F$1=\"\",\"\",IF(IFERROR(SEARCH(F$1,$A21123),0) >0,F$1,0)))","v":""},{"$f":"IF($A21122=\"\",\"\",IF(G$1=\"\",\"\",IF(IFERROR(SEARCH(G$1,$A21123),0) >0,G$1,0)))","v":""},{"$f":"IF($A21122=\"\",\"\",IF(H$1=\"\",\"\",IF(IFERROR(SEARCH(H$1,$A21123),0) >0,H$1,0)))","v":""},{"$f":"IF($A21122=\"\",\"\",IF(I$1=\"\",\"\",IF(IFERROR(SEARCH(I$1,$A21123),0) >0,I$1,0)))","v":""},{"$f":"IF($A21122=\"\",\"\",IF(J$1=\"\",\"\",IF(IFERROR(SEARCH(J$1,$A21123),0) >0,J$1,0)))","v":""},{"$f":"IF($A21122=\"\",\"\",IF(K$1=\"\",\"\",IF(IFERROR(SEARCH(K$1,$A21123),0) >0,K$1,0)))","v":""},{"$f":"IF($A21122=\"\",\"\",IF(L$1=\"\",\"\",IF(IFERROR(SEARCH(L$1,$A21123),0) >0,L$1,0)))","v":""},{"$f":"IF($A21122=\"\",\"\",IF(M$1=\"\",\"\",IF(IFERROR(SEARCH(M$1,$A21123),0) >0,M$1,0)))","v":""},{"$f":"IF($A21122=\"\",\"\",IF(N$1=\"\",\"\",IF(IFERROR(SEARCH(N$1,$A21123),0) >0,N$1,0)))","v":""},{"$f":"IF($A21122=\"\",\"\",IF(O$1=\"\",\"\",IF(IFERROR(SEARCH(O$1,$A21123),0) >0,O$1,0)))","v":""},{"$f":"IF($A21122=\"\",\"\",IF(P$1=\"\",\"\",IF(IFERROR(SEARCH(P$1,$A21123),0) >0,P$1,0)))","v":""},{"$f":"IF($A21122=\"\",\"\",IF(Q$1=\"\",\"\",IF(IFERROR(SEARCH(Q$1,$A21123),0) >0,Q$1,0)))","v":""},{"$f":"IF($A21122=\"\",\"\",IF(R$1=\"\",\"\",IF(IFERROR(SEARCH(R$1,$A21123),0) >0,R$1,0)))","v":""},{"$f":"IF($A21122=\"\",\"\",IF(S$1=\"\",\"\",IF(IFERROR(SEARCH(S$1,$A21123),0) >0,S$1,0)))","v":""}]
[{"$nulls":4},"","","","","","","","","","","","","","",""]
[{"$nulls":4},"","","","","","","","","","","","","","",""]
[{"$nulls":4},"","","","","","","","","","","","","","",""]
[{"$nulls":4},"","","","","","","","","","","","","","",""]
[{"$nulls":4},"","","","","","","","","","","","","","",""]
[{"$nulls":4},"","","","","","","","","","","","","","",""]
[{"$nulls":4},"","","","","","","","","","","","","","",""]
[{"$nulls":4},"","","","","","","","","","","","","","",""]
[{"$nulls":4},"","","","","","","","","","","","","","",""]
[{"$nulls":4},"","","","","","","","","","","","","","",""]
[{"$nulls":4},"","","","","","","","","","","","","","",""]
[{"$nulls":4},"","","","","","","","","","","","","","",""]
[{"$nulls":4},"","","","","","","","","","","","","","",""]
[{"$nulls":4},"","","","","","","","","","","","","","",""]
[{"$nulls":4},"","","","","","","","","","","","","","",""]
[{"$nulls":4},"","","","","","","","","","","","","","",""]
[{"$nulls":4},"","","","","","","","","","","","","","",""]
[{"$nulls":4},"","","","","","","","","","","","","","",""]
[{"$nulls":4},"","","","","","","","","","","","","","",""]
[{"$nulls":4},"","","","","","","","","","","","","","",""]
[{"$nulls":4},"","","","","","","","","","","","","","",""]
[{"$nulls":4},"","","","","","","","","","","","","","",""]
[{"$nulls":4},"","","","","","","","","","","","","","",""]
[{"$nulls":4},"","","","","","","","","","","","","","",""]
[{"$nulls":4},"","","","","","","","","","","","","","",""]
[{"$nulls":4},"","","","","","","","","","","","","","",""]
[{"$nulls":4},"","","","","","","","","","","","","","",""]
[{"$nulls":4},"","","","","","","","","","","","","","",""]
[{"$nulls":4},"","","","","","","","","","","","","","",""]
[{"$nulls":4},"","","","","","","","","","","","","","",""]
[{"$nulls":4},{"$f":"IF($A22082=\"\",\"\",IF(E$1=\"\",\"\",IF(IFERROR(SEARCH(E$1,$A22083),0) >0,E$1,0)))","v":""},{"$f":"IF($A22082=\"\",\"\",IF(F$1=\"\",\"\",IF(IFERROR(SEARCH(F$1,$A22083),0) >0,F$1,0)))","v":""},{"$f":"IF($A22082=\"\",\"\",IF(G$1=\"\",\"\",IF(IFERROR(SEARCH(G$1,$A22083),0) >0,G$1,0)))","v":""},{"$f":"IF($A22082=\"\",\"\",IF(H$1=\"\",\"\",IF(IFERROR(SEARCH(H$1,$A22083),0) >0,H$1,0)))","v":""},{"$f":"IF($A22082=\"\",\"\",IF(I$1=\"\",\"\",IF(IFERROR(SEARCH(I$1,$A22083),0) >0,I$1,0)))","v":""},{"$f":"IF($A22082=\"\",\"\",IF(J$1=\"\",\"\",IF(IFERROR(SEARCH(J$1,$A22083),0) >0,J$1,0)))","v":""},{"$f":"IF($A22082=\"\",\"\",IF(K$1=\"\",\"\",IF(IFERROR(SEARCH(K$1,$A22083),0) >0,K$1,0)))","v":""},{"$f":"IF($A22082=\"\",\"\",IF(L$1=\"\",\"\",IF(IFERROR(SEARCH(L$1,$A22083),0) >0,L$1,0)))","v":""},{"$f":"IF($A22082=\"\",\"\",IF(M$1=\"\",\"\",IF(IFERROR(SEARCH(M$1,$A22083),0) >0,M$1,0)))","v":""},{"$f":"IF($A22082=\"\",\"\",IF(N$1=\"\",\"\",IF(IFERROR(SEARCH(N$1,$A22083),0) >0,N$1,0)))","v":""},{"$f":"IF($A22082=\"\",\"\",IF(O$1=\"\",\"\",IF(IFERROR(SEARCH(O$1,$A22083),0) >0,O$1,0)))","v":""},{"$f":"IF($A22082=\"\",\"\",IF(P$1=\"\",\"\",IF(IFERROR(SEARCH(P$1,$A22083),0) >0,P$1,0)))","v":""},{"$f":"IF($A22082=\"\",\"\",IF(Q$1=\"\",\"\",IF(IFERROR(SEARCH(Q$1,$A22083),0) >0,Q$1,0)))","v":""},{"$f":"IF($A22082=\"\",\"\",IF(R$1=\"\",\"\",IF(IFERROR(SEARCH(R$1,$A22083),0) >0,R$1,0)))","v":""},{"$f":"IF($A22082=\"\",\"\",IF(S$1=\"\",\"\",IF(IFERROR(SEARCH(S$1,$A22083),0) >0,S$1,0)))","v":""}]
[{"$nulls":4},"","","","","","","","","","","","","","",""]
[{"$nulls":4},"","","","","","","","","","","","","","",""]
[{"$nulls":4},"","","","","","","","","","","","","","",""]
[{"$nulls":4},"","","","","","","","","","","","","","",""]
[{"$nulls":4},"","","","","","","","","","","","","","",""]
[{"$nulls":4},"","","","","","","","","","","","","","",""]
[{"$nulls":4},"","","","","","","","","","","","","","",""]
[{"$nulls":4},"","","","","","","","","","","","","","",""]
[{"$nulls":4},"","","","","","","","","","","","","","",""]
[{"$nulls":4},"","","","","","","","","","","","","","",""]
[{"$nulls":4},"","","","","","","","","","","","","","",""]
[{"$nulls":4},"","","","","","","","","","","","","","",""]
[{"$nulls":4},"","","","","","","","","","","","","","",""]
[{"$nulls":4},"","","","","","","","","","","","","","",""]
[{"$nulls":4},"","","","","","","","","","","","","","",""]
[{"$nulls":4},"","","","","","","","","","","","","","",""]
[{"$nulls":4},"","","","","","","","","","","","","","",""]
[{"$nulls":4},"","","","","","","","","","","","","","",""]
[{"$nulls":4},"","","","","","","","","","","","","","",""]
[{"$nulls":4},"","","","","","","","","","","","","","",""]
[{"$nulls":4},"","","","","","","","","","","","","","",""]
[{"$nulls":4},"","","","","","","","","","","","","","",""]
[{"$nulls":4},"","","","","","","","","","","","","","",""]
[{"$nulls":4},"","","","","","","","","","","","","","",""]
[{"$nulls":4},"","","","","","","","","","","","","","",""]
[{"$nulls":4},"","","","","","","","","","","","","","",""]
[{"$nulls":4},"","","","","","","","","","","","","","",""]
[{"$nulls":4},"","","","","","","","","","","","","","",""]
[{"$nulls":4},"","","","","","","","","","","","","","",""]
[{"$nulls":4},"","","","","","","","","","","","","","",""]
[{"$nulls":4},"","","","","","","","","","","","","","",""]
[{"$nulls":4},"","","","","","","","","","","","","","",""]
[{"$nulls":4},"","","","","","","","","","","","","","",""]
[{"$nulls":4},"","","","","","","","","","","","","","",""]
[{"$nulls":4},"","","","","","","","","","","","","","",""]
[{"$nulls":4},"","","","","","","","","","","","","","",""]
[{"$nulls":4},"","","","","","","","","","","","","","",""]
[{"$nulls":4},"","","","","","","","","","","","","","",""]
[{"$nulls":4},"","","","","","","","","","","","","","",""]
[{"$nulls":4},"","","","","","","","","","","","","","",""]
[{"$nulls":4},"","","","","","","","","","","","","","",""]
[{"$nulls":4},"","","","","","","","","","","","","","",""]
[{"$nulls":4},"","","","","","","","","","","","","","",""]
[{"$nulls":4},"","","","","","","","","","","","","","",""]
[{"$nulls":4},"","","","","","","","","","","","","","",""]
[{"$nulls":4},"","","","","","","","","","","","","","",""]
[{"$nulls":4},"","","","","","","","","","","","","","",""]
[{"$nulls":4},"","","","","","","","","","","","","","",""]
[{"$nulls":4},"","","","","","","","","","","","","","",""]
[{"$nulls":4},"","","","","","","","","","","","","","",""]
[{"$nulls":4},"","","","","","","","","","","","","","",""]
[{"$nulls":4},"","","","","","","","","","","","","","",""]
[{"$nulls":4},"","","","","","","","","","","","","","",""]
[{"$nulls":4},"","","","","","","","","","","","","","",""]
[{"$nulls":4},"","","","","","","","","","","","","","",""]
[{"$nulls":4},"","","","","","","","","","","","","","",""]
[{"$nulls":4},"","","","","","","","","","","","","","",""]
[{"$nulls":4},"","","","","","","","","","","","","","",""]
[{"$nulls":4},"","","","","","","","","","","","","","",""]
[{"$nulls":4},"","","","","","","","","","","","","","",""]
[{"$nulls":4},"","","","","","","","","","","","","","",""]
[{"$nulls":4},"","","","","","","","","","","","","","",""]
[{"$nulls":4},"","","","","","","","","","","","","","",""]
[{"$nulls":4},"","","","","","","","","","","","","","",""]
[{"$nulls":4},"","","","","","","","","","","","","","",""]
[{"$nulls":4},"","","","","","","","","","","","","","",""]
[{"$nulls":4},"","","","","","","","","","","","","","",""]
[{"$nulls":4},"","","","","","","","","","","","","","",""]
[{"$nulls":4},"","","","","","","","","","","","","","",""]
[{"$nulls":4},"","","","","","","","","","","","","","",""]
[{"$nulls":4},"","","","","","","","","","","","","","",""]
[{"$nulls":4},"","","","","","","","","","","","","","",""]
[{"$nulls":4},"","","","","","","","","","","","","","",""]
[{"$nulls":4},"","","","","","","","","","","","","","",""]
[{"$nulls":4},"","","","","","","","","","","","","","",""]
[{"$nulls":4},"","","","","","","","","","","","","","",""]
[{"$nulls":4},"","","","","","","","","","","","","","",""]
[{"$nulls":4},"","","","","","","","","","","","","","",""]
[{"$nulls":4},"","","","","","","","","","","","","","",""]
[{"$nulls":4},"","","","","","","","","","","","","","",""]
[{"$nulls":4},"","","","","","","","","","","","","","",""]
[{"$nulls":4},"","","","","","","","","","","","","","",""]
[{"$nulls":4},"","","","","","","","","","","","","","",""]
[{"$nulls":4},"","","","","","","","","","","","","","",""]
[{"$nulls":4},"","","","","","","","","","","","","","",""]
[{"$nulls":4},"","","","","","","","","","","","","","",""]
[{"$nulls":4},"","","","","","","","","","","","","","",""]
[{"$nulls":4},"","","","","","","","","","","","","","",""]
[{"$nulls":4},"","","","","","","","","","","","","","",""]
[{"$nulls":4},"","","","","","","","","","","","","","",""]
[{"$nulls":4},"","","","","","","","","","","","","","",""]
[{"$nulls":4},"","","","","","","","","","","","","","",""]
[{"$nulls":4},{"$f":"IF($A25026=\"\",\"\",IF(E$1=\"\",\"\",IF(IFERROR(SEARCH(E$1,$A25027),0) >0,E$1,0)))","v":""},{"$f":"IF($A25026=\"\",\"\",IF(F$1=\"\",\"\",IF(IFERROR(SEARCH(F$1,$A25027),0) >0,F$1,0)))","v":""},{"$f":"IF($A25026=\"\",\"\",IF(G$1=\"\",\"\",IF(IFERROR(SEARCH(G$1,$A25027),0) >0,G$1,0)))","v":""},{"$f":"IF($A25026=\"\",\"\",IF(H$1=\"\",\"\",IF(IFERROR(SEARCH(H$1,$A25027),0) >0,H$1,0)))","v":""},{"$f":"IF($A25026=\"\",\"\",IF(I$1=\"\",\"\",IF(IFERROR(SEARCH(I$1,$A25027),0) >0,I$1,0)))","v":""},{"$f":"IF($A25026=\"\",\"\",IF(J$1=\"\",\"\",IF(IFERROR(SEARCH(J$1,$A25027),0) >0,J$1,0)))","v":""},{"$f":"IF($A25026=\"\",\"\",IF(K$1=\"\",\"\",IF(IFERROR(SEARCH(K$1,$A25027),0) >0,K$1,0)))","v":""},{"$f":"IF($A25026=\"\",\"\",IF(L$1=\"\",\"\",IF(IFERROR(SEARCH(L$1,$A25027),0) >0,L$1,0)))","v":""},{"$f":"IF($A25026=\"\",\"\",IF(M$1=\"\",\"\",IF(IFERROR(SEARCH(M$1,$A25027),0) >0,M$1,0)))","v":""},{"$f":"IF($A25026=\"\",\"\",IF(N$1=\"\",\"\",IF(IFERROR(SEARCH(N$1,$A25027),0) >0,N$1,0)))","v":""},{"$f":"IF($A25026=\"\",\"\",IF(O$1=\"\",\"\",IF(IFERROR(SEARCH(O$1,$A25027),0) >0,O$1,0)))","v":""},{"$f":"IF($A25026=\"\",\"\",IF(P$1=\"\",\"\",IF(IFERROR(SEARCH(P$1,$A25027),0) >0,P$1,0)))","v":""},{"$f":"IF($A25026=\"\",\"\",IF(Q$1=\"\",\"\",IF(IFERROR(SEARCH(Q$1,$A25027),0) >0,Q$1,0)))","v":""},{"$f":"IF($A25026=\"\",\"\",IF(R$1=\"\",\"\",IF(IFERROR(SEARCH(R$1,$A25027),0) >0,R$1,0)))","v":""},{"$f":"IF($A25026=\"\",\"\",IF(S$1=\"\",\"\",IF(IFERROR(SEARCH(S$1,$A25027),0) >0,S$1,0)))","v":""}]
[{"$nulls":4},"","","","","","","","","","","","","","",""]
[{"$nulls":4},"","","","","","","","","","","","","","",""]
[{"$nulls":4},"","","","","","","","","","","","","","",""]
[{"$nulls":4},"","","","","","","","","","","","","","",""]
[{"$nulls":4},"","","","","","","","","","","","","","",""]
[{"$nulls":4},"","","","","","","","","","","","","","",""]
[{"$nulls":4},"","","","","","","","","","","","","","",""]
[{"$nulls":4},"","","","","","","","","","","","","","",""]
[{"$nulls":4},"","","","","","","","","","","","","","",""]
[{"$nulls":4},"","","","","","","","","","","","","","",""]
[{"$nulls":4},"","","","","","","","","","","","","","",""]
[{"$nulls":4},"","","","","","","","","","","","","","",""]
[{"$nulls":4},"","","","","","","","","","","","","","",""]
[{"$nulls":4},"","","","","","","","","","","","","","",""]
[{"$nulls":4},"","","","","","","","","","","","","","",""]
[{"$nulls":4},"","","","","","","","","","","","","","",""]
[{"$nulls":4},"","","","","","","","","","","","","","",""]
[{"$nulls":4},"","","","","","","","","","","","","","",""]
[{"$nulls":4},"","","","","","","","","","","","","","",""]
[{"$nulls":4},"","","","","","","","","","","","","","",""]
[{"$nulls":4},"","","","","","","","","","","","","","",""]
[{"$nulls":4},"","","","","","","","","","","","","","",""]
[{"$nulls":4},"","","","","","","","","","","","","","",""]
[{"$nulls":4},"","","","","","","","","","","","","","",""]
[{"$nulls":4},"","","","","","","","","","","","","","",""]
[{"$nulls":4},"","","","","","","","","","","","","","",""]
[{"$nulls":4},"","","","","","","","","","","","","","",""]
[{"$nulls":4},"","","","","","","","","","","","","","",""]
[{"$nulls":4},"","","","","","","","","","","","","","",""]
[{"$nulls":4},"","","","","","","","","","","","","","",""]
[{"$nulls":4},"","","","","","","","","","","","","","",""]
[{"$nulls":4},"","","","","","","","","","","","","","",""]
[{"$nulls":4},{"$f":"IF($A26050=\"\",\"\",IF(E$1=\"\",\"\",IF(IFERROR(SEARCH(E$1,$A26051),0) >0,E$1,0)))","v":""},{"$f":"IF($A26050=\"\",\"\",IF(F$1=\"\",\"\",IF(IFERROR(SEARCH(F$1,$A26051),0) >0,F$1,0)))","v":""},{"$f":"IF($A26050=\"\",\"\",IF(G$1=\"\",\"\",IF(IFERROR(SEARCH(G$1,$A26051),0) >0,G$1,0)))","v":""},{"$f":"IF($A26050=\"\",\"\",IF(H$1=\"\",\"\",IF(IFERROR(SEARCH(H$1,$A26051),0) >0,H$1,0)))","v":""},{"$f":"IF($A26050=\"\",\"\",IF(I$1=\"\",\"\",IF(IFERROR(SEARCH(I$1,$A26051),0) >0,I$1,0)))","v":""},{"$f":"IF($A26050=\"\",\"\",IF(J$1=\"\",\"\",IF(IFERROR(SEARCH(J$1,$A26051),0) >0,J$1,0)))","v":""},{"$f":"IF($A26050=\"\",\"\",IF(K$1=\"\",\"\",IF(IFERROR(SEARCH(K$1,$A26051),0) >0,K$1,0)))","v":""},{"$f":"IF($A26050=\"\",\"\",IF(L$1=\"\",\"\",IF(IFERROR(SEARCH(L$1,$A26051),0) >0,L$1,0)))","v":""},{"$f":"IF($A26050=\"\",\"\",IF(M$1=\"\",\"\",IF(IFERROR(SEARCH(M$1,$A26051),0) >0,M$1,0)))","v":""},{"$f":"IF($A26050=\"\",\"\",IF(N$1=\"\",\"\",IF(IFERROR(SEARCH(N$1,$A26051),0) >0,N$1,0)))","v":""},{"$f":"IF($A26050=\"\",\"\",IF(O$1=\"\",\"\",IF(IFERROR(SEARCH(O$1,$A26051),0) >0,O$1,0)))","v":""},{"$f":"IF($A26050=\"\",\"\",IF(P$1=\"\",\"\",IF(IFERROR(SEARCH(P$1,$A26051),0) >0,P$1,0)))","v":""},{"$f":"IF($A26050=\"\",\"\",IF(Q$1=\"\",\"\",IF(IFERROR(SEARCH(Q$1,$A26051),0) >0,Q$1,0)))","v":""},{"$f":"IF($A26050=\"\",\"\",IF(R$1=\"\",\"\",IF(IFERROR(SEARCH(R$1,$A26051),0) >0,R$1,0)))","v":""},{"$f":"IF($A26050=\"\",\"\",IF(S$1=\"\",\"\",IF(IFERROR(SEARCH(S$1,$A26051),0) >0,S$1,0)))","v":""}]
[{"$nulls":4},"","","","","","","","","","","","","","",""]
[{"$nulls":4},"","","","","","","","","","","","","","",""]
[{"$nulls":4},"","","","","","","","","","","","","","",""]
[{"$nulls":4},"","","","","","","","","","","","","","",""]
[{"$nulls":4},"","","","","","","","","","","","","","",""]
[{"$nulls":4},"","","","","","","","","","","","","","",""]
[{"$nulls":4},"","","","","","","","","","","","","","",""]
[{"$nulls":4},"","","","","","","","","","","","","","",""]
[{"$nulls":4},"","","","","","","","","","","","","","",""]
[{"$nulls":4},"","","","","","","","","","","","","","",""]
[{"$nulls":4},"","","","","","","","","","","","","","",""]
[{"$nulls":4},"","","","","","","","","","","","","","",""]
[{"$nulls":4},"","","","","","","","","","","","","","",""]
[{"$nulls":4},"","","","","","","","","","","","","","",""]
[{"$nulls":4},"","","","","","","","","","","","","","",""]
[{"$nulls":4},"","","","","","","","","","","","","","",""]
[{"$nulls":4},"","","","","","","","","","","","","","",""]
[{"$nulls":4},"","","","","","","","","","","","","","",""]
[{"$nulls":4},"","","","","","","","","","","","","","",""]
[{"$nulls":4},"","","","","","","","","","","","","","",""]
[{"$nulls":4},"","","","","","","","","","","","","","",""]
[{"$nulls":4},"","","","","","","","","","","","","","",""]
[{"$nulls":4},"","","","","","","","","","","","","","",""]
[{"$nulls":4},"","","","","","","","","","","","","","",""]
[{"$nulls":4},"","","","","","","","","","","","","","",""]
[{"$nulls":4},"","","","","","","","","","","","","","",""]
[{"$nulls":4},"","","","","","","","","","","","","","",""]
[{"$nulls":4},"","","","","","","","","","","","","","",""]
[{"$nulls":4},"","","","","","","","","","","","","","",""]
[{"$nulls":4},"","","","","","","","","","","","","","",""]
[{"$nulls":4},"","","","","","","","","","","","","","",""]
[{"$nulls":4},"","","","","","","","","","","","","","",""]
[{"$nulls":4},"","","","","","","","","","","","","","",""]
[{"$nulls":4},"","","","","","","","","","","","","","",""]
[{"$nulls":4},"","","","","","","","","","","","","","",""]
[{"$nulls":4},"","","","","","","","","","","","","","",""]
[{"$nulls":4},"","","","","","","","","","","","","","",""]
[{"$nulls":4},"","","","","","","","","","","","","","",""]
[{"$nulls":4},"","","","","","","","","","","","","","",""]
[{"$nulls":4},"","","","","","","","","","","","","","",""]
[{"$nulls":4},"","","","","","","","","","","","","","",""]
[{"$nulls":4},"","","","","","","","","","","","","","",""]
[{"$nulls":4},"","","","","","","","","","","","","","",""]
[{"$nulls":4},"","","","","","","","","","","","","","",""]
[{"$nulls":4},"","","","","","","","","","","","","","",""]
[{"$nulls":4},"","","","","","","","","","","","","","",""]
[{"$nulls":4},"","","","","","","","","","","","","","",""]
[{"$nulls":4},"","","","","","","","","","","","","","",""]
[{"$nulls":4},"","","","","","","","","","","","","","",""]
[{"$nulls":4},"","","","","","","","","","","","","","",""]
[{"$nulls":4},"","","","","","","","","","","","","","",""]
[{"$nulls":4},"","","","","","","","","","","","","","",""]
[{"$nulls":4},"","","","","","","","","","","","","","",""]
[{"$nulls":4},"","","","","","","","","","","","","","",""]
[{"$nulls":4},"","","","","","","","","","","","","","",""]
[{"$nulls":4},"","","","","","","","","","","","","","",""]
[{"$nulls":4},"","","","","","","","","","","","","","",""]
[{"$nulls":4},"","","","","","","","","","","","","","",""]
[{"$nulls":4},"","","","","","","","","","","","","","",""]
[{"$nulls":4},"","","","","","","","","","","","","","",""]
[{"$nulls":4},"","","","","","","","","","","","","","",""]
[{"$nulls":4},"","","","","","","","","","","","","","",""]
[{"$nulls":4},"","","","","","","","","","","","","","",""]
[{"$nulls":4},"","","","","","","","","","","","","","",""]
[{"$nulls":4},"","","","","","","","","","","","","","",""]
[{"$nulls":4},"","","","","","","","","","","","","","",""]
[{"$nulls":4},"","","","","","","","","","","","","","",""]
[{"$nulls":4},"","","","","","","","","","","","","","",""]
[{"$nulls":4},"","","","","","","","","","","","","","",""]
[{"$nulls":4},"","","","","","","","","","","","","","",""]
[{"$nulls":4},"","","","","","","","","","","","","","",""]
[{"$nulls":4},"","","","","","","","","","","","","","",""]
[{"$nulls":4},"","","","","","","","","","","","","","",""]
[{"$nulls":4},"","","","","","","","","","","","","","",""]
[{"$nulls":4},"","","","","","","","","","","","","","",""]
[{"$nulls":4},"","","","","","","","","","","","","","",""]
[{"$nulls":4},"","","","","","","","","","","","","","",""]
[{"$nulls":4},"","","","","","","","","","","","","","",""]
[{"$nulls":4},"","","","","","","","","","","","","","",""]
[{"$nulls":4},"","","","","","","","","","","","","","",""]
[{"$nulls":4},"","","","","","","","","","","","","","",""]
[{"$nulls":4},"","","","","","","","","","","","","","",""]
[{"$nulls":4},"","","","","","","","","","","","","","",""]
[{"$nulls":4},"","","","","","","","","","","","","","",""]
[{"$nulls":4},"","","","","","","","","","","","","","",""]
[{"$nulls":4},"","","","","","","","","","","","","","",""]
[{"$nulls":4},"","","","","","","","","","","","","","",""]
[{"$nulls":4},"","","","","","","","","","","","","","",""]
[{"$nulls":4},"","","","","","","","","","","","","","",""]
[{"$nulls":4},"","","","","","","","","","","","","","",""]
[{"$nulls":4},"","","","","","","","","","","","","","",""]
[{"$nulls":4},"","","","","","","","","","","","","","",""]
[{"$nulls":4},"","","","","","","","","","","","","","",""]
[{"$nulls":4},"","","","","","","","","","","","","","",""]
[{"$nulls":4},{"$f":"IF($A29058=\"\",\"\",IF(E$1=\"\",\"\",IF(IFERROR(SEARCH(E$1,$A29059),0) >0,E$1,0)))","v":""},{"$f":"IF($A29058=\"\",\"\",IF(F$1=\"\",\"\",IF(IFERROR(SEARCH(F$1,$A29059),0) >0,F$1,0)))","v":""},{"$f":"IF($A29058=\"\",\"\",IF(G$1=\"\",\"\",IF(IFERROR(SEARCH(G$1,$A29059),0) >0,G$1,0)))","v":""},{"$f":"IF($A29058=\"\",\"\",IF(H$1=\"\",\"\",IF(IFERROR(SEARCH(H$1,$A29059),0) >0,H$1,0)))","v":""},{"$f":"IF($A29058=\"\",\"\",IF(I$1=\"\",\"\",IF(IFERROR(SEARCH(I$1,$A29059),0) >0,I$1,0)))","v":""},{"$f":"IF($A29058=\"\",\"\",IF(J$1=\"\",\"\",IF(IFERROR(SEARCH(J$1,$A29059),0) >0,J$1,0)))","v":""},{"$f":"IF($A29058=\"\",\"\",IF(K$1=\"\",\"\",IF(IFERROR(SEARCH(K$1,$A29059),0) >0,K$1,0)))","v":""},{"$f":"IF($A29058=\"\",\"\",IF(L$1=\"\",\"\",IF(IFERROR(SEARCH(L$1,$A29059),0) >0,L$1,0)))","v":""},{"$f":"IF($A29058=\"\",\"\",IF(M$1=\"\",\"\",IF(IFERROR(SEARCH(M$1,$A29059),0) >0,M$1,0)))","v":""},{"$f":"IF($A29058=\"\",\"\",IF(N$1=\"\",\"\",IF(IFERROR(SEARCH(N$1,$A29059),0) >0,N$1,0)))","v":""},{"$f":"IF($A29058=\"\",\"\",IF(O$1=\"\",\"\",IF(IFERROR(SEARCH(O$1,$A29059),0) >0,O$1,0)))","v":""},{"$f":"IF($A29058=\"\",\"\",IF(P$1=\"\",\"\",IF(IFERROR(SEARCH(P$1,$A29059),0) >0,P$1,0)))","v":""},{"$f":"IF($A29058=\"\",\"\",IF(Q$1=\"\",\"\",IF(IFERROR(SEARCH(Q$1,$A29059),0) >0,Q$1,0)))","v":""},{"$f":"IF($A29058=\"\",\"\",IF(R$1=\"\",\"\",IF(IFERROR(SEARCH(R$1,$A29059),0) >0,R$1,0)))","v":""},{"$f":"IF($A29058=\"\",\"\",IF(S$1=\"\",\"\",IF(IFERROR(SEARCH(S$1,$A29059),0) >0,S$1,0)))","v":""}]
[{"$nulls":4},"","","","","","","","","","","","","","",""]
[{"$nulls":4},"","","","","","","","","","","","","","",""]
[{"$nulls":4},"","","","","","","","","","","","","","",""]
[{"$nulls":4},"","","","","","","","","","","","","","",""]
[{"$nulls":4},"","","","","","","","","","","","","","",""]
[{"$nulls":4},"","","","","","","","","","","","","","",""]
[{"$nulls":4},"","","","","","","","","","","","","","",""]
[{"$nulls":4},"","","","","","","","","","","","","","",""]
[{"$nulls":4},"","","","","","","","","","","","","","",""]
[{"$nulls":4},"","","","","","","","","","","","","","",""]
[{"$nulls":4},"","","","","","","","","","","","","","",""]
[{"$nulls":4},"","","","","","","","","","","","","","",""]
[{"$nulls":4},"","","","","","","","","","","","","","",""]
[{"$nulls":4},"","","","","","","","","","","","","","",""]
[{"$nulls":4},"","","","","","","","","","","","","","",""]
[{"$nulls":4},"","","","","","","","","","","","","","",""]
[{"$nulls":4},"","","","","","","","","","","","","","",""]
[{"$nulls":4},"","","","","","","","","","","","","","",""]
[{"$nulls":4},"","","","","","","","","","","","","","",""]
[{"$nulls":4},"","","","","","","","","","","","","","",""]
[{"$nulls":4},"","","","","","","","","","","","","","",""]
[{"$nulls":4},"","","","","","","","","","","","","","",""]
[{"$nulls":4},"","","","","","","","","","","","","","",""]
[{"$nulls":4},"","","","","","","","","","","","","","",""]
[{"$nulls":4},"","","","","","","","","","","","","","",""]
[{"$nulls":4},"","","","","","","","","","","","","","",""]
[{"$nulls":4},"","","","","","","","","","","","","","",""]
[{"$nulls":4},"","","","","","","","","","","","","","",""]
[{"$nulls":4},"","","","","","","","","","","","","","",""]
[{"$nulls":4},"","","","","","","","","","","","","","",""]
[{"$nulls":4},"","","","","","","","","","","","","","",""]
[{"$nulls":4},"","","","","","","","","","","","","","",""]
[{"$nulls":4},"","","","","","","","","","","","","","",""]
[{"$nulls":4},"","","","","","","","","","","","","","",""]
[{"$nulls":4},"","","","","","","","","","","","","","",""]
[{"$nulls":4},"","","","","","","","","","","","","","",""]
[{"$nulls":4},"","","","","","","","","","","","","","",""]
[{"$nulls":4},"","","","","","","","","","","","","","",""]
[{"$nulls":4},"","","","","","","","","","","","","","",""]
[{"$nulls":4},"","","","","","","","","","","","","","",""]
[{"$nulls":4},"","","","","","","","","","","","","","",""]
[{"$nulls":4},"","","","","","","","","","","","","","",""]
[{"$nulls":4},"","","","","","","","","","","","","","",""]
[{"$nulls":4},"","","","","","","","","","","","","","",""]
[{"$nulls":4},"","","","","","","","","","","","","","",""]
[{"$nulls":4},"","","","","","","","","","","","","","",""]
[{"$nulls":4},"","","","","","","","","","","","","","",""]
[{"$nulls":4},"","","","","","","","","","","","","","",""]
[{"$nulls":4},"","","","","","","","","","","","","","",""]
[{"$nulls":4},"","","","","","","","","","","","","","",""]
[{"$nulls":4},"","","","","","","","","","","","","","",""]
[{"$nulls":4},"","","","","","","","","","","","","","",""]
[{"$nulls":4},"","","","","","","","","","","","","","",""]
[{"$nulls":4},"","","","","","","","","","","","","","",""]
[{"$nulls":4},"","","","","","","","","","","","","","",""]
[{"$nulls":4},"","","","","","","","","","","","","","",""]
[{"$nulls":4},"","","","","","","","","","","","","","",""]
[{"$nulls":4},"","","","","","","","","","","","","","",""]
[{"$nulls":4},"","","","","","","","","","","","","","",""]
[{"$nulls":4},"","","","","","","","","","","","","","",""]
[{"$nulls":4},"","","","","","","","","","","","","","",""]
[{"$nulls":4},"","","","","","","","","","","","","","",""]
[{"$nulls":4},"","","","","","","","","","","","","","",""]
[{"$nulls":4},"","","","","","","","","","","","","","",""]
[{"$nulls":4},"","","","","","","","","","","","","","",""]
[{"$nulls":4},"","","","","","","","","","","","","","",""]
[{"$nulls":4},"","","","","","","","","","","","","","",""]
[{"$nulls":4},"","","","","","","","","","","","","","",""]
[{"$nulls":4},"","","","","","","","","","","","","","",""]
[{"$nulls":4},"","","","","","","","","","","","","","",""]
[{"$nulls":4},"","","","","","","","","","","","","","",""]
[{"$nulls":4},"","","","","","","","","","","","","","",""]
[{"$nulls":4},"","","","","","","","","","","","","","",""]
[{"$nulls":4},"","","","","","","","","","","","","","",""]
[{"$nulls":4},"","","","","","","","","","","","","","",""]
[{"$nulls":4},"","","","","","","","","","","","","","",""]
[{"$nulls":4},"","","","","","","","","","","","","","",""]
[{"$nulls":4},"","","","","","","","","","","","","","",""]
[{"$nulls":4},"","","","","","","","","","","","","","",""]
[{"$nulls":4},"","","","","","","","","","","","","","",""]
[{"$nulls":4},"","","","","","","","","","","","","","",""]
[{"$nulls":4},"","","","","","","","","","","","","","",""]
[{"$nulls":4},"","","","","","","","","","","","","","",""]
[{"$nulls":4},"","","","","","","","","","","","","","",""]
[{"$nulls":4},"","","","","","","","","","","","","","",""]
[{"$nulls":4},"","","","","","","","","","","","","","",""]
[{"$nulls":4},{"$f":"IF($A31810=\"\",\"\",IF(E$1=\"\",\"\",IF(IFERROR(SEARCH(E$1,$A31811),0) >0,E$1,0)))","v":""},{"$f":"IF($A31810=\"\",\"\",IF(F$1=\"\",\"\",IF(IFERROR(SEARCH(F$1,$A31811),0) >0,F$1,0)))","v":""},{"$f":"IF($A31810=\"\",\"\",IF(G$1=\"\",\"\",IF(IFERROR(SEARCH(G$1,$A31811),0) >0,G$1,0)))","v":""},{"$f":"IF($A31810=\"\",\"\",IF(H$1=\"\",\"\",IF(IFERROR(SEARCH(H$1,$A31811),0) >0,H$1,0)))","v":""},{"$f":"IF($A31810=\"\",\"\",IF(I$1=\"\",\"\",IF(IFERROR(SEARCH(I$1,$A31811),0) >0,I$1,0)))","v":""},{"$f":"IF($A31810=\"\",\"\",IF(J$1=\"\",\"\",IF(IFERROR(SEARCH(J$1,$A31811),0) >0,J$1,0)))","v":""},{"$f":"IF($A31810=\"\",\"\",IF(K$1=\"\",\"\",IF(IFERROR(SEARCH(K$1,$A31811),0) >0,K$1,0)))","v":""},{"$f":"IF($A31810=\"\",\"\",IF(L$1=\"\",\"\",IF(IFERROR(SEARCH(L$1,$A31811),0) >0,L$1,0)))","v":""},{"$f":"IF($A31810=\"\",\"\",IF(M$1=\"\",\"\",IF(IFERROR(SEARCH(M$1,$A31811),0) >0,M$1,0)))","v":""},{"$f":"IF($A31810=\"\",\"\",IF(N$1=\"\",\"\",IF(IFERROR(SEARCH(N$1,$A31811),0) >0,N$1,0)))","v":""},{"$f":"IF($A31810=\"\",\"\",IF(O$1=\"\",\"\",IF(IFERROR(SEARCH(O$1,$A31811),0) >0,O$1,0)))","v":""},{"$f":"IF($A31810=\"\",\"\",IF(P$1=\"\",\"\",IF(IFERROR(SEARCH(P$1,$A31811),0) >0,P$1,0)))","v":""},{"$f":"IF($A31810=\"\",\"\",IF(Q$1=\"\",\"\",IF(IFERROR(SEARCH(Q$1,$A31811),0) >0,Q$1,0)))","v":""},{"$f":"IF($A31810=\"\",\"\",IF(R$1=\"\",\"\",IF(IFERROR(SEARCH(R$1,$A31811),0) >0,R$1,0)))","v":""},{"$f":"IF($A31810=\"\",\"\",IF(S$1=\"\",\"\",IF(IFERROR(SEARCH(S$1,$A31811),0) >0,S$1,0)))","v":""}]
[{"$nulls":4},"","","","","","","","","","","","","","",""]
[{"$nulls":4},"","","","","","","","","","","","","","",""]
[{"$nulls":4},"","","","","","","","","","","","","","",""]
[{"$nulls":4},"","","","","","","","","","","","","","",""]
[{"$nulls":4},"","","","","","","","","","","","","","",""]
[{"$nulls":4},"","","","","","","","","","","","","","",""]
[{"$nulls":4},"","","","","","","","","","","","","","",""]
[{"$nulls":4},"","","","","","","","","","","","","","",""]
[{"$nulls":4},"","","","","","","","","","","","","","",""]
[{"$nulls":4},"","","","","","","","","","","","","","",""]
[{"$nulls":4},"","","","","","","","","","","","","","",""]
[{"$nulls":4},"","","","","","","","","","","","","","",""]
[{"$nulls":4},"","","","","","","","","","","","","","",""]
[{"$nulls":4},"","","","","","","","","","","","","","",""]
[{"$nulls":4},"","","","","","","","","","","","","","",""]
[{"$nulls":4},"","","","","","","","","","","","","","",""]
[{"$nulls":4},"","","","","","","","","","","","","","",""]
[{"$nulls":4},"","","","","","","","","","","","","","",""]
[{"$nulls":4},"","","","","","","","","","","","","","",""]
[{"$nulls":4},"","","","","","","","","","","","","","",""]
[{"$nulls":4},"","","","","","","","","","","","","","",""]
[{"$nulls":4},"","","","","","","","","","","","","","",""]
[{"$nulls":4},"","","","","","","","","","","","","","",""]
[{"$nulls":4},"","","","","","","","","","","","","","",""]
[{"$nulls":4},"","","","","","","","","","","","","","",""]
[{"$nulls":4},"","","","","","","","","","","","","","",""]
[{"$nulls":4},"","","","","","","","","","","","","","",""]
[{"$nulls":4},"","","","","","","","","","","","","","",""]
[{"$nulls":4},"","","","","","","","","","","","","","",""]
[{"$nulls":4},"","","","","","","","","","","","","","",""]
[{"$nulls":4},{"$f":"IF($A32770=\"\",\"\",IF(E$1=\"\",\"\",IF(IFERROR(SEARCH(E$1,$A32771),0) >0,E$1,0)))","v":""},{"$f":"IF($A32770=\"\",\"\",IF(F$1=\"\",\"\",IF(IFERROR(SEARCH(F$1,$A32771),0) >0,F$1,0)))","v":""},{"$f":"IF($A32770=\"\",\"\",IF(G$1=\"\",\"\",IF(IFERROR(SEARCH(G$1,$A32771),0) >0,G$1,0)))","v":""},{"$f":"IF($A32770=\"\",\"\",IF(H$1=\"\",\"\",IF(IFERROR(SEARCH(H$1,$A32771),0) >0,H$1,0)))","v":""},{"$f":"IF($A32770=\"\",\"\",IF(I$1=\"\",\"\",IF(IFERROR(SEARCH(I$1,$A32771),0) >0,I$1,0)))","v":""},{"$f":"IF($A32770=\"\",\"\",IF(J$1=\"\",\"\",IF(IFERROR(SEARCH(J$1,$A32771),0) >0,J$1,0)))","v":""},{"$f":"IF($A32770=\"\",\"\",IF(K$1=\"\",\"\",IF(IFERROR(SEARCH(K$1,$A32771),0) >0,K$1,0)))","v":""},{"$f":"IF($A32770=\"\",\"\",IF(L$1=\"\",\"\",IF(IFERROR(SEARCH(L$1,$A32771),0) >0,L$1,0)))","v":""},{"$f":"IF($A32770=\"\",\"\",IF(M$1=\"\",\"\",IF(IFERROR(SEARCH(M$1,$A32771),0) >0,M$1,0)))","v":""},{"$f":"IF($A32770=\"\",\"\",IF(N$1=\"\",\"\",IF(IFERROR(SEARCH(N$1,$A32771),0) >0,N$1,0)))","v":""},{"$f":"IF($A32770=\"\",\"\",IF(O$1=\"\",\"\",IF(IFERROR(SEARCH(O$1,$A32771),0) >0,O$1,0)))","v":""},{"$f":"IF($A32770=\"\",\"\",IF(P$1=\"\",\"\",IF(IFERROR(SEARCH(P$1,$A32771),0) >0,P$1,0)))","v":""},{"$f":"IF($A32770=\"\",\"\",IF(Q$1=\"\",\"\",IF(IFERROR(SEARCH(Q$1,$A32771),0) >0,Q$1,0)))","v":""},{"$f":"IF($A32770=\"\",\"\",IF(R$1=\"\",\"\",IF(IFERROR(SEARCH(R$1,$A32771),0) >0,R$1,0)))","v":""},{"$f":"IF($A32770=\"\",\"\",IF(S$1=\"\",\"\",IF(IFERROR(SEARCH(S$1,$A32771),0) >0,S$1,0)))","v":""}]
[{"$nulls":4},"","","","","","","","","","","","","","",""]
[{"$nulls":4},"","","","","","","","","","","","","","",""]
[{"$nulls":4},"","","","","","","","","","","","","","",""]
[{"$nulls":4},"","","","","","","","","","","","","","",""]
[{"$nulls":4},"","","","","","","","","","","","","","",""]
[{"$nulls":4},"","","","","","","","","","","","","","",""]
[{"$nulls":4},"","","","","","","","","","","","","","",""]
[{"$nulls":4},"","","","","","","","","","","","","","",""]
[{"$nulls":4},"","","","","","","","","","","","","","",""]
[{"$nulls":4},"","","","","","","","","","","","","","",""]
[{"$nulls":4},"","","","","","","","","","","","","","",""]
[{"$nulls":4},"","","","","","","","","","","","","","",""]
[{"$nulls":4},"","","","","","","","","","","","","","",""]
[{"$nulls":4},"","","","","","","","","","","","","","",""]
[{"$nulls":4},"","","","","","","","","","","","","","",""]
[{"$nulls":4},"","","","","","","","","","","","","","",""]
[{"$nulls":4},"","","","","","","","","","","","","","",""]
[{"$nulls":4},"","","","","","","","","","","","","","",""]
[{"$nulls":4},"","","","","","","","","","","","","","",""]
[{"$nulls":4},"","","","","","","","","","","","","","",""]
[{"$nulls":4},"","","","","","","","","","","","","","",""]
[{"$nulls":4},"","","","","","","","","","","","","","",""]
[{"$nulls":4},"","","","","","","","","","","","","","",""]
[{"$nulls":4},"","","","","","","","","","","","","","",""]
[{"$nulls":4},"","","","","","","","","","","","","","",""]
[{"$nulls":4},{"$f":"IF($A33602=\"\",\"\",IF(E$1=\"\",\"\",IF(IFERROR(SEARCH(E$1,$A33603),0) >0,E$1,0)))","v":""},{"$f":"IF($A33602=\"\",\"\",IF(F$1=\"\",\"\",IF(IFERROR(SEARCH(F$1,$A33603),0) >0,F$1,0)))","v":""},{"$f":"IF($A33602=\"\",\"\",IF(G$1=\"\",\"\",IF(IFERROR(SEARCH(G$1,$A33603),0) >0,G$1,0)))","v":""},{"$f":"IF($A33602=\"\",\"\",IF(H$1=\"\",\"\",IF(IFERROR(SEARCH(H$1,$A33603),0) >0,H$1,0)))","v":""},{"$f":"IF($A33602=\"\",\"\",IF(I$1=\"\",\"\",IF(IFERROR(SEARCH(I$1,$A33603),0) >0,I$1,0)))","v":""},{"$f":"IF($A33602=\"\",\"\",IF(J$1=\"\",\"\",IF(IFERROR(SEARCH(J$1,$A33603),0) >0,J$1,0)))","v":""},{"$f":"IF($A33602=\"\",\"\",IF(K$1=\"\",\"\",IF(IFERROR(SEARCH(K$1,$A33603),0) >0,K$1,0)))","v":""},{"$f":"IF($A33602=\"\",\"\",IF(L$1=\"\",\"\",IF(IFERROR(SEARCH(L$1,$A33603),0) >0,L$1,0)))","v":""},{"$f":"IF($A33602=\"\",\"\",IF(M$1=\"\",\"\",IF(IFERROR(SEARCH(M$1,$A33603),0) >0,M$1,0)))","v":""},{"$f":"IF($A33602=\"\",\"\",IF(N$1=\"\",\"\",IF(IFERROR(SEARCH(N$1,$A33603),0) >0,N$1,0)))","v":""},{"$f":"IF($A33602=\"\",\"\",IF(O$1=\"\",\"\",IF(IFERROR(SEARCH(O$1,$A33603),0) >0,O$1,0)))","v":""},{"$f":"IF($A33602=\"\",\"\",IF(P$1=\"\",\"\",IF(IFERROR(SEARCH(P$1,$A33603),0) >0,P$1,0)))","v":""},{"$f":"IF($A33602=\"\",\"\",IF(Q$1=\"\",\"\",IF(IFERROR(SEARCH(Q$1,$A33603),0) >0,Q$1,0)))","v":""},{"$f":"IF($A33602=\"\",\"\",IF(R$1=\"\",\"\",IF(IFERROR(SEARCH(R$1,$A33603),0) >0,R$1,0)))","v":""},{"$f":"IF($A33602=\"\",\"\",IF(S$1=\"\",\"\",IF(IFERROR(SEARCH(S$1,$A33603),0) >0,S$1,0)))","v":""}]
[{"$nulls":4},"","","","","","","","","","","","","","",""]
[{"$nulls":4},"","","","","","","","","","","","","","",""]
[{"$nulls":4},"","","","","","","","","","","","","","",""]
[{"$nulls":4},"","","","","","","","","","","","","","",""]
[{"$nulls":4},"","","","","","","","","","","","","","",""]
[{"$nulls":4},"","","","","","","","","","","","","","",""]
[{"$nulls":4},"","","","","","","","","","","","","","",""]
[{"$nulls":4},"","","","","","","","","","","","","","",""]
[{"$nulls":4},"","","","","","","","","","","","","","",""]
[{"$nulls":4},"","","","","","","","","","","","","","",""]
[{"$nulls":4},"","","","","","","","","","","","","","",""]
[{"$nulls":4},"","","","","","","","","","","","","","",""]
[{"$nulls":4},"","","","","","","","","","","","","","",""]
[{"$nulls":4},"","","","","","","","","","","","","","",""]
[{"$nulls":4},"","","","","","","","","","","","","","",""]
[{"$nulls":4},"","","","","","","","","","","","","","",""]
[{"$nulls":4},"","","","","","","","","","","","","","",""]
[{"$nulls":4},"","","","","","","","","","","","","","",""]
[{"$nulls":4},"","","","","","","","","","","","","","",""]
[{"$nulls":4},"","","","","","","","","","","","","","",""]
[{"$nulls":4},"","","","","","","","","","","","","","",""]
[{"$nulls":4},"","","","","","","","","","","","","","",""]
[{"$nulls":4},"","","","","","","","","","","","","","",""]
[{"$nulls":4},"","","","","","","","","","","","","","",""]
[{"$nulls":4},"","","","","","","","","","","","","","",""]
[{"$nulls":4},"","","","","","","","","","","","","","",""]
[{"$nulls":4},"","","","","","","","","","","","","","",""]
[{"$nulls":4},"","","","","","","","","","","","","","",""]
[{"$nulls":4},"","","","","","","","","","","","","","",""]
[{"$nulls":4},"","","","","","","","","","","","","","",""]
[{"$nulls":4},"","","","","","","","","","","","","","",""]
[{"$nulls":4},"","","","","","","","","","","","","","",""]
[{"$nulls":4},{"$f":"IF($A34626=\"\",\"\",IF(E$1=\"\",\"\",IF(IFERROR(SEARCH(E$1,$A34627),0) >0,E$1,0)))","v":""},{"$f":"IF($A34626=\"\",\"\",IF(F$1=\"\",\"\",IF(IFERROR(SEARCH(F$1,$A34627),0) >0,F$1,0)))","v":""},{"$f":"IF($A34626=\"\",\"\",IF(G$1=\"\",\"\",IF(IFERROR(SEARCH(G$1,$A34627),0) >0,G$1,0)))","v":""},{"$f":"IF($A34626=\"\",\"\",IF(H$1=\"\",\"\",IF(IFERROR(SEARCH(H$1,$A34627),0) >0,H$1,0)))","v":""},{"$f":"IF($A34626=\"\",\"\",IF(I$1=\"\",\"\",IF(IFERROR(SEARCH(I$1,$A34627),0) >0,I$1,0)))","v":""},{"$f":"IF($A34626=\"\",\"\",IF(J$1=\"\",\"\",IF(IFERROR(SEARCH(J$1,$A34627),0) >0,J$1,0)))","v":""},{"$f":"IF($A34626=\"\",\"\",IF(K$1=\"\",\"\",IF(IFERROR(SEARCH(K$1,$A34627),0) >0,K$1,0)))","v":""},{"$f":"IF($A34626=\"\",\"\",IF(L$1=\"\",\"\",IF(IFERROR(SEARCH(L$1,$A34627),0) >0,L$1,0)))","v":""},{"$f":"IF($A34626=\"\",\"\",IF(M$1=\"\",\"\",IF(IFERROR(SEARCH(M$1,$A34627),0) >0,M$1,0)))","v":""},{"$f":"IF($A34626=\"\",\"\",IF(N$1=\"\",\"\",IF(IFERROR(SEARCH(N$1,$A34627),0) >0,N$1,0)))","v":""},{"$f":"IF($A34626=\"\",\"\",IF(O$1=\"\",\"\",IF(IFERROR(SEARCH(O$1,$A34627),0) >0,O$1,0)))","v":""},{"$f":"IF($A34626=\"\",\"\",IF(P$1=\"\",\"\",IF(IFERROR(SEARCH(P$1,$A34627),0) >0,P$1,0)))","v":""},{"$f":"IF($A34626=\"\",\"\",IF(Q$1=\"\",\"\",IF(IFERROR(SEARCH(Q$1,$A34627),0) >0,Q$1,0)))","v":""},{"$f":"IF($A34626=\"\",\"\",IF(R$1=\"\",\"\",IF(IFERROR(SEARCH(R$1,$A34627),0) >0,R$1,0)))","v":""},{"$f":"IF($A34626=\"\",\"\",IF(S$1=\"\",\"\",IF(IFERROR(SEARCH(S$1,$A34627),0) >0,S$1,0)))","v":""}]
[{"$nulls":4},"","","","","","","","","","","","","","",""]
[{"$nulls":4},"","","","","","","","","","","","","","",""]
[{"$nulls":4},"","","","","","","","","","","","","","",""]
[{"$nulls":4},"","","","","","","","","","","","","","",""]
[{"$nulls":4},"","","","","","","","","","","","","","",""]
[{"$nulls":4},"","","","","","","","","","","","","","",""]
[{"$nulls":4},"","","","","","","","","","","","","","",""]
[{"$nulls":4},"","","","","","","","","","","","","","",""]
[{"$nulls":4},"","","","","","","","","","","","","","",""]
[{"$nulls":4},"","","","","","","","","","","","","","",""]
[{"$nulls":4},"","","","","","","","","","","","","","",""]
[{"$nulls":4},"","","","","","","","","","","","","","",""]
[{"$nulls":4},"","","","","","","","","","","","","","",""]
[{"$nulls":4},"","","","","","","","","","","","","","",""]
[{"$nulls":4},"","","","","","","","","","","","","","",""]
[{"$nulls":4},"","","","","","","","","","","","","","",""]
[{"$nulls":4},"","","","","","","","","","","","","","",""]
[{"$nulls":4},"","","","","","","","","","","","","","",""]
[{"$nulls":4},"","","","","","","","","","","","","","",""]
[{"$nulls":4},"","","","","","","","","","","","","","",""]
[{"$nulls":4},"","","","","","","","","","","","","","",""]
[{"$nulls":4},"","","","","","","","","","","","","","",""]
[{"$nulls":4},"","","","","","","","","","","","","","",""]
[{"$nulls":4},"","","","","","","","","","","","","","",""]
[{"$nulls":4},"","","","","","","","","","","","","","",""]
[{"$nulls":4},"","","","","","","","","","","","","","",""]
[{"$nulls":4},"","","","","","","","","","","","","","",""]
[{"$nulls":4},"","","","","","","","","","","","","","",""]
[{"$nulls":4},"","","","","","","","","","","","","","",""]
[{"$nulls":4},"","","","","","","","","","","","","","",""]
[{"$nulls":4},"","","","","","","","","","","","","","",""]
[{"$nulls":4},"","","","","","","","","","","","","","",""]
[{"$nulls":4},"","","","","","","","","","","","","","",""]
[{"$nulls":4},{"$f":"IF($A35714=\"\",\"\",IF(E$1=\"\",\"\",IF(IFERROR(SEARCH(E$1,$A35715),0) >0,E$1,0)))","v":""},{"$f":"IF($A35714=\"\",\"\",IF(F$1=\"\",\"\",IF(IFERROR(SEARCH(F$1,$A35715),0) >0,F$1,0)))","v":""},{"$f":"IF($A35714=\"\",\"\",IF(G$1=\"\",\"\",IF(IFERROR(SEARCH(G$1,$A35715),0) >0,G$1,0)))","v":""},{"$f":"IF($A35714=\"\",\"\",IF(H$1=\"\",\"\",IF(IFERROR(SEARCH(H$1,$A35715),0) >0,H$1,0)))","v":""},{"$f":"IF($A35714=\"\",\"\",IF(I$1=\"\",\"\",IF(IFERROR(SEARCH(I$1,$A35715),0) >0,I$1,0)))","v":""},{"$f":"IF($A35714=\"\",\"\",IF(J$1=\"\",\"\",IF(IFERROR(SEARCH(J$1,$A35715),0) >0,J$1,0)))","v":""},{"$f":"IF($A35714=\"\",\"\",IF(K$1=\"\",\"\",IF(IFERROR(SEARCH(K$1,$A35715),0) >0,K$1,0)))","v":""},{"$f":"IF($A35714=\"\",\"\",IF(L$1=\"\",\"\",IF(IFERROR(SEARCH(L$1,$A35715),0) >0,L$1,0)))","v":""},{"$f":"IF($A35714=\"\",\"\",IF(M$1=\"\",\"\",IF(IFERROR(SEARCH(M$1,$A35715),0) >0,M$1,0)))","v":""},{"$f":"IF($A35714=\"\",\"\",IF(N$1=\"\",\"\",IF(IFERROR(SEARCH(N$1,$A35715),0) >0,N$1,0)))","v":""},{"$f":"IF($A35714=\"\",\"\",IF(O$1=\"\",\"\",IF(IFERROR(SEARCH(O$1,$A35715),0) >0,O$1,0)))","v":""},{"$f":"IF($A35714=\"\",\"\",IF(P$1=\"\",\"\",IF(IFERROR(SEARCH(P$1,$A35715),0) >0,P$1,0)))","v":""},{"$f":"IF($A35714=\"\",\"\",IF(Q$1=\"\",\"\",IF(IFERROR(SEARCH(Q$1,$A35715),0) >0,Q$1,0)))","v":""},{"$f":"IF($A35714=\"\",\"\",IF(R$1=\"\",\"\",IF(IFERROR(SEARCH(R$1,$A35715),0) >0,R$1,0)))","v":""},{"$f":"IF($A35714=\"\",\"\",IF(S$1=\"\",\"\",IF(IFERROR(SEARCH(S$1,$A35715),0) >0,S$1,0)))","v":""}]
[{"$nulls":4},"","","","","","","","","","","","","","",""]
[{"$nulls":4},"","","","","","","","","","","","","","",""]
[{"$nulls":4},"","","","","","","","","","","","","","",""]
[{"$nulls":4},"","","","","","","","","","","","","","",""]
[{"$nulls":4},"","","","","","","","","","","","","","",""]
[{"$nulls":4},"","","","","","","","","","","","","","",""]
[{"$nulls":4},"","","","","","","","","","","","","","",""]
[{"$nulls":4},"","","","","","","","","","","","","","",""]
[{"$nulls":4},"","","","","","","","","","","","","","",""]
[{"$nulls":4},"","","","","","","","","","","","","","",""]
[{"$nulls":4},"","","","","","","","","","","","","","",""]
[{"$nulls":4},"","","","","","","","","","","","","","",""]
[{"$nulls":4},"","","","","","","","","","","","","","",""]
[{"$nulls":4},"","","","","","","","","","","","","","",""]
[{"$nulls":4},"","","","","","","","","","","","","","",""]
[{"$nulls":4},"","","","","","","","","","","","","","",""]
[{"$nulls":4},"","","","","","","","","","","","","","",""]
[{"$nulls":4},"","","","","","","","","","","","","","",""]
[{"$nulls":4},"","","","","","","","","","","","","","",""]
[{"$nulls":4},"","","","","","","","","","","","","","",""]
[{"$nulls":4},"","","","","","","","","","","","","","",""]
[{"$nulls":4},"","","","","","","","","","","","","","",""]
[{"$nulls":4},"","","","","","","","","","","","","","",""]
[{"$nulls":4},"","","","","","","","","","","","","","",""]
[{"$nulls":4},"","","","","","","","","","","","","","",""]
[{"$nulls":4},"","","","","","","","","","","","","","",""]
[{"$nulls":4},"","","","","","","","","","","","","","",""]
[{"$nulls":4},"","","","","","","","","","","","","","",""]
[{"$nulls":4},"","","","","","","","","","","","","","",""]
[{"$nulls":4},"","","","","","","","","","","","","","",""]
[{"$nulls":4},{"$f":"IF($A36674=\"\",\"\",IF(E$1=\"\",\"\",IF(IFERROR(SEARCH(E$1,$A36675),0) >0,E$1,0)))","v":""},{"$f":"IF($A36674=\"\",\"\",IF(F$1=\"\",\"\",IF(IFERROR(SEARCH(F$1,$A36675),0) >0,F$1,0)))","v":""},{"$f":"IF($A36674=\"\",\"\",IF(G$1=\"\",\"\",IF(IFERROR(SEARCH(G$1,$A36675),0) >0,G$1,0)))","v":""},{"$f":"IF($A36674=\"\",\"\",IF(H$1=\"\",\"\",IF(IFERROR(SEARCH(H$1,$A36675),0) >0,H$1,0)))","v":""},{"$f":"IF($A36674=\"\",\"\",IF(I$1=\"\",\"\",IF(IFERROR(SEARCH(I$1,$A36675),0) >0,I$1,0)))","v":""},{"$f":"IF($A36674=\"\",\"\",IF(J$1=\"\",\"\",IF(IFERROR(SEARCH(J$1,$A36675),0) >0,J$1,0)))","v":""},{"$f":"IF($A36674=\"\",\"\",IF(K$1=\"\",\"\",IF(IFERROR(SEARCH(K$1,$A36675),0) >0,K$1,0)))","v":""},{"$f":"IF($A36674=\"\",\"\",IF(L$1=\"\",\"\",IF(IFERROR(SEARCH(L$1,$A36675),0) >0,L$1,0)))","v":""},{"$f":"IF($A36674=\"\",\"\",IF(M$1=\"\",\"\",IF(IFERROR(SEARCH(M$1,$A36675),0) >0,M$1,0)))","v":""},{"$f":"IF($A36674=\"\",\"\",IF(N$1=\"\",\"\",IF(IFERROR(SEARCH(N$1,$A36675),0) >0,N$1,0)))","v":""},{"$f":"IF($A36674=\"\",\"\",IF(O$1=\"\",\"\",IF(IFERROR(SEARCH(O$1,$A36675),0) >0,O$1,0)))","v":""},{"$f":"IF($A36674=\"\",\"\",IF(P$1=\"\",\"\",IF(IFERROR(SEARCH(P$1,$A36675),0) >0,P$1,0)))","v":""},{"$f":"IF($A36674=\"\",\"\",IF(Q$1=\"\",\"\",IF(IFERROR(SEARCH(Q$1,$A36675),0) >0,Q$1,0)))","v":""},{"$f":"IF($A36674=\"\",\"\",IF(R$1=\"\",\"\",IF(IFERROR(SEARCH(R$1,$A36675),0) >0,R$1,0)))","v":""},{"$f":"IF($A36674=\"\",\"\",IF(S$1=\"\",\"\",IF(IFERROR(SEARCH(S$1,$A36675),0) >0,S$1,0)))","v":""}]
[{"$nulls":4},"","","","","","","","","","","","","","",""]
[{"$nulls":4},"","","","","","","","","","","","","","",""]
[{"$nulls":4},"","","","","","","","","","","","","","",""]
[{"$nulls":4},"","","","","","","","","","","","","","",""]
[{"$nulls":4},"","","","","","","","","","","","","","",""]
[{"$nulls":4},"","","","","","","","","","","","","","",""]
[{"$nulls":4},"","","","","","","","","","","","","","",""]
[{"$nulls":4},"","","","","","","","","","","","","","",""]
[{"$nulls":4},"","","","","","","","","","","","","","",""]
[{"$nulls":4},"","","","","","","","","","","","","","",""]
[{"$nulls":4},"","","","","","","","","","","","","","",""]
[{"$nulls":4},"","","","","","","","","","","","","","",""]
[{"$nulls":4},"","","","","","","","","","","","","","",""]
[{"$nulls":4},"","","","","","","","","","","","","","",""]
[{"$nulls":4},"","","","","","","","","","","","","","",""]
[{"$nulls":4},"","","","","","","","","","","","","","",""]
[{"$nulls":4},"","","","","","","","","","","","","","",""]
[{"$nulls":4},"","","","","","","","","","","","","","",""]
[{"$nulls":4},"","","","","","","","","","","","","","",""]
[{"$nulls":4},"","","","","","","","","","","","","","",""]
[{"$nulls":4},"","","","","","","","","","","","","","",""]
[{"$nulls":4},"","","","","","","","","","","","","","",""]
[{"$nulls":4},"","","","","","","","","","","","","","",""]
[{"$nulls":4},"","","","","","","","","","","","","","",""]
[{"$nulls":4},"","","","","","","","","","","","","","",""]
[{"$nulls":4},"","","","","","","","","","","","","","",""]
[{"$nulls":4},"","","","","","","","","","","","","","",""]
[{"$nulls":4},"","","","","","","","","","","","","","",""]
[{"$nulls":4},"","","","","","","","","","","","","","",""]
[{"$nulls":4},{"$f":"IF($A37634=\"\",\"\",IF(E$1=\"\",\"\",IF(IFERROR(SEARCH(E$1,$A37635),0) >0,E$1,0)))","v":""},{"$f":"IF($A37634=\"\",\"\",IF(F$1=\"\",\"\",IF(IFERROR(SEARCH(F$1,$A37635),0) >0,F$1,0)))","v":""},{"$f":"IF($A37634=\"\",\"\",IF(G$1=\"\",\"\",IF(IFERROR(SEARCH(G$1,$A37635),0) >0,G$1,0)))","v":""},{"$f":"IF($A37634=\"\",\"\",IF(H$1=\"\",\"\",IF(IFERROR(SEARCH(H$1,$A37635),0) >0,H$1,0)))","v":""},{"$f":"IF($A37634=\"\",\"\",IF(I$1=\"\",\"\",IF(IFERROR(SEARCH(I$1,$A37635),0) >0,I$1,0)))","v":""},{"$f":"IF($A37634=\"\",\"\",IF(J$1=\"\",\"\",IF(IFERROR(SEARCH(J$1,$A37635),0) >0,J$1,0)))","v":""},{"$f":"IF($A37634=\"\",\"\",IF(K$1=\"\",\"\",IF(IFERROR(SEARCH(K$1,$A37635),0) >0,K$1,0)))","v":""},{"$f":"IF($A37634=\"\",\"\",IF(L$1=\"\",\"\",IF(IFERROR(SEARCH(L$1,$A37635),0) >0,L$1,0)))","v":""},{"$f":"IF($A37634=\"\",\"\",IF(M$1=\"\",\"\",IF(IFERROR(SEARCH(M$1,$A37635),0) >0,M$1,0)))","v":""},{"$f":"IF($A37634=\"\",\"\",IF(N$1=\"\",\"\",IF(IFERROR(SEARCH(N$1,$A37635),0) >0,N$1,0)))","v":""},{"$f":"IF($A37634=\"\",\"\",IF(O$1=\"\",\"\",IF(IFERROR(SEARCH(O$1,$A37635),0) >0,O$1,0)))","v":""},{"$f":"IF($A37634=\"\",\"\",IF(P$1=\"\",\"\",IF(IFERROR(SEARCH(P$1,$A37635),0) >0,P$1,0)))","v":""},{"$f":"IF($A37634=\"\",\"\",IF(Q$1=\"\",\"\",IF(IFERROR(SEARCH(Q$1,$A37635),0) >0,Q$1,0)))","v":""},{"$f":"IF($A37634=\"\",\"\",IF(R$1=\"\",\"\",IF(IFERROR(SEARCH(R$1,$A37635),0) >0,R$1,0)))","v":""},{"$f":"IF($A37634=\"\",\"\",IF(S$1=\"\",\"\",IF(IFERROR(SEARCH(S$1,$A37635),0) >0,S$1,0)))","v":""}]
[{"$nulls":4},"","","","","","","","","","","","","","",""]
[{"$nulls":4},"","","","","","","","","","","","","","",""]
[{"$nulls":4},"","","","","","","","","","","","","","",""]
[{"$nulls":4},"","","","","","","","","","","","","","",""]
[{"$nulls":4},"","","","","","","","","","","","","","",""]
[{"$nulls":4},"","","","","","","","","","","","","","",""]
[{"$nulls":4},"","","","","","","","","","","","","","",""]
[{"$nulls":4},"","","","","","","","","","","","","","",""]
[{"$nulls":4},"","","","","","","","","","","","","","",""]
[{"$nulls":4},"","","","","","","","","","","","","","",""]
[{"$nulls":4},"","","","","","","","","","","","","","",""]
[{"$nulls":4},"","","","","","","","","","","","","","",""]
[{"$nulls":4},"","","","","","","","","","","","","","",""]
[{"$nulls":4},"","","","","","","","","","","","","","",""]
[{"$nulls":4},"","","","","","","","","","","","","","",""]
[{"$nulls":4},"","","","","","","","","","","","","","",""]
[{"$nulls":4},"","","","","","","","","","","","","","",""]
[{"$nulls":4},"","","","","","","","","","","","","","",""]
[{"$nulls":4},"","","","","","","","","","","","","","",""]
[{"$nulls":4},"","","","","","","","","","","","","","",""]
[{"$nulls":4},"","","","","","","","","","","","","","",""]
[{"$nulls":4},"","","","","","","","","","","","","","",""]
[{"$nulls":4},"","","","","","","","","","","","","","",""]
[{"$nulls":4},"","","","","","","","","","","","","","",""]
[{"$nulls":4},"","","","","","","","","","","","","","",""]
[{"$nulls":4},"","","","","","","","","","","","","","",""]
[{"$nulls":4},"","","","","","","","","","","","","","",""]
[{"$nulls":4},"","","","","","","","","","","","","","",""]
[{"$nulls":4},"","","","","","","","","","","","","","",""]
[{"$nulls":4},"","","","","","","","","","","","","","",""]
[{"$nulls":4},"","","","","","","","","","","","","","",""]
[{"$nulls":4},"","","","","","","","","","","","","","",""]
[{"$nulls":4},{"$f":"IF($A38658=\"\",\"\",IF(E$1=\"\",\"\",IF(IFERROR(SEARCH(E$1,$A38659),0) >0,E$1,0)))","v":""},{"$f":"IF($A38658=\"\",\"\",IF(F$1=\"\",\"\",IF(IFERROR(SEARCH(F$1,$A38659),0) >0,F$1,0)))","v":""},{"$f":"IF($A38658=\"\",\"\",IF(G$1=\"\",\"\",IF(IFERROR(SEARCH(G$1,$A38659),0) >0,G$1,0)))","v":""},{"$f":"IF($A38658=\"\",\"\",IF(H$1=\"\",\"\",IF(IFERROR(SEARCH(H$1,$A38659),0) >0,H$1,0)))","v":""},{"$f":"IF($A38658=\"\",\"\",IF(I$1=\"\",\"\",IF(IFERROR(SEARCH(I$1,$A38659),0) >0,I$1,0)))","v":""},{"$f":"IF($A38658=\"\",\"\",IF(J$1=\"\",\"\",IF(IFERROR(SEARCH(J$1,$A38659),0) >0,J$1,0)))","v":""},{"$f":"IF($A38658=\"\",\"\",IF(K$1=\"\",\"\",IF(IFERROR(SEARCH(K$1,$A38659),0) >0,K$1,0)))","v":""},{"$f":"IF($A38658=\"\",\"\",IF(L$1=\"\",\"\",IF(IFERROR(SEARCH(L$1,$A38659),0) >0,L$1,0)))","v":""},{"$f":"IF($A38658=\"\",\"\",IF(M$1=\"\",\"\",IF(IFERROR(SEARCH(M$1,$A38659),0) >0,M$1,0)))","v":""},{"$f":"IF($A38658=\"\",\"\",IF(N$1=\"\",\"\",IF(IFERROR(SEARCH(N$1,$A38659),0) >0,N$1,0)))","v":""},{"$f":"IF($A38658=\"\",\"\",IF(O$1=\"\",\"\",IF(IFERROR(SEARCH(O$1,$A38659),0) >0,O$1,0)))","v":""},{"$f":"IF($A38658=\"\",\"\",IF(P$1=\"\",\"\",IF(IFERROR(SEARCH(P$1,$A38659),0) >0,P$1,0)))","v":""},{"$f":"IF($A38658=\"\",\"\",IF(Q$1=\"\",\"\",IF(IFERROR(SEARCH(Q$1,$A38659),0) >0,Q$1,0)))","v":""},{"$f":"IF($A38658=\"\",\"\",IF(R$1=\"\",\"\",IF(IFERROR(SEARCH(R$1,$A38659),0) >0,R$1,0)))","v":""},{"$f":"IF($A38658=\"\",\"\",IF(S$1=\"\",\"\",IF(IFERROR(SEARCH(S$1,$A38659),0) >0,S$1,0)))","v":""}]
[{"$nulls":4},"","","","","","","","","","","","","","",""]
[{"$nulls":4},"","","","","","","","","","","","","","",""]
[{"$nulls":4},"","","","","","","","","","","","","","",""]
[{"$nulls":4},"","","","","","","","","","","","","","",""]
[{"$nulls":4},"","","","","","","","","","","","","","",""]
[{"$nulls":4},"","","","","","","","","","","","","","",""]
[{"$nulls":4},"","","","","","","","","","","","","","",""]
[{"$nulls":4},"","","","","","","","","","","","","","",""]
[{"$nulls":4},"","","","","","","","","","","","","","",""]
[{"$nulls":4},"","","","","","","","","","","","","","",""]
[{"$nulls":4},"","","","","","","","","","","","","","",""]
[{"$nulls":4},"","","","","","","","","","","","","","",""]
[{"$nulls":4},"","","","","","","","","","","","","","",""]
[{"$nulls":4},"","","","","","","","","","","","","","",""]
[{"$nulls":4},"","","","","","","","","","","","","","",""]
[{"$nulls":4},"","","","","","","","","","","","","","",""]
[{"$nulls":4},"","","","","","","","","","","","","","",""]
[{"$nulls":4},"","","","","","","","","","","","","","",""]
[{"$nulls":4},"","","","","","","","","","","","","","",""]
[{"$nulls":4},"","","","","","","","","","","","","","",""]
[{"$nulls":4},"","","","","","","","","","","","","","",""]
[{"$nulls":4},"","","","","","","","","","","","","","",""]
[{"$nulls":4},"","","","","","","","","","","","","","",""]
[{"$nulls":4},"","","","","","","","","","","","","","",""]
[{"$nulls":4},"","","","","","","","","","","","","","",""]
[{"$nulls":4},"","","","","","","","","","","","","","",""]
[{"$nulls":4},"","","","","","","","","","","","","","",""]
[{"$nulls":4},"","","","","","","","","","","","","","",""]
[{"$nulls":4},"","","","","","","","","","","","","","",""]
[{"$nulls":4},{"$f":"IF($A39618=\"\",\"\",IF(E$1=\"\",\"\",IF(IFERROR(SEARCH(E$1,$A39619),0) >0,E$1,0)))","v":""},{"$f":"IF($A39618=\"\",\"\",IF(F$1=\"\",\"\",IF(IFERROR(SEARCH(F$1,$A39619),0) >0,F$1,0)))","v":""},{"$f":"IF($A39618=\"\",\"\",IF(G$1=\"\",\"\",IF(IFERROR(SEARCH(G$1,$A39619),0) >0,G$1,0)))","v":""},{"$f":"IF($A39618=\"\",\"\",IF(H$1=\"\",\"\",IF(IFERROR(SEARCH(H$1,$A39619),0) >0,H$1,0)))","v":""},{"$f":"IF($A39618=\"\",\"\",IF(I$1=\"\",\"\",IF(IFERROR(SEARCH(I$1,$A39619),0) >0,I$1,0)))","v":""},{"$f":"IF($A39618=\"\",\"\",IF(J$1=\"\",\"\",IF(IFERROR(SEARCH(J$1,$A39619),0) >0,J$1,0)))","v":""},{"$f":"IF($A39618=\"\",\"\",IF(K$1=\"\",\"\",IF(IFERROR(SEARCH(K$1,$A39619),0) >0,K$1,0)))","v":""},{"$f":"IF($A39618=\"\",\"\",IF(L$1=\"\",\"\",IF(IFERROR(SEARCH(L$1,$A39619),0) >0,L$1,0)))","v":""},{"$f":"IF($A39618=\"\",\"\",IF(M$1=\"\",\"\",IF(IFERROR(SEARCH(M$1,$A39619),0) >0,M$1,0)))","v":""},{"$f":"IF($A39618=\"\",\"\",IF(N$1=\"\",\"\",IF(IFERROR(SEARCH(N$1,$A39619),0) >0,N$1,0)))","v":""},{"$f":"IF($A39618=\"\",\"\",IF(O$1=\"\",\"\",IF(IFERROR(SEARCH(O$1,$A39619),0) >0,O$1,0)))","v":""},{"$f":"IF($A39618=\"\",\"\",IF(P$1=\"\",\"\",IF(IFERROR(SEARCH(P$1,$A39619),0) >0,P$1,0)))","v":""},{"$f":"IF($A39618=\"\",\"\",IF(Q$1=\"\",\"\",IF(IFERROR(SEARCH(Q$1,$A39619),0) >0,Q$1,0)))","v":""},{"$f":"IF($A39618=\"\",\"\",IF(R$1=\"\",\"\",IF(IFERROR(SEARCH(R$1,$A39619),0) >0,R$1,0)))","v":""},{"$f":"IF($A39618=\"\",\"\",IF(S$1=\"\",\"\",IF(IFERROR(SEARCH(S$1,$A39619),0) >0,S$1,0)))","v":""}]
[{"$nulls":4},"","","","","","","","","","","","","","",""]
[{"$nulls":4},"","","","","","","","","","","","","","",""]
[{"$nulls":4},"","","","","","","","","","","","","","",""]
[{"$nulls":4},"","","","","","","","","","","","","","",""]
[{"$nulls":4},"","","","","","","","","","","","","","",""]
[{"$nulls":4},"","","","","","","","","","","","","","",""]
[{"$nulls":4},"","","","","","","","","","","","","","",""]
[{"$nulls":4},"","","","","","","","","","","","","","",""]
[{"$nulls":4},"","","","","","","","","","","","","","",""]
[{"$nulls":4},"","","","","","","","","","","","","","",""]
[{"$nulls":4},"","","","","","","","","","","","","","",""]
[{"$nulls":4},"","","","","","","","","","","","","","",""]
[{"$nulls":4},"","","","","","","","","","","","","","",""]
[{"$nulls":4},"","","","","","","","","","","","","","",""]
[{"$nulls":4},"","","","","","","","","","","","","","",""]
[{"$nulls":4},"","","","","","","","","","","","","","",""]
[{"$nulls":4},"","","","","","","","","","","","","","",""]
[{"$nulls":4},"","","","","","","","","","","","","","",""]
[{"$nulls":4},"","","","","","","","","","","","","","",""]
[{"$nulls":4},"","","","","","","","","","","","","","",""]
[{"$nulls":4},"","","","","","","","","","","","","","",""]
[{"$nulls":4},"","","","","","","","","","","","","","",""]
[{"$nulls":4},"","","","","","","","","","","","","","",""]
[{"$nulls":4},"","","","","","","","","","","","","","",""]
[{"$nulls":4},"","","","","","","","","","","","","","",""]
[{"$nulls":4},"","","","","","","","","","","","","","",""]
[{"$nulls":4},"","","","","","","","","","","","","","",""]
[{"$nulls":4},"","","","","","","","","","","","","","",""]
[{"$nulls":4},"","","","","","","","","","","","","","",""]
[{"$nulls":4},"","","","","","","","","","","","","","",""]
[{"$nulls":4},"","","","","","","","","","","","","","",""]
[{"$nulls":4},"","","","","","","","","","","","","","",""]
[{"$nulls":4},"","","","","","","","","","","","","","",""]
[{"$nulls":4},"","","","","","","","","","","","","","",""]
[{"$nulls":4},"","","","","","","","","","","","","","",""]
[{"$nulls":4},"","","","","","","","","","","","","","",""]
[{"$nulls":4},"","","","","","","","","","","","","","",""]
[{"$nulls":4},"","","","","","","","","","","","","","",""]
[{"$nulls":4},"","","","","","","","","","","","","","",""]
[{"$nulls":4},"","","","","","","","","","","","","","",""]
[{"$nulls":4},"","","","","","","","","","","","","","",""]
[{"$nulls":4},"","","","","","","","","","","","","","",""]
[{"$nulls":4},"","","","","","","","","","","","","","",""]
[{"$nulls":4},"","","","","","","","","","","","","","",""]
[{"$nulls":4},"","","","","","","","","","","","","","",""]
[{"$nulls":4},"","","","","","","","","","","","","","",""]
[{"$nulls":4},"","","","","","","","","","","","","","",""]
[{"$nulls":4},"","","","","","","","","","","","","","",""]
[{"$nulls":4},"","","","","","","","","","","","","","",""]
[{"$nulls":4},"","","","","","","","","","","","","","",""]
[{"$nulls":4},"","","","","","","","","","","","","","",""]
[{"$nulls":4},"","","","","","","","","","","","","","",""]
[{"$nulls":4},"","","","","","","","","","","","","","",""]
[{"$nulls":4},"","","","","","","","","","","","","","",""]
[{"$nulls":4},"","","","","","","","","","","","","","",""]
[{"$nulls":4},"","","","","","","","","","","","","","",""]
[{"$nulls":4},"","","","","","","","","","","","","","",""]
[{"$nulls":4},"","","","","","","","","","","","","","",""]
[{"$nulls":4},"","","","","","","","","","","","","","",""]
[{"$nulls":4},"","","","","","","","","","","","","","",""]
[{"$nulls":4},"","","","","","","","","","","","","","",""]
[{"$nulls":4},"","","","","","","","","","","","","","",""]
[{"$nulls":4},"","","","","","","","","","","","","","",""]
[{"$nulls":4},"","","","","","","","","","","","","","",""]
[{"$nulls":4},"","","","","","","","","","","","","","",""]
[{"$nulls":4},"","","","","","","","","","","","","","",""]
[{"$nulls":4},"","","","","","","","","","","","","","",""]
[{"$nulls":4},"","","","","","","","","","","","","","",""]
[{"$nulls":4},"","","","","","","","","","","","","","",""]
[{"$nulls":4},"","","","","","","","","","","","","","",""]
[{"$nulls":4},"","","","","","","","","","","","","","",""]
[{"$nulls":4},"","","","","","","","","","","","","","",""]
[{"$nulls":4},"","","","","","","","","","","","","","",""]
[{"$nulls":4},"","","","","","","","","","","","","","",""]
[{"$nulls":4},"","","","","","","","","","","","","","",""]
[{"$nulls":4},"","","","","","","","","","","","","","",""]
[{"$nulls":4},"","","","","","","","","","","","","","",""]
[{"$nulls":4},"","","","","","","","","","","","","","",""]
[{"$nulls":4},"","","","","","","","","","","","","","",""]
[{"$nulls":4},"","","","","","","","","","","","","","",""]
[{"$nulls":4},"","","","","","","","","","","","","","",""]
[{"$nulls":4},"","","","","","","","","","","","","","",""]
[{"$nulls":4},"","","","","","","","","","","","","","",""]
[{"$nulls":4},"","","","","","","","","","","","","","",""]
[{"$nulls":4},"","","","","","","","","","","","","","",""]
[{"$nulls":4},"","","","","","","","","","","","","","",""]
[{"$nulls":4},"","","","","","","","","","","","","","",""]
[{"$nulls":4},"","","","","","","","","","","","","","",""]
[{"$nulls":4},"","","","","","","","","","","","","","",""]
[{"$nulls":4},"","","","","","","","","","","","","","",""]
[{"$nulls":4},"","","","","","","","","","","","","","",""]
[{"$nulls":4},"","","","","","","","","","","","","","",""]
[{"$nulls":4},"","","","","","","","","","","","","","",""]
[{"$nulls":4},"","","","","","","","","","","","","","",""]
[{"$nulls":4},"","","","","","","","","","","","","","",""]
[{"$nulls":4},"","","","","","","","","","","","","","",""]
[{"$nulls":4},"","","","","","","","","","","","","","",""]
[{"$nulls":4},"","","","","","","","","","","","","","",""]
[{"$nulls":4},"","","","","","","","","","","","","","",""]
[{"$nulls":4},"","","","","","","","","","","","","","",""]
[{"$nulls":4},"","","","","","","","","","","","","","",""]
[{"$nulls":4},"","","","","","","","","","","","","","",""]
[{"$nulls":4},"","","","","","","","","","","","","","",""]
[{"$nulls":4},"","","","","","","","","","","","","","",""]
[{"$nulls":4},"","","","","","","","","","","","","","",""]
[{"$nulls":4},"","","","","","","","","","","","","","",""]
[{"$nulls":4},"","","","","","","","","","","","","","",""]
[{"$nulls":4},"","","","","","","","","","","","","","",""]
[{"$nulls":4},"","","","","","","","","","","","","","",""]
[{"$nulls":4},"","","","","","","","","","","","","","",""]
[{"$nulls":4},"","","","","","","","","","","","","","",""]
[{"$nulls":4},"","","","","","","","","","","","","","",""]
[{"$nulls":4},"","","","","","","","","","","","","","",""]
[{"$nulls":4},{"$f":"IF($A43202=\"\",\"\",IF(E$1=\"\",\"\",IF(IFERROR(SEARCH(E$1,$A43203),0) >0,E$1,0)))","v":""},{"$f":"IF($A43202=\"\",\"\",IF(F$1=\"\",\"\",IF(IFERROR(SEARCH(F$1,$A43203),0) >0,F$1,0)))","v":""},{"$f":"IF($A43202=\"\",\"\",IF(G$1=\"\",\"\",IF(IFERROR(SEARCH(G$1,$A43203),0) >0,G$1,0)))","v":""},{"$f":"IF($A43202=\"\",\"\",IF(H$1=\"\",\"\",IF(IFERROR(SEARCH(H$1,$A43203),0) >0,H$1,0)))","v":""},{"$f":"IF($A43202=\"\",\"\",IF(I$1=\"\",\"\",IF(IFERROR(SEARCH(I$1,$A43203),0) >0,I$1,0)))","v":""},{"$f":"IF($A43202=\"\",\"\",IF(J$1=\"\",\"\",IF(IFERROR(SEARCH(J$1,$A43203),0) >0,J$1,0)))","v":""},{"$f":"IF($A43202=\"\",\"\",IF(K$1=\"\",\"\",IF(IFERROR(SEARCH(K$1,$A43203),0) >0,K$1,0)))","v":""},{"$f":"IF($A43202=\"\",\"\",IF(L$1=\"\",\"\",IF(IFERROR(SEARCH(L$1,$A43203),0) >0,L$1,0)))","v":""},{"$f":"IF($A43202=\"\",\"\",IF(M$1=\"\",\"\",IF(IFERROR(SEARCH(M$1,$A43203),0) >0,M$1,0)))","v":""},{"$f":"IF($A43202=\"\",\"\",IF(N$1=\"\",\"\",IF(IFERROR(SEARCH(N$1,$A43203),0) >0,N$1,0)))","v":""},{"$f":"IF($A43202=\"\",\"\",IF(O$1=\"\",\"\",IF(IFERROR(SEARCH(O$1,$A43203),0) >0,O$1,0)))","v":""},{"$f":"IF($A43202=\"\",\"\",IF(P$1=\"\",\"\",IF(IFERROR(SEARCH(P$1,$A43203),0) >0,P$1,0)))","v":""},{"$f":"IF($A43202=\"\",\"\",IF(Q$1=\"\",\"\",IF(IFERROR(SEARCH(Q$1,$A43203),0) >0,Q$1,0)))","v":""},{"$f":"IF($A43202=\"\",\"\",IF(R$1=\"\",\"\",IF(IFERROR(SEARCH(R$1,$A43203),0) >0,R$1,0)))","v":""},{"$f":"IF($A43202=\"\",\"\",IF(S$1=\"\",\"\",IF(IFERROR(SEARCH(S$1,$A43203),0) >0,S$1,0)))","v":""}]
[{"$nulls":4},"","","","","","","","","","","","","","",""]
[{"$nulls":4},"","","","","","","","","","","","","","",""]
[{"$nulls":4},"","","","","","","","","","","","","","",""]
[{"$nulls":4},"","","","","","","","","","","","","","",""]
[{"$nulls":4},"","","","","","","","","","","","","","",""]
[{"$nulls":4},"","","","","","","","","","","","","","",""]
[{"$nulls":4},"","","","","","","","","","","","","","",""]
[{"$nulls":4},"","","","","","","","","","","","","","",""]
[{"$nulls":4},"","","","","","","","","","","","","","",""]
[{"$nulls":4},"","","","","","","","","","","","","","",""]
[{"$nulls":4},"","","","","","","","","","","","","","",""]
[{"$nulls":4},"","","","","","","","","","","","","","",""]
[{"$nulls":4},"","","","","","","","","","","","","","",""]
[{"$nulls":4},"","","","","","","","","","","","","","",""]
[{"$nulls":4},"","","","","","","","","","","","","","",""]
[{"$nulls":4},"","","","","","","","","","","","","","",""]
[{"$nulls":4},"","","","","","","","","","","","","","",""]
[{"$nulls":4},"","","","","","","","","","","","","","",""]
[{"$nulls":4},"","","","","","","","","","","","","","",""]
[{"$nulls":4},"","","","","","","","","","","","","","",""]
[{"$nulls":4},"","","","","","","","","","","","","","",""]
[{"$nulls":4},"","","","","","","","","","","","","","",""]
[{"$nulls":4},"","","","","","","","","","","","","","",""]
[{"$nulls":4},"","","","","","","","","","","","","","",""]
[{"$nulls":4},"","","","","","","","","","","","","","",""]
[{"$nulls":4},"","","","","","","","","","","","","","",""]
[{"$nulls":4},"","","","","","","","","","","","","","",""]
[{"$nulls":4},"","","","","","","","","","","","","","",""]
[{"$nulls":4},"","","","","","","","","","","","","","",""]
[{"$nulls":4},"","","","","","","","","","","","","","",""]
[{"$nulls":4},"","","","","","","","","","","","","","",""]
[{"$nulls":4},"","","","","","","","","","","","","","",""]
[{"$nulls":4},"","","","","","","","","","","","","","",""]
[{"$nulls":4},"","","","","","","","","","","","","","",""]
[{"$nulls":4},"","","","","","","","","","","","","","",""]
[{"$nulls":4},"","","","","","","","","","","","","","",""]
[{"$nulls":4},"","","","","","","","","","","","","","",""]
[{"$nulls":4},"","","","","","","","","","","","","","",""]
[{"$nulls":4},"","","","","","","","","","","","","","",""]
[{"$nulls":4},"","","","","","","","","","","","","","",""]
[{"$nulls":4},"","","","","","","","","","","","","","",""]
[{"$nulls":4},"","","","","","","","","","","","","","",""]
[{"$nulls":4},"","","","","","","","","","","","","","",""]
[{"$nulls":4},"","","","","","","","","","","","","","",""]
[{"$nulls":4},"","","","","","","","","","","","","","",""]
[{"$nulls":4},"","","","","","","","","","","","","","",""]
[{"$nulls":4},"","","","","","","","","","","","","","",""]
[{"$nulls":4},"","","","","","","","","","","","","","",""]
[{"$nulls":4},"","","","","","","","","","","","","","",""]
[{"$nulls":4},"","","","","","","","","","","","","","",""]
[{"$nulls":4},"","","","","","","","","","","","","","",""]
[{"$nulls":4},"","","","","","","","","","","","","","",""]
[{"$nulls":4},"","","","","","","","","","","","","","",""]
[{"$nulls":4},"","","","","","","","","","","","","","",""]
[{"$nulls":4},"","","","","","","","","","","","","","",""]
[{"$nulls":4},"","","","","","","","","","","","","","",""]
[{"$nulls":4},"","","","","","","","","","","","","","",""]
[{"$nulls":4},"","","","","","","","","","","","","","",""]
[{"$nulls":4},"","","","","","","","","","","","","","",""]
[{"$nulls":4},"","","","","","","","","","","","","","",""]
[{"$nulls":4},"","","","","","","","","","","","","","",""]
[{"$nulls":4},"","","","","","","","","","","","","","",""]
[{"$nulls":4},"","","","","","","","","","","","","","",""]
[{"$nulls":4},"","","","","","","","","","","","","","",""]
[{"$nulls":4},"","","","","","","","","","","","","","",""]
[{"$nulls":4},"","","","","","","","","","","","","","",""]
[{"$nulls":4},"","","","","","","","","","","","","","",""]
[{"$nulls":4},"","","","","","","","","","","","","","",""]
[{"$nulls":4},"","","","","","","","","","","","","","",""]
[{"$nulls":4},"","","","","","","","","","","","","","",""]
[{"$nulls":4},"","","","","","","","","","","","","","",""]
[{"$nulls":4},"","","","","","","","","","","","","","",""]
[{"$nulls":4},"","","","","","","","","","","","","","",""]
[{"$nulls":4},"","","","","","","","","","","","","","",""]
[{"$nulls":4},"","","","","","","","","","","","","","",""]
[{"$nulls":4},"","","","","","","","","","","","","","",""]
[{"$nulls":4},"","","","","","","","","","","","","","",""]
[{"$nulls":4},"","","","","","","","","","","","","","",""]
[{"$nulls":4},"","","","","","","","","","","","","","",""]
[{"$nulls":4},"","","","","","","","","","","","","","",""]
[{"$nulls":4},"","","","","","","","","","","","","","",""]
[{"$nulls":4},"","","","","","","","","","","","","","",""]
[{"$nulls":4},"","","","","","","","","","","","","","",""]
[{"$nulls":4},"","","","","","","","","","","","","","",""]
[{"$nulls":4},"","","","","","","","","","","","","","",""]
[{"$nulls":4},"","","","","","","","","","","","","","",""]
[{"$nulls":4},"","","","","","","","","","","","","","",""]
[{"$nulls":4},"","","","","","","","","","","","","","",""]
[{"$nulls":4},"","","","","","","","","","","","","","",""]
[{"$nulls":4},"","","","","","","","","","","","","","",""]
[{"$nulls":4},"","","","","","","","","","","","","","",""]
[{"$nulls":4},"","","","","","","","","","","","","","",""]
[{"$nulls":4},"","","","","","","","","","","","","","",""]
[{"$nulls":4},"","","","","","","","","","","","","","",""]
[{"$nulls":4},{"$f":"IF($A46210=\"\",\"\",IF(E$1=\"\",\"\",IF(IFERROR(SEARCH(E$1,$A46211),0) >0,E$1,0)))","v":""},{"$f":"IF($A46210=\"\",\"\",IF(F$1=\"\",\"\",IF(IFERROR(SEARCH(F$1,$A46211),0) >0,F$1,0)))","v":""},{"$f":"IF($A46210=\"\",\"\",IF(G$1=\"\",\"\",IF(IFERROR(SEARCH(G$1,$A46211),0) >0,G$1,0)))","v":""},{"$f":"IF($A46210=\"\",\"\",IF(H$1=\"\",\"\",IF(IFERROR(SEARCH(H$1,$A46211),0) >0,H$1,0)))","v":""},{"$f":"IF($A46210=\"\",\"\",IF(I$1=\"\",\"\",IF(IFERROR(SEARCH(I$1,$A46211),0) >0,I$1,0)))","v":""},{"$f":"IF($A46210=\"\",\"\",IF(J$1=\"\",\"\",IF(IFERROR(SEARCH(J$1,$A46211),0) >0,J$1,0)))","v":""},{"$f":"IF($A46210=\"\",\"\",IF(K$1=\"\",\"\",IF(IFERROR(SEARCH(K$1,$A46211),0) >0,K$1,0)))","v":""},{"$f":"IF($A46210=\"\",\"\",IF(L$1=\"\",\"\",IF(IFERROR(SEARCH(L$1,$A46211),0) >0,L$1,0)))","v":""},{"$f":"IF($A46210=\"\",\"\",IF(M$1=\"\",\"\",IF(IFERROR(SEARCH(M$1,$A46211),0) >0,M$1,0)))","v":""},{"$f":"IF($A46210=\"\",\"\",IF(N$1=\"\",\"\",IF(IFERROR(SEARCH(N$1,$A46211),0) >0,N$1,0)))","v":""},{"$f":"IF($A46210=\"\",\"\",IF(O$1=\"\",\"\",IF(IFERROR(SEARCH(O$1,$A46211),0) >0,O$1,0)))","v":""},{"$f":"IF($A46210=\"\",\"\",IF(P$1=\"\",\"\",IF(IFERROR(SEARCH(P$1,$A46211),0) >0,P$1,0)))","v":""},{"$f":"IF($A46210=\"\",\"\",IF(Q$1=\"\",\"\",IF(IFERROR(SEARCH(Q$1,$A46211),0) >0,Q$1,0)))","v":""},{"$f":"IF($A46210=\"\",\"\",IF(R$1=\"\",\"\",IF(IFERROR(SEARCH(R$1,$A46211),0) >0,R$1,0)))","v":""},{"$f":"IF($A46210=\"\",\"\",IF(S$1=\"\",\"\",IF(IFERROR(SEARCH(S$1,$A46211),0) >0,S$1,0)))","v":""}]
[{"$nulls":4},"","","","","","","","","","","","","","",""]
[{"$nulls":4},"","","","","","","","","","","","","","",""]
[{"$nulls":4},"","","","","","","","","","","","","","",""]
[{"$nulls":4},"","","","","","","","","","","","","","",""]
[{"$nulls":4},"","","","","","","","","","","","","","",""]
[{"$nulls":4},"","","","","","","","","","","","","","",""]
[{"$nulls":4},"","","","","","","","","","","","","","",""]
[{"$nulls":4},"","","","","","","","","","","","","","",""]
[{"$nulls":4},"","","","","","","","","","","","","","",""]
[{"$nulls":4},"","","","","","","","","","","","","","",""]
[{"$nulls":4},"","","","","","","","","","","","","","",""]
[{"$nulls":4},"","","","","","","","","","","","","","",""]
[{"$nulls":4},"","","","","","","","","","","","","","",""]
[{"$nulls":4},"","","","","","","","","","","","","","",""]
[{"$nulls":4},"","","","","","","","","","","","","","",""]
[{"$nulls":4},"","","","","","","","","","","","","","",""]
[{"$nulls":4},"","","","","","","","","","","","","","",""]
[{"$nulls":4},"","","","","","","","","","","","","","",""]
[{"$nulls":4},"","","","","","","","","","","","","","",""]
[{"$nulls":4},"","","","","","","","","","","","","","",""]
[{"$nulls":4},"","","","","","","","","","","","","","",""]
[{"$nulls":4},"","","","","","","","","","","","","","",""]
[{"$nulls":4},"","","","","","","","","","","","","","",""]
[{"$nulls":4},"","","","","","","","","","","","","","",""]
[{"$nulls":4},"","","","","","","","","","","","","","",""]
[{"$nulls":4},"","","","","","","","","","","","","","",""]
[{"$nulls":4},"","","","","","","","","","","","","","",""]
[{"$nulls":4},"","","","","","","","","","","","","","",""]
[{"$nulls":4},"","","","","","","","","","","","","","",""]
[{"$nulls":4},"","","","","","","","","","","","","","",""]
[{"$nulls":4},"","","","","","","","","","","","","","",""]
[{"$nulls":4},"","","","","","","","","","","","","","",""]
[{"$nulls":4},{"$f":"IF($A47234=\"\",\"\",IF(E$1=\"\",\"\",IF(IFERROR(SEARCH(E$1,$A47235),0) >0,E$1,0)))","v":""},{"$f":"IF($A47234=\"\",\"\",IF(F$1=\"\",\"\",IF(IFERROR(SEARCH(F$1,$A47235),0) >0,F$1,0)))","v":""},{"$f":"IF($A47234=\"\",\"\",IF(G$1=\"\",\"\",IF(IFERROR(SEARCH(G$1,$A47235),0) >0,G$1,0)))","v":""},{"$f":"IF($A47234=\"\",\"\",IF(H$1=\"\",\"\",IF(IFERROR(SEARCH(H$1,$A47235),0) >0,H$1,0)))","v":""},{"$f":"IF($A47234=\"\",\"\",IF(I$1=\"\",\"\",IF(IFERROR(SEARCH(I$1,$A47235),0) >0,I$1,0)))","v":""},{"$f":"IF($A47234=\"\",\"\",IF(J$1=\"\",\"\",IF(IFERROR(SEARCH(J$1,$A47235),0) >0,J$1,0)))","v":""},{"$f":"IF($A47234=\"\",\"\",IF(K$1=\"\",\"\",IF(IFERROR(SEARCH(K$1,$A47235),0) >0,K$1,0)))","v":""},{"$f":"IF($A47234=\"\",\"\",IF(L$1=\"\",\"\",IF(IFERROR(SEARCH(L$1,$A47235),0) >0,L$1,0)))","v":""},{"$f":"IF($A47234=\"\",\"\",IF(M$1=\"\",\"\",IF(IFERROR(SEARCH(M$1,$A47235),0) >0,M$1,0)))","v":""},{"$f":"IF($A47234=\"\",\"\",IF(N$1=\"\",\"\",IF(IFERROR(SEARCH(N$1,$A47235),0) >0,N$1,0)))","v":""},{"$f":"IF($A47234=\"\",\"\",IF(O$1=\"\",\"\",IF(IFERROR(SEARCH(O$1,$A47235),0) >0,O$1,0)))","v":""},{"$f":"IF($A47234=\"\",\"\",IF(P$1=\"\",\"\",IF(IFERROR(SEARCH(P$1,$A47235),0) >0,P$1,0)))","v":""},{"$f":"IF($A47234=\"\",\"\",IF(Q$1=\"\",\"\",IF(IFERROR(SEARCH(Q$1,$A47235),0) >0,Q$1,0)))","v":""},{"$f":"IF($A47234=\"\",\"\",IF(R$1=\"\",\"\",IF(IFERROR(SEARCH(R$1,$A47235),0) >0,R$1,0)))","v":""},{"$f":"IF($A47234=\"\",\"\",IF(S$1=\"\",\"\",IF(IFERROR(SEARCH(S$1,$A47235),0) >0,S$1,0)))","v":""}]
[{"$nulls":4},"","","","","","","","","","","","","","",""]
[{"$nulls":4},"","","","","","","","","","","","","","",""]
[{"$nulls":4},"","","","","","","","","","","","","","",""]
[{"$nulls":4},"","","","","","","","","","","","","","",""]
[{"$nulls":4},"","","","","","","","","","","","","","",""]
[{"$nulls":4},"","","","","","","","","","","","","","",""]
[{"$nulls":4},"","","","","","","","","","","","","","",""]
[{"$nulls":4},"","","","","","","","","","","","","","",""]
[{"$nulls":4},"","","","","","","","","","","","","","",""]
[{"$nulls":4},"","","","","","","","","","","","","","",""]
[{"$nulls":4},"","","","","","","","","","","","","","",""]
[{"$nulls":4},"","","","","","","","","","","","","","",""]
[{"$nulls":4},"","","","","","","","","","","","","","",""]
[{"$nulls":4},"","","","","","","","","","","","","","",""]
[{"$nulls":4},"","","","","","","","","","","","","","",""]
[{"$nulls":4},"","","","","","","","","","","","","","",""]
[{"$nulls":4},"","","","","","","","","","","","","","",""]
[{"$nulls":4},"","","","","","","","","","","","","","",""]
[{"$nulls":4},"","","","","","","","","","","","","","",""]
[{"$nulls":4},"","","","","","","","","","","","","","",""]
[{"$nulls":4},"","","","","","","","","","","","","","",""]
[{"$nulls":4},"","","","","","","","","","","","","","",""]
[{"$nulls":4},"","","","","","","","","","","","","","",""]
[{"$nulls":4},"","","","","","","","","","","","","","",""]
[{"$nulls":4},"","","","","","","","","","","","","","",""]
[{"$nulls":4},"","","","","","","","","","","","","","",""]
[{"$nulls":4},"","","","","","","","","","","","","","",""]
[{"$nulls":4},"","","","","","","","","","","","","","",""]
[{"$nulls":4},"","","","","","","","","","","","","","",""]
[{"$nulls":4},"","","","","","","","","","","","","","",""]
[{"$nulls":4},"","","","","","","","","","","","","","",""]
[{"$nulls":4},"","","","","","","","","","","","","","",""]
[{"$nulls":4},"","","","","","","","","","","","","","",""]
[{"$nulls":4},"","","","","","","","","","","","","","",""]
[{"$nulls":4},"","","","","","","","","","","","","","",""]
[{"$nulls":4},"","","","","","","","","","","","","","",""]
[{"$nulls":4},"","","","","","","","","","","","","","",""]
[{"$nulls":4},"","","","","","","","","","","","","","",""]
[{"$nulls":4},"","","","","","","","","","","","","","",""]
[{"$nulls":4},"","","","","","","","","","","","","","",""]
[{"$nulls":4},"","","","","","","","","","","","","","",""]
[{"$nulls":4},"","","","","","","","","","","","","","",""]
[{"$nulls":4},"","","","","","","","","","","","","","",""]
[{"$nulls":4},"","","","","","","","","","","","","","",""]
[{"$nulls":4},"","","","","","","","","","","","","","",""]
[{"$nulls":4},"","","","","","","","","","","","","","",""]
[{"$nulls":4},"","","","","","","","","","","","","","",""]
[{"$nulls":4},"","","","","","","","","","","","","","",""]
[{"$nulls":4},"","","","","","","","","","","","","","",""]
[{"$nulls":4},"","","","","","","","","","","","","","",""]
[{"$nulls":4},"","","","","","","","","","","","","","",""]
[{"$nulls":4},"","","","","","","","","","","","","","",""]
[{"$nulls":4},"","","","","","","","","","","","","","",""]
[{"$nulls":4},"","","","","","","","","","","","","","",""]
[{"$nulls":4},"","","","","","","","","","","","","","",""]
[{"$nulls":4},"","","","","","","","","","","","","","",""]
[{"$nulls":4},"","","","","","","","","","","","","","",""]
[{"$nulls":4},"","","","","","","","","","","","","","",""]
[{"$nulls":4},"","","","","","","","","","","","","","",""]
[{"$nulls":4},"","","","","","","","","","","","","","",""]
[{"$nulls":4},"","","","","","","","","","","","","","",""]
[{"$nulls":4},"","","","","","","","","","","","","","",""]
[{"$nulls":4},"","","","","","","","","","","","","","",""]
[{"$nulls":4},"","","","","","","","","","","","","","",""]
[{"$nulls":4},"","","","","","","","","","","","","","",""]
[{"$nulls":4},"","","","","","","","","","","","","","",""]
[{"$nulls":4},"","","","","","","","","","","","","","",""]
[{"$nulls":4},"","","","","","","","","","","","","","",""]
[{"$nulls":4},"","","","","","","","","","","","","","",""]
[{"$nulls":4},"","","","","","","","","","","","","","",""]
[{"$nulls":4},"","","","","","","","","","","","","","",""]
[{"$nulls":4},"","","","","","","","","","","","","","",""]
[{"$nulls":4},"","","","","","","","","","","","","","",""]
[{"$nulls":4},"","","","","","","","","","","","","","",""]
[{"$nulls":4},"","","","","","","","","","","","","","",""]
[{"$nulls":4},"","","","","","","","","","","","","","",""]
[{"$nulls":4},"","","","","","","","","","","","","","",""]
[{"$nulls":4},"","","","","","","","","","","","","","",""]
[{"$nulls":4},"","","","","","","","","","","","","","",""]
[{"$nulls":4},"","","","","","","","","","","","","","",""]
[{"$nulls":4},"","","","","","","","","","","","","","",""]
[{"$nulls":4},"","","","","","","","","","","","","","",""]
[{"$nulls":4},"","","","","","","","","","","","","","",""]
[{"$nulls":4},"","","","","","","","","","","","","","",""]
[{"$nulls":4},"","","","","","","","","","","","","","",""]
[{"$nulls":4},"","","","","","","","","","","","","","",""]
[{"$nulls":4},"","","","","","","","","","","","","","",""]
[{"$nulls":4},"","","","","","","","","","","","","","",""]
[{"$nulls":4},"","","","","","","","","","","","","","",""]
[{"$nulls":4},"","","","","","","","","","","","","","",""]
[{"$nulls":4},"","","","","","","","","","","","","","",""]
[{"$nulls":4},"","","","","","","","","","","","","","",""]
[{"$nulls":4},"","","","","","","","","","","","","","",""]
[{"$nulls":4},"","","","","","","","","","","","","","",""]
[{"$nulls":4},"","","","","","","","","","","","","","",""]
[{"$nulls":4},"","","","","","","","","","","","","","",""]
[{"$nulls":4},{"$f":"IF($A50306=\"\",\"\",IF(E$1=\"\",\"\",IF(IFERROR(SEARCH(E$1,$A50307),0) >0,E$1,0)))","v":""},{"$f":"IF($A50306=\"\",\"\",IF(F$1=\"\",\"\",IF(IFERROR(SEARCH(F$1,$A50307),0) >0,F$1,0)))","v":""},{"$f":"IF($A50306=\"\",\"\",IF(G$1=\"\",\"\",IF(IFERROR(SEARCH(G$1,$A50307),0) >0,G$1,0)))","v":""},{"$f":"IF($A50306=\"\",\"\",IF(H$1=\"\",\"\",IF(IFERROR(SEARCH(H$1,$A50307),0) >0,H$1,0)))","v":""},{"$f":"IF($A50306=\"\",\"\",IF(I$1=\"\",\"\",IF(IFERROR(SEARCH(I$1,$A50307),0) >0,I$1,0)))","v":""},{"$f":"IF($A50306=\"\",\"\",IF(J$1=\"\",\"\",IF(IFERROR(SEARCH(J$1,$A50307),0) >0,J$1,0)))","v":""},{"$f":"IF($A50306=\"\",\"\",IF(K$1=\"\",\"\",IF(IFERROR(SEARCH(K$1,$A50307),0) >0,K$1,0)))","v":""},{"$f":"IF($A50306=\"\",\"\",IF(L$1=\"\",\"\",IF(IFERROR(SEARCH(L$1,$A50307),0) >0,L$1,0)))","v":""},{"$f":"IF($A50306=\"\",\"\",IF(M$1=\"\",\"\",IF(IFERROR(SEARCH(M$1,$A50307),0) >0,M$1,0)))","v":""},{"$f":"IF($A50306=\"\",\"\",IF(N$1=\"\",\"\",IF(IFERROR(SEARCH(N$1,$A50307),0) >0,N$1,0)))","v":""},{"$f":"IF($A50306=\"\",\"\",IF(O$1=\"\",\"\",IF(IFERROR(SEARCH(O$1,$A50307),0) >0,O$1,0)))","v":""},{"$f":"IF($A50306=\"\",\"\",IF(P$1=\"\",\"\",IF(IFERROR(SEARCH(P$1,$A50307),0) >0,P$1,0)))","v":""},{"$f":"IF($A50306=\"\",\"\",IF(Q$1=\"\",\"\",IF(IFERROR(SEARCH(Q$1,$A50307),0) >0,Q$1,0)))","v":""},{"$f":"IF($A50306=\"\",\"\",IF(R$1=\"\",\"\",IF(IFERROR(SEARCH(R$1,$A50307),0) >0,R$1,0)))","v":""},{"$f":"IF($A50306=\"\",\"\",IF(S$1=\"\",\"\",IF(IFERROR(SEARCH(S$1,$A50307),0) >0,S$1,0)))","v":""}]
[{"$nulls":4},"","","","","","","","","","","","","","",""]
[{"$nulls":4},"","","","","","","","","","","","","","",""]
[{"$nulls":4},"","","","","","","","","","","","","","",""]
[{"$nulls":4},"","","","","","","","","","","","","","",""]
[{"$nulls":4},"","","","","","","","","","","","","","",""]
[{"$nulls":4},"","","","","","","","","","","","","","",""]
[{"$nulls":4},"","","","","","","","","","","","","","",""]
[{"$nulls":4},"","","","","","","","","","","","","","",""]
[{"$nulls":4},"","","","","","","","","","","","","","",""]
[{"$nulls":4},"","","","","","","","","","","","","","",""]
[{"$nulls":4},"","","","","","","","","","","","","","",""]
[{"$nulls":4},"","","","","","","","","","","","","","",""]
[{"$nulls":4},"","","","","","","","","","","","","","",""]
[{"$nulls":4},"","","","","","","","","","","","","","",""]
[{"$nulls":4},"","","","","","","","","","","","","","",""]
[{"$nulls":4},"","","","","","","","","","","","","","",""]
[{"$nulls":4},"","","","","","","","","","","","","","",""]
[{"$nulls":4},"","","","","","","","","","","","","","",""]
[{"$nulls":4},"","","","","","","","","","","","","","",""]
[{"$nulls":4},"","","","","","","","","","","","","","",""]
[{"$nulls":4},"","","","","","","","","","","","","","",""]
[{"$nulls":4},"","","","","","","","","","","","","","",""]
[{"$nulls":4},"","","","","","","","","","","","","","",""]
[{"$nulls":4},"","","","","","","","","","","","","","",""]
[{"$nulls":4},"","","","","","","","","","","","","","",""]
[{"$nulls":4},"","","","","","","","","","","","","","",""]
[{"$nulls":4},"","","","","","","","","","","","","","",""]
[{"$nulls":4},"","","","","","","","","","","","","","",""]
[{"$nulls":4},"","","","","","","","","","","","","","",""]
[{"$nulls":4},"","","","","","","","","","","","","","",""]
[{"$nulls":4},{"$f":"IF($A51266=\"\",\"\",IF(E$1=\"\",\"\",IF(IFERROR(SEARCH(E$1,$A51267),0) >0,E$1,0)))","v":""},{"$f":"IF($A51266=\"\",\"\",IF(F$1=\"\",\"\",IF(IFERROR(SEARCH(F$1,$A51267),0) >0,F$1,0)))","v":""},{"$f":"IF($A51266=\"\",\"\",IF(G$1=\"\",\"\",IF(IFERROR(SEARCH(G$1,$A51267),0) >0,G$1,0)))","v":""},{"$f":"IF($A51266=\"\",\"\",IF(H$1=\"\",\"\",IF(IFERROR(SEARCH(H$1,$A51267),0) >0,H$1,0)))","v":""},{"$f":"IF($A51266=\"\",\"\",IF(I$1=\"\",\"\",IF(IFERROR(SEARCH(I$1,$A51267),0) >0,I$1,0)))","v":""},{"$f":"IF($A51266=\"\",\"\",IF(J$1=\"\",\"\",IF(IFERROR(SEARCH(J$1,$A51267),0) >0,J$1,0)))","v":""},{"$f":"IF($A51266=\"\",\"\",IF(K$1=\"\",\"\",IF(IFERROR(SEARCH(K$1,$A51267),0) >0,K$1,0)))","v":""},{"$f":"IF($A51266=\"\",\"\",IF(L$1=\"\",\"\",IF(IFERROR(SEARCH(L$1,$A51267),0) >0,L$1,0)))","v":""},{"$f":"IF($A51266=\"\",\"\",IF(M$1=\"\",\"\",IF(IFERROR(SEARCH(M$1,$A51267),0) >0,M$1,0)))","v":""},{"$f":"IF($A51266=\"\",\"\",IF(N$1=\"\",\"\",IF(IFERROR(SEARCH(N$1,$A51267),0) >0,N$1,0)))","v":""},{"$f":"IF($A51266=\"\",\"\",IF(O$1=\"\",\"\",IF(IFERROR(SEARCH(O$1,$A51267),0) >0,O$1,0)))","v":""},{"$f":"IF($A51266=\"\",\"\",IF(P$1=\"\",\"\",IF(IFERROR(SEARCH(P$1,$A51267),0) >0,P$1,0)))","v":""},{"$f":"IF($A51266=\"\",\"\",IF(Q$1=\"\",\"\",IF(IFERROR(SEARCH(Q$1,$A51267),0) >0,Q$1,0)))","v":""},{"$f":"IF($A51266=\"\",\"\",IF(R$1=\"\",\"\",IF(IFERROR(SEARCH(R$1,$A51267),0) >0,R$1,0)))","v":""},{"$f":"IF($A51266=\"\",\"\",IF(S$1=\"\",\"\",IF(IFERROR(SEARCH(S$1,$A51267),0) >0,S$1,0)))","v":""}]
[{"$nulls":4},"","","","","","","","","","","","","","",""]
[{"$nulls":4},"","","","","","","","","","","","","","",""]
[{"$nulls":4},"","","","","","","","","","","","","","",""]
[{"$nulls":4},"","","","","","","","","","","","","","",""]
[{"$nulls":4},"","","","","","","","","","","","","","",""]
[{"$nulls":4},"","","","","","","","","","","","","","",""]
[{"$nulls":4},"","","","","","","","","","","","","","",""]
[{"$nulls":4},"","","","","","","","","","","","","","",""]
[{"$nulls":4},"","","","","","","","","","","","","","",""]
[{"$nulls":4},"","","","","","","","","","","","","","",""]
[{"$nulls":4},"","","","","","","","","","","","","","",""]
[{"$nulls":4},"","","","","","","","","","","","","","",""]
[{"$nulls":4},"","","","","","","","","","","","","","",""]
[{"$nulls":4},"","","","","","","","","","","","","","",""]
[{"$nulls":4},"","","","","","","","","","","","","","",""]
[{"$nulls":4},"","","","","","","","","","","","","","",""]
[{"$nulls":4},"","","","","","","","","","","","","","",""]
[{"$nulls":4},"","","","","","","","","","","","","","",""]
[{"$nulls":4},"","","","","","","","","","","","","","",""]
[{"$nulls":4},"","","","","","","","","","","","","","",""]
[{"$nulls":4},"","","","","","","","","","","","","","",""]
[{"$nulls":4},"","","","","","","","","","","","","","",""]
[{"$nulls":4},"","","","","","","","","","","","","","",""]
[{"$nulls":4},"","","","","","","","","","","","","","",""]
[{"$nulls":4},"","","","","","","","","","","","","","",""]
[{"$nulls":4},"","","","","","","","","","","","","","",""]
[{"$nulls":4},"","","","","","","","","","","","","","",""]
[{"$nulls":4},"","","","","","","","","","","","","","",""]
[{"$nulls":4},"","","","","","","","","","","","","","",""]
[{"$nulls":4},"","","","","","","","","","","","","","",""]
[{"$nulls":4},"","","","","","","","","","","","","","",""]
[{"$nulls":4},"","","","","","","","","","","","","","",""]
[{"$nulls":4},"","","","","","","","","","","","","","",""]
[{"$nulls":4},"","","","","","","","","","","","","","",""]
[{"$nulls":4},"","","","","","","","","","","","","","",""]
[{"$nulls":4},"","","","","","","","","","","","","","",""]
[{"$nulls":4},"","","","","","","","","","","","","","",""]
[{"$nulls":4},"","","","","","","","","","","","","","",""]
[{"$nulls":4},"","","","","","","","","","","","","","",""]
[{"$nulls":4},"","","","","","","","","","","","","","",""]
[{"$nulls":4},"","","","","","","","","","","","","","",""]
[{"$nulls":4},"","","","","","","","","","","","","","",""]
[{"$nulls":4},"","","","","","","","","","","","","","",""]
[{"$nulls":4},"","","","","","","","","","","","","","",""]
[{"$nulls":4},"","","","","","","","","","","","","","",""]
[{"$nulls":4},"","","","","","","","","","","","","","",""]
[{"$nulls":4},"","","","","","","","","","","","","","",""]
[{"$nulls":4},"","","","","","","","","","","","","","",""]
[{"$nulls":4},"","","","","","","","","","","","","","",""]
[{"$nulls":4},"","","","","","","","","","","","","","",""]
[{"$nulls":4},"","","","","","","","","","","","","","",""]
[{"$nulls":4},"","","","","","","","","","","","","","",""]
[{"$nulls":4},"","","","","","","","","","","","","","",""]
[{"$nulls":4},"","","","","","","","","","","","","","",""]
[{"$nulls":4},"","","","","","","","","","","","","","",""]
[{"$nulls":4},"","","","","","","","","","","","","","",""]
[{"$nulls":4},"","","","","","","","","","","","","","",""]
[{"$nulls":4},"","","","","","","","","","","","","","",""]
[{"$nulls":4},"","","","","","","","","","","","","","",""]
[{"$nulls":4},"","","","","","","","","","","","","","",""]
[{"$nulls":4},"","","","","","","","","","","","","","",""]
[{"$nulls":4},"","","","","","","","","","","","","","",""]
[{"$nulls":4},"","","","","","","","","","","","","","",""]
[{"$nulls":4},"","","","","","","","","","","","","","",""]
[{"$nulls":4},"","","","","","","","","","","","","","",""]
[{"$nulls":4},"","","","","","","","","","","","","","",""]
[{"$nulls":4},"","","","","","","","","","","","","","",""]
[{"$nulls":4},"","","","","","","","","","","","","","",""]
[{"$nulls":4},"","","","","","","","","","","","","","",""]
[{"$nulls":4},"","","","","","","","","","","","","","",""]
[{"$nulls":4},"","","","","","","","","","","","","","",""]
[{"$nulls":4},"","","","","","","","","","","","","","",""]
[{"$nulls":4},"","","","","","","","","","","","","","",""]
[{"$nulls":4},"","","","","","","","","","","","","","",""]
[{"$nulls":4},"","","","","","","","","","","","","","",""]
[{"$nulls":4},"","","","","","","","","","","","","","",""]
[{"$nulls":4},"","","","","","","","","","","","","","",""]
[{"$nulls":4},"","","","","","","","","","","","","","",""]
[{"$nulls":4},"","","","","","","","","","","","","","",""]
[{"$nulls":4},"","","","","","","","","","","","","","",""]
[{"$nulls":4},"","","","","","","","","","","","","","",""]
[{"$nulls":4},"","","","","","","","","","","","","","",""]
[{"$nulls":4},"","","","","","","","","","","","","","",""]
[{"$nulls":4},"","","","","","","","","","","","","","",""]
[{"$nulls":4},"","","","","","","","","","","","","","",""]
[{"$nulls":4},"","","","","","","","","","","","","","",""]
[{"$nulls":4},"","","","","","","","","","","","","","",""]
[{"$nulls":4},"","","","","","","","","","","","","","",""]
[{"$nulls":4},"","","","","","","","","","","","","","",""]
[{"$nulls":4},"","","","","","","","","","","","","","",""]
[{"$nulls":4},"","","","","","","","","","","","","","",""]
[{"$nulls":4},"","","","","","","","","","","","","","",""]
[{"$nulls":4},{"$f":"IF($A54210=\"\",\"\",IF(E$1=\"\",\"\",IF(IFERROR(SEARCH(E$1,$A54211),0) >0,E$1,0)))","v":""},{"$f":"IF($A54210=\"\",\"\",IF(F$1=\"\",\"\",IF(IFERROR(SEARCH(F$1,$A54211),0) >0,F$1,0)))","v":""},{"$f":"IF($A54210=\"\",\"\",IF(G$1=\"\",\"\",IF(IFERROR(SEARCH(G$1,$A54211),0) >0,G$1,0)))","v":""},{"$f":"IF($A54210=\"\",\"\",IF(H$1=\"\",\"\",IF(IFERROR(SEARCH(H$1,$A54211),0) >0,H$1,0)))","v":""},{"$f":"IF($A54210=\"\",\"\",IF(I$1=\"\",\"\",IF(IFERROR(SEARCH(I$1,$A54211),0) >0,I$1,0)))","v":""},{"$f":"IF($A54210=\"\",\"\",IF(J$1=\"\",\"\",IF(IFERROR(SEARCH(J$1,$A54211),0) >0,J$1,0)))","v":""},{"$f":"IF($A54210=\"\",\"\",IF(K$1=\"\",\"\",IF(IFERROR(SEARCH(K$1,$A54211),0) >0,K$1,0)))","v":""},{"$f":"IF($A54210=\"\",\"\",IF(L$1=\"\",\"\",IF(IFERROR(SEARCH(L$1,$A54211),0) >0,L$1,0)))","v":""},{"$f":"IF($A54210=\"\",\"\",IF(M$1=\"\",\"\",IF(IFERROR(SEARCH(M$1,$A54211),0) >0,M$1,0)))","v":""},{"$f":"IF($A54210=\"\",\"\",IF(N$1=\"\",\"\",IF(IFERROR(SEARCH(N$1,$A54211),0) >0,N$1,0)))","v":""},{"$f":"IF($A54210=\"\",\"\",IF(O$1=\"\",\"\",IF(IFERROR(SEARCH(O$1,$A54211),0) >0,O$1,0)))","v":""},{"$f":"IF($A54210=\"\",\"\",IF(P$1=\"\",\"\",IF(IFERROR(SEARCH(P$1,$A54211),0) >0,P$1,0)))","v":""},{"$f":"IF($A54210=\"\",\"\",IF(Q$1=\"\",\"\",IF(IFERROR(SEARCH(Q$1,$A54211),0) >0,Q$1,0)))","v":""},{"$f":"IF($A54210=\"\",\"\",IF(R$1=\"\",\"\",IF(IFERROR(SEARCH(R$1,$A54211),0) >0,R$1,0)))","v":""},{"$f":"IF($A54210=\"\",\"\",IF(S$1=\"\",\"\",IF(IFERROR(SEARCH(S$1,$A54211),0) >0,S$1,0)))","v":""}]
[{"$nulls":4},"","","","","","","","","","","","","","",""]
[{"$nulls":4},"","","","","","","","","","","","","","",""]
[{"$nulls":4},"","","","","","","","","","","","","","",""]
[{"$nulls":4},"","","","","","","","","","","","","","",""]
[{"$nulls":4},"","","","","","","","","","","","","","",""]
[{"$nulls":4},"","","","","","","","","","","","","","",""]
[{"$nulls":4},"","","","","","","","","","","","","","",""]
[{"$nulls":4},"","","","","","","","","","","","","","",""]
[{"$nulls":4},"","","","","","","","","","","","","","",""]
[{"$nulls":4},"","","","","","","","","","","","","","",""]
[{"$nulls":4},"","","","","","","","","","","","","","",""]
[{"$nulls":4},"","","","","","","","","","","","","","",""]
[{"$nulls":4},"","","","","","","","","","","","","","",""]
[{"$nulls":4},"","","","","","","","","","","","","","",""]
[{"$nulls":4},"","","","","","","","","","","","","","",""]
[{"$nulls":4},"","","","","","","","","","","","","","",""]
[{"$nulls":4},"","","","","","","","","","","","","","",""]
[{"$nulls":4},{"$f":"IF($A54786=\"\",\"\",IF(E$1=\"\",\"\",IF(IFERROR(SEARCH(E$1,$A54787),0) >0,E$1,0)))","v":""},{"$f":"IF($A54786=\"\",\"\",IF(F$1=\"\",\"\",IF(IFERROR(SEARCH(F$1,$A54787),0) >0,F$1,0)))","v":""},{"$f":"IF($A54786=\"\",\"\",IF(G$1=\"\",\"\",IF(IFERROR(SEARCH(G$1,$A54787),0) >0,G$1,0)))","v":""},{"$f":"IF($A54786=\"\",\"\",IF(H$1=\"\",\"\",IF(IFERROR(SEARCH(H$1,$A54787),0) >0,H$1,0)))","v":""},{"$f":"IF($A54786=\"\",\"\",IF(I$1=\"\",\"\",IF(IFERROR(SEARCH(I$1,$A54787),0) >0,I$1,0)))","v":""},{"$f":"IF($A54786=\"\",\"\",IF(J$1=\"\",\"\",IF(IFERROR(SEARCH(J$1,$A54787),0) >0,J$1,0)))","v":""},{"$f":"IF($A54786=\"\",\"\",IF(K$1=\"\",\"\",IF(IFERROR(SEARCH(K$1,$A54787),0) >0,K$1,0)))","v":""},{"$f":"IF($A54786=\"\",\"\",IF(L$1=\"\",\"\",IF(IFERROR(SEARCH(L$1,$A54787),0) >0,L$1,0)))","v":""},{"$f":"IF($A54786=\"\",\"\",IF(M$1=\"\",\"\",IF(IFERROR(SEARCH(M$1,$A54787),0) >0,M$1,0)))","v":""},{"$f":"IF($A54786=\"\",\"\",IF(N$1=\"\",\"\",IF(IFERROR(SEARCH(N$1,$A54787),0) >0,N$1,0)))","v":""},{"$f":"IF($A54786=\"\",\"\",IF(O$1=\"\",\"\",IF(IFERROR(SEARCH(O$1,$A54787),0) >0,O$1,0)))","v":""},{"$f":"IF($A54786=\"\",\"\",IF(P$1=\"\",\"\",IF(IFERROR(SEARCH(P$1,$A54787),0) >0,P$1,0)))","v":""},{"$f":"IF($A54786=\"\",\"\",IF(Q$1=\"\",\"\",IF(IFERROR(SEARCH(Q$1,$A54787),0) >0,Q$1,0)))","v":""},{"$f":"IF($A54786=\"\",\"\",IF(R$1=\"\",\"\",IF(IFERROR(SEARCH(R$1,$A54787),0) >0,R$1,0)))","v":""},{"$f":"IF($A54786=\"\",\"\",IF(S$1=\"\",\"\",IF(IFERROR(SEARCH(S$1,$A54787),0) >0,S$1,0)))","v":""}]
[{"$nulls":4},"","","","","","","","","","","","","","",""]
[{"$nulls":4},"","","","","","","","","","","","","","",""]
[{"$nulls":4},"","","","","","","","","","","","","","",""]
[{"$nulls":4},"","","","","","","","","","","","","","",""]
[{"$nulls":4},"","","","","","","","","","","","","","",""]
[{"$nulls":4},"","","","","","","","","","","","","","",""]
[{"$nulls":4},"","","","","","","","","","","","","","",""]
[{"$nulls":4},"","","","","","","","","","","","","","",""]
[{"$nulls":4},"","","","","","","","","","","","","","",""]
[{"$nulls":4},"","","","","","","","","","","","","","",""]
[{"$nulls":4},"","","","","","","","","","","","","","",""]
[{"$nulls":4},"","","","","","","","","","","","","","",""]
[{"$nulls":4},{"$f":"IF($A55170=\"\",\"\",IF(E$1=\"\",\"\",IF(IFERROR(SEARCH(E$1,$A55171),0) >0,E$1,0)))","v":""},{"$f":"IF($A55170=\"\",\"\",IF(F$1=\"\",\"\",IF(IFERROR(SEARCH(F$1,$A55171),0) >0,F$1,0)))","v":""},{"$f":"IF($A55170=\"\",\"\",IF(G$1=\"\",\"\",IF(IFERROR(SEARCH(G$1,$A55171),0) >0,G$1,0)))","v":""},{"$f":"IF($A55170=\"\",\"\",IF(H$1=\"\",\"\",IF(IFERROR(SEARCH(H$1,$A55171),0) >0,H$1,0)))","v":""},{"$f":"IF($A55170=\"\",\"\",IF(I$1=\"\",\"\",IF(IFERROR(SEARCH(I$1,$A55171),0) >0,I$1,0)))","v":""},{"$f":"IF($A55170=\"\",\"\",IF(J$1=\"\",\"\",IF(IFERROR(SEARCH(J$1,$A55171),0) >0,J$1,0)))","v":""},{"$f":"IF($A55170=\"\",\"\",IF(K$1=\"\",\"\",IF(IFERROR(SEARCH(K$1,$A55171),0) >0,K$1,0)))","v":""},{"$f":"IF($A55170=\"\",\"\",IF(L$1=\"\",\"\",IF(IFERROR(SEARCH(L$1,$A55171),0) >0,L$1,0)))","v":""},{"$f":"IF($A55170=\"\",\"\",IF(M$1=\"\",\"\",IF(IFERROR(SEARCH(M$1,$A55171),0) >0,M$1,0)))","v":""},{"$f":"IF($A55170=\"\",\"\",IF(N$1=\"\",\"\",IF(IFERROR(SEARCH(N$1,$A55171),0) >0,N$1,0)))","v":""},{"$f":"IF($A55170=\"\",\"\",IF(O$1=\"\",\"\",IF(IFERROR(SEARCH(O$1,$A55171),0) >0,O$1,0)))","v":""},{"$f":"IF($A55170=\"\",\"\",IF(P$1=\"\",\"\",IF(IFERROR(SEARCH(P$1,$A55171),0) >0,P$1,0)))","v":""},{"$f":"IF($A55170=\"\",\"\",IF(Q$1=\"\",\"\",IF(IFERROR(SEARCH(Q$1,$A55171),0) >0,Q$1,0)))","v":""},{"$f":"IF($A55170=\"\",\"\",IF(R$1=\"\",\"\",IF(IFERROR(SEARCH(R$1,$A55171),0) >0,R$1,0)))","v":""},{"$f":"IF($A55170=\"\",\"\",IF(S$1=\"\",\"\",IF(IFERROR(SEARCH(S$1,$A55171),0) >0,S$1,0)))","v":""}]
[{"$nulls":4},"","","","","","","","","","","","","","",""]
[{"$nulls":4},"","","","","","","","","","","","","","",""]
[{"$nulls":4},"","","","","","","","","","","","","","",""]
[{"$nulls":4},"","","","","","","","","","","","","","",""]
[{"$nulls":4},"","","","","","","","","","","","","","",""]
[{"$nulls":4},"","","","","","","","","","","","","","",""]
[{"$nulls":4},"","","","","","","","","","","","","","",""]
[{"$nulls":4},"","","","","","","","","","","","","","",""]
[{"$nulls":4},"","","","","","","","","","","","","","",""]
[{"$nulls":4},"","","","","","","","","","","","","","",""]
[{"$nulls":4},"","","","","","","","","","","","","","",""]
[{"$nulls":4},"","","","","","","","","","","","","","",""]
[{"$nulls":4},"","","","","","","","","","","","","","",""]
[{"$nulls":4},"","","","","","","","","","","","","","",""]
[{"$nulls":4},"","","","","","","","","","","","","","",""]
[{"$nulls":4},"","","","","","","","","","","","","","",""]
[{"$nulls":4},"","","","","","","","","","","","","","",""]
[{"$nulls":4},"","","","","","","","","","","","","","",""]
[{"$nulls":4},"","","","","","","","","","","","","","",""]
[{"$nulls":4},{"$f":"IF($A55810=\"\",\"\",IF(E$1=\"\",\"\",IF(IFERROR(SEARCH(E$1,$A55811),0) >0,E$1,0)))","v":""},{"$f":"IF($A55810=\"\",\"\",IF(F$1=\"\",\"\",IF(IFERROR(SEARCH(F$1,$A55811),0) >0,F$1,0)))","v":""},{"$f":"IF($A55810=\"\",\"\",IF(G$1=\"\",\"\",IF(IFERROR(SEARCH(G$1,$A55811),0) >0,G$1,0)))","v":""},{"$f":"IF($A55810=\"\",\"\",IF(H$1=\"\",\"\",IF(IFERROR(SEARCH(H$1,$A55811),0) >0,H$1,0)))","v":""},{"$f":"IF($A55810=\"\",\"\",IF(I$1=\"\",\"\",IF(IFERROR(SEARCH(I$1,$A55811),0) >0,I$1,0)))","v":""},{"$f":"IF($A55810=\"\",\"\",IF(J$1=\"\",\"\",IF(IFERROR(SEARCH(J$1,$A55811),0) >0,J$1,0)))","v":""},{"$f":"IF($A55810=\"\",\"\",IF(K$1=\"\",\"\",IF(IFERROR(SEARCH(K$1,$A55811),0) >0,K$1,0)))","v":""},{"$f":"IF($A55810=\"\",\"\",IF(L$1=\"\",\"\",IF(IFERROR(SEARCH(L$1,$A55811),0) >0,L$1,0)))","v":""},{"$f":"IF($A55810=\"\",\"\",IF(M$1=\"\",\"\",IF(IFERROR(SEARCH(M$1,$A55811),0) >0,M$1,0)))","v":""},{"$f":"IF($A55810=\"\",\"\",IF(N$1=\"\",\"\",IF(IFERROR(SEARCH(N$1,$A55811),0) >0,N$1,0)))","v":""},{"$f":"IF($A55810=\"\",\"\",IF(O$1=\"\",\"\",IF(IFERROR(SEARCH(O$1,$A55811),0) >0,O$1,0)))","v":""},{"$f":"IF($A55810=\"\",\"\",IF(P$1=\"\",\"\",IF(IFERROR(SEARCH(P$1,$A55811),0) >0,P$1,0)))","v":""},{"$f":"IF($A55810=\"\",\"\",IF(Q$1=\"\",\"\",IF(IFERROR(SEARCH(Q$1,$A55811),0) >0,Q$1,0)))","v":""},{"$f":"IF($A55810=\"\",\"\",IF(R$1=\"\",\"\",IF(IFERROR(SEARCH(R$1,$A55811),0) >0,R$1,0)))","v":""},{"$f":"IF($A55810=\"\",\"\",IF(S$1=\"\",\"\",IF(IFERROR(SEARCH(S$1,$A55811),0) >0,S$1,0)))","v":""}]
[{"$nulls":4},"","","","","","","","","","","","","","",""]
[{"$nulls":4},"","","","","","","","","","","","","","",""]
[{"$nulls":4},"","","","","","","","","","","","","","",""]
[{"$nulls":4},"","","","","","","","","","","","","","",""]
[{"$nulls":4},"","","","","","","","","","","","","","",""]
[{"$nulls":4},"","","","","","","","","","","","","","",""]
[{"$nulls":4},"","","","","","","","","","","","","","",""]
[{"$nulls":4},"","","","","","","","","","","","","","",""]
[{"$nulls":4},"","","","","","","","","","","","","","",""]
[{"$nulls":4},"","","","","","","","","","","","","","",""]
[{"$nulls":4},"","","","","","","","","","","","","","",""]
[{"$nulls":4},"","","","","","","","","","","","","","",""]
[{"$nulls":4},"","","","","","","","","","","","","","",""]
[{"$nulls":4},"","","","","","","","","","","","","","",""]
[{"$nulls":4},"","","","","","","","","","","","","","",""]
[{"$nulls":4},"","","","","","","","","","","","","","",""]
[{"$nulls":4},"","","","","","","","","","","","","","",""]
[{"$nulls":4},"","","","","","","","","","","","","","",""]
[{"$nulls":4},"","","","","","","","","","","","","","",""]
[{"$nulls":4},"","","","","","","","","","","","","","",""]
[{"$nulls":4},"","","","","","","","","","","","","","",""]
[{"$nulls":4},"","","","","","","","","","","","","","",""]
[{"$nulls":4},"","","","","","","","","","","","","","",""]
[{"$nulls":4},"","","","","","","","","","","","","","",""]
[{"$nulls":4},"","","","","","","","","","","","","","",""]
[{"$nulls":4},"","","","","","","","","","","","","","",""]
[{"$nulls":4},"","","","","","","","","","","","","","",""]
[{"$nulls":4},"","","","","","","","","","","","","","",""]
[{"$nulls":4},"","","","","","","","","","","","","","",""]
[{"$nulls":4},"","","","","","","","","","","","","","",""]
[{"$nulls":4},"","","","","","","","","","","","","","",""]
[{"$nulls":4},"","","","","","","","","","","","","","",""]
[{"$nulls":4},"","","","","","","","","","","","","","",""]
[{"$nulls":4},"","","","","","","","","","","","","","",""]
[{"$nulls":4},"","","","","","","","","","","","","","",""]
[{"$nulls":4},"","","","","","","","","","","","","","",""]
[{"$nulls":4},"","","","","","","","","","","","","","",""]
[{"$nulls":4},"","","","","","","","","","","","","","",""]
[{"$nulls":4},"","","","","","","","","","","","","","",""]
[{"$nulls":4},"","","","","","","","","","","","","","",""]
[{"$nulls":4},"","","","","","","","","","","","","","",""]
[{"$nulls":4},{"$f":"IF($A57154=\"\",\"\",IF(E$1=\"\",\"\",IF(IFERROR(SEARCH(E$1,$A57155),0) >0,E$1,0)))","v":""},{"$f":"IF($A57154=\"\",\"\",IF(F$1=\"\",\"\",IF(IFERROR(SEARCH(F$1,$A57155),0) >0,F$1,0)))","v":""},{"$f":"IF($A57154=\"\",\"\",IF(G$1=\"\",\"\",IF(IFERROR(SEARCH(G$1,$A57155),0) >0,G$1,0)))","v":""},{"$f":"IF($A57154=\"\",\"\",IF(H$1=\"\",\"\",IF(IFERROR(SEARCH(H$1,$A57155),0) >0,H$1,0)))","v":""},{"$f":"IF($A57154=\"\",\"\",IF(I$1=\"\",\"\",IF(IFERROR(SEARCH(I$1,$A57155),0) >0,I$1,0)))","v":""},{"$f":"IF($A57154=\"\",\"\",IF(J$1=\"\",\"\",IF(IFERROR(SEARCH(J$1,$A57155),0) >0,J$1,0)))","v":""},{"$f":"IF($A57154=\"\",\"\",IF(K$1=\"\",\"\",IF(IFERROR(SEARCH(K$1,$A57155),0) >0,K$1,0)))","v":""},{"$f":"IF($A57154=\"\",\"\",IF(L$1=\"\",\"\",IF(IFERROR(SEARCH(L$1,$A57155),0) >0,L$1,0)))","v":""},{"$f":"IF($A57154=\"\",\"\",IF(M$1=\"\",\"\",IF(IFERROR(SEARCH(M$1,$A57155),0) >0,M$1,0)))","v":""},{"$f":"IF($A57154=\"\",\"\",IF(N$1=\"\",\"\",IF(IFERROR(SEARCH(N$1,$A57155),0) >0,N$1,0)))","v":""},{"$f":"IF($A57154=\"\",\"\",IF(O$1=\"\",\"\",IF(IFERROR(SEARCH(O$1,$A57155),0) >0,O$1,0)))","v":""},{"$f":"IF($A57154=\"\",\"\",IF(P$1=\"\",\"\",IF(IFERROR(SEARCH(P$1,$A57155),0) >0,P$1,0)))","v":""},{"$f":"IF($A57154=\"\",\"\",IF(Q$1=\"\",\"\",IF(IFERROR(SEARCH(Q$1,$A57155),0) >0,Q$1,0)))","v":""},{"$f":"IF($A57154=\"\",\"\",IF(R$1=\"\",\"\",IF(IFERROR(SEARCH(R$1,$A57155),0) >0,R$1,0)))","v":""},{"$f":"IF($A57154=\"\",\"\",IF(S$1=\"\",\"\",IF(IFERROR(SEARCH(S$1,$A57155),0) >0,S$1,0)))","v":""}]
[{"$nulls":4},"","","","","","","","","","","","","","",""]
[{"$nulls":4},"","","","","","","","","","","","","","",""]
[{"$nulls":4},"","","","","","","","","","","","","","",""]
[{"$nulls":4},"","","","","","","","","","","","","","",""]
[{"$nulls":4},"","","","","","","","","","","","","","",""]
[{"$nulls":4},"","","","","","","","","","","","","","",""]
[{"$nulls":4},"","","","","","","","","","","","","","",""]
[{"$nulls":4},"","","","","","","","","","","","","","",""]
[{"$nulls":4},"","","","","","","","","","","","","","",""]
[{"$nulls":4},"","","","","","","","","","","","","","",""]
[{"$nulls":4},"","","","","","","","","","","","","","",""]
[{"$nulls":4},"","","","","","","","","","","","","","",""]
[{"$nulls":4},"","","","","","","","","","","","","","",""]
[{"$nulls":4},"","","","","","","","","","","","","","",""]
[{"$nulls":4},"","","","","","","","","","","","","","",""]
[{"$nulls":4},"","","","","","","","","","","","","","",""]
[{"$nulls":4},"","","","","","","","","","","","","","",""]
[{"$nulls":4},"","","","","","","","","","","","","","",""]
[{"$nulls":4},"","","","","","","","","","","","","","",""]
[{"$nulls":4},"","","","","","","","","","","","","","",""]
[{"$nulls":4},"","","","","","","","","","","","","","",""]
[{"$nulls":4},"","","","","","","","","","","","","","",""]
[{"$nulls":4},"","","","","","","","","","","","","","",""]
[{"$nulls":4},"","","","","","","","","","","","","","",""]
[{"$nulls":4},"","","","","","","","","","","","","","",""]
[{"$nulls":4},"","","","","","","","","","","","","","",""]
[{"$nulls":4},"","","","","","","","","","","","","","",""]
[{"$nulls":4},"","","","","","","","","","","","","","",""]
[{"$nulls":4},"","","","","","","","","","","","","","",""]
[{"$nulls":4},"","","","","","","","","","","","","","",""]
[{"$nulls":4},"","","","","","","","","","","","","","",""]
[{"$nulls":4},"","","","","","","","","","","","","","",""]
[{"$nulls":4},"","","","","","","","","","","","","","",""]
[{"$nulls":4},"","","","","","","","","","","","","","",""]
[{"$nulls":4},"","","","","","","","","","","","","","",""]
[{"$nulls":4},"","","","","","","","","","","","","","",""]
[{"$nulls":4},"","","","","","","","","","","","","","",""]
[{"$nulls":4},"","","","","","","","","","","","","","",""]
[{"$nulls":4},"","","","","","","","","","","","","","",""]
[{"$nulls":4},"","","","","","","","","","","","","","",""]
[{"$nulls":4},"","","","","","","","","","","","","","",""]
[{"$nulls":4},"","","","","","","","","","","","","","",""]
[{"$nulls":4},"","","","","","","","","","","","","","",""]
[{"$nulls":4},"","","","","","","","","","","","","","",""]
[{"$nulls":4},"","","","","","","","","","","","","","",""]
[{"$nulls":4},"","","","","","","","","","","","","","",""]
[{"$nulls":4},"","","","","","","","","","","","","","",""]
[{"$nulls":4},"","","","","","","","","","","","","","",""]
[{"$nulls":4},"","","","","","","","","","","","","","",""]
[{"$nulls":4},"","","","","","","","","","","","","","",""]
[{"$nulls":4},"","","","","","","","","","","","","","",""]
[{"$nulls":4},"","","","","","","","","","","","","","",""]
[{"$nulls":4},{"$f":"IF($A58818=\"\",\"\",IF(E$1=\"\",\"\",IF(IFERROR(SEARCH(E$1,$A58819),0) >0,E$1,0)))","v":""},{"$f":"IF($A58818=\"\",\"\",IF(F$1=\"\",\"\",IF(IFERROR(SEARCH(F$1,$A58819),0) >0,F$1,0)))","v":""},{"$f":"IF($A58818=\"\",\"\",IF(G$1=\"\",\"\",IF(IFERROR(SEARCH(G$1,$A58819),0) >0,G$1,0)))","v":""},{"$f":"IF($A58818=\"\",\"\",IF(H$1=\"\",\"\",IF(IFERROR(SEARCH(H$1,$A58819),0) >0,H$1,0)))","v":""},{"$f":"IF($A58818=\"\",\"\",IF(I$1=\"\",\"\",IF(IFERROR(SEARCH(I$1,$A58819),0) >0,I$1,0)))","v":""},{"$f":"IF($A58818=\"\",\"\",IF(J$1=\"\",\"\",IF(IFERROR(SEARCH(J$1,$A58819),0) >0,J$1,0)))","v":""},{"$f":"IF($A58818=\"\",\"\",IF(K$1=\"\",\"\",IF(IFERROR(SEARCH(K$1,$A58819),0) >0,K$1,0)))","v":""},{"$f":"IF($A58818=\"\",\"\",IF(L$1=\"\",\"\",IF(IFERROR(SEARCH(L$1,$A58819),0) >0,L$1,0)))","v":""},{"$f":"IF($A58818=\"\",\"\",IF(M$1=\"\",\"\",IF(IFERROR(SEARCH(M$1,$A58819),0) >0,M$1,0)))","v":""},{"$f":"IF($A58818=\"\",\"\",IF(N$1=\"\",\"\",IF(IFERROR(SEARCH(N$1,$A58819),0) >0,N$1,0)))","v":""},{"$f":"IF($A58818=\"\",\"\",IF(O$1=\"\",\"\",IF(IFERROR(SEARCH(O$1,$A58819),0) >0,O$1,0)))","v":""},{"$f":"IF($A58818=\"\",\"\",IF(P$1=\"\",\"\",IF(IFERROR(SEARCH(P$1,$A58819),0) >0,P$1,0)))","v":""},{"$f":"IF($A58818=\"\",\"\",IF(Q$1=\"\",\"\",IF(IFERROR(SEARCH(Q$1,$A58819),0) >0,Q$1,0)))","v":""},{"$f":"IF($A58818=\"\",\"\",IF(R$1=\"\",\"\",IF(IFERROR(SEARCH(R$1,$A58819),0) >0,R$1,0)))","v":""},{"$f":"IF($A58818=\"\",\"\",IF(S$1=\"\",\"\",IF(IFERROR(SEARCH(S$1,$A58819),0) >0,S$1,0)))","v":""}]
[{"$nulls":4},"","","","","","","","","","","","","","",""]
[{"$nulls":4},"","","","","","","","","","","","","","",""]
[{"$nulls":4},"","","","","","","","","","","","","","",""]
[{"$nulls":4},"","","","","","","","","","","","","","",""]
[{"$nulls":4},"","","","","","","","","","","","","","",""]
[{"$nulls":4},"","","","","","","","","","","","","","",""]
[{"$nulls":4},"","","","","","","","","","","","","","",""]
[{"$nulls":4},"","","","","","","","","","","","","","",""]
[{"$nulls":4},"","","","","","","","","","","","","","",""]
[{"$nulls":4},"","","","","","","","","","","","","","",""]
[{"$nulls":4},"","","","","","","","","","","","","","",""]
[{"$nulls":4},"","","","","","","","","","","","","","",""]
[{"$nulls":4},"","","","","","","","","","","","","","",""]
[{"$nulls":4},"","","","","","","","","","","","","","",""]
[{"$nulls":4},"","","","","","","","","","","","","","",""]
[{"$nulls":4},"","","","","","","","","","","","","","",""]
[{"$nulls":4},"","","","","","","","","","","","","","",""]
[{"$nulls":4},"","","","","","","","","","","","","","",""]
[{"$nulls":4},"","","","","","","","","","","","","","",""]
[{"$nulls":4},"","","","","","","","","","","","","","",""]
[{"$nulls":4},"","","","","","","","","","","","","","",""]
[{"$nulls":4},"","","","","","","","","","","","","","",""]
[{"$nulls":4},"","","","","","","","","","","","","","",""]
[{"$nulls":4},"","","","","","","","","","","","","","",""]
[{"$nulls":4},"","","","","","","","","","","","","","",""]
[{"$nulls":4},"","","","","","","","","","","","","","",""]
[{"$nulls":4},"","","","","","","","","","","","","","",""]
[{"$nulls":4},"","","","","","","","","","","","","","",""]
[{"$nulls":4},"","","","","","","","","","","","","","",""]
[{"$nulls":4},"","","","","","","","","","","","","","",""]
[{"$nulls":4},"","","","","","","","","","","","","","",""]
[{"$nulls":4},"","","","","","","","","","","","","","",""]
[{"$nulls":4},"","","","","","","","","","","","","","",""]
[{"$nulls":4},"","","","","","","","","","","","","","",""]
[{"$nulls":4},"","","","","","","","","","","","","","",""]
[{"$nulls":4},"","","","","","","","","","","","","","",""]
[{"$nulls":4},"","","","","","","","","","","","","","",""]
[{"$nulls":4},"","","","","","","","","","","","","","",""]
[{"$nulls":4},"","","","","","","","","","","","","","",""]
[{"$nulls":4},"","","","","","","","","","","","","","",""]
[{"$nulls":4},"","","","","","","","","","","","","","",""]
[{"$nulls":4},"","","","","","","","","","","","","","",""]
[{"$nulls":4},"","","","","","","","","","","","","","",""]
[{"$nulls":4},"","","","","","","","","","","","","","",""]
[{"$nulls":4},"","","","","","","","","","","","","","",""]
[{"$nulls":4},"","","","","","","","","","","","","","",""]
[{"$nulls":4},"","","","","","","","","","","","","","",""]
[{"$nulls":4},"","","","","","","","","","","","","","",""]
[{"$nulls":4},"","","","","","","","","","","","","","",""]
[{"$nulls":4},"","","","","","","","","","","","","","",""]
[{"$nulls":4},"","","","","","","","","","","","","","",""]
[{"$nulls":4},"","","","","","","","","","","","","","",""]
[{"$nulls":4},"","","","","","","","","","","","","","",""]
[{"$nulls":4},"","","","","","","","","","","","","","",""]
[{"$nulls":4},"","","","","","","","","","","","","","",""]
[{"$nulls":4},"","","","","","","","","","","","","","",""]
[{"$nulls":4},"","","","","","","","","","","","","","",""]
[{"$nulls":4},"","","","","","","","","","","","","","",""]
[{"$nulls":4},"","","","","","","","","","","","","","",""]
[{"$nulls":4},"","","","","","","","","","","","","","",""]
[{"$nulls":4},"","","","","","","","","","","","","","",""]
[{"$nulls":4},"","","","","","","","","","","","","","",""]
[{"$nulls":4},"","","","","","","","","","","","","","",""]
[{"$nulls":4},"","","","","","","","","","","","","","",""]
[{"$nulls":4},"","","","","","","","","","","","","","",""]
[{"$nulls":4},"","","","","","","","","","","","","","",""]
[{"$nulls":4},"","","","","","","","","","","","","","",""]
[{"$nulls":4},"","","","","","","","","","","","","","",""]
[{"$nulls":4},"","","","","","","","","","","","","","",""]
[{"$nulls":4},"","","","","","","","","","","","","","",""]
[{"$nulls":4},"","","","","","","","","","","","","","",""]
[{"$nulls":4},"","","","","","","","","","","","","","",""]
[{"$nulls":4},"","","","","","","","","","","","","","",""]
[{"$nulls":4},"","","","","","","","","","","","","","",""]
[{"$nulls":4},"","","","","","","","","","","","","","",""]
[{"$nulls":4},"","","","","","","","","","","","","","",""]
[{"$nulls":4},"","","","","","","","","","","","","","",""]
[{"$nulls":4},"","","","","","","","","","","","","","",""]
[{"$nulls":4},"","","","","","","","","","","","","","",""]
[{"$nulls":4},"","","","","","","","","","","","","","",""]
[{"$nulls":4},"","","","","","","","","","","","","","",""]
[{"$nulls":4},"","","","","","","","","","","","","","",""]
[{"$nulls":4},"","","","","","","","","","","","","","",""]
[{"$nulls":4},"","","","","","","","","","","","","","",""]
[{"$nulls":4},"","","","","","","","","","","","","","",""]
[{"$nulls":4},"","","","","","","","","","","","","","",""]
[{"$nulls":4},"","","","","","","","","","","","","","",""]
[{"$nulls":4},"","","","","","","","","","","","","","",""]
[{"$nulls":4},"","","","","","","","","","","","","","",""]
[{"$nulls":4},"","","","","","","","","","","","","","",""]
[{"$nulls":4},"","","","","","","","","","","","","","",""]
[{"$nulls":4},"","","","","","","","","","","","","","",""]
[{"$nulls":4},"","","","","","","","","","","","","","",""]
[{"$nulls":4},"","","","","","","","","","","","","","",""]
[{"$nulls":4},"","","","","","","","","","","","","","",""]
[{"$nulls":4},"","","","","","","","","","","","","","",""]
[{"$nulls":4},"","","","","","","","","","","","","","",""]
[{"$nulls":4},"","","","","","","","","","","","","","",""]
[{"$nulls":4},"","","","","","","","","","","","","","",""]
[{"$nulls":4},"","","","","","","","","","","","","","",""]
[{"$nulls":4},"","","","","","","","","","","","","","",""]
[{"$nulls":4},"","","","","","","","","","","","","","",""]
[{"$nulls":4},"","","","","","","","","","","","","","",""]
[{"$nulls":4},"","","","","","","","","","","","","","",""]
[{"$nulls":4},"","","","","","","","","","","","","","",""]
[{"$nulls":4},"","","","","","","","","","","","","","",""]
[{"$nulls":4},"","","","","","","","","","","","","","",""]
[{"$nulls":4},"","","","","","","","","","","","","","",""]
[{"$nulls":4},"","","","","","","","","","","","","","",""]
[{"$nulls":4},"","","","","","","","","","","","","","",""]
[{"$nulls":4},"","","","","","","","","","","","","","",""]
[{"$nulls":4},"","","","","","","","","","","","","","",""]
[{"$nulls":4},"","","","","","","","","","","","","","",""]
[{"$nulls":4},"","","","","","","","","","","","","","",""]
[{"$nulls":4},"","","","","","","","","","","","","","",""]
[{"$nulls":4},"","","","","","","","","","","","","","",""]
[{"$nulls":4},"","","","","","","","","","","","","","",""]
[{"$nulls":4},"","","","","","","","","","","","","","",""]
[{"$nulls":4},"","","","","","","","","","","","","","",""]
[{"$nulls":4},"","","","","","","","","","","","","","",""]
[{"$nulls":4},"","","","","","","","","","","","","","",""]
[{"$nulls":4},"","","","","","","","","","","","","","",""]
[{"$nulls":4},"","","","","","","","","","","","","","",""]
[{"$nulls":4},"","","","","","","","","","","","","","",""]
[{"$nulls":4},"","","","","","","","","","","","","","",""]
[{"$nulls":4},"","","","","","","","","","","","","","",""]
[{"$nulls":4},"","","","","","","","","","","","","","",""]
[{"$nulls":4},"","","","","","","","","","","","","","",""]
[{"$nulls":4},"","","","","","","","","","","","","","",""]
[{"$nulls":4},"","","","","","","","","","","","","","",""]
[{"$nulls":4},"","","","","","","","","","","","","","",""]
[{"$nulls":4},"","","","","","","","","","","","","","",""]
[{"$nulls":4},"","","","","","","","","","","","","","",""]
[{"$nulls":4},"","","","","","","","","","","","","","",""]
[{"$nulls":4},"","","","","","","","","","","","","","",""]
[{"$nulls":4},"","","","","","","","","","","","","","",""]
[{"$nulls":4},"","","","","","","","","","","","","","",""]
[{"$nulls":4},"","","","","","","","","","","","","","",""]
[{"$nulls":4},"","","","","","","","","","","","","","",""]
[{"$nulls":4},"","","","","","","","","","","","","","",""]
[{"$nulls":4},"","","","","","","","","","","","","","",""]
[{"$nulls":4},"","","","","","","","","","","","","","",""]
[{"$nulls":4},"","","","","","","","","","","","","","",""]
[{"$nulls":4},{"$f":"IF($A63362=\"\",\"\",IF(E$1=\"\",\"\",IF(IFERROR(SEARCH(E$1,$A63363),0) >0,E$1,0)))","v":""},{"$f":"IF($A63362=\"\",\"\",IF(F$1=\"\",\"\",IF(IFERROR(SEARCH(F$1,$A63363),0) >0,F$1,0)))","v":""},{"$f":"IF($A63362=\"\",\"\",IF(G$1=\"\",\"\",IF(IFERROR(SEARCH(G$1,$A63363),0) >0,G$1,0)))","v":""},{"$f":"IF($A63362=\"\",\"\",IF(H$1=\"\",\"\",IF(IFERROR(SEARCH(H$1,$A63363),0) >0,H$1,0)))","v":""},{"$f":"IF($A63362=\"\",\"\",IF(I$1=\"\",\"\",IF(IFERROR(SEARCH(I$1,$A63363),0) >0,I$1,0)))","v":""},{"$f":"IF($A63362=\"\",\"\",IF(J$1=\"\",\"\",IF(IFERROR(SEARCH(J$1,$A63363),0) >0,J$1,0)))","v":""},{"$f":"IF($A63362=\"\",\"\",IF(K$1=\"\",\"\",IF(IFERROR(SEARCH(K$1,$A63363),0) >0,K$1,0)))","v":""},{"$f":"IF($A63362=\"\",\"\",IF(L$1=\"\",\"\",IF(IFERROR(SEARCH(L$1,$A63363),0) >0,L$1,0)))","v":""},{"$f":"IF($A63362=\"\",\"\",IF(M$1=\"\",\"\",IF(IFERROR(SEARCH(M$1,$A63363),0) >0,M$1,0)))","v":""},{"$f":"IF($A63362=\"\",\"\",IF(N$1=\"\",\"\",IF(IFERROR(SEARCH(N$1,$A63363),0) >0,N$1,0)))","v":""},{"$f":"IF($A63362=\"\",\"\",IF(O$1=\"\",\"\",IF(IFERROR(SEARCH(O$1,$A63363),0) >0,O$1,0)))","v":""},{"$f":"IF($A63362=\"\",\"\",IF(P$1=\"\",\"\",IF(IFERROR(SEARCH(P$1,$A63363),0) >0,P$1,0)))","v":""},{"$f":"IF($A63362=\"\",\"\",IF(Q$1=\"\",\"\",IF(IFERROR(SEARCH(Q$1,$A63363),0) >0,Q$1,0)))","v":""},{"$f":"IF($A63362=\"\",\"\",IF(R$1=\"\",\"\",IF(IFERROR(SEARCH(R$1,$A63363),0) >0,R$1,0)))","v":""},{"$f":"IF($A63362=\"\",\"\",IF(S$1=\"\",\"\",IF(IFERROR(SEARCH(S$1,$A63363),0) >0,S$1,0)))","v":""}]
[{"$nulls":4},"","","","","","","","","","","","","","",""]
[{"$nulls":4},"","","","","","","","","","","","","","",""]
[{"$nulls":4},"","","","","","","","","","","","","","",""]
[{"$nulls":4},"","","","","","","","","","","","","","",""]
[{"$nulls":4},"","","","","","","","","","","","","","",""]
[{"$nulls":4},"","","","","","","","","","","","","","",""]
[{"$nulls":4},"","","","","","","","","","","","","","",""]
[{"$nulls":4},"","","","","","","","","","","","","","",""]
[{"$nulls":4},"","","","","","","","","","","","","","",""]
[{"$nulls":4},"","","","","","","","","","","","","","",""]
[{"$nulls":4},"","","","","","","","","","","","","","",""]
[{"$nulls":4},"","","","","","","","","","","","","","",""]
[{"$nulls":4},"","","","","","","","","","","","","","",""]
[{"$nulls":4},"","","","","","","","","","","","","","",""]
[{"$nulls":4},"","","","","","","","","","","","","","",""]
[{"$nulls":4},"","","","","","","","","","","","","","",""]
[{"$nulls":4},"","","","","","","","","","","","","","",""]
[{"$nulls":4},"","","","","","","","","","","","","","",""]
[{"$nulls":4},"","","","","","","","","","","","","","",""]
[{"$nulls":4},"","","","","","","","","","","","","","",""]
[{"$nulls":4},"","","","","","","","","","","","","","",""]
[{"$nulls":4},"","","","","","","","","","","","","","",""]
[{"$nulls":4},"","","","","","","","","","","","","","",""]
[{"$nulls":4},"","","","","","","","","","","","","","",""]
[{"$nulls":4},"","","","","","","","","","","","","","",""]
[{"$nulls":4},"","","","","","","","","","","","","","",""]
[{"$nulls":4},"","","","","","","","","","","","","","",""]
[{"$nulls":4},"","","","","","","","","","","","","","",""]
[{"$nulls":4},"","","","","","","","","","","","","","",""]
[{"$nulls":4},"","","","","","","","","","","","","","",""]
[{"$nulls":4},"","","","","","","","","","","","","","",""]
[{"$nulls":4},"","","","","","","","","","","","","","",""]
[{"$nulls":4},"","","","","","","","","","","","","","",""]
[{"$nulls":4},"","","","","","","","","","","","","","",""]
[{"$nulls":4},"","","","","","","","","","","","","","",""]
[{"$nulls":4},"","","","","","","","","","","","","","",""]
[{"$nulls":4},"","","","","","","","","","","","","","",""]
[{"$nulls":4},"","","","","","","","","","","","","","",""]
[{"$nulls":4},"","","","","","","","","","","","","","",""]
[{"$nulls":4},"","","","","","","","","","","","","","",""]
[{"$nulls":4},"","","","","","","","","","","","","","",""]
[{"$nulls":4},"","","","","","","","","","","","","","",""]
[{"$nulls":4},"","","","","","","","","","","","","","",""]
[{"$nulls":4},"","","","","","","","","","","","","","",""]
[{"$nulls":4},"","","","","","","","","","","","","","",""]
[{"$nulls":4},"","","","","","","","","","","","","","",""]
[{"$nulls":4},"","","","","","","","","","","","","","",""]
[{"$nulls":4},"","","","","","","","","","","","","","",""]
[{"$nulls":4},"","","","","","","","","","","","","","",""]
[{"$nulls":4},"","","","","","","","","","","","","","",""]
[{"$nulls":4},"","","","","","","","","","","","","","",""]
[{"$nulls":4},"","","","","","","","","","","","","","",""]
[{"$nulls":4},"","","","","","","","","","","","","","",""]
[{"$nulls":4},"","","","","","","","","","","","","","",""]
[{"$nulls":4},"","","","","","","","","","","","","","",""]
[{"$nulls":4},"","","","","","","","","","","","","","",""]
[{"$nulls":4},"","","","","","","","","","","","","","",""]
[{"$nulls":4},"","","","","","","","","","","","","","",""]
[{"$nulls":4},"","","","","","","","","","","","","","",""]
[{"$nulls":4},"","","","","","","","","","","","","","",""]
[{"$nulls":4},"","","","","","","","","","","","","","",""]
[{"$nulls":4},"","","","","","","","","","","","","","",""]
[{"$nulls":4},"","","","","","","","","","","","","","",""]
[{"$nulls":4},"","","","","","","","","","","","","","",""]
[{"$nulls":4},"","","","","","","","","","","","","","",""]
[{"$nulls":4},"","","","","","","","","","","","","","",""]
[{"$nulls":4},"","","","","","","","","","","","","","",""]
[{"$nulls":4},"","","","","","","","","","","","","","",""]
[{"$nulls":4},"","","","","","","","","","","","","","",""]
[{"$nulls":4},"","","","","","","","","","","","","","",""]
[{"$nulls":4},"","","","","","","","","","","","","","",""]
[{"$nulls":4},"","","","","","","","","","","","","","",""]
[{"$nulls":4},"","","","","","","","","","","","","","",""]
[{"$nulls":4},"","","","","","","","","","","","","","",""]
[{"$nulls":4},"","","","","","","","","","","","","","",""]
[{"$nulls":4},"","","","","","","","","","","","","","",""]
[{"$nulls":4},"","","","","","","","","","","","","","",""]
[{"$nulls":4},"","","","","","","","","","","","","","",""]
[{"$nulls":4},"","","","","","","","","","","","","","",""]
[{"$nulls":4},"","","","","","","","","","","","","","",""]
[{"$nulls":4},"","","","","","","","","","","","","","",""]
[{"$nulls":4},"","","","","","","","","","","","","","",""]
[{"$nulls":4},"","","","","","","","","","","","","","",""]
[{"$nulls":4},"","","","","","","","","","","","","","",""]
[{"$nulls":4},"","","","","","","","","","","","","","",""]
[{"$nulls":4},"","","","","","","","","","","","","","",""]
[{"$nulls":4},"","","","","","","","","","","","","","",""]
[{"$nulls":4},"","","","","","","","","","","","","","",""]
[{"$nulls":4},"","","","","","","","","","","","","","",""]
[{"$nulls":4},"","","","","","","","","","","","","","",""]
[{"$nulls":4},"","","","","","","","","","","","","","",""]
[{"$nulls":4},"","","","","","","","","","","","","","",""]
[{"$nulls":4},"","","","","","","","","","","","","","",""]
[{"$nulls":4},"","","","","","","","","","","","","","",""]
[{"$nulls":4},"","","","","","","","","","","","","","",""]
[{"$nulls":4},"","","","","","","","","","","","","","",""]
[{"$nulls":4},"","","","","","","","","","","","","","",""]
[{"$nulls":4},"","","","","","","","","","","","","","",""]
[{"$nulls":4},"","","","","","","","","","","","","","",""]
[{"$nulls":4},"","","","","","","","","","","","","","",""]
[{"$nulls":4},"","","","","","","","","","","","","","",""]
[{"$nulls":4},"","","","","","","","","","","","","","",""]
[{"$nulls":4},"","","","","","","","","","","","","","",""]
[{"$nulls":4},"","","","","","","","","","","","","","",""]
[{"$nulls":4},"","","","","","","","","","","","","","",""]
[{"$nulls":4},"","","","","","","","","","","","","","",""]
[{"$nulls":4},"","","","","","","","","","","","","","",""]
[{"$nulls":4},{"$f":"IF($A65090=\"\",\"\",IF(E$1=\"\",\"\",IF(IFERROR(SEARCH(E$1,$A65091),0) >0,E$1,0)))","v":""},{"$f":"IF($A65090=\"\",\"\",IF(F$1=\"\",\"\",IF(IFERROR(SEARCH(F$1,$A65091),0) >0,F$1,0)))","v":""},{"$f":"IF($A65090=\"\",\"\",IF(G$1=\"\",\"\",IF(IFERROR(SEARCH(G$1,$A65091),0) >0,G$1,0)))","v":""},{"$f":"IF($A65090=\"\",\"\",IF(H$1=\"\",\"\",IF(IFERROR(SEARCH(H$1,$A65091),0) >0,H$1,0)))","v":""},{"$f":"IF($A65090=\"\",\"\",IF(I$1=\"\",\"\",IF(IFERROR(SEARCH(I$1,$A65091),0) >0,I$1,0)))","v":""},{"$f":"IF($A65090=\"\",\"\",IF(J$1=\"\",\"\",IF(IFERROR(SEARCH(J$1,$A65091),0) >0,J$1,0)))","v":""},{"$f":"IF($A65090=\"\",\"\",IF(K$1=\"\",\"\",IF(IFERROR(SEARCH(K$1,$A65091),0) >0,K$1,0)))","v":""},{"$f":"IF($A65090=\"\",\"\",IF(L$1=\"\",\"\",IF(IFERROR(SEARCH(L$1,$A65091),0) >0,L$1,0)))","v":""},{"$f":"IF($A65090=\"\",\"\",IF(M$1=\"\",\"\",IF(IFERROR(SEARCH(M$1,$A65091),0) >0,M$1,0)))","v":""},{"$f":"IF($A65090=\"\",\"\",IF(N$1=\"\",\"\",IF(IFERROR(SEARCH(N$1,$A65091),0) >0,N$1,0)))","v":""},{"$f":"IF($A65090=\"\",\"\",IF(O$1=\"\",\"\",IF(IFERROR(SEARCH(O$1,$A65091),0) >0,O$1,0)))","v":""},{"$f":"IF($A65090=\"\",\"\",IF(P$1=\"\",\"\",IF(IFERROR(SEARCH(P$1,$A65091),0) >0,P$1,0)))","v":""},{"$f":"IF($A65090=\"\",\"\",IF(Q$1=\"\",\"\",IF(IFERROR(SEARCH(Q$1,$A65091),0) >0,Q$1,0)))","v":""},{"$f":"IF($A65090=\"\",\"\",IF(R$1=\"\",\"\",IF(IFERROR(SEARCH(R$1,$A65091),0) >0,R$1,0)))","v":""},{"$f":"IF($A65090=\"\",\"\",IF(S$1=\"\",\"\",IF(IFERROR(SEARCH(S$1,$A65091),0) >0,S$1,0)))","v":""}]
[{"$nulls":4},"","","","","","","","","","","","","","",""]
[{"$nulls":4},"","","","","","","","","","","","","","",""]
[{"$nulls":4},"","","","","","","","","","","","","","",""]
[{"$nulls":4},"","","","","","","","","","","","","","",""]
[{"$nulls":4},"","","","","","","","","","","","","","",""]
[{"$nulls":4},"","","","","","","","","","","","","","",""]
[{"$nulls":4},"","","","","","","","","","","","","","",""]
[{"$nulls":4},"","","","","","","","","","","","","","",""]
[{"$nulls":4},"","","","","","","","","","","","","","",""]
[{"$nulls":4},"","","","","","","","","","","","","","",""]
[{"$nulls":4},"","","","","","","","","","","","","","",""]
[{"$nulls":4},"","","","","","","","","","","","","","",""]
[{"$nulls":4},"","","","","","","","","","","","","","",""]
[{"$nulls":4},"","","","","","","","","","","","","","",""]
[{"$nulls":4},"","","","","","","","","","","","","","",""]
[{"$nulls":4},"","","","","","","","","","","","","","",""]
[{"$nulls":4},"","","","","","","","","","","","","","",""]
[{"$nulls":4},"","","","","","","","","","","","","","",""]
[{"$nulls":4},"","","","","","","","","","","","","","",""]
[{"$nulls":4},"","","","","","","","","","","","","","",""]
[{"$nulls":4},"","","","","","","","","","","","","","",""]
[{"$nulls":4},"","","","","","","","","","","","","","",""]
[{"$nulls":4},"","","","","","","","","","","","","","",""]
[{"$nulls":4},"","","","","","","","","","","","","","",""]
[{"$nulls":4},"","","","","","","","","","","","","","",""]
[{"$nulls":4},"","","","","","","","","","","","","","",""]
[{"$nulls":4},"","","","","","","","","","","","","","",""]
[{"$nulls":4},"","","","","","","","","","","","","","",""]
[{"$nulls":4},"","","","","","","","","","","","","","",""]
[{"$nulls":4},"","","","","","","","","","","","","","",""]
[{"$nulls":4},"","","","","","","","","","","","","","",""]
[{"$nulls":4},"","","","","","","","","","","","","","",""]
[{"$nulls":4},"","","","","","","","","","","","","","",""]
[{"$nulls":4},"","","","","","","","","","","","","","",""]
[{"$nulls":4},"","","","","","","","","","","","","","",""]
[{"$nulls":4},"","","","","","","","","","","","","","",""]
[{"$nulls":4},"","","","","","","","","","","","","","",""]
[{"$nulls":4},"","","","","","","","","","","","","","",""]
[{"$nulls":4},"","","","","","","","","","","","","","",""]
[{"$nulls":4},"","","","","","","","","","","","","","",""]
[{"$nulls":4},"","","","","","","","","","","","","","",""]
[{"$nulls":4},"","","","","","","","","","","","","","",""]
[{"$nulls":4},"","","","","","","","","","","","","","",""]
[{"$nulls":4},"","","","","","","","","","","","","","",""]
[{"$nulls":4},"","","","","","","","","","","","","","",""]
[{"$nulls":4},"","","","","","","","","","","","","","",""]
[{"$nulls":4},"","","","","","","","","","","","","","",""]
[{"$nulls":4},"","","","","","","","","","","","","","",""]
[{"$nulls":4},"","","","","","","","","","","","","","",""]
[{"$nulls":4},"","","","","","","","","","","","","","",""]
[{"$nulls":4},"","","","","","","","","","","","","","",""]
[{"$nulls":4},"","","","","","","","","","","","","","",""]
[{"$nulls":4},"","","","","","","","","","","","","","",""]
[{"$nulls":4},"","","","","","","","","","","","","","",""]
[{"$nulls":4},"","","","","","","","","","","","","","",""]
[{"$nulls":4},"","","","","","","","","","","","","","",""]
[{"$nulls":4},"","","","","","","","","","","","","","",""]
[{"$nulls":4},"","","","","","","","","","","","","","",""]
[{"$nulls":4},"","","","","","","","","","","","","","",""]
[{"$nulls":4},"","","","","","","","","","","","","","",""]
[{"$nulls":4},"","","","","","","","","","","","","","",""]
[{"$nulls":4},"","","","","","","","","","","","","","",""]
[{"$nulls":4},"","","","","","","","","","","","","","",""]
[{"$nulls":4},{"$f":"IF($A65154=\"\",\"\",IF(E$1=\"\",\"\",IF(IFERROR(SEARCH(E$1,$A65155),0) >0,E$1,0)))","v":""},{"$f":"IF($A65154=\"\",\"\",IF(F$1=\"\",\"\",IF(IFERROR(SEARCH(F$1,$A65155),0) >0,F$1,0)))","v":""},{"$f":"IF($A65154=\"\",\"\",IF(G$1=\"\",\"\",IF(IFERROR(SEARCH(G$1,$A65155),0) >0,G$1,0)))","v":""},{"$f":"IF($A65154=\"\",\"\",IF(H$1=\"\",\"\",IF(IFERROR(SEARCH(H$1,$A65155),0) >0,H$1,0)))","v":""},{"$f":"IF($A65154=\"\",\"\",IF(I$1=\"\",\"\",IF(IFERROR(SEARCH(I$1,$A65155),0) >0,I$1,0)))","v":""},{"$f":"IF($A65154=\"\",\"\",IF(J$1=\"\",\"\",IF(IFERROR(SEARCH(J$1,$A65155),0) >0,J$1,0)))","v":""},{"$f":"IF($A65154=\"\",\"\",IF(K$1=\"\",\"\",IF(IFERROR(SEARCH(K$1,$A65155),0) >0,K$1,0)))","v":""},{"$f":"IF($A65154=\"\",\"\",IF(L$1=\"\",\"\",IF(IFERROR(SEARCH(L$1,$A65155),0) >0,L$1,0)))","v":""},{"$f":"IF($A65154=\"\",\"\",IF(M$1=\"\",\"\",IF(IFERROR(SEARCH(M$1,$A65155),0) >0,M$1,0)))","v":""},{"$f":"IF($A65154=\"\",\"\",IF(N$1=\"\",\"\",IF(IFERROR(SEARCH(N$1,$A65155),0) >0,N$1,0)))","v":""},{"$f":"IF($A65154=\"\",\"\",IF(O$1=\"\",\"\",IF(IFERROR(SEARCH(O$1,$A65155),0) >0,O$1,0)))","v":""},{"$f":"IF($A65154=\"\",\"\",IF(P$1=\"\",\"\",IF(IFERROR(SEARCH(P$1,$A65155),0) >0,P$1,0)))","v":""},{"$f":"IF($A65154=\"\",\"\",IF(Q$1=\"\",\"\",IF(IFERROR(SEARCH(Q$1,$A65155),0) >0,Q$1,0)))","v":""},{"$f":"IF($A65154=\"\",\"\",IF(R$1=\"\",\"\",IF(IFERROR(SEARCH(R$1,$A65155),0) >0,R$1,0)))","v":""},{"$f":"IF($A65154=\"\",\"\",IF(S$1=\"\",\"\",IF(IFERROR(SEARCH(S$1,$A65155),0) >0,S$1,0)))","v":""}]
[{"$nulls":4},"","","","","","","","","","","","","","",""]
[{"$nulls":4},"","","","","","","","","","","","","","",""]
[{"$nulls":4},"","","","","","","","","","","","","","",""]
[{"$nulls":4},"","","","","","","","","","","","","","",""]
[{"$nulls":4},"","","","","","","","","","","","","","",""]
[{"$nulls":4},"","","","","","","","","","","","","","",""]
[{"$nulls":4},"","","","","","","","","","","","","","",""]
[{"$nulls":4},"","","","","","","","","","","","","","",""]
[{"$nulls":4},"","","","","","","","","","","","","","",""]
[{"$nulls":4},"","","","","","","","","","","","","","",""]
[{"$nulls":4},"","","","","","","","","","","","","","",""]
[{"$nulls":4},"","","","","","","","","","","","","","",""]
[{"$nulls":4},"","","","","","","","","","","","","","",""]
[{"$nulls":4},"","","","","","","","","","","","","","",""]
[{"$nulls":4},"","","","","","","","","","","","","","",""]
[{"$nulls":4},"","","","","","","","","","","","","","",""]
[{"$nulls":4},"","","","","","","","","","","","","","",""]
[{"$nulls":4},"","","","","","","","","","","","","","",""]
[{"$nulls":4},"","","","","","","","","","","","","","",""]
[{"$nulls":4},"","","","","","","","","","","","","","",""]
[{"$nulls":4},"","","","","","","","","","","","","","",""]
[{"$nulls":4},"","","","","","","","","","","","","","",""]
[{"$nulls":4},"","","","","","","","","","","","","","",""]
[{"$nulls":4},"","","","","","","","","","","","","","",""]
[{"$nulls":4},"","","","","","","","","","","","","","",""]
[{"$nulls":4},"","","","","","","","","","","","","","",""]
[{"$nulls":4},"","","","","","","","","","","","","","",""]
[{"$nulls":4},"","","","","","","","","","","","","","",""]
[{"$nulls":4},"","","","","","","","","","","","","","",""]
[{"$nulls":4},"","","","","","","","","","","","","","",""]
[{"$nulls":4},"","","","","","","","","","","","","","",""]
[{"$nulls":4},"","","","","","","","","","","","","","",""]
[{"$nulls":4},"","","","","","","","","","","","","","",""]
[{"$nulls":4},"","","","","","","","","","","","","","",""]
[{"$nulls":4},"","","","","","","","","","","","","","",""]
[{"$nulls":4},"","","","","","","","","","","","","","",""]
[{"$nulls":4},"","","","","","","","","","","","","","",""]
[{"$nulls":4},"","","","","","","","","","","","","","",""]
[{"$nulls":4},"","","","","","","","","","","","","","",""]
[{"$nulls":4},"","","","","","","","","","","","","","",""]
[{"$nulls":4},"","","","","","","","","","","","","","",""]
[{"$nulls":4},"","","","","","","","","","","","","","",""]
[{"$nulls":4},"","","","","","","","","","","","","","",""]
[{"$nulls":4},"","","","","","","","","","","","","","",""]
[{"$nulls":4},"","","","","","","","","","","","","","",""]
[{"$nulls":4},"","","","","","","","","","","","","","",""]
[{"$nulls":4},"","","","","","","","","","","","","","",""]
[{"$nulls":4},"","","","","","","","","","","","","","",""]
[{"$nulls":4},"","","","","","","","","","","","","","",""]
[{"$nulls":4},"","","","","","","","","","","","","","",""]
[{"$nulls":4},"","","","","","","","","","","","","","",""]
[{"$nulls":4},"","","","","","","","","","","","","","",""]
[{"$nulls":4},"","","","","","","","","","","","","","",""]
[{"$nulls":4},"","","","","","","","","","","","","","",""]
[{"$nulls":4},"","","","","","","","","","","","","","",""]
[{"$nulls":4},"","","","","","","","","","","","","","",""]
[{"$nulls":4},"","","","","","","","","","","","","","",""]
[{"$nulls":4},"","","","","","","","","","","","","","",""]
[{"$nulls":4},"","","","","","","","","","","","","","",""]
[{"$nulls":4},"","","","","","","","","","","","","","",""]
[{"$nulls":4},"","","","","","","","","","","","","","",""]
[{"$nulls":4},"","","","","","","","","","","","","","",""]
[{"$nulls":4},"","","","","","","","","","","","","","",""]
[{"$nulls":4},{"$f":"IF($A65218=\"\",\"\",IF(E$1=\"\",\"\",IF(IFERROR(SEARCH(E$1,$A65219),0) >0,E$1,0)))","v":""},{"$f":"IF($A65218=\"\",\"\",IF(F$1=\"\",\"\",IF(IFERROR(SEARCH(F$1,$A65219),0) >0,F$1,0)))","v":""},{"$f":"IF($A65218=\"\",\"\",IF(G$1=\"\",\"\",IF(IFERROR(SEARCH(G$1,$A65219),0) >0,G$1,0)))","v":""},{"$f":"IF($A65218=\"\",\"\",IF(H$1=\"\",\"\",IF(IFERROR(SEARCH(H$1,$A65219),0) >0,H$1,0)))","v":""},{"$f":"IF($A65218=\"\",\"\",IF(I$1=\"\",\"\",IF(IFERROR(SEARCH(I$1,$A65219),0) >0,I$1,0)))","v":""},{"$f":"IF($A65218=\"\",\"\",IF(J$1=\"\",\"\",IF(IFERROR(SEARCH(J$1,$A65219),0) >0,J$1,0)))","v":""},{"$f":"IF($A65218=\"\",\"\",IF(K$1=\"\",\"\",IF(IFERROR(SEARCH(K$1,$A65219),0) >0,K$1,0)))","v":""},{"$f":"IF($A65218=\"\",\"\",IF(L$1=\"\",\"\",IF(IFERROR(SEARCH(L$1,$A65219),0) >0,L$1,0)))","v":""},{"$f":"IF($A65218=\"\",\"\",IF(M$1=\"\",\"\",IF(IFERROR(SEARCH(M$1,$A65219),0) >0,M$1,0)))","v":""},{"$f":"IF($A65218=\"\",\"\",IF(N$1=\"\",\"\",IF(IFERROR(SEARCH(N$1,$A65219),0) >0,N$1,0)))","v":""},{"$f":"IF($A65218=\"\",\"\",IF(O$1=\"\",\"\",IF(IFERROR(SEARCH(O$1,$A65219),0) >0,O$1,0)))","v":""},{"$f":"IF($A65218=\"\",\"\",IF(P$1=\"\",\"\",IF(IFERROR(SEARCH(P$1,$A65219),0) >0,P$1,0)))","v":""},{"$f":"IF($A65218=\"\",\"\",IF(Q$1=\"\",\"\",IF(IFERROR(SEARCH(Q$1,$A65219),0) >0,Q$1,0)))","v":""},{"$f":"IF($A65218=\"\",\"\",IF(R$1=\"\",\"\",IF(IFERROR(SEARCH(R$1,$A65219),0) >0,R$1,0)))","v":""},{"$f":"IF($A65218=\"\",\"\",IF(S$1=\"\",\"\",IF(IFERROR(SEARCH(S$1,$A65219),0) >0,S$1,0)))","v":""}]
[{"$nulls":4},"","","","","","","","","","","","","","",""]
[{"$nulls":4},"","","","","","","","","","","","","","",""]
[{"$nulls":4},"","","","","","","","","","","","","","",""]
[{"$nulls":4},"","","","","","","","","","","","","","",""]
[{"$nulls":4},"","","","","","","","","","","","","","",""]
[{"$nulls":4},"","","","","","","","","","","","","","",""]
[{"$nulls":4},"","","","","","","","","","","","","","",""]
[{"$nulls":4},"","","","","","","","","","","","","","",""]
[{"$nulls":4},"","","","","","","","","","","","","","",""]
[{"$nulls":4},"","","","","","","","","","","","","","",""]
[{"$nulls":4},"","","","","","","","","","","","","","",""]
[{"$nulls":4},"","","","","","","","","","","","","","",""]
[{"$nulls":4},"","","","","","","","","","","","","","",""]
[{"$nulls":4},"","","","","","","","","","","","","","",""]
[{"$nulls":4},"","","","","","","","","","","","","","",""]
[{"$nulls":4},"","","","","","","","","","","","","","",""]
[{"$nulls":4},"","","","","","","","","","","","","","",""]
[{"$nulls":4},"","","","","","","","","","","","","","",""]
[{"$nulls":4},"","","","","","","","","","","","","","",""]
[{"$nulls":4},"","","","","","","","","","","","","","",""]
[{"$nulls":4},"","","","","","","","","","","","","","",""]
[{"$nulls":4},"","","","","","","","","","","","","","",""]
[{"$nulls":4},"","","","","","","","","","","","","","",""]
[{"$nulls":4},"","","","","","","","","","","","","","",""]
[{"$nulls":4},"","","","","","","","","","","","","","",""]
[{"$nulls":4},"","","","","","","","","","","","","","",""]
[{"$nulls":4},"","","","","","","","","","","","","","",""]
[{"$nulls":4},"","","","","","","","","","","","","","",""]
[{"$nulls":4},"","","","","","","","","","","","","","",""]
[{"$nulls":4},"","","","","","","","","","","","","","",""]
[{"$nulls":4},"","","","","","","","","","","","","","",""]
[{"$nulls":4},"","","","","","","","","","","","","","",""]
[{"$nulls":4},"","","","","","","","","","","","","","",""]
[{"$nulls":4},"","","","","","","","","","","","","","",""]
[{"$nulls":4},"","","","","","","","","","","","","","",""]
[{"$nulls":4},"","","","","","","","","","","","","","",""]
[{"$nulls":4},"","","","","","","","","","","","","","",""]
[{"$nulls":4},"","","","","","","","","","","","","","",""]
[{"$nulls":4},"","","","","","","","","","","","","","",""]
[{"$nulls":4},"","","","","","","","","","","","","","",""]
[{"$nulls":4},"","","","","","","","","","","","","","",""]
[{"$nulls":4},"","","","","","","","","","","","","","",""]
[{"$nulls":4},"","","","","","","","","","","","","","",""]
[{"$nulls":4},"","","","","","","","","","","","","","",""]
[{"$nulls":4},"","","","","","","","","","","","","","",""]
[{"$nulls":4},"","","","","","","","","","","","","","",""]
[{"$nulls":4},"","","","","","","","","","","","","","",""]
[{"$nulls":4},"","","","","","","","","","","","","","",""]
[{"$nulls":4},"","","","","","","","","","","","","","",""]
[{"$nulls":4},"","","","","","","","","","","","","","",""]
[{"$nulls":4},"","","","","","","","","","","","","","",""]
[{"$nulls":4},"","","","","","","","","","","","","","",""]
[{"$nulls":4},"","","","","","","","","","","","","","",""]
[{"$nulls":4},"","","","","","","","","","","","","","",""]
[{"$nulls":4},"","","","","","","","","","","","","","",""]
[{"$nulls":4},"","","","","","","","","","","","","","",""]
[{"$nulls":4},"","","","","","","","","","","","","","",""]
[{"$nulls":4},"","","","","","","","","","","","","","",""]
[{"$nulls":4},"","","","","","","","","","","","","","",""]
[{"$nulls":4},"","","","","","","","","","","","","","",""]
[{"$nulls":4},"","","","","","","","","","","","","","",""]
[{"$nulls":4},"","","","","","","","","","","","","","",""]
[{"$nulls":4},"","","","","","","","","","","","","","",""]
[{"$nulls":4},{"$f":"IF($A65282=\"\",\"\",IF(E$1=\"\",\"\",IF(IFERROR(SEARCH(E$1,$A65283),0) >0,E$1,0)))","v":""},{"$f":"IF($A65282=\"\",\"\",IF(F$1=\"\",\"\",IF(IFERROR(SEARCH(F$1,$A65283),0) >0,F$1,0)))","v":""},{"$f":"IF($A65282=\"\",\"\",IF(G$1=\"\",\"\",IF(IFERROR(SEARCH(G$1,$A65283),0) >0,G$1,0)))","v":""},{"$f":"IF($A65282=\"\",\"\",IF(H$1=\"\",\"\",IF(IFERROR(SEARCH(H$1,$A65283),0) >0,H$1,0)))","v":""},{"$f":"IF($A65282=\"\",\"\",IF(I$1=\"\",\"\",IF(IFERROR(SEARCH(I$1,$A65283),0) >0,I$1,0)))","v":""},{"$f":"IF($A65282=\"\",\"\",IF(J$1=\"\",\"\",IF(IFERROR(SEARCH(J$1,$A65283),0) >0,J$1,0)))","v":""},{"$f":"IF($A65282=\"\",\"\",IF(K$1=\"\",\"\",IF(IFERROR(SEARCH(K$1,$A65283),0) >0,K$1,0)))","v":""},{"$f":"IF($A65282=\"\",\"\",IF(L$1=\"\",\"\",IF(IFERROR(SEARCH(L$1,$A65283),0) >0,L$1,0)))","v":""},{"$f":"IF($A65282=\"\",\"\",IF(M$1=\"\",\"\",IF(IFERROR(SEARCH(M$1,$A65283),0) >0,M$1,0)))","v":""},{"$f":"IF($A65282=\"\",\"\",IF(N$1=\"\",\"\",IF(IFERROR(SEARCH(N$1,$A65283),0) >0,N$1,0)))","v":""},{"$f":"IF($A65282=\"\",\"\",IF(O$1=\"\",\"\",IF(IFERROR(SEARCH(O$1,$A65283),0) >0,O$1,0)))","v":""},{"$f":"IF($A65282=\"\",\"\",IF(P$1=\"\",\"\",IF(IFERROR(SEARCH(P$1,$A65283),0) >0,P$1,0)))","v":""},{"$f":"IF($A65282=\"\",\"\",IF(Q$1=\"\",\"\",IF(IFERROR(SEARCH(Q$1,$A65283),0) >0,Q$1,0)))","v":""},{"$f":"IF($A65282=\"\",\"\",IF(R$1=\"\",\"\",IF(IFERROR(SEARCH(R$1,$A65283),0) >0,R$1,0)))","v":""},{"$f":"IF($A65282=\"\",\"\",IF(S$1=\"\",\"\",IF(IFERROR(SEARCH(S$1,$A65283),0) >0,S$1,0)))","v":""}]
[{"$nulls":4},"","","","","","","","","","","","","","",""]
[{"$nulls":4},"","","","","","","","","","","","","","",""]
[{"$nulls":4},"","","","","","","","","","","","","","",""]
[{"$nulls":4},"","","","","","","","","","","","","","",""]
[{"$nulls":4},"","","","","","","","","","","","","","",""]
[{"$nulls":4},"","","","","","","","","","","","","","",""]
[{"$nulls":4},"","","","","","","","","","","","","","",""]
[{"$nulls":4},"","","","","","","","","","","","","","",""]
[{"$nulls":4},"","","","","","","","","","","","","","",""]
[{"$nulls":4},"","","","","","","","","","","","","","",""]
[{"$nulls":4},"","","","","","","","","","","","","","",""]
[{"$nulls":4},"","","","","","","","","","","","","","",""]
[{"$nulls":4},"","","","","","","","","","","","","","",""]
[{"$nulls":4},"","","","","","","","","","","","","","",""]
[{"$nulls":4},"","","","","","","","","","","","","","",""]
[{"$nulls":4},"","","","","","","","","","","","","","",""]
[{"$nulls":4},"","","","","","","","","","","","","","",""]
[{"$nulls":4},"","","","","","","","","","","","","","",""]
[{"$nulls":4},"","","","","","","","","","","","","","",""]
[{"$nulls":4},"","","","","","","","","","","","","","",""]
[{"$nulls":4},"","","","","","","","","","","","","","",""]
[{"$nulls":4},"","","","","","","","","","","","","","",""]
[{"$nulls":4},"","","","","","","","","","","","","","",""]
[{"$nulls":4},"","","","","","","","","","","","","","",""]
[{"$nulls":4},"","","","","","","","","","","","","","",""]
[{"$nulls":4},"","","","","","","","","","","","","","",""]
[{"$nulls":4},"","","","","","","","","","","","","","",""]
[{"$nulls":4},"","","","","","","","","","","","","","",""]
[{"$nulls":4},"","","","","","","","","","","","","","",""]
[{"$nulls":4},"","","","","","","","","","","","","","",""]
[{"$nulls":4},"","","","","","","","","","","","","","",""]
[{"$nulls":4},"","","","","","","","","","","","","","",""]
[{"$nulls":4},"","","","","","","","","","","","","","",""]
[{"$nulls":4},"","","","","","","","","","","","","","",""]
[{"$nulls":4},"","","","","","","","","","","","","","",""]
[{"$nulls":4},"","","","","","","","","","","","","","",""]
[{"$nulls":4},"","","","","","","","","","","","","","",""]
[{"$nulls":4},"","","","","","","","","","","","","","",""]
[{"$nulls":4},"","","","","","","","","","","","","","",""]
[{"$nulls":4},"","","","","","","","","","","","","","",""]
[{"$nulls":4},"","","","","","","","","","","","","","",""]
[{"$nulls":4},"","","","","","","","","","","","","","",""]
[{"$nulls":4},"","","","","","","","","","","","","","",""]
[{"$nulls":4},"","","","","","","","","","","","","","",""]
[{"$nulls":4},"","","","","","","","","","","","","","",""]
[{"$nulls":4},"","","","","","","","","","","","","","",""]
[{"$nulls":4},"","","","","","","","","","","","","","",""]
[{"$nulls":4},"","","","","","","","","","","","","","",""]
[{"$nulls":4},"","","","","","","","","","","","","","",""]
[{"$nulls":4},"","","","","","","","","","","","","","",""]
[{"$nulls":4},"","","","","","","","","","","","","","",""]
[{"$nulls":4},"","","","","","","","","","","","","","",""]
[{"$nulls":4},"","","","","","","","","","","","","","",""]
[{"$nulls":4},"","","","","","","","","","","","","","",""]
[{"$nulls":4},"","","","","","","","","","","","","","",""]
[{"$nulls":4},"","","","","","","","","","","","","","",""]
[{"$nulls":4},"","","","","","","","","","","","","","",""]
[{"$nulls":4},"","","","","","","","","","","","","","",""]
[{"$nulls":4},"","","","","","","","","","","","","","",""]
[{"$nulls":4},"","","","","","","","","","","","","","",""]
[{"$nulls":4},"","","","","","","","","","","","","","",""]
[{"$nulls":4},"","","","","","","","","","","","","","",""]
[{"$nulls":4},"","","","","","","","","","","","","","",""]
[{"$nulls":4},{"$f":"IF($A65346=\"\",\"\",IF(E$1=\"\",\"\",IF(IFERROR(SEARCH(E$1,$A65347),0) >0,E$1,0)))","v":""},{"$f":"IF($A65346=\"\",\"\",IF(F$1=\"\",\"\",IF(IFERROR(SEARCH(F$1,$A65347),0) >0,F$1,0)))","v":""},{"$f":"IF($A65346=\"\",\"\",IF(G$1=\"\",\"\",IF(IFERROR(SEARCH(G$1,$A65347),0) >0,G$1,0)))","v":""},{"$f":"IF($A65346=\"\",\"\",IF(H$1=\"\",\"\",IF(IFERROR(SEARCH(H$1,$A65347),0) >0,H$1,0)))","v":""},{"$f":"IF($A65346=\"\",\"\",IF(I$1=\"\",\"\",IF(IFERROR(SEARCH(I$1,$A65347),0) >0,I$1,0)))","v":""},{"$f":"IF($A65346=\"\",\"\",IF(J$1=\"\",\"\",IF(IFERROR(SEARCH(J$1,$A65347),0) >0,J$1,0)))","v":""},{"$f":"IF($A65346=\"\",\"\",IF(K$1=\"\",\"\",IF(IFERROR(SEARCH(K$1,$A65347),0) >0,K$1,0)))","v":""},{"$f":"IF($A65346=\"\",\"\",IF(L$1=\"\",\"\",IF(IFERROR(SEARCH(L$1,$A65347),0) >0,L$1,0)))","v":""},{"$f":"IF($A65346=\"\",\"\",IF(M$1=\"\",\"\",IF(IFERROR(SEARCH(M$1,$A65347),0) >0,M$1,0)))","v":""},{"$f":"IF($A65346=\"\",\"\",IF(N$1=\"\",\"\",IF(IFERROR(SEARCH(N$1,$A65347),0) >0,N$1,0)))","v":""},{"$f":"IF($A65346=\"\",\"\",IF(O$1=\"\",\"\",IF(IFERROR(SEARCH(O$1,$A65347),0) >0,O$1,0)))","v":""},{"$f":"IF($A65346=\"\",\"\",IF(P$1=\"\",\"\",IF(IFERROR(SEARCH(P$1,$A65347),0) >0,P$1,0)))","v":""},{"$f":"IF($A65346=\"\",\"\",IF(Q$1=\"\",\"\",IF(IFERROR(SEARCH(Q$1,$A65347),0) >0,Q$1,0)))","v":""},{"$f":"IF($A65346=\"\",\"\",IF(R$1=\"\",\"\",IF(IFERROR(SEARCH(R$1,$A65347),0) >0,R$1,0)))","v":""},{"$f":"IF($A65346=\"\",\"\",IF(S$1=\"\",\"\",IF(IFERROR(SEARCH(S$1,$A65347),0) >0,S$1,0)))","v":""}]
[{"$nulls":4},"","","","","","","","","","","","","","",""]
[{"$nulls":4},"","","","","","","","","","","","","","",""]
[{"$nulls":4},"","","","","","","","","","","","","","",""]
[{"$nulls":4},"","","","","","","","","","","","","","",""]
[{"$nulls":4},"","","","","","","","","","","","","","",""]
[{"$nulls":4},"","","","","","","","","","","","","","",""]
[{"$nulls":4},"","","","","","","","","","","","","","",""]
[{"$nulls":4},"","","","","","","","","","","","","","",""]
[{"$nulls":4},"","","","","","","","","","","","","","",""]
[{"$nulls":4},"","","","","","","","","","","","","","",""]
[{"$nulls":4},"","","","","","","","","","","","","","",""]
[{"$nulls":4},"","","","","","","","","","","","","","",""]
[{"$nulls":4},"","","","","","","","","","","","","","",""]
[{"$nulls":4},"","","","","","","","","","","","","","",""]
[{"$nulls":4},"","","","","","","","","","","","","","",""]
[{"$nulls":4},"","","","","","","","","","","","","","",""]
[{"$nulls":4},"","","","","","","","","","","","","","",""]
[{"$nulls":4},"","","","","","","","","","","","","","",""]
[{"$nulls":4},"","","","","","","","","","","","","","",""]
[{"$nulls":4},"","","","","","","","","","","","","","",""]
[{"$nulls":4},"","","","","","","","","","","","","","",""]
[{"$nulls":4},"","","","","","","","","","","","","","",""]
[{"$nulls":4},"","","","","","","","","","","","","","",""]
[{"$nulls":4},"","","","","","","","","","","","","","",""]
[{"$nulls":4},"","","","","","","","","","","","","","",""]
[{"$nulls":4},"","","","","","","","","","","","","","",""]
[{"$nulls":4},"","","","","","","","","","","","","","",""]
[{"$nulls":4},"","","","","","","","","","","","","","",""]
[{"$nulls":4},"","","","","","","","","","","","","","",""]
[{"$nulls":4},"","","","","","","","","","","","","","",""]
[{"$nulls":4},"","","","","","","","","","","","","","",""]
[{"$nulls":4},"","","","","","","","","","","","","","",""]
[{"$nulls":4},"","","","","","","","","","","","","","",""]
[{"$nulls":4},"","","","","","","","","","","","","","",""]
[{"$nulls":4},"","","","","","","","","","","","","","",""]
[{"$nulls":4},"","","","","","","","","","","","","","",""]
[{"$nulls":4},"","","","","","","","","","","","","","",""]
[{"$nulls":4},"","","","","","","","","","","","","","",""]
[{"$nulls":4},"","","","","","","","","","","","","","",""]
[{"$nulls":4},"","","","","","","","","","","","","","",""]
[{"$nulls":4},"","","","","","","","","","","","","","",""]
[{"$nulls":4},"","","","","","","","","","","","","","",""]
[{"$nulls":4},"","","","","","","","","","","","","","",""]
[{"$nulls":4},"","","","","","","","","","","","","","",""]
[{"$nulls":4},"","","","","","","","","","","","","","",""]
[{"$nulls":4},"","","","","","","","","","","","","","",""]
[{"$nulls":4},"","","","","","","","","","","","","","",""]
[{"$nulls":4},"","","","","","","","","","","","","","",""]
[{"$nulls":4},"","","","","","","","","","","","","","",""]
[{"$nulls":4},"","","","","","","","","","","","","","",""]
[{"$nulls":4},"","","","","","","","","","","","","","",""]
[{"$nulls":4},"","","","","","","","","","","","","","",""]
[{"$nulls":4},"","","","","","","","","","","","","","",""]
[{"$nulls":4},"","","","","","","","","","","","","","",""]
[{"$nulls":4},"","","","","","","","","","","","","","",""]
[{"$nulls":4},"","","","","","","","","","","","","","",""]
[{"$nulls":4},"","","","","","","","","","","","","","",""]
[{"$nulls":4},"","","","","","","","","","","","","","",""]
[{"$nulls":4},"","","","","","","","","","","","","","",""]
[{"$nulls":4},"","","","","","","","","","","","","","",""]
[{"$nulls":4},"","","","","","","","","","","","","","",""]
[{"$nulls":4},"","","","","","","","","","","","","","",""]
[{"$nulls":4},"","","","","","","","","","","","","","",""]
[{"$nulls":4},{"$f":"IF($A65410=\"\",\"\",IF(E$1=\"\",\"\",IF(IFERROR(SEARCH(E$1,$A65411),0) >0,E$1,0)))","v":""},{"$f":"IF($A65410=\"\",\"\",IF(F$1=\"\",\"\",IF(IFERROR(SEARCH(F$1,$A65411),0) >0,F$1,0)))","v":""},{"$f":"IF($A65410=\"\",\"\",IF(G$1=\"\",\"\",IF(IFERROR(SEARCH(G$1,$A65411),0) >0,G$1,0)))","v":""},{"$f":"IF($A65410=\"\",\"\",IF(H$1=\"\",\"\",IF(IFERROR(SEARCH(H$1,$A65411),0) >0,H$1,0)))","v":""},{"$f":"IF($A65410=\"\",\"\",IF(I$1=\"\",\"\",IF(IFERROR(SEARCH(I$1,$A65411),0) >0,I$1,0)))","v":""},{"$f":"IF($A65410=\"\",\"\",IF(J$1=\"\",\"\",IF(IFERROR(SEARCH(J$1,$A65411),0) >0,J$1,0)))","v":""},{"$f":"IF($A65410=\"\",\"\",IF(K$1=\"\",\"\",IF(IFERROR(SEARCH(K$1,$A65411),0) >0,K$1,0)))","v":""},{"$f":"IF($A65410=\"\",\"\",IF(L$1=\"\",\"\",IF(IFERROR(SEARCH(L$1,$A65411),0) >0,L$1,0)))","v":""},{"$f":"IF($A65410=\"\",\"\",IF(M$1=\"\",\"\",IF(IFERROR(SEARCH(M$1,$A65411),0) >0,M$1,0)))","v":""},{"$f":"IF($A65410=\"\",\"\",IF(N$1=\"\",\"\",IF(IFERROR(SEARCH(N$1,$A65411),0) >0,N$1,0)))","v":""},{"$f":"IF($A65410=\"\",\"\",IF(O$1=\"\",\"\",IF(IFERROR(SEARCH(O$1,$A65411),0) >0,O$1,0)))","v":""},{"$f":"IF($A65410=\"\",\"\",IF(P$1=\"\",\"\",IF(IFERROR(SEARCH(P$1,$A65411),0) >0,P$1,0)))","v":""},{"$f":"IF($A65410=\"\",\"\",IF(Q$1=\"\",\"\",IF(IFERROR(SEARCH(Q$1,$A65411),0) >0,Q$1,0)))","v":""},{"$f":"IF($A65410=\"\",\"\",IF(R$1=\"\",\"\",IF(IFERROR(SEARCH(R$1,$A65411),0) >0,R$1,0)))","v":""},{"$f":"IF($A65410=\"\",\"\",IF(S$1=\"\",\"\",IF(IFERROR(SEARCH(S$1,$A65411),0) >0,S$1,0)))","v":""}]
[{"$nulls":4},"","","","","","","","","","","","","","",""]
[{"$nulls":4},"","","","","","","","","","","","","","",""]
[{"$nulls":4},"","","","","","","","","","","","","","",""]
[{"$nulls":4},"","","","","","","","","","","","","","",""]
[{"$nulls":4},"","","","","","","","","","","","","","",""]
[{"$nulls":4},"","","","","","","","","","","","","","",""]
[{"$nulls":4},"","","","","","","","","","","","","","",""]
[{"$nulls":4},"","","","","","","","","","","","","","",""]
[{"$nulls":4},"","","","","","","","","","","","","","",""]
[{"$nulls":4},"","","","","","","","","","","","","","",""]
[{"$nulls":4},"","","","","","","","","","","","","","",""]
[{"$nulls":4},"","","","","","","","","","","","","","",""]
[{"$nulls":4},"","","","","","","","","","","","","","",""]
[{"$nulls":4},"","","","","","","","","","","","","","",""]
[{"$nulls":4},"","","","","","","","","","","","","","",""]
[{"$nulls":4},"","","","","","","","","","","","","","",""]
[{"$nulls":4},"","","","","","","","","","","","","","",""]
[{"$nulls":4},"","","","","","","","","","","","","","",""]
[{"$nulls":4},"","","","","","","","","","","","","","",""]
[{"$nulls":4},"","","","","","","","","","","","","","",""]
[{"$nulls":4},"","","","","","","","","","","","","","",""]
[{"$nulls":4},"","","","","","","","","","","","","","",""]
[{"$nulls":4},"","","","","","","","","","","","","","",""]
[{"$nulls":4},"","","","","","","","","","","","","","",""]
[{"$nulls":4},"","","","","","","","","","","","","","",""]
[{"$nulls":4},"","","","","","","","","","","","","","",""]
[{"$nulls":4},"","","","","","","","","","","","","","",""]
[{"$nulls":4},"","","","","","","","","","","","","","",""]
[{"$nulls":4},"","","","","","","","","","","","","","",""]
[{"$nulls":4},"","","","","","","","","","","","","","",""]
[{"$nulls":4},"","","","","","","","","","","","","","",""]
[{"$nulls":4},"","","","","","","","","","","","","","",""]
[{"$nulls":4},"","","","","","","","","","","","","","",""]
[{"$nulls":4},"","","","","","","","","","","","","","",""]
[{"$nulls":4},"","","","","","","","","","","","","","",""]
[{"$nulls":4},"","","","","","","","","","","","","","",""]
[{"$nulls":4},"","","","","","","","","","","","","","",""]
[{"$nulls":4},"","","","","","","","","","","","","","",""]
[{"$nulls":4},"","","","","","","","","","","","","","",""]
[{"$nulls":4},"","","","","","","","","","","","","","",""]
[{"$nulls":4},"","","","","","","","","","","","","","",""]
[{"$nulls":4},"","","","","","","","","","","","","","",""]
[{"$nulls":4},"","","","","","","","","","","","","","",""]
[{"$nulls":4},"","","","","","","","","","","","","","",""]
[{"$nulls":4},"","","","","","","","","","","","","","",""]
[{"$nulls":4},"","","","","","","","","","","","","","",""]
[{"$nulls":4},"","","","","","","","","","","","","","",""]
[{"$nulls":4},"","","","","","","","","","","","","","",""]
[{"$nulls":4},"","","","","","","","","","","","","","",""]
[{"$nulls":4},"","","","","","","","","","","","","","",""]
[{"$nulls":4},"","","","","","","","","","","","","","",""]
[{"$nulls":4},"","","","","","","","","","","","","","",""]
[{"$nulls":4},"","","","","","","","","","","","","","",""]
[{"$nulls":4},"","","","","","","","","","","","","","",""]
[{"$nulls":4},"","","","","","","","","","","","","","",""]
[{"$nulls":4},"","","","","","","","","","","","","","",""]
[{"$nulls":4},"","","","","","","","","","","","","","",""]
[{"$nulls":4},"","","","","","","","","","","","","","",""]
[{"$nulls":4},"","","","","","","","","","","","","","",""]
[{"$nulls":4},"","","","","","","","","","","","","","",""]
[{"$nulls":4},"","","","","","","","","","","","","","",""]
[{"$nulls":4},"","","","","","","","","","","","","","",""]
[{"$nulls":4},"","","","","","","","","","","","","","",""]
[{"$nulls":4},{"$f":"IF($A65474=\"\",\"\",IF(E$1=\"\",\"\",IF(IFERROR(SEARCH(E$1,$A65475),0) >0,E$1,0)))","v":""},{"$f":"IF($A65474=\"\",\"\",IF(F$1=\"\",\"\",IF(IFERROR(SEARCH(F$1,$A65475),0) >0,F$1,0)))","v":""},{"$f":"IF($A65474=\"\",\"\",IF(G$1=\"\",\"\",IF(IFERROR(SEARCH(G$1,$A65475),0) >0,G$1,0)))","v":""},{"$f":"IF($A65474=\"\",\"\",IF(H$1=\"\",\"\",IF(IFERROR(SEARCH(H$1,$A65475),0) >0,H$1,0)))","v":""},{"$f":"IF($A65474=\"\",\"\",IF(I$1=\"\",\"\",IF(IFERROR(SEARCH(I$1,$A65475),0) >0,I$1,0)))","v":""},{"$f":"IF($A65474=\"\",\"\",IF(J$1=\"\",\"\",IF(IFERROR(SEARCH(J$1,$A65475),0) >0,J$1,0)))","v":""},{"$f":"IF($A65474=\"\",\"\",IF(K$1=\"\",\"\",IF(IFERROR(SEARCH(K$1,$A65475),0) >0,K$1,0)))","v":""},{"$f":"IF($A65474=\"\",\"\",IF(L$1=\"\",\"\",IF(IFERROR(SEARCH(L$1,$A65475),0) >0,L$1,0)))","v":""},{"$f":"IF($A65474=\"\",\"\",IF(M$1=\"\",\"\",IF(IFERROR(SEARCH(M$1,$A65475),0) >0,M$1,0)))","v":""},{"$f":"IF($A65474=\"\",\"\",IF(N$1=\"\",\"\",IF(IFERROR(SEARCH(N$1,$A65475),0) >0,N$1,0)))","v":""},{"$f":"IF($A65474=\"\",\"\",IF(O$1=\"\",\"\",IF(IFERROR(SEARCH(O$1,$A65475),0) >0,O$1,0)))","v":""},{"$f":"IF($A65474=\"\",\"\",IF(P$1=\"\",\"\",IF(IFERROR(SEARCH(P$1,$A65475),0) >0,P$1,0)))","v":""},{"$f":"IF($A65474=\"\",\"\",IF(Q$1=\"\",\"\",IF(IFERROR(SEARCH(Q$1,$A65475),0) >0,Q$1,0)))","v":""},{"$f":"IF($A65474=\"\",\"\",IF(R$1=\"\",\"\",IF(IFERROR(SEARCH(R$1,$A65475),0) >0,R$1,0)))","v":""},{"$f":"IF($A65474=\"\",\"\",IF(S$1=\"\",\"\",IF(IFERROR(SEARCH(S$1,$A65475),0) >0,S$1,0)))","v":""}]
[{"$nulls":4},"","","","","","","","","","","","","","",""]
[{"$nulls":4},"","","","","","","","","","","","","","",""]
[{"$nulls":4},"","","","","","","","","","","","","","",""]
[{"$nulls":4},"","","","","","","","","","","","","","",""]
[{"$nulls":4},"","","","","","","","","","","","","","",""]
[{"$nulls":4},"","","","","","","","","","","","","","",""]
[{"$nulls":4},"","","","","","","","","","","","","","",""]
[{"$nulls":4},"","","","","","","","","","","","","","",""]
[{"$nulls":4},"","","","","","","","","","","","","","",""]
[{"$nulls":4},"","","","","","","","","","","","","","",""]
[{"$nulls":4},"","","","","","","","","","","","","","",""]
[{"$nulls":4},"","","","","","","","","","","","","","",""]
[{"$nulls":4},"","","","","","","","","","","","","","",""]
[{"$nulls":4},"","","","","","","","","","","","","","",""]
[{"$nulls":4},"","","","","","","","","","","","","","",""]
[{"$nulls":4},"","","","","","","","","","","","","","",""]
[{"$nulls":4},"","","","","","","","","","","","","","",""]
[{"$nulls":4},"","","","","","","","","","","","","","",""]
[{"$nulls":4},"","","","","","","","","","","","","","",""]
[{"$nulls":4},"","","","","","","","","","","","","","",""]
[{"$nulls":4},"","","","","","","","","","","","","","",""]
[{"$nulls":4},"","","","","","","","","","","","","","",""]
[{"$nulls":4},"","","","","","","","","","","","","","",""]
[{"$nulls":4},"","","","","","","","","","","","","","",""]
[{"$nulls":4},"","","","","","","","","","","","","","",""]
[{"$nulls":4},"","","","","","","","","","","","","","",""]
[{"$nulls":4},"","","","","","","","","","","","","","",""]
[{"$nulls":4},"","","","","","","","","","","","","","",""]
[{"$nulls":4},"","","","","","","","","","","","","","",""]
[{"$nulls":4},"","","","","","","","","","","","","","",""]
[{"$nulls":4},"","","","","","","","","","","","","","",""]
[{"$nulls":4},"","","","","","","","","","","","","","",""]
[{"$nulls":4},"","","","","","","","","","","","","","",""]
[{"$nulls":4},"","","","","","","","","","","","","","",""]
[{"$nulls":4},"","","","","","","","","","","","","","",""]
[{"$nulls":4},"","","","","","","","","","","","","","",""]
[{"$nulls":4},"","","","","","","","","","","","","","",""]
[{"$nulls":4},"","","","","","","","","","","","","","",""]
[{"$nulls":4},"","","","","","","","","","","","","","",""]
[{"$nulls":4},"","","","","","","","","","","","","","",""]
[{"$nulls":4},"","","","","","","","","","","","","","",""]
[{"$nulls":4},"","","","","","","","","","","","","","",""]
[{"$nulls":4},"","","","","","","","","","","","","","",""]
[{"$nulls":4},"","","","","","","","","","","","","","",""]
[{"$nulls":4},"","","","","","","","","","","","","","",""]
[{"$nulls":4},"","","","","","","","","","","","","","",""]
[{"$nulls":4},"","","","","","","","","","","","","","",""]
[{"$nulls":4},"","","","","","","","","","","","","","",""]
[{"$nulls":4},"","","","","","","","","","","","","","",""]
[{"$nulls":4},"","","","","","","","","","","","","","",""]
[{"$nulls":4},"","","","","","","","","","","","","","",""]
[{"$nulls":4},"","","","","","","","","","","","","","",""]
[{"$nulls":4},"","","","","","","","","","","","","","",""]
[{"$nulls":4},"","","","","","","","","","","","","","",""]
[{"$nulls":4},"","","","","","","","","","","","","","",""]
[{"$nulls":4},"","","","","","","","","","","","","","",""]
[{"$nulls":4},"","","","","","","","","","","","","","",""]
[{"$nulls":4},"","","","","","","","","","","","","","",""]
[{"$nulls":4},"","","","","","","","","","","","","","",""]
[{"$nulls":4},"","","","","","","","","","","","","","",""]
[{"$nulls":4},"","","","","","","","","","","","","","",""]

{"sheet":"关键词参数","index":2,"n_rows":15,"n_cols":1,"rows_kept":15,"cut":false,"hidden":true,"merged":[]}
["潮"]
["春装"]
["女"]
["女装"]
["外套"]
["小西装"]
[2013]
["西服"]
["休闲"]
["修身"]
["春季"]
["春秋"]
["白色"]
["xxx"]
["xxx"]

{"sheet":"数据透视表","index":3,"n_rows":434,"n_cols":6,"rows_kept":434,"cut":false,"hidden":true,"merged":[]}
[{"$nulls":5},"查看相关关键词数据，在前15行进行筛选"]
[{"$nulls":5},"要查看的数据，选择该关键词，其余选择（全部）"]
["潮","(全部)"]
["春装","(全部)"]
["女","(全部)"]
["女装","(全部)"]
["外套","(全部)"]
["西服","(全部)"]
["休闲","(全部)"]
["修身","(全部)"]
["春秋","(全部)"]
["春季","(全部)"]
["白色","(全部)"]
["2013","(全部)"]
["小西装","小西装"]
[]
[null,"数据"]
["关键词","求和项:访客","求和项:销量"]
["2012春秋新款通勤修身小西服长袖小西装外套 女装韩版休闲中长款",1,1]
["2012秋装韩版最新款修身百搭小西装 雪纺拼接女装长袖西服外套",1,0]
["2012新款春秋女装韩版修身休闲一粒扣雪纺小西装西服女中长款外套",4,0]
["2013 春装 韩版修身长袖小西装",1,0]
["2013 春装 女装外套 小西装",1,0]
["2013 春装 女装小西装",3,1]
["2013 春装 小西装",1,0]
["2013 春装 小西装女装",1,0]
["2013 春装 中场款小西装",1,0]
["2013 小西装 女装",2,0]
["2013白色中长小西装",1,0]
["2013春 小西装",1,0]
["2013春季韩版修身小西装女",1,0]
["2013春季女装新款修身中长款小西装小外套",1,0]
["2013春秋 小西装 修身 女",1,0]
["2013春秋女装外套休闲小西服韩版修身小西装",1,0]
["2013春秋小西装",1,0]
["2013春秋新款女装韩版修身显瘦小西装中长款雪纺大码拼接西服外套",1,0]
["2013春秋新款女装韩版中长款修身显瘦小西服 雪纺拼接小西装外套",4,1]
["2013春秋修身小西装",1,0]
["2013春秋装新款韩版中长款修身小西装",1,0]
["2013春秋装新款西服小西装外套女",1,0]
["2013春装 白色小西装外套",1,0]
["2013春装韩版女装小西装",1,0]
["2013春装韩版女装修身小西装中长款",1,0]
["2013春装女装新款小西装",1,0]
["2013春装小西装女",2,0]
["2013春装新款女式修身后背雪纺拼接韩版小西装大码西装女装",2,0]
["2013春装新款女装修身外套韩版修身小西装女装小外套西服",1,0]
["2013春装新款小西装韩版",1,0]
["2013春装新款小西装外套女韩版修身中长西服",1,0]
["2013春装新款中长款小西装外套女韩版修身小西装一粒扣",1,0]
["2013韩版小西装女",2,0]
["2013小西装春秋装新款西服韩版修身小外套",1,0]
["2013小西装外套",1,0]
["2013小西装外套 女",6,1]
["2013小西装新款 潮 女",11,0]
["2013新款春装 小西装",1,0]
["2013新款春装韩版女装修身休闲白色小西装西服女中长款春秋外套潮",8,0]
["2013新款春装韩版女装修身休闲白色小西装西服女中长款春秋外套潮 西装",1,0]
["2013新款春装韩版小西装女一粒扣中长款外套女西装",1,0]
["2013新款春装外套女 小西装",1,0]
["2013新款韩版修身小西装中长款外套 女装小西服",1,0]
["2013新款小西装",1,0]
["2013新款小西装女",1,0]
["2013修身小西装",1,0]
["2013长款小西装白色",1,0]
["h.only2013春正品代购原单新款女装韩版修身小西装西服女 举报中心",1,0]
["白色 小西装 女",2,0]
["白色 小西装 女 春",1,0]
["白色小西装",29,2]
["白色小西装  女",1,0]
["白色小西装 韩版",3,0]
["白色小西装 韩版女",1,0]
["白色小西装 女",1,0]
["白色小西装 女 韩版",1,0]
["白色小西装 女 修身",31,1]
["白色小西装 女 修身 包邮",2,0]
["白色小西装 修身 女 韩版  包邮",1,0]
["白色小西装 长",1,0]
["白色小西装女",1,0]
["白色小西装女包邮",1,0]
["白色小西装女潮",1,0]
["白色小西装女士",1,0]
["白色小西装女修身韩版 包邮",1,0]
["白色小西装外套女",2,0]
["白色小西装夏",1,0]
["白色休闲小西装女",1,0]
["白色修身小西装春装",1,0]
["白色修身小西装女",1,0]
["白色修身长款小西装",1,0]
["白色雪纺拼接小西装",1,1]
["白色雪纺小西装",1,0]
["白色长款小西装 韩版",1,0]
["白色长款修身小西装",1,0]
["白色长小西装",1,0]
["白色中长款小西装女春",1,0]
["包邮 小西装",1,0]
["包邮韩版小西装女",1,0]
["包邮小西装外套女",1,0]
["潮2013春秋女装 韩版新款 修身一粒扣休闲小西服小西装",1,0]
["春 小西装 女",1,0]
["春季小西装女",2,0]
["春季小西装女装 2013",2,0]
["春款新品 韩版甜美修身显瘦双排扣撞色拼接中长款小西装外套",1,0]
["春秋季装韩版女小西装",1,0]
["春秋款小西装女",1,0]
["春秋女装小西装",1,0]
["春秋女装修身款小西装",1,0]
["春秋外套修身小西装 雪纺拼接西服外套 韩版修身女装",1,0]
["春秋小西装",1,0]
["春秋小西装 包邮",1,0]
["春秋小西装 女 韩版",1,0]
["春秋小西装 女 修身",1,0]
["春秋小西装 女 中长款",3,0]
["春秋小西装外套",1,0]
["春秋小西装外套女",6,0]
["春秋小西装西服外套女装",1,0]
["春秋小西装西服小外套",1,0]
["春小西装外套女",1,0]
["春装 白色 小西装 女款",1,0]
["春装 小西装潮 女",2,1]
["春装2013小西装女",1,0]
["春装女装小西装",1,0]
["春装外套 小西装",1,0]
["春装小西装",2,0]
["春装小西装 女款2013",2,0]
["春装小西装韩版",1,0]
["春装小西装女款2013",1,0]
["春装小西装外套女",1,0]
["春装新款2013 小西装",1,0]
["春装新款2013女装韩版修身显瘦短款外套时尚长袖小西装外套9780",1,0]
["春装新款2013小西装秒杀",1,0]
["春装新款韩版女装西装休闲中长款修身西服小西装外套",1,0]
["春装新款韩版小西装白色",1,0]
["春装新款女装韩版修身小西装小西服外套",1,0]
["春装新款女装小西装外套",1,0]
["纯白色修身小西装",1,0]
["纯色小西装 女",1,0]
["纯色中长款西服长袖外套小西装",1,0]
["促销 特价 春秋小西装外套",1,0]
["凡恩 小西装",1,0]
["韩版 小西装 潮 女",2,0]
["韩版 小西装 潮 女 修身",1,0]
["韩版 小西装 女",1,0]
["韩版 小西装 女士",1,0]
["韩版白色小西装 女 秋",1,0]
["韩版春秋女士休闲西服修身开衫薄外衣ol雪纺拼接中长款小西装外套&yen",5,0]
["韩版春装小西装女",1,0]
["韩版女装外套小西装西服",1,0]
["韩版女装小西装",1,0]
["韩版女装修身小西装中长款",1,0]
["韩版女装修身休闲白色小西装西服女中长款",2,0]
["韩版小外套女小西装",1,0]
["韩版小西装",1,0]
["韩版小西装 女",1,0]
["韩版小西装 女款",1,0]
["韩版小西装女",3,0]
["韩版小西装女款",1,0]
["韩版小西装女修身中长款小西服女",1,0]
["韩版小西装女装新款",2,0]
["韩版小西装外套",1,0]
["韩版小西装修身女",7,0]
["韩版休闲小西装外套2013春装新款女装中长款修身西服",1,0]
["韩版修身小西装",1,1]
["韩版修身小西装女",1,0]
["韩版修身小西装女春装",2,0]
["韩版修身休闲小西装外套",1,0]
["韩版修身休闲小西装外套包邮",1,0]
["韩版修身休闲中长款一粒扣雪纺小西装",1,0]
["韩版修身休闲中长款一粒扣雪纺小西装西服外套",3,0]
["韩版修身中长款小西装",3,0]
["韩版中长款长袖修身小西装",2,0]
["韩小西装女",1,0]
["黑 修身 小西装 休闲 潮",1,0]
["黑色 小西装 女",1,0]
["黑色小西装 女",1,0]
["黑色小西装 女 修身",2,0]
["黑色小西装 修身 女 韩版",1,0]
["黑色小西装休闲 特价",1,0]
["黑色修身小西装女",1,0]
["红色 修身 小西装",1,0]
["红色小西装",2,0]
["红色小西装女修身",1,0]
["红袖2013春装 白色小西装",1,0]
["红袖江南 小西装",1,0]
["红袖小西装",2,0]
["后背雪纺拼接小西装外套3色",1,0]
["牛仔小西装女修身",1,0]
["女 白色小西装",1,0]
["女 小西装",6,0]
["女 小西装 春",1,0]
["女 小西装 春秋",2,0]
["女春装2013新款小西装",1,0]
["女韩版修身小西装",1,0]
["女款 小西装 春秋 休闲",1,0]
["女款白色小西装",1,0]
["女款春装外套小西装",1,0]
["女款小西装",2,0]
["女款小西装2013",1,0]
["女款小西装春装2013",2,0]
["女款小西装修身",1,0]
["女款小西装中长款",1,0]
["女款休闲小西装",1,0]
["女款长袖小西装",1,0]
["女款中长款小西装",2,0]
["女生韩版小西装 包邮",1,0]
["女生小西装",2,0]
["女生新款韩版小西装",1,0]
["女生休闲小西装",1,0]
["女士白色小西装",3,0]
["女士春秋小西装",1,0]
["女士韩版小西装",1,0]
["女士韩版小西装2013春装",1,0]
["女士小西服外套小西装 2013",1,0]
["女士新款休闲小西装",1,0]
["女士休闲小西装",1,0]
["女士休闲小西装包邮",1,0]
["女士中长款小西装",1,0]
["女特价小西装",1,0]
["女小西装",3,0]
["女小西装2013新款",2,0]
["女小西装韩版2013新款",1,0]
["女小西装修身",3,0]
["女休闲小西装 包邮",1,0]
["女修身小西装",3,0]
["女修身中长款小西装",1,0]
["女中长款小西装",1,0]
["女装 春秋外套 韩版修身一粒扣小西装",1,0]
["女装 小西装",1,0]
["女装 小西装 韩版",2,0]
["女装2013春装新款小西装外套 女修身韩版中长款一粒扣小西服女",1,0]
["女装韩版修身休闲中长款小西装外套女",1,0]
["女装西服外套 小西装",1,0]
["女装小外套小西装",1,0]
["女装小西装",1,0]
["女装小西装外套",2,0]
["女装小西装新款",2,1]
["女装休闲小西装外套",1,0]
["女装修身小西装",4,0]
["拼接小西装外套 女",1,0]
["拼接休闲小西装 女",1,0]
["拼接雪纺长袖小西装",1,0]
["拼色小西装女",1,0]
["秋款 外套 百搭 韩版 修身 收腰 显瘦 小西装 休闲西服 女装大码",1,0]
["秋装新款女装秋季小西装中长款外套韩版修身型长袖三色",1,0]
["乳白色休闲小西装",1,0]
["瑞丽推荐 女装春装新款修身中长款休闲ol小西装",1,0]
["帅气雪纺拼接单扣修身短外套 小西装",1,0]
["唐狮白色小西装 女 修身",1,0]
["淘宝网购物女装小西装",1,0]
["通勤韩版小西装女",1,0]
["通勤小西装",1,0]
["外套 女 春秋小西装",1,0]
["外套小西装",2,0]
["外套小西装女修身",1,0]
["外套修身小西装 雪纺拼接西服外套女装 新款",1,0]
["小艾*包邮*2012韩国秋装一粒扣修身卷袖小西装外套 中长款女西服",1,0]
["小西装",172,7]
["小西装 白色",1,0]
["小西装 春",1,0]
["小西装 春秋",1,0]
["小西装 春秋 韩版",1,0]
["小西装 红色",1,0]
["小西装 帽",1,0]
["小西装 女",87,0]
["小西装 女 2013新款",1,0]
["小西装 女 白色",1,0]
["小西装 女 包邮",6,0]
["小西装 女 包邮 春",2,0]
["小西装 女 春秋",4,0]
["小西装 女 春秋 新",1,0]
["小西装 女 韩版",11,1]
["小西装 女 韩版 包邮",1,0]
["小西装 女 韩版 潮",4,0]
["小西装 女 韩版 春秋",2,0]
["小西装 女 韩版 休闲",1,0]
["小西装 女 韩版 修身",17,0]
["小西装 女 韩版 修身包邮",1,0]
["小西装 女 黑色",1,0]
["小西装 女 修身",12,1]
["小西装 女 修身 长款",1,0]
["小西装 女 雪纺",1,0]
["小西装 女 中长款",2,0]
["小西装 女 中长款 韩版",1,0]
["小西装 女2013",1,0]
["小西装 女白色",1,0]
["小西装 女红色",1,0]
["小西装 女款",1,0]
["小西装 女修身中长款",1,0]
["小西装 拼接",1,0]
["小西装 拼接 雪纺",1,0]
["小西装 休闲 女 白色",1,0]
["小西装 休闲款 女",1,0]
["小西装 修身 韩版 女",1,0]
["小西装 修身 女",2,0]
["小西装 修身 女  白色休闲",1,1]
["小西装 修身 女 春",1,0]
["小西装 修身 女 韩版",94,3]
["小西装 修身 女 韩版 白色",1,0]
["小西装 修身 女 韩版包邮",1,0]
["小西装 修身 女 韩版免运费",1,0]
["小西装 修身 女 雪纺",1,0]
["小西装 修身 女 中长款",1,0]
["小西装 修身 女款",1,0]
["小西装 修身 中长款 女",1,0]
["小西装 雪纺",1,0]
["小西装 雪纺 修身",1,0]
["小西装 雪纺拼接",1,0]
["小西装 一粒扣",2,0]
["小西装 长款",1,0]
["小西装 长款 包邮",1,0]
["小西装 长款 修身",3,0]
["小西装 中长款 女",1,0]
["小西装/西服",1,0]
["小西装2013",1,0]
["小西装2013 女春装",1,0]
["小西装2013新款女",1,0]
["小西装白",1,0]
["小西装白色",1,0]
["小西装包邮",3,0]
["小西装春装女",1,1]
["小西装服韩版外套",1,0]
["小西装韩版",1,0]
["小西装韩版休闲西装外套女 2013春装新款女装中长款修身西",1,0]
["小西装韩版休闲西装外套女 2013春装新款女装中长款修身西服",1,0]
["小西装韩版休闲西装外套女 2013春装新款女装中长款修身西服 西装",2,0]
["小西装韩版修身女",34,0]
["小西装韩版修身女 春秋",1,0]
["小西装韩版修身中长款休闲西服",1,0]
["小西装免邮",1,0]
["小西装女",49,2]
["小西装女 包邮",2,0]
["小西装女白色",1,0]
["小西装女包邮",6,0]
["小西装女韩版",1,0]
["小西装女韩版外套身新款拼接",1,1]
["小西装女款",1,0]
["小西装女款韩版",4,0]
["小西装女款修身",1,0]
["小西装女生",1,0]
["小西装女士西装女装西服外套",1,0]
["小西装女式",2,0]
["小西装女外套",5,0]
["小西装女修身",1,0]
["小西装女修身长款",1,0]
["小西装女长款",2,0]
["小西装女装",1,0]
["小西装特价",1,0]
["小西装外套",9,0]
["小西装外套 女",64,3]
["小西装外套 女 春秋",2,0]
["小西装外套 女包邮",32,1]
["小西装外套 女装 春秋",1,0]
["小西装外套春秋 包邮",1,0]
["小西装外套春装",1,0]
["小西装外套女",28,0]
["小西装外套女 红色",1,0]
["小西装外套女韩版",1,0]
["小西装外套女士",1,0]
["小西装外套女修身",1,0]
["小西装外套女修身春秋韩版",1,0]
["小西装外套女修身春秋韩版西服长袖",1,0]
["小西装外套修身休闲拼接雪纺",3,0]
["小西装外套修身休闲拼接雪纺长袖小西装",1,0]
["小西装销量最多",1,0]
["小西装修身韩版外套",1,0]
["小西装修身女",2,0]
["小西装长袖",1,0]
["新款 小西装",1,0]
["新款春秋女装韩版修身休闲一粒扣雪纺小西装西服女中长款外套",1,0]
["新款加大码女装胖mm秋冬装韩版时尚休闲中长款显瘦小西装外套黑色包邮",1,0]
["新款小西装 女 修身",1,0]
["新款小西装2013 女",2,0]
["新款小西装女春装",1,0]
["新款休闲小西装2013 女",1,0]
["休闲 小西装",1,0]
["休闲白色小西装 韩版",1,0]
["休闲白色小西装 女",1,0]
["休闲款小西装女",1,0]
["休闲女小西装",1,0]
["休闲小西装",2,0]
["休闲小西装 女",4,0]
["休闲小西装 女 春",1,0]
["休闲小西装 女 韩版",8,0]
["休闲小西装女",3,0]
["休闲小西装女包邮",1,0]
["休闲小西装外套女包邮",1,0]
["休闲修身小西装女",1,0]
["休闲修身小西装女式",1,0]
["休闲一粒扣中长款雪纺小西装西服外套",1,0]
["修身小西装",3,0]
["修身小西装 女",2,0]
["修身小西装 女 韩版",2,0]
["修身小西装 中长款",1,0]
["修身小西装包邮",1,0]
["修身小西装女",3,0]
["修身小西装女中长款白色",1,0]
["修身小西装外套女",21,0]
["修身小西装西服",1,0]
["修身小西装小外套 包邮",1,0]
["修身休闲白色小西装西服女中长款春秋外套潮",1,0]
["修身雪纺小西装白色",1,0]
["修身一粒扣雪纺小西装女休闲西服中长款",1,0]
["修身中长款小西装 红色",1,0]
["雪纺 小西装",3,0]
["雪纺女装中长款小西装外套女装",1,0]
["雪纺小西装",4,0]
["雪纺小西装 女",2,0]
["雪纺小西装女修身",1,0]
["雪纺小西装外套女",1,0]
["雪纺小西装西服外套",1,0]
["一粒扣修身小西装女",1,0]
["长款白色小西装外套女",1,0]
["长款黑色修身小西装",1,0]
["长款小西装",4,0]
["长款小西装 女",1,0]
["长款小西装 女 春",1,0]
["长款小西装韩版修身女",1,0]
["长款小西装女",1,0]
["长款小西装女修身",3,0]
["长款小西装外套 女",1,0]
["长款修身西服小西装外套",1,0]
["长袖小西装 修身 女款",1,0]
["中长 小西装 女",1,0]
["中长款 小西装",1,0]
["中长款拼接雪纺小西装",1,0]
["中长款小西装",1,0]
["中长款小西装 女 韩版",1,0]
["中长款小西装 女 修身",1,0]
["中长款小西装女",1,0]
["中长款修身西服小西装外套春秋",1,0]
["中长款一粒扣雪纺小西装西服外套",1,0]
["中长小西装修身",1,0]
["中长小西装修身韩版",1,0]
["总计",1262,32]

{"sheet":"关键字质量数据","index":4,"n_rows":16,"n_cols":4,"rows_kept":16,"cut":false,"hidden":true,"merged":[]}
["搜索关键字1","访客","销售额","转化"]
[{"$f":"IF(关键词参数!A1=\"\",\"\",IF(关键词参数!A1=\"xxx\",\"\",关键词参数!A1))","v":"潮"},{"$f":"IF($A2=\"\",\"\",SUMIF(源数据!$A$2:$A$2000,\"*\"&$A2&\"*\",源数据!B$2:B$2000))","v":117},{"$f":"IF($A2=\"\",\"\",SUMIF(源数据!$A$2:$A$2000,\"*\"&$A2&\"*\",源数据!D$2:D$2000))","v":3},{"$f":"IF($A2=\"\",\"\",C2/B2)","v":2.564102564102564E-2}]
[{"$f":"IF(关键词参数!A2=\"\",\"\",IF(关键词参数!A2=\"xxx\",\"\",关键词参数!A2))","v":"春装"},{"$f":"IF($A3=\"\",\"\",SUMIF(源数据!$A$2:$A$2000,\"*\"&$A3&\"*\",源数据!B$2:B$2000))","v":691},{"$f":"IF($A3=\"\",\"\",SUMIF(源数据!$A$2:$A$2000,\"*\"&$A3&\"*\",源数据!D$2:D$2000))","v":13},{"$f":"IF($A3=\"\",\"\",C3/B3)","v":1.8813314037626629E-2}]
[{"$f":"IF(关键词参数!A3=\"\",\"\",IF(关键词参数!A3=\"xxx\",\"\",关键词参数!A3))","v":"女"},{"$f":"IF($A4=\"\",\"\",SUMIF(源数据!$A$2:$A$2000,\"*\"&$A4&\"*\",源数据!B$2:B$2000))","v":3919},{"$f":"IF($A4=\"\",\"\",SUMIF(源数据!$A$2:$A$2000,\"*\"&$A4&\"*\",源数据!D$2:D$2000))","v":63},1.6075529471804031E-2]
[{"$f":"IF(关键词参数!A4=\"\",\"\",IF(关键词参数!A4=\"xxx\",\"\",关键词参数!A4))","v":"女装"},{"$f":"IF($A5=\"\",\"\",SUMIF(源数据!$A$2:$A$2000,\"*\"&$A5&\"*\",源数据!B$2:B$2000))","v":619},{"$f":"IF($A5=\"\",\"\",SUMIF(源数据!$A$2:$A$2000,\"*\"&$A5&\"*\",源数据!D$2:D$2000))","v":7},1.1308562197092083E-2]
[{"$f":"IF(关键词参数!A5=\"\",\"\",IF(关键词参数!A5=\"xxx\",\"\",关键词参数!A5))","v":"外套"},{"$f":"IF($A6=\"\",\"\",SUMIF(源数据!$A$2:$A$2000,\"*\"&$A6&\"*\",源数据!B$2:B$2000))","v":2289},{"$f":"IF($A6=\"\",\"\",SUMIF(源数据!$A$2:$A$2000,\"*\"&$A6&\"*\",源数据!D$2:D$2000))","v":38},1.6601135867190912E-2]
[{"$f":"IF(关键词参数!A6=\"\",\"\",IF(关键词参数!A6=\"xxx\",\"\",关键词参数!A6))","v":"小西装"},{"$f":"IF($A7=\"\",\"\",SUMIF(源数据!$A$2:$A$2000,\"*\"&$A7&\"*\",源数据!B$2:B$2000))","v":1262},{"$f":"IF($A7=\"\",\"\",SUMIF(源数据!$A$2:$A$2000,\"*\"&$A7&\"*\",源数据!D$2:D$2000))","v":32},2.5356576862123614E-2]
[{"$f":"IF(关键词参数!A7=\"\",\"\",IF(关键词参数!A7=\"xxx\",\"\",关键词参数!A7))","v":2013},{"$f":"IF($A8=\"\",\"\",SUMIF(源数据!$A$2:$A$2000,\"*\"&$A8&\"*\",源数据!B$2:B$2000))","v":646},{"$f":"IF($A8=\"\",\"\",SUMIF(源数据!$A$2:$A$2000,\"*\"&$A8&\"*\",源数据!D$2:D$2000))","v":13},2.0123839009287926E-2]
[{"$f":"IF(关键词参数!A8=\"\",\"\",IF(关键词参数!A8=\"xxx\",\"\",关键词参数!A8))","v":"西服"},{"$f":"IF($A9=\"\",\"\",SUMIF(源数据!$A$2:$A$2000,\"*\"&$A9&\"*\",源数据!B$2:B$2000))","v":1147},{"$f":"IF($A9=\"\",\"\",SUMIF(源数据!$A$2:$A$2000,\"*\"&$A9&\"*\",源数据!D$2:D$2000))","v":14},1.2205754141238012E-2]
[{"$f":"IF(关键词参数!A9=\"\",\"\",IF(关键词参数!A9=\"xxx\",\"\",关键词参数!A9))","v":"休闲"},{"$f":"IF($A10=\"\",\"\",SUMIF(源数据!$A$2:$A$2000,\"*\"&$A10&\"*\",源数据!B$2:B$2000))","v":396},{"$f":"IF($A10=\"\",\"\",SUMIF(源数据!$A$2:$A$2000,\"*\"&$A10&\"*\",源数据!D$2:D$2000))","v":9},2.2727272727272728E-2]
[{"$f":"IF(关键词参数!A10=\"\",\"\",IF(关键词参数!A10=\"xxx\",\"\",关键词参数!A10))","v":"修身"},{"$f":"IF($A11=\"\",\"\",SUMIF(源数据!$A$2:$A$2000,\"*\"&$A11&\"*\",源数据!B$2:B$2000))","v":879},{"$f":"IF($A11=\"\",\"\",SUMIF(源数据!$A$2:$A$2000,\"*\"&$A11&\"*\",源数据!D$2:D$2000))","v":14},1.5927189988623434E-2]
[{"$f":"IF(关键词参数!A11=\"\",\"\",IF(关键词参数!A11=\"xxx\",\"\",关键词参数!A11))","v":"春季"},{"$f":"IF($A12=\"\",\"\",SUMIF(源数据!$A$2:$A$2000,\"*\"&$A12&\"*\",源数据!B$2:B$2000))","v":61},{"$f":"IF($A12=\"\",\"\",SUMIF(源数据!$A$2:$A$2000,\"*\"&$A12&\"*\",源数据!D$2:D$2000))","v":0},0]
[{"$f":"IF(关键词参数!A12=\"\",\"\",IF(关键词参数!A12=\"xxx\",\"\",关键词参数!A12))","v":"春秋"},{"$f":"IF($A13=\"\",\"\",SUMIF(源数据!$A$2:$A$2000,\"*\"&$A13&\"*\",源数据!B$2:B$2000))","v":890},{"$f":"IF($A13=\"\",\"\",SUMIF(源数据!$A$2:$A$2000,\"*\"&$A13&\"*\",源数据!D$2:D$2000))","v":15},1.6853932584269662E-2]
[{"$f":"IF(关键词参数!A13=\"\",\"\",IF(关键词参数!A13=\"xxx\",\"\",关键词参数!A13))","v":"白色"},{"$f":"IF($A14=\"\",\"\",SUMIF(源数据!$A$2:$A$2000,\"*\"&$A14&\"*\",源数据!B$2:B$2000))","v":362},{"$f":"IF($A14=\"\",\"\",SUMIF(源数据!$A$2:$A$2000,\"*\"&$A14&\"*\",源数据!D$2:D$2000))","v":8},2.2099447513812154E-2]
[{"$f":"IF(关键词参数!A14=\"\",\"\",IF(关键词参数!A14=\"xxx\",\"\",关键词参数!A14))","v":""},{"$f":"IF($A15=\"\",\"\",SUMIF(源数据!$A$2:$A$2000,\"*\"&$A15&\"*\",源数据!B$2:B$2000))","v":""},{"$f":"IF($A15=\"\",\"\",SUMIF(源数据!$A$2:$A$2000,\"*\"&$A15&\"*\",源数据!D$2:D$2000))","v":""},""]
[{"$f":"IF(关键词参数!A15=\"\",\"\",IF(关键词参数!A15=\"xxx\",\"\",关键词参数!A15))","v":""},{"$f":"IF($A16=\"\",\"\",SUMIF(源数据!$A$2:$A$2000,\"*\"&$A16&\"*\",源数据!B$2:B$2000))","v":""},{"$f":"IF($A16=\"\",\"\",SUMIF(源数据!$A$2:$A$2000,\"*\"&$A16&\"*\",源数据!D$2:D$2000))","v":""},""]

{"sheet":"趋势图表","index":5,"n_rows":28,"n_cols":18,"rows_kept":28,"cut":false,"hidden":false,"merged":[[0,16,1,17],[20,0,21,15]]}
[{"$nulls":16},"宝贝数据监控"]
[]
[{"$nulls":16},"行业数据",false]
[{"$nulls":16},false,false]
[{"$nulls":16},false,true]
[{"$nulls":16}," ","宝贝数据"]
[{"$nulls":16},false,false]
[{"$nulls":16},false,false]
[{"$nulls":16},false,false]
[{"$nulls":16},{"$f":"IF(OR($Q$5=1),\"数据汇总!E11:O11\",\"\")","v":""},false]
[{"$nulls":17},false]
[{"$nulls":17},false]
[{"$nulls":17},false]
[{"$nulls":17},false]
[{"$nulls":17},false]
[{"$nulls":17},false]
[{"$nulls":17},false]
[{"$nulls":17},false]
[{"$nulls":17},false]
[]
["拖动查看时间"]
[]
[]
[]
[]
[]
[]
[1]

{"sheet":"数据汇总","index":6,"n_rows":29,"n_cols":124,"rows_kept":29,"cut":false,"hidden":false,"merged":[[27,2,27,3],[23,0,28,1],[28,2,28,3],[24,2,24,3],[23,2,23,3],[2,18,2,24],[2,25,2,31],[2,0,3,3],[25,2,25,3],[26,2,26,3],[2,4,2,10],[2,11,2,17],[22,2,22,3],[17,2,17,3],[18,2,18,3],[7,0,8,1],[19,2,19,3],[20,2,20,3],[21,2,21,3],[11,2,11,3],[12,2,12,3],[13,2,13,3],[14,2,14,3],[15,2,15,3],[16,2,16,3],[6,2,6,3],[9,2,9,3],[10,2,10,3],[7,2,7,3],[8,2,8,3],[2,32,2,38],[2,39,2,45],[2,46,2,52],[2,53,2,59],[2,60,2,66],[2,102,2,108],[2,109,2,115],[2,116,2,122],[2,67,2,73],[2,74,2,80],[2,81,2,87],[2,88,2,94],[2,95,2,101]]}
[]
[]
["老A电商学院",null,null,null,"第一周",{"$nulls":6},"第2周",{"$nulls":6},"第3周",{"$nulls":6},"第4周",{"$nulls":6},"第5周",{"$nulls":6},"第6周",{"$nulls":6},"第7周",{"$nulls":6},"第8周",{"$nulls":6},"第9周",{"$nulls":6},"第10周",{"$nulls":6},"第11周",{"$nulls":6},"第12周",{"$nulls":6},"第13周",{"$nulls":6},"第14周",{"$nulls":6},"第15周",{"$nulls":6},"第16周",{"$nulls":6},"第17周"]
[{"$nulls":4},"第1天","第2天","第3天","第4天","第5天","第6天","第7天","第8天","第9天","第10天","第11天","第12天","第13天","第14天","第15天","第16天","第17天","第18天","第19天","第20天","第21天","第22天","第23天","第24天","第25天","第26天","第27天","第28天","第29天","第30天","第31天","第32天","第33天","第34天","第35天","第36天","第37天","第38天","第39天","第40天","第41天","第42天","第43天","第44天","第45天","第46天","第47天","第48天","第49天","第50天","第51天","第52天","第53天","第54天","第55天","第56天","第57天","第58天","第59天","第60天","第61天","第62天","第63天","第64天","第65天","第66天","第67天","第68天","第69天","第70天","第71天","第72天","第73天","第74天","第75天","第76天","第77天","第78天","第79天","第80天","第81天","第82天","第83天","第84天","第85天","第86天","第87天","第88天","第89天","第90天","第91天","第92天","第93天","第94天","第95天","第96天","第97天","第98天","第99天","第100天","第101天","第102天","第103天","第104天","第105天","第106天","第107天","第108天","第109天","第110天","第111天","第112天","第113天","第114天","第115天","第116天","第117天","第118天","第119天","第120天"]
[]
[]
[null,null,"宝贝PV",null,34,12,32,15,25,14]
[null,null,"宝贝uv",null,25,35,153,12,54,62]
[null,null,"转化率",null,0.12,0.15,0.25,0.05,0.16,0.18]
["流量入口监控",null,"浏览量",null,{"$f":"流量入口监控!B2","v":61},{"$f":"流量入口监控!C2","v":53},{"$f":"流量入口监控!D2","v":63},{"$f":"流量入口监控!E2","v":87},{"$f":"流量入口监控!F2","v":141},{"$f":"流量入口监控!G2","v":108},{"$f":"流量入口监控!H2","v":63},{"$f":"流量入口监控!I2","v":92},{"$f":"流量入口监控!J2","v":75},{"$f":"流量入口监控!K2","v":58},{"$f":"流量入口监控!L2","v":101},{"$f":"流量入口监控!M2","v":132},{"$f":"流量入口监控!N2","v":162},{"$f":"流量入口监控!O2","v":85},{"$f":"流量入口监控!P2","v":70},{"$f":"流量入口监控!Q2","v":89},{"$f":"流量入口监控!R2","v":63},{"$f":"流量入口监控!S2","v":199},{"$f":"流量入口监控!T2","v":158},{"$f":"流量入口监控!U2","v":312},{"$f":"流量入口监控!V2","v":115},{"$f":"流量入口监控!W2","v":129},{"$f":"流量入口监控!X2","v":142},{"$f":"流量入口监控!Y2","v":132},{"$f":"流量入口监控!Z2","v":170},{"$f":"流量入口监控!AA2","v":189},{"$f":"流量入口监控!AB2","v":371},{"$f":"流量入口监控!AC2","v":129},{"$f":"流量入口监控!AD2","v":108},{"$f":"流量入口监控!AE2","v":119},{"$f":"流量入口监控!AF2","v":64}]
[null,null,"访客数",null,{"$f":"流量入口监控!B3","v":34},{"$f":"流量入口监控!C3","v":26},{"$f":"流量入口监控!D3","v":34},{"$f":"流量入口监控!E3","v":34},{"$f":"流量入口监控!F3","v":65},{"$f":"流量入口监控!G3","v":65},{"$f":"流量入口监控!H3","v":48},{"$f":"流量入口监控!I3","v":47},{"$f":"流量入口监控!J3","v":32},{"$f":"流量入口监控!K3","v":40},{"$f":"流量入口监控!L3","v":53},{"$f":"流量入口监控!M3","v":72},{"$f":"流量入口监控!N3","v":109},{"$f":"流量入口监控!O3","v":47},{"$f":"流量入口监控!P3","v":45},{"$f":"流量入口监控!Q3","v":59},{"$f":"流量入口监控!R3","v":41},{"$f":"流量入口监控!S3","v":110},{"$f":"流量入口监控!T3","v":97},{"$f":"流量入口监控!U3","v":195},{"$f":"流量入口监控!V3","v":61},{"$f":"流量入口监控!W3","v":73},{"$f":"流量入口监控!X3","v":74},{"$f":"流量入口监控!Y3","v":72},{"$f":"流量入口监控!Z3","v":102},{"$f":"流量入口监控!AA3","v":119},{"$f":"流量入口监控!AB3","v":219},{"$f":"流量入口监控!AC3","v":63},{"$f":"流量入口监控!AD3","v":70},{"$f":"流量入口监控!AE3","v":69},{"$f":"流量入口监控!AF3","v":49}]
[null,null,"入口数",null,{"$f":"流量入口监控!B4","v":30},{"$f":"流量入口监控!C4","v":19},{"$f":"流量入口监控!D4","v":25},{"$f":"流量入口监控!E4","v":27},{"$f":"流量入口监控!F4","v":53},{"$f":"流量入口监控!G4","v":55},{"$f":"流量入口监控!H4","v":37},{"$f":"流量入口监控!I4","v":38},{"$f":"流量入口监控!J4","v":29},{"$f":"流量入口监控!K4","v":35},{"$f":"流量入口监控!L4","v":46},{"$f":"流量入口监控!M4","v":59},{"$f":"流量入口监控!N4","v":105},{"$f":"流量入口监控!O4","v":43},{"$f":"流量入口监控!P4","v":42},{"$f":"流量入口监控!Q4","v":51},{"$f":"流量入口监控!R4","v":37},{"$f":"流量入口监控!S4","v":91},{"$f":"流量入口监控!T4","v":91},{"$f":"流量入口监控!U4","v":191},{"$f":"流量入口监控!V4","v":59},{"$f":"流量入口监控!W4","v":70},{"$f":"流量入口监控!X4","v":70},{"$f":"流量入口监控!Y4","v":67},{"$f":"流量入口监控!Z4","v":89},{"$f":"流量入口监控!AA4","v":111},{"$f":"流量入口监控!AB4","v":215},{"$f":"流量入口监控!AC4","v":63},{"$f":"流量入口监控!AD4","v":65},{"$f":"流量入口监控!AE4","v":62},{"$f":"流量入口监控!AF4","v":42}]
[null,null,"跳失率",null,{"$f":"流量入口监控!B5","v":0.66700000000000004},{"$f":"流量入口监控!C5","v":0.52600000000000002},{"$f":"流量入口监控!D5","v":0.56000000000000005},{"$f":"流量入口监控!E5","v":0.37},{"$f":"流量入口监控!F5","v":0.60399999999999998},{"$f":"流量入口监控!G5","v":0.58199999999999996},{"$f":"流量入口监控!H5","v":0.622},{"$f":"流量入口监控!I5","v":0.57899999999999996},{"$f":"流量入口监控!J5","v":0.55200000000000005},{"$f":"流量入口监控!K5","v":0.629},{"$f":"流量入口监控!L5","v":0.52200000000000002},{"$f":"流量入口监控!M5","v":0.54200000000000004},{"$f":"流量入口监控!N5","v":0.66700000000000004},{"$f":"流量入口监控!O5","v":0.53500000000000003},{"$f":"流量入口监控!P5","v":0.69},{"$f":"流量入口监控!Q5","v":0.51},{"$f":"流量入口监控!R5","v":0.64900000000000002},{"$f":"流量入口监控!S5","v":0.59299999999999997},{"$f":"流量入口监控!T5","v":0.61499999999999999},{"$f":"流量入口监控!U5","v":0.66},{"$f":"流量入口监控!V5","v":0.64400000000000002},{"$f":"流量入口监控!W5","v":0.6},{"$f":"流量入口监控!X5","v":0.629},{"$f":"流量入口监控!Y5","v":0.50700000000000001},{"$f":"流量入口监控!Z5","v":0.65200000000000002},{"$f":"流量入口监控!AA5","v":0.68500000000000005},{"$f":"流量入口监控!AB5","v":0.63700000000000001},{"$f":"流量入口监控!AC5","v":0.65100000000000002},{"$f":"流量入口监控!AD5","v":0.72299999999999998},{"$f":"流量入口监控!AE5","v":0.64500000000000002},{"$f":"流量入口监控!AF5","v":0}]
[null,null,"停留时间",null,{"$f":"流量入口监控!B6","v":362},{"$f":"流量入口监控!C6","v":306},{"$f":"流量入口监控!D6","v":287},{"$f":"流量入口监控!E6","v":347},{"$f":"流量入口监控!F6","v":325},{"$f":"流量入口监控!G6","v":292},{"$f":"流量入口监控!H6","v":435},{"$f":"流量入口监控!I6","v":336},{"$f":"流量入口监控!J6","v":401},{"$f":"流量入口监控!K6","v":543},{"$f":"流量入口监控!L6","v":322},{"$f":"流量入口监控!M6","v":309},{"$f":"流量入口监控!N6","v":313},{"$f":"流量入口监控!O6","v":428},{"$f":"流量入口监控!P6","v":274},{"$f":"流量入口监控!Q6","v":346},{"$f":"流量入口监控!R6","v":433},{"$f":"流量入口监控!S6","v":259},{"$f":"流量入口监控!T6","v":330},{"$f":"流量入口监控!U6","v":341},{"$f":"流量入口监控!V6","v":306},{"$f":"流量入口监控!W6","v":294},{"$f":"流量入口监控!X6","v":293},{"$f":"流量入口监控!Y6","v":243},{"$f":"流量入口监控!Z6","v":307},{"$f":"流量入口监控!AA6","v":313},{"$f":"流量入口监控!AB6","v":494},{"$f":"流量入口监控!AC6","v":304},{"$f":"流量入口监控!AD6","v":288},{"$f":"流量入口监控!AE6","v":315},{"$f":"流量入口监控!AF6","v":0}]
[null,null,"销售额",null,{"$f":"流量入口监控!B7","v":476.88},{"$f":"流量入口监控!C7","v":205.72},{"$f":"流量入口监控!D7","v":473.42},{"$f":"流量入口监控!E7","v":871.5},{"$f":"流量入口监控!F7","v":573.52},{"$f":"流量入口监控!G7","v":784.32},{"$f":"流量入口监控!H7","v":533.6},{"$f":"流量入口监控!I7","v":1007.3},{"$f":"流量入口监控!J7","v":630.24},{"$f":"流量入口监控!K7","v":475.52},{"$f":"流量入口监控!L7","v":684.6},{"$f":"流量入口监控!M7","v":1217.56},{"$f":"流量入口监控!N7","v":848.54},{"$f":"流量入口监控!O7","v":747.04},{"$f":"流量入口监控!P7","v":572.24},{"$f":"流量入口监控!Q7","v":896.58},{"$f":"流量入口监控!R7","v":633.5},{"$f":"流量入口监控!S7","v":1422.92},{"$f":"流量入口监控!T7","v":1629.64},{"$f":"流量入口监控!U7","v":2491.7399999999998},{"$f":"流量入口监控!V7","v":853.76},{"$f":"流量入口监控!W7","v":863.04},{"$f":"流量入口监控!X7","v":1390},{"$f":"流量入口监控!Y7","v":846.4},{"$f":"流量入口监控!Z7","v":1003.26},{"$f":"流量入口监控!AA7","v":947.4},{"$f":"流量入口监控!AB7","v":2624.56},{"$f":"流量入口监控!AC7","v":222.72},{"$f":"流量入口监控!AD7","v":386.08},{"$f":"流量入口监控!AE7","v":602.12},{"$f":"流量入口监控!AF7","v":458.76}]
[null,null,"销量",null,{"$f":"流量入口监控!B8","v":9},{"$f":"流量入口监控!C8","v":4},{"$f":"流量入口监控!D8","v":9},{"$f":"流量入口监控!E8","v":17},{"$f":"流量入口监控!F8","v":11},{"$f":"流量入口监控!G8","v":15},{"$f":"流量入口监控!H8","v":10},{"$f":"流量入口监控!I8","v":19},{"$f":"流量入口监控!J8","v":12},{"$f":"流量入口监控!K8","v":9},{"$f":"流量入口监控!L8","v":13},{"$f":"流量入口监控!M8","v":23},{"$f":"流量入口监控!N8","v":16},{"$f":"流量入口监控!O8","v":14},{"$f":"流量入口监控!P8","v":11},{"$f":"流量入口监控!Q8","v":17},{"$f":"流量入口监控!R8","v":12},{"$f":"流量入口监控!S8","v":27},{"$f":"流量入口监控!T8","v":31},{"$f":"流量入口监控!U8","v":47},{"$f":"流量入口监控!V8","v":16},{"$f":"流量入口监控!W8","v":15},{"$f":"流量入口监控!X8","v":26},{"$f":"流量入口监控!Y8","v":16},{"$f":"流量入口监控!Z8","v":19},{"$f":"流量入口监控!AA8","v":18},{"$f":"流量入口监控!AB8","v":49},{"$f":"流量入口监控!AC8","v":4},{"$f":"流量入口监控!AD8","v":7},{"$f":"流量入口监控!AE8","v":11},{"$f":"流量入口监控!AF8","v":8}]
[null,null,"订单数",null,{"$f":"流量入口监控!B9","v":8},{"$f":"流量入口监控!C9","v":4},{"$f":"流量入口监控!D9","v":9},{"$f":"流量入口监控!E9","v":16},{"$f":"流量入口监控!F9","v":9},{"$f":"流量入口监控!G9","v":14},{"$f":"流量入口监控!H9","v":10},{"$f":"流量入口监控!I9","v":18},{"$f":"流量入口监控!J9","v":12},{"$f":"流量入口监控!K9","v":9},{"$f":"流量入口监控!L9","v":13},{"$f":"流量入口监控!M9","v":18},{"$f":"流量入口监控!N9","v":16},{"$f":"流量入口监控!O9","v":14},{"$f":"流量入口监控!P9","v":11},{"$f":"流量入口监控!Q9","v":16},{"$f":"流量入口监控!R9","v":12},{"$f":"流量入口监控!S9","v":24},{"$f":"流量入口监控!T9","v":28},{"$f":"流量入口监控!U9","v":44},{"$f":"流量入口监控!V9","v":16},{"$f":"流量入口监控!W9","v":15},{"$f":"流量入口监控!X9","v":25},{"$f":"流量入口监控!Y9","v":15},{"$f":"流量入口监控!Z9","v":19},{"$f":"流量入口监控!AA9","v":18},{"$f":"流量入口监控!AB9","v":48},{"$f":"流量入口监控!AC9","v":4},{"$f":"流量入口监控!AD9","v":7},{"$f":"流量入口监控!AE9","v":11},{"$f":"流量入口监控!AF9","v":8}]
[null,null,"转化率",null,{"$f":"流量入口监控!B10","v":0.23530000000000001},{"$f":"流量入口监控!C10","v":0.15379999999999999},{"$f":"流量入口监控!D10","v":0.26469999999999999},{"$f":"流量入口监控!E10","v":0.47060000000000002},{"$f":"流量入口监控!F10","v":0.13850000000000001},{"$f":"流量入口监控!G10","v":0.21540000000000001},{"$f":"流量入口监控!H10","v":0.20830000000000001},{"$f":"流量入口监控!I10","v":0.38300000000000001},{"$f":"流量入口监控!J10","v":0.375},{"$f":"流量入口监控!K10","v":0.22500000000000001},{"$f":"流量入口监控!L10","v":0.24529999999999999},{"$f":"流量入口监控!M10","v":0.25},{"$f":"流量入口监控!N10","v":0.14680000000000001},{"$f":"流量入口监控!O10","v":0.2979},{"$f":"流量入口监控!P10","v":0.24440000000000001},{"$f":"流量入口监控!Q10","v":0.2712},{"$f":"流量入口监控!R10","v":0.29270000000000002},{"$f":"流量入口监控!S10","v":0.21820000000000001},{"$f":"流量入口监控!T10","v":0.28870000000000001},{"$f":"流量入口监控!U10","v":0.22559999999999999},{"$f":"流量入口监控!V10","v":0.26229999999999998},{"$f":"流量入口监控!W10","v":0.20549999999999999},{"$f":"流量入口监控!X10","v":0.33779999999999999},{"$f":"流量入口监控!Y10","v":0.20830000000000001},{"$f":"流量入口监控!Z10","v":0.18629999999999999},{"$f":"流量入口监控!AA10","v":0.15129999999999999},{"$f":"流量入口监控!AB10","v":0.21920000000000001},{"$f":"流量入口监控!AC10","v":6.3500000000000001E-2},{"$f":"流量入口监控!AD10","v":0.1},{"$f":"流量入口监控!AE10","v":0.15939999999999999},{"$f":"流量入口监控!AF10","v":0.1633}]
[null,null,"搜索UV",null,{"$f":"流量入口监控!B11","v":18},{"$f":"流量入口监控!C11","v":16},{"$f":"流量入口监控!D11","v":18},{"$f":"流量入口监控!E11","v":19},{"$f":"流量入口监控!F11","v":42},{"$f":"流量入口监控!G11","v":39},{"$f":"流量入口监控!H11","v":23},{"$f":"流量入口监控!I11","v":28},{"$f":"流量入口监控!J11","v":20},{"$f":"流量入口监控!K11","v":23},{"$f":"流量入口监控!L11","v":34},{"$f":"流量入口监控!M11","v":39},{"$f":"流量入口监控!N11","v":83},{"$f":"流量入口监控!O11","v":30},{"$f":"流量入口监控!P11","v":34},{"$f":"流量入口监控!Q11","v":40},{"$f":"流量入口监控!R11","v":33},{"$f":"流量入口监控!S11","v":69},{"$f":"流量入口监控!T11","v":80},{"$f":"流量入口监控!U11","v":159},{"$f":"流量入口监控!V11","v":42},{"$f":"流量入口监控!W11","v":56},{"$f":"流量入口监控!X11","v":51},{"$f":"流量入口监控!Y11","v":50},{"$f":"流量入口监控!Z11","v":72},{"$f":"流量入口监控!AA11","v":94},{"$f":"流量入口监控!AB11","v":183},{"$f":"流量入口监控!AC11","v":45},{"$f":"流量入口监控!AD11","v":45},{"$f":"流量入口监控!AE11","v":45},{"$f":"流量入口监控!AF11","v":0}]
[null,null,"类目UV",null,{"$f":"流量入口监控!B12","v":0},{"$f":"流量入口监控!C12","v":0},{"$f":"流量入口监控!D12","v":0},{"$f":"流量入口监控!E12","v":0},{"$f":"流量入口监控!F12","v":1},{"$f":"流量入口监控!G12","v":2},{"$f":"流量入口监控!H12","v":0},{"$f":"流量入口监控!I12","v":0},{"$f":"流量入口监控!J12","v":0},{"$f":"流量入口监控!K12","v":0},{"$f":"流量入口监控!L12","v":0},{"$f":"流量入口监控!M12","v":1},{"$f":"流量入口监控!N12","v":8},{"$f":"流量入口监控!O12","v":0},{"$f":"流量入口监控!P12","v":0},{"$f":"流量入口监控!Q12","v":1},{"$f":"流量入口监控!R12","v":0},{"$f":"流量入口监控!S12","v":0},{"$f":"流量入口监控!T12","v":0},{"$f":"流量入口监控!U12","v":11},{"$f":"流量入口监控!V12","v":3},{"$f":"流量入口监控!W12","v":1},{"$f":"流量入口监控!X12","v":0},{"$f":"流量入口监控!Y12","v":1},{"$f":"流量入口监控!Z12","v":1},{"$f":"流量入口监控!AA12","v":2},{"$f":"流量入口监控!AB12","v":7},{"$f":"流量入口监控!AC12","v":2},{"$f":"流量入口监控!AD12","v":1},{"$f":"流量入口监控!AE12","v":1},{"$f":"流量入口监控!AF12","v":0}]
[null,null,"收藏UV",null,{"$f":"流量入口监控!B13","v":1},{"$f":"流量入口监控!C13","v":1},{"$f":"流量入口监控!D13","v":0},{"$f":"流量入口监控!E13","v":1},{"$f":"流量入口监控!F13","v":0},{"$f":"流量入口监控!G13","v":1},{"$f":"流量入口监控!H13","v":2},{"$f":"流量入口监控!I13","v":1},{"$f":"流量入口监控!J13","v":1},{"$f":"流量入口监控!K13","v":0},{"$f":"流量入口监控!L13","v":0},{"$f":"流量入口监控!M13","v":1},{"$f":"流量入口监控!N13","v":0},{"$f":"流量入口监控!O13","v":2},{"$f":"流量入口监控!P13","v":0},{"$f":"流量入口监控!Q13","v":0},{"$f":"流量入口监控!R13","v":0},{"$f":"流量入口监控!S13","v":3},{"$f":"流量入口监控!T13","v":1},{"$f":"流量入口监控!U13","v":2},{"$f":"流量入口监控!V13","v":0},{"$f":"流量入口监控!W13","v":0},{"$f":"流量入口监控!X13","v":0},{"$f":"流量入口监控!Y13","v":0},{"$f":"流量入口监控!Z13","v":0},{"$f":"流量入口监控!AA13","v":2},{"$f":"流量入口监控!AB13","v":1},{"$f":"流量入口监控!AC13","v":0},{"$f":"流量入口监控!AD13","v":2},{"$f":"流量入口监控!AE13","v":0},{"$f":"流量入口监控!AF13","v":0}]
[null,null,"直通车UV",null,{"$f":"流量入口监控!B14","v":0},{"$f":"流量入口监控!C14","v":0},{"$f":"流量入口监控!D14","v":0},{"$f":"流量入口监控!E14","v":0},{"$f":"流量入口监控!F14","v":0},{"$f":"流量入口监控!G14","v":0},{"$f":"流量入口监控!H14","v":0},{"$f":"流量入口监控!I14","v":0},{"$f":"流量入口监控!J14","v":0},{"$f":"流量入口监控!K14","v":0},{"$f":"流量入口监控!L14","v":0},{"$f":"流量入口监控!M14","v":0},{"$f":"流量入口监控!N14","v":0},{"$f":"流量入口监控!O14","v":0},{"$f":"流量入口监控!P14","v":0},{"$f":"流量入口监控!Q14","v":0},{"$f":"流量入口监控!R14","v":0},{"$f":"流量入口监控!S14","v":0},{"$f":"流量入口监控!T14","v":0},{"$f":"流量入口监控!U14","v":0},{"$f":"流量入口监控!V14","v":0},{"$f":"流量入口监控!W14","v":0},{"$f":"流量入口监控!X14","v":0},{"$f":"流量入口监控!Y14","v":0},{"$f":"流量入口监控!Z14","v":0},{"$f":"流量入口监控!AA14","v":0},{"$f":"流量入口监控!AB14","v":0},{"$f":"流量入口监控!AC14","v":0},{"$f":"流量入口监控!AD14","v":0},{"$f":"流量入口监控!AE14","v":0},{"$f":"流量入口监控!AF14","v":0}]
[null,null,"淘宝客UV",null,{"$f":"流量入口监控!B15","v":2},{"$f":"流量入口监控!C15","v":1},{"$f":"流量入口监控!D15","v":2},{"$f":"流量入口监控!E15","v":0},{"$f":"流量入口监控!F15","v":0},{"$f":"流量入口监控!G15","v":2},{"$f":"流量入口监控!H15","v":0},{"$f":"流量入口监控!I15","v":3},{"$f":"流量入口监控!J15","v":1},{"$f":"流量入口监控!K15","v":0},{"$f":"流量入口监控!L15","v":4},{"$f":"流量入口监控!M15","v":2},{"$f":"流量入口监控!N15","v":2},{"$f":"流量入口监控!O15","v":6},{"$f":"流量入口监控!P15","v":0},{"$f":"流量入口监控!Q15","v":0},{"$f":"流量入口监控!R15","v":2},{"$f":"流量入口监控!S15","v":4},{"$f":"流量入口监控!T15","v":2},{"$f":"流量入口监控!U15","v":4},{"$f":"流量入口监控!V15","v":4},{"$f":"流量入口监控!W15","v":5},{"$f":"流量入口监控!X15","v":6},{"$f":"流量入口监控!Y15","v":4},{"$f":"流量入口监控!Z15","v":7},{"$f":"流量入口监控!AA15","v":5},{"$f":"流量入口监控!AB15","v":4},{"$f":"流量入口监控!AC15","v":4},{"$f":"流量入口监控!AD15","v":4},{"$f":"流量入口监控!AE15","v":2},{"$f":"流量入口监控!AF15","v":0}]
["行业数据（数据魔方）",null,"搜索点击次数",null,65830953,65830953,65830953,65830953,65830953,65830953,{"$nulls":7},{"$f":"流量入口监控!O16","v":0},{"$f":"流量入口监控!P16","v":0},{"$f":"流量入口监控!Q16","v":0},{"$f":"流量入口监控!R16","v":0},{"$f":"流量入口监控!S16","v":0},{"$f":"流量入口监控!T16","v":0},{"$f":"流量入口监控!U16","v":0},{"$f":"流量入口监控!V16","v":0},{"$f":"流量入口监控!W16","v":0},{"$f":"流量入口监控!X16","v":0},{"$f":"流量入口监控!Y16","v":0},{"$f":"流量入口监控!Z16","v":0},{"$f":"流量入口监控!AA16","v":0},{"$f":"流量入口监控!AB16","v":0},{"$f":"流量入口监控!AC16","v":0},{"$f":"流量入口监控!AD16","v":0},{"$f":"流量入口监控!AE16","v":0},{"$f":"流量入口监控!AF16","v":0}]
[null,null,"关注人数",null,5839310,5839310,5839310,5839310,5839310,5839310,{"$nulls":7},{"$f":"流量入口监控!O17","v":0},{"$f":"流量入口监控!P17","v":0},{"$f":"流量入口监控!Q17","v":0},{"$f":"流量入口监控!R17","v":0},{"$f":"流量入口监控!S17","v":0},{"$f":"流量入口监控!T17","v":0},{"$f":"流量入口监控!U17","v":0},{"$f":"流量入口监控!V17","v":0},{"$f":"流量入口监控!W17","v":0},{"$f":"流量入口监控!X17","v":0},{"$f":"流量入口监控!Y17","v":0},{"$f":"流量入口监控!Z17","v":0},{"$f":"流量入口监控!AA17","v":0},{"$f":"流量入口监控!AB17","v":0},{"$f":"流量入口监控!AC17","v":0},{"$f":"流量入口监控!AD17","v":0},{"$f":"流量入口监控!AE17","v":0},{"$f":"流量入口监控!AF17","v":0}]
[null,null,"关注次数",null,34378238,34378238,34378238,34378238,34378238,34378238,{"$nulls":7},{"$f":"流量入口监控!O18","v":0},{"$f":"流量入口监控!P18","v":0},{"$f":"流量入口监控!Q18","v":0},{"$f":"流量入口监控!R18","v":0},{"$f":"流量入口监控!S18","v":0},{"$f":"流量入口监控!T18","v":0},{"$f":"流量入口监控!U18","v":0},{"$f":"流量入口监控!V18","v":0},{"$f":"流量入口监控!W18","v":0},{"$f":"流量入口监控!X18","v":0},{"$f":"流量入口监控!Y18","v":0},{"$f":"流量入口监控!Z18","v":0},{"$f":"流量入口监控!AA18","v":0},{"$f":"流量入口监控!AB18","v":0},{"$f":"流量入口监控!AC18","v":0}]
[null,null,"收藏人数",null,405401,405401,405401,405401,405401,405401,{"$nulls":7},{"$f":"流量入口监控!O19","v":0},{"$f":"流量入口监控!P19","v":0},{"$f":"流量入口监控!Q19","v":0},{"$f":"流量入口监控!R19","v":0},{"$f":"流量入口监控!S19","v":0},{"$f":"流量入口监控!T19","v":0},{"$f":"流量入口监控!U19","v":0},{"$f":"流量入口监控!V19","v":0},{"$f":"流量入口监控!W19","v":0},{"$f":"流量入口监控!X19","v":0},{"$f":"流量入口监控!Y19","v":0},{"$f":"流量入口监控!Z19","v":0},{"$f":"流量入口监控!AA19","v":0},{"$f":"流量入口监控!AB19","v":0},{"$f":"流量入口监控!AC19","v":0}]
[null,null,"收藏次数",null,967455,967455,967455,967455,967455,967455,{"$nulls":7},{"$f":"流量入口监控!O20","v":0},{"$f":"流量入口监控!P20","v":0},{"$f":"流量入口监控!Q20","v":0},{"$f":"流量入口监控!R20","v":0},{"$f":"流量入口监控!S20","v":0},{"$f":"流量入口监控!T20","v":0},{"$f":"流量入口监控!U20","v":0},{"$f":"流量入口监控!V20","v":0},{"$f":"流量入口监控!W20","v":0},{"$f":"流量入口监控!X20","v":0},{"$f":"流量入口监控!Y20","v":0},{"$f":"流量入口监控!Z20","v":0},{"$f":"流量入口监控!AA20","v":0},{"$f":"流量入口监控!AB20","v":0},{"$f":"流量入口监控!AC20","v":0}]
[null,null,"成交环比",null,12]

{"sheet":"关联宝贝分析","index":7,"n_rows":23,"n_cols":3,"rows_kept":23,"cut":false,"hidden":false,"merged":[]}
["关联访问次数","关联购买次数","关联购买率"]
[58,6,0.10340000000000001]
[20,0,0]
[20,0,0]
[15,0,0]
[15,0,0]
[14,3,0.21429999999999999]
[14,0,0]
[11,0,0]
[10,2,0.2]
[8,0,0]
[5,0,0]
[5,1,0.2]
[5,0,0]
[4,0,0]
[3,0,0]
[3,0,0]
[2,0,0]
[2,0,0]
[1,0,0]
[1,0,0]
[1,0,0]
[1,0,0]

{"sheet":"行业对比","index":8,"n_rows":0,"n_cols":0,"rows_kept":0,"cut":false,"hidden":true,"merged":[]}

{"sheet":"访客分析","index":9,"n_rows":0,"n_cols":0,"rows_kept":0,"cut":false,"hidden":true,"merged":[]}

{"sheet":"下单时间透视表","index":10,"n_rows":8,"n_cols":39,"rows_kept":8,"cut":false,"hidden":true,"merged":[]}
[]
[]
[null,"列标签"]
[null,"求和项:访客数(UV)",{"$nulls":17},"求和项:浏览量(PV)",{"$nulls":17},"求和项:访客数(UV)汇总","求和项:浏览量(PV)汇总"]
["行标签","3时","2时","23时","22时","21时","20时","1时","19时","18时","17时","16时","15时","14时","13时","12时","11时","10时","0时","3时","2时","23时","22时","21时","20时","1时","19时","18时","17时","16时","15时","14时","13时","12时","11时","10时","0时"]
[1,1,1,10,9,12,9,9,9,3,5,11,4,3,5,5,8,7,2,1,1,19,10,14,12,11,16,5,6,11,6,5,9,6,10,12,2,113,156]
[2,1,1,1,0,1,2,2,0,2,0,3,2,1,1,2,2,1,1,1,1,1,0,1,3,2,2,4,0,3,2,2,1,2,2,5,1,23,33]
["总计",2,2,11,9,13,11,11,9,5,5,14,6,4,6,7,10,8,3,2,2,20,10,15,15,13,18,9,6,14,8,7,10,8,12,17,3,136,189]

{"sheet":"下单时间元数据","index":11,"n_rows":49,"n_cols":35,"rows_kept":49,"cut":false,"hidden":true,"merged":[]}
["时段","浏览量(PV)","访客数(UV)","下单宝贝数","下单订单数","付款宝贝数","付款订单数","日期",null,null,"时段","0时","1时","2时","3时","4时","5时","6时","7时","8时","9时","10时","11时","12时","13时","14时","15时","16时","17时","18时","19时","20时","21时","22时","23时"]
["0时",2,2,0,0,0,0,1,null,null,"浏览量(PV)",2,11,1,1,0,0,3,1,1,8,12,10,6,9,5,6,11,6,5,16,12,14,10,19]
["1时",11,9,0,0,0,0,1,null,null,"访客数(UV)",2,9,1,1,0,0,3,1,1,2,7,8,5,5,3,4,11,5,3,9,9,12,9,10]
["2时",1,1,1,1,1,1,1,null,null,"下单宝贝数",0,0,1,0,0,0,0,0,0,1,0,0,0,1,2,1,0,1,0,0,0,4,2,0]
["3时",1,1,0,0,0,0,1,null,null,"下单订单数",0,0,1,0,0,0,0,0,0,1,0,0,0,1,2,1,0,1,0,0,0,2,1,0]
["4时",0,0,0,0,0,0,1,null,null,"付款宝贝数",0,0,1,0,0,0,0,0,0,0,1,0,0,1,2,1,0,1,0,0,0,4,2,0]
["5时",0,0,0,0,0,0,1,null,null,"付款订单数",0,0,1,0,0,0,0,0,0,0,1,0,0,1,2,1,0,1,0,0,0,2,1,0]
["6时",3,3,0,0,0,0,1,null,null,"日期",1,1,1,1,1,1,1,1,1,1,1,1,1,1,1,1,1,1,1,1,1,1,1,1]
["7时",1,1,0,0,0,0,1]
["8时",1,1,0,0,0,0,1]
["9时",8,2,1,1,0,0,1]
["10时",12,7,0,0,1,1,1]
["11时",10,8,0,0,0,0,1]
["12时",6,5,0,0,0,0,1]
["13时",9,5,1,1,1,1,1]
["14时",5,3,2,2,2,2,1]
["15时",6,4,1,1,1,1,1]
["16时",11,11,0,0,0,0,1]
["17时",6,5,1,1,1,1,1]
["18时",5,3,0,0,0,0,1]
["19时",16,9,0,0,0,0,1]
["20时",12,9,0,0,0,0,1]
["21时",14,12,4,2,4,2,1]
["22时",10,9,2,1,2,1,1]
["23时",19,10,0,0,0,0,1]
["0时",1,1,0,0,0,0,2]
["1时",2,2,0,0,0,0,2]
["2时",1,1,0,0,0,0,2]
["3时",1,1,0,0,0,0,2]
["4时",0,0,0,0,0,0,2]
["5时",0,0,0,0,0,0,2]
["6时",0,0,0,0,0,0,2]
["7时",0,0,0,0,0,0,2]
["8时",1,1,0,0,0,0,2]
["9时",3,0,1,1,0,0,2]
["10时",5,1,0,0,1,1,2]
["11时",2,2,0,0,0,0,2]
["12时",2,2,0,0,0,0,2]
["13时",1,1,0,0,0,0,2]
["14时",2,1,0,0,0,0,2]
["15时",2,2,1,1,1,1,2]
["16时",3,3,0,0,0,0,2]
["17时",0,0,0,0,0,0,2]
["18时",4,2,0,0,0,0,2]
["19时",2,0,0,0,0,0,2]
["20时",3,2,0,0,0,0,2]
["21时",1,1,1,1,1,1,2]
["22时",0,0,2,1,2,1,2]
["23时",1,1,0,0,0,0,2]

{"sheet":"流量入口监控","index":12,"n_rows":15,"n_cols":37,"rows_kept":15,"cut":false,"hidden":false,"merged":[]}
["日期","2013-06-09","2013-06-10","2013-06-11","2013-06-12","2013-06-13","2013-06-14","2013-06-15","2013-06-16","2013-06-17","2013-06-18","2013-06-19","2013-06-20","2013-06-21","2013-06-22","2013-06-23","2013-06-24","2013-06-25","2013-06-26","2013-06-27","2013-06-28","2013-06-29","2013-06-30","2013-07-01","2013-07-02","2013-07-03","2013-07-04","2013-07-05","2013-07-06","2013-07-07","2013-07-08","2013-07-09","2013-07-10","2013-07-11","2013-07-12","2013-07-13","2013-07-14"]
["浏览量",61,53,63,87,141,108,63,92,75,58,101,132,162,85,70,89,63,199,158,312,115,129,142,132,170,189,371,129,108,119,64]
["访客数",34,26,34,34,65,65,48,47,32,40,53,72,109,47,45,59,41,110,97,195,61,73,74,72,102,119,219,63,70,69,49]
["入口数",30,19,25,27,53,55,37,38,29,35,46,59,105,43,42,51,37,91,91,191,59,70,70,67,89,111,215,63,65,62,42]
["跳失率",0.66700000000000004,0.52600000000000002,0.56000000000000005,0.37,0.60399999999999998,0.58199999999999996,0.622,0.57899999999999996,0.55200000000000005,0.629,0.52200000000000002,0.54200000000000004,0.66700000000000004,0.53500000000000003,0.69,0.51,0.64900000000000002,0.59299999999999997,0.61499999999999999,0.66,0.64400000000000002,0.6,0.629,0.50700000000000001,0.65200000000000002,0.68500000000000005,0.63700000000000001,0.65100000000000002,0.72299999999999998,0.64500000000000002,0]
["停留时间",362,306,287,347,325,292,435,336,401,543,322,309,313,428,274,346,433,259,330,341,306,294,293,243,307,313,494,304,288,315,0]
["销售额",476.88,205.72,473.42,871.5,573.52,784.32,533.6,1007.3,630.24,475.52,684.6,1217.56,848.54,747.04,572.24,896.58,633.5,1422.92,1629.64,2491.7399999999998,853.76,863.04,1390,846.4,1003.26,947.4,2624.56,222.72,386.08,602.12,458.76]
["销量",9,4,9,17,11,15,10,19,12,9,13,23,16,14,11,17,12,27,31,47,16,15,26,16,19,18,49,4,7,11,8]
["订单数",8,4,9,16,9,14,10,18,12,9,13,18,16,14,11,16,12,24,28,44,16,15,25,15,19,18,48,4,7,11,8]
["转化率",0.23530000000000001,0.15379999999999999,0.26469999999999999,0.47060000000000002,0.13850000000000001,0.21540000000000001,0.20830000000000001,0.38300000000000001,0.375,0.22500000000000001,0.24529999999999999,0.25,0.14680000000000001,0.2979,0.24440000000000001,0.2712,0.29270000000000002,0.21820000000000001,0.28870000000000001,0.22559999999999999,0.26229999999999998,0.20549999999999999,0.33779999999999999,0.20830000000000001,0.18629999999999999,0.15129999999999999,0.21920000000000001,6.3500000000000001E-2,0.1,0.15939999999999999,0.1633]
["搜索UV",18,16,18,19,42,39,23,28,20,23,34,39,83,30,34,40,33,69,80,159,42,56,51,50,72,94,183,45,45,45,0]
["类目UV",0,0,0,0,1,2,0,0,0,0,0,1,8,0,0,1,0,0,0,11,3,1,0,1,1,2,7,2,1,1,0]
["收藏UV",1,1,0,1,0,1,2,1,1,0,0,1,0,2,0,0,0,3,1,2,0,0,0,0,0,2,1,0,2,0,0]
["直通车UV",0,0,0,0,0,0,0,0,0,0,0,0,0,0,0,0,0,0,0,0,0,0,0,0,0,0,0,0,0,0,0]
["淘宝客UV",2,1,2,0,0,2,0,3,1,0,4,2,2,6,0,0,2,4,2,4,4,5,6,4,7,5,4,4,4,2,0]

{"sheet":"引用","index":13,"n_rows":33,"n_cols":15,"rows_kept":33,"cut":false,"hidden":false,"merged":[]}
[]
["日期","浏览量","访客数","入口数","跳失率","停留时间","销售额","销量","订单数","转化率","搜索UV","类目UV","收藏UV","直通车UV","淘宝客UV"]
["2013-06-09",61,34,30,0.66700000000000004,362,476.88,9,8,0.23530000000000001,18,0,1,0,2]
["2013-06-10",53,26,19,0.52600000000000002,306,205.72,4,4,0.15379999999999999,16,0,1,0,1]
["2013-06-11",63,34,25,0.56000000000000005,287,473.42,9,9,0.26469999999999999,18,0,0,0,2]
["2013-06-12",87,34,27,0.37,347,871.5,17,16,0.47060000000000002,19,0,1,0,0]
["2013-06-13",141,65,53,0.60399999999999998,325,573.52,11,9,0.13850000000000001,42,1,0,0,0]
["2013-06-14",108,65,55,0.58199999999999996,292,784.32,15,14,0.21540000000000001,39,2,1,0,2]
["2013-06-15",63,48,37,0.622,435,533.6,10,10,0.20830000000000001,23,0,2,0,0]
["2013-06-16",92,47,38,0.57899999999999996,336,1007.3,19,18,0.38300000000000001,28,0,1,0,3]
["2013-06-17",75,32,29,0.55200000000000005,401,630.24,12,12,0.375,20,0,1,0,1]
["2013-06-18",58,40,35,0.629,543,475.52,9,9,0.22500000000000001,23,0,0,0,0]
["2013-06-19",101,53,46,0.52200000000000002,322,684.6,13,13,0.24529999999999999,34,0,0,0,4]
["2013-06-20",132,72,59,0.54200000000000004,309,1217.56,23,18,0.25,39,1,1,0,2]
["2013-06-21",162,109,105,0.66700000000000004,313,848.54,16,16,0.14680000000000001,83,8,0,0,2]
["2013-06-22",85,47,43,0.53500000000000003,428,747.04,14,14,0.2979,30,0,2,0,6]
["2013-06-23",70,45,42,0.69,274,572.24,11,11,0.24440000000000001,34,0,0,0,0]
["2013-06-24",89,59,51,0.51,346,896.58,17,16,0.2712,40,1,0,0,0]
["2013-06-25",63,41,37,0.64900000000000002,433,633.5,12,12,0.29270000000000002,33,0,0,0,2]
["2013-06-26",199,110,91,0.59299999999999997,259,1422.92,27,24,0.21820000000000001,69,0,3,0,4]
["2013-06-27",158,97,91,0.61499999999999999,330,1629.64,31,28,0.28870000000000001,80,0,1,0,2]
["2013-06-28",312,195,191,0.66,341,2491.7399999999998,47,44,0.22559999999999999,159,11,2,0,4]
["2013-06-29",115,61,59,0.64400000000000002,306,853.76,16,16,0.26229999999999998,42,3,0,0,4]
["2013-06-30",129,73,70,0.6,294,863.04,15,15,0.20549999999999999,56,1,0,0,5]
["2013-07-01",142,74,70,0.629,293,1390,26,25,0.33779999999999999,51,0,0,0,6]
["2013-07-02",132,72,67,0.50700000000000001,243,846.4,16,15,0.20830000000000001,50,1,0,0,4]
["2013-07-03",170,102,89,0.65200000000000002,307,1003.26,19,19,0.18629999999999999,72,1,0,0,7]
["2013-07-04",189,119,111,0.68500000000000005,313,947.4,18,18,0.15129999999999999,94,2,2,0,5]
["2013-07-05",371,219,215,0.63700000000000001,494,2624.56,49,48,0.21920000000000001,183,7,1,0,4]
["2013-07-06",129,63,63,0.65100000000000002,304,222.72,4,4,6.3500000000000001E-2,45,2,0,0,4]
["2013-07-07",108,70,65,0.72299999999999998,288,386.08,7,7,0.1,45,1,2,0,4]
["2013-07-08",119,69,62,0.64500000000000002,315,602.12,11,11,0.15939999999999999,45,1,0,0,2]
["2013-07-09",64,49,42,0,0,458.76,8,8,0.1633,0,0,0,0,0]

{"sheet":"地域分析元数据","index":14,"n_rows":12,"n_cols":6,"rows_kept":12,"cut":false,"hidden":true,"merged":[]}
["省份","浏览量(PV)","访客数(UV)","付款宝贝数","付款订单数","转化率"]
["广东",13,10,2,2,0.2]
["海南",8,1,1,1,1]
["北京",3,2,2,1,0.5]
["江苏",3,3,0,0,0]
["广西",3,2,0,0,0]
["湖北",2,1,0,0,0]
["上海",1,1,0,0,0]
["江西",1,1,0,0,0]
["其他",1,1,0,0,0]
["安徽",1,1,0,0,0]
["山东",1,1,0,0,0]

{"sheet":"客服数据","index":15,"n_rows":0,"n_cols":0,"rows_kept":0,"cut":false,"hidden":true,"merged":[]}