{"text_format":"2","workbook":"xlsx","n_sheets":6,"sheets":["总表","店铺经营详情","钻展","直通车","淘客","客服"],"not_rendered":{"charts":0,"images":0,"macros":0,"external_links":0,"defined_names":3,"comments":0,"pivot_tables":0},"unopened":[],"bounds":{"document_bytes":16777216,"sheet_cells":100000,"run_cost":"one","rows_first":2000,"rows_last":500,"rows_between":2000,"halvings":0,"cell_chars":16384,"cell_head_chars":4096},"cells_cut":0,"cells_raw":0,"read":"whole","date_system":"1900"}

{"sheet":"总表","index":0,"n_rows":36,"n_cols":38,"rows_kept":36,"cut":false,"hidden":false,"merged":[[0,0,1,0],[0,25,0,33],[35,2,35,37],[0,34,0,36],[0,1,1,1],[0,16,0,24],[0,2,0,15]]}
["星期","   指标\n\n日期","店铺经营情况",{"$nulls":13},"钻展",{"$nulls":8},"直通车",{"$nulls":8},"淘客",null,null,"付费"]
[null,null,"浏览量","天猫搜索","无线搜索","访客数","回访客占比","跳失率","下单件数","人均成交件数","付款金额","客单价","收藏量","成交回头客占比","全店成交转化率","付费占比","UV","消耗 (元)","CTR","CPC","加购数","跳失率","预算","消耗率","ROI","花费","点击量","PPC","成交金额","成交笔数","收藏量","加购数","转化率","ROI","花费","成交","ROI","总额"]
[{"$f":"TEXT(B3,\"aaa\")","v":"周日"},{"$f":"店铺经营详情!$A$3","v":"2015-11-01"},{"$f":"店铺经营详情!B3","v":2997},{"$f":"店铺经营详情!N3","v":22222},{"$f":"店铺经营详情!O3","v":1111},{"$f":"店铺经营详情!C3","v":1152},{"$f":"店铺经营详情!E3","v":0.14760000000000001},{"$f":"店铺经营详情!F3","v":0.79},{"$f":"店铺经营详情!AK3","v":96},{"$f":"店铺经营详情!AP3","v":1.6429},{"$f":"店铺经营详情!AM3","v":75515.700000000012},{"$f":"店铺经营详情!AS3","v":1797.9928571428575},{"$f":"店铺经营详情!AU3","v":5},{"$f":"店铺经营详情!AV3","v":0.59519999999999995},{"$f":"店铺经营详情!AW3","v":3.9100000000000003E-2},{"$f":"IFERROR(AL3/K3,0)","v":4.0102389304475745E-2},{"$f":"钻展!D2","v":152},{"$f":"钻展!E2","v":988.66},{"$f":"钻展!F2","v":9.1000000000000004E-3},{"$f":"钻展!G2","v":6.5},{"$f":"钻展!N2","v":32},{"$f":"钻展!O2","v":0.43},{"$f":"钻展!P2","v":1000},{"$f":"钻展!Q2","v":0.98865999999999998},{"$f":"IFERROR(钻展!T2,0)","v":1.4160580988408553},{"$f":"直通车!B2","v":2026.23},{"$f":"直通车!D2","v":545},{"$f":"直通车!E2","v":3.72},{"$f":"直通车!G2","v":1488},{"$f":"直通车!H2","v":1},{"$f":"直通车!I2","v":11},{"$f":"直通车!J2","v":14},{"$f":"直通车!K2","v":1.8E-3},{"$f":"IFERROR(AC3/Z3,0)","v":0.7343687537939918},{"$f":"淘客!B2","v":13.47},{"$f":"淘客!C2","v":134.63999999999999},{"$f":"淘客!E2","v":22},{"$f":"IFERROR(R3+Z3+AI3,0)","v":3028.3599999999997}]
["周一",{"$f":"店铺经营详情!$A$4","v":"2015-11-02"},{"$f":"店铺经营详情!B4","v":2997},{"$f":"店铺经营详情!N4","v":22222},{"$f":"店铺经营详情!O4","v":1111},{"$f":"店铺经营详情!C4","v":1152},{"$f":"店铺经营详情!E4","v":0.14760000000000001},{"$f":"店铺经营详情!F4","v":0.79},{"$f":"店铺经营详情!AK4","v":96},{"$f":"店铺经营详情!AP4","v":1.6429},{"$f":"店铺经营详情!AM4","v":75515.700000000012},{"$f":"店铺经营详情!AS4","v":1797.9928571428575},{"$f":"店铺经营详情!AU4","v":5},{"$f":"店铺经营详情!AV4","v":0.59519999999999995},{"$f":"店铺经营详情!AW4","v":3.9100000000000003E-2},4.0102389304475745E-2,{"$f":"钻展!D3","v":152},{"$f":"钻展!E3","v":988.66},{"$f":"钻展!F3","v":9.1000000000000004E-3},{"$f":"钻展!G3","v":6.5},{"$f":"钻展!N3","v":38},{"$f":"钻展!O3","v":0.66},{"$f":"钻展!P3","v":1100},{"$f":"钻展!Q3","v":0.89878181818181813},{"$f":"IFERROR(钻展!T3,0)","v":1.4160580988408553},{"$f":"直通车!B3","v":2026.23},{"$f":"直通车!D3","v":545},{"$f":"直通车!E3","v":3.72},{"$f":"直通车!G3","v":1488},{"$f":"直通车!H3","v":1},{"$f":"直通车!I3","v":11},{"$f":"直通车!J3","v":14},{"$f":"直通车!K3","v":1.8E-3},0.7343687537939918,{"$f":"淘客!B3","v":13.47},{"$f":"淘客!C3","v":134.63999999999999},{"$f":"淘客!E3","v":9.9955456570155885},3028.3599999999997]
["周二",{"$f":"店铺经营详情!$A$5","v":"2015-11-03"},{"$f":"店铺经营详情!B5","v":2997},{"$f":"店铺经营详情!N5","v":22222},{"$f":"店铺经营详情!O5","v":1111},{"$f":"店铺经营详情!C5","v":1152},{"$f":"店铺经营详情!E5","v":0.14760000000000001},{"$f":"店铺经营详情!F5","v":0.8},{"$f":"店铺经营详情!AK5","v":96},{"$f":"店铺经营详情!AP5","v":1.6429},{"$f":"店铺经营详情!AM5","v":75515.700000000012},{"$f":"店铺经营详情!AS5","v":1797.9928571428575},{"$f":"店铺经营详情!AU5","v":5},{"$f":"店铺经营详情!AV5","v":0.59519999999999995},{"$f":"店铺经营详情!AW5","v":3.9100000000000003E-2},4.0102389304475745E-2,{"$f":"钻展!D4","v":152},{"$f":"钻展!E4","v":988.66},{"$f":"钻展!F4","v":9.1000000000000004E-3},{"$f":"钻展!G4","v":6.5},{"$f":"钻展!N4","v":44},{"$f":"钻展!O4","v":0.43},{"$f":"钻展!P4","v":1200},{"$f":"钻展!Q4","v":0.8238833333333333},{"$f":"IFERROR(钻展!T4,0)","v":1.4160580988408553},{"$f":"直通车!B4","v":2026.23},{"$f":"直通车!D4","v":545},{"$f":"直通车!E4","v":3.72},{"$f":"直通车!G4","v":1488},{"$f":"直通车!H4","v":1},{"$f":"直通车!I4","v":11},{"$f":"直通车!J4","v":14},{"$f":"直通车!K4","v":1.8E-3},0.7343687537939918,{"$f":"淘客!B4","v":13.47},{"$f":"淘客!C4","v":134.63999999999999},{"$f":"淘客!E4","v":9.9955456570155885},3028.3599999999997]
["周三",{"$f":"店铺经营详情!$A$6","v":"2015-11-04"},{"$f":"店铺经营详情!B6","v":2997},{"$f":"店铺经营详情!N6","v":22222},{"$f":"店铺经营详情!O6","v":1111},{"$f":"店铺经营详情!C6","v":1152},{"$f":"店铺经营详情!E6","v":0.14760000000000001},{"$f":"店铺经营详情!F6","v":0.98},{"$f":"店铺经营详情!AK6","v":96},{"$f":"店铺经营详情!AP6","v":1.6429},{"$f":"店铺经营详情!AM6","v":75515.700000000012},{"$f":"店铺经营详情!AS6","v":1797.9928571428575},{"$f":"店铺经营详情!AU6","v":5},{"$f":"店铺经营详情!AV6","v":0.59519999999999995},{"$f":"店铺经营详情!AW6","v":3.9100000000000003E-2},4.0102389304475745E-2,{"$f":"钻展!D5","v":152},{"$f":"钻展!E5","v":988.66},{"$f":"钻展!F5","v":9.1000000000000004E-3},{"$f":"钻展!G5","v":6.5},{"$f":"钻展!N5","v":50},{"$f":"钻展!O5","v":0.50666666666666704},{"$f":"钻展!P5","v":1300},{"$f":"钻展!Q5","v":0.76050769230769233},{"$f":"IFERROR(钻展!T5,0)","v":1.4160580988408553},{"$f":"直通车!B5","v":2026.23},{"$f":"直通车!D5","v":545},{"$f":"直通车!E5","v":3.72},{"$f":"直通车!G5","v":1488},{"$f":"直通车!H5","v":1},{"$f":"直通车!I5","v":11},{"$f":"直通车!J5","v":14},{"$f":"直通车!K5","v":1.8E-3},0.7343687537939918,{"$f":"淘客!B5","v":13.47},{"$f":"淘客!C5","v":134.63999999999999},{"$f":"淘客!E5","v":9.9955456570155885},3028.3599999999997]
["周四",{"$f":"店铺经营详情!$A$7","v":"2015-11-05"},{"$f":"店铺经营详情!B7","v":2997},{"$f":"店铺经营详情!N7","v":22222},{"$f":"店铺经营详情!O7","v":1111},{"$f":"店铺经营详情!C7","v":1152},{"$f":"店铺经营详情!E7","v":0.14760000000000001},{"$f":"店铺经营详情!F7","v":0.59809027777777779},{"$f":"店铺经营详情!AK7","v":96},{"$f":"店铺经营详情!AP7","v":1.6429},{"$f":"店铺经营详情!AM7","v":75515.700000000012},{"$f":"店铺经营详情!AQ7","v":33},{"$f":"店铺经营详情!AU7","v":5},{"$f":"店铺经营详情!AV7","v":0.59519999999999995},{"$f":"店铺经营详情!AW7","v":3.9100000000000003E-2},4.0102389304475745E-2,{"$f":"钻展!D6","v":152},{"$f":"钻展!E6","v":988.66},{"$f":"钻展!F6","v":9.1000000000000004E-3},{"$f":"钻展!G6","v":6.5},{"$f":"钻展!N6","v":56},{"$f":"钻展!O6","v":0.50666666666666704},{"$f":"钻展!P6","v":1400},{"$f":"钻展!Q6","v":0.70618571428571431},{"$f":"IFERROR(钻展!T6,0)","v":1.4160580988408553},{"$f":"直通车!B6","v":2026.23},{"$f":"直通车!D6","v":545},{"$f":"直通车!E6","v":3.72},{"$f":"直通车!G6","v":1488},{"$f":"直通车!H6","v":1},{"$f":"直通车!I6","v":11},{"$f":"直通车!J6","v":14},{"$f":"直通车!K6","v":1.8E-3},0.7343687537939918,{"$f":"淘客!B6","v":13.47},{"$f":"淘客!C6","v":134.63999999999999},{"$f":"淘客!E6","v":9.9955456570155885},3028.3599999999997]
["周五",{"$f":"店铺经营详情!$A$8","v":"2015-11-06"},{"$f":"店铺经营详情!B8","v":2997},{"$f":"店铺经营详情!N8","v":22222},{"$f":"店铺经营详情!O8","v":1111},{"$f":"店铺经营详情!C8","v":1152},{"$f":"店铺经营详情!E8","v":0.14760000000000001},{"$f":"店铺经营详情!F8","v":0.59809027777777779},{"$f":"店铺经营详情!AK8","v":96},{"$f":"店铺经营详情!AP8","v":1.6429},{"$f":"店铺经营详情!AM8","v":75515.700000000012},{"$f":"店铺经营详情!AS8","v":1797.9928571428575},{"$f":"店铺经营详情!AU8","v":5},{"$f":"店铺经营详情!AV8","v":0.59519999999999995},{"$f":"店铺经营详情!AW8","v":3.9100000000000003E-2},4.0102389304475745E-2,{"$f":"钻展!D7","v":152},{"$f":"钻展!E7","v":988.66},{"$f":"钻展!F7","v":9.1000000000000004E-3},{"$f":"钻展!G7","v":6.5},{"$f":"钻展!N7","v":62},{"$f":"钻展!O7","v":0.50666666666666704},{"$f":"钻展!P7","v":1500},{"$f":"钻展!Q7","v":0.65910666666666662},{"$f":"IFERROR(钻展!T7,0)","v":1.4160580988408553},{"$f":"直通车!B7","v":2026.23},{"$f":"直通车!D7","v":545},{"$f":"直通车!E7","v":3.72},{"$f":"直通车!G7","v":1488},{"$f":"直通车!H7","v":1},{"$f":"直通车!I7","v":11},{"$f":"直通车!J7","v":14},{"$f":"直通车!K7","v":1.8E-3},0.7343687537939918,{"$f":"淘客!B7","v":13.47},{"$f":"淘客!C7","v":134.63999999999999},{"$f":"淘客!E7","v":9.9955456570155885},3028.3599999999997]
["周六",{"$f":"店铺经营详情!$A$9","v":"2015-11-07"},{"$f":"店铺经营详情!B9","v":2997},{"$f":"店铺经营详情!N9","v":22222},{"$f":"店铺经营详情!O9","v":1111},{"$f":"店铺经营详情!C9","v":1152},{"$f":"店铺经营详情!E9","v":0.14760000000000001},{"$f":"店铺经营详情!F9","v":0.59809027777777779},{"$f":"店铺经营详情!AK9","v":96},{"$f":"店铺经营详情!AP9","v":1.6429},{"$f":"店铺经营详情!AM9","v":75515.700000000012},{"$f":"店铺经营详情!AS9","v":1797.9928571428575},{"$f":"店铺经营详情!AU9","v":5},{"$f":"店铺经营详情!AV9","v":0.59519999999999995},{"$f":"店铺经营详情!AW9","v":3.9100000000000003E-2},4.0102389304475745E-2,{"$f":"钻展!D8","v":152},{"$f":"钻展!E8","v":988.66},{"$f":"钻展!F8","v":9.1000000000000004E-3},{"$f":"钻展!G8","v":6.5},{"$f":"钻展!N8","v":68},{"$f":"钻展!O8","v":0.50666666666666704},{"$f":"钻展!P8","v":1600},{"$f":"钻展!Q8","v":0.61791249999999998},{"$f":"IFERROR(钻展!T8,0)","v":1.4160580988408553},{"$f":"直通车!B8","v":2026.23},{"$f":"直通车!D8","v":545},{"$f":"直通车!E8","v":3.72},{"$f":"直通车!G8","v":1488},{"$f":"直通车!H8","v":1},{"$f":"直通车!I8","v":11},{"$f":"直通车!J8","v":14},{"$f":"直通车!K8","v":1.8E-3},0.7343687537939918,{"$f":"淘客!B8","v":13.47},{"$f":"淘客!C8","v":134.63999999999999},{"$f":"淘客!E8","v":9.9955456570155885},3028.3599999999997]
["周日",{"$f":"店铺经营详情!$A$10","v":"2015-11-08"},{"$f":"店铺经营详情!B10","v":2997},{"$f":"店铺经营详情!N10","v":22222},{"$f":"店铺经营详情!O10","v":1111},{"$f":"店铺经营详情!C10","v":1152},{"$f":"店铺经营详情!E10","v":0.14760000000000001},{"$f":"店铺经营详情!F10","v":0.59809027777777779},{"$f":"店铺经营详情!AK10","v":96},{"$f":"店铺经营详情!AP10","v":1.6429},{"$f":"店铺经营详情!AM10","v":75515.700000000012},{"$f":"店铺经营详情!AS10","v":1797.9928571428575},{"$f":"店铺经营详情!AU10","v":5},{"$f":"店铺经营详情!AV10","v":0.59519999999999995},{"$f":"店铺经营详情!AW10","v":3.9100000000000003E-2},4.0102389304475745E-2,{"$f":"钻展!D9","v":152},{"$f":"钻展!E9","v":988.66},{"$f":"钻展!F9","v":9.1000000000000004E-3},{"$f":"钻展!G9","v":6.5},{"$f":"钻展!N9","v":74},{"$f":"钻展!O9","v":0.50666666666666704},{"$f":"钻展!P9","v":1700},{"$f":"钻展!Q9","v":0.58156470588235287},{"$f":"IFERROR(钻展!T9,0)","v":1.4160580988408553},{"$f":"直通车!B9","v":2026.23},{"$f":"直通车!D9","v":545},{"$f":"直通车!E9","v":3.72},{"$f":"直通车!G9","v":1488},{"$f":"直通车!H9","v":1},{"$f":"直通车!I9","v":11},{"$f":"直通车!J9","v":14},{"$f":"直通车!K9","v":1.8E-3},0.7343687537939918,{"$f":"淘客!B9","v":13.47},{"$f":"淘客!C9","v":134.63999999999999},{"$f":"淘客!E9","v":9.9955456570155885},3028.3599999999997]
["周一",{"$f":"店铺经营详情!$A$11","v":"2015-11-09"},{"$f":"店铺经营详情!B11","v":2997},{"$f":"店铺经营详情!N11","v":22222},{"$f":"店铺经营详情!O11","v":1111},{"$f":"店铺经营详情!C11","v":1152},{"$f":"店铺经营详情!E11","v":0.14760000000000001},{"$f":"店铺经营详情!F11","v":0.59809027777777779},{"$f":"店铺经营详情!AK11","v":96},{"$f":"店铺经营详情!AP11","v":1.6429},{"$f":"店铺经营详情!AM11","v":75515.700000000012},{"$f":"店铺经营详情!AS11","v":1797.9928571428575},{"$f":"店铺经营详情!AU11","v":5},{"$f":"店铺经营详情!AV11","v":0.59519999999999995},{"$f":"店铺经营详情!AW11","v":3.9100000000000003E-2},4.0102389304475745E-2,{"$f":"钻展!D10","v":152},{"$f":"钻展!E10","v":988.66},{"$f":"钻展!F10","v":9.1000000000000004E-3},{"$f":"钻展!G10","v":6.5},{"$f":"钻展!N10","v":80},{"$f":"钻展!O10","v":0.50666666666666704},{"$f":"钻展!P10","v":1800},{"$f":"钻展!Q10","v":0.5492555555555555},{"$f":"IFERROR(钻展!T10,0)","v":1.4160580988408553},{"$f":"直通车!B10","v":2026.23},{"$f":"直通车!D10","v":545},{"$f":"直通车!E10","v":3.72},{"$f":"直通车!G10","v":1488},{"$f":"直通车!H10","v":1},{"$f":"直通车!I10","v":11},{"$f":"直通车!J10","v":14},{"$f":"直通车!K10","v":1.8E-3},0.7343687537939918,{"$f":"淘客!B10","v":13.47},{"$f":"淘客!C10","v":134.63999999999999},{"$f":"淘客!E10","v":9.9955456570155885},3028.3599999999997]
["周二",{"$f":"店铺经营详情!$A$12","v":"2015-11-10"},{"$f":"店铺经营详情!B12","v":2997},{"$f":"店铺经营详情!N12","v":22222},{"$f":"店铺经营详情!O12","v":1111},{"$f":"店铺经营详情!C12","v":1152},{"$f":"店铺经营详情!E12","v":0.14760000000000001},{"$f":"店铺经营详情!F12","v":0.59809027777777779},{"$f":"店铺经营详情!AK12","v":96},{"$f":"店铺经营详情!AP12","v":1.6429},{"$f":"店铺经营详情!AM12","v":75515.700000000012},{"$f":"店铺经营详情!AS12","v":1797.9928571428575},{"$f":"店铺经营详情!AU12","v":5},{"$f":"店铺经营详情!AV12","v":0.59519999999999995},{"$f":"店铺经营详情!AW12","v":3.9100000000000003E-2},4.0102389304475745E-2,{"$f":"钻展!D11","v":152},{"$f":"钻展!E11","v":988.66},{"$f":"钻展!F11","v":9.1000000000000004E-3},{"$f":"钻展!G11","v":6.5},{"$f":"钻展!N11","v":86},{"$f":"钻展!O11","v":0.50666666666666704},{"$f":"钻展!P11","v":1900},{"$f":"钻展!Q11","v":0.52034736842105267},{"$f":"IFERROR(钻展!T11,0)","v":1.4160580988408553},{"$f":"直通车!B11","v":2026.23},{"$f":"直通车!D11","v":545},{"$f":"直通车!E11","v":3.72},{"$f":"直通车!G11","v":1488},{"$f":"直通车!H11","v":1},{"$f":"直通车!I11","v":11},{"$f":"直通车!J11","v":14},{"$f":"直通车!K11","v":1.8E-3},0.7343687537939918,{"$f":"淘客!B11","v":13.47},{"$f":"淘客!C11","v":134.63999999999999},{"$f":"淘客!E11","v":9.9955456570155885},3028.3599999999997]
["周三",{"$f":"店铺经营详情!$A$13","v":"2015-11-11"},{"$f":"店铺经营详情!B13","v":2997},{"$f":"店铺经营详情!N13","v":22222},{"$f":"店铺经营详情!O13","v":1111},{"$f":"店铺经营详情!C13","v":1152},{"$f":"店铺经营详情!E13","v":0.14760000000000001},{"$f":"店铺经营详情!F13","v":0.59809027777777779},{"$f":"店铺经营详情!AK13","v":96},{"$f":"店铺经营详情!AP13","v":1.6429},{"$f":"店铺经营详情!AM13","v":75515.700000000012},{"$f":"店铺经营详情!AS13","v":1797.9928571428575},{"$f":"店铺经营详情!AU13","v":5},{"$f":"店铺经营详情!AV13","v":0.59519999999999995},{"$f":"店铺经营详情!AW13","v":3.9100000000000003E-2},4.0102389304475745E-2,{"$f":"钻展!D12","v":152},{"$f":"钻展!E12","v":988.66},{"$f":"钻展!F12","v":9.1000000000000004E-3},{"$f":"钻展!G12","v":6.5},{"$f":"钻展!N12","v":92},{"$f":"钻展!O12","v":0.50666666666666704},{"$f":"钻展!P12","v":2000},{"$f":"钻展!Q12","v":0.49432999999999999},{"$f":"IFERROR(钻展!T12,0)","v":1.4160580988408553},{"$f":"直通车!B12","v":2026.23},{"$f":"直通车!D12","v":545},{"$f":"直通车!E12","v":3.72},{"$f":"直通车!G12","v":1488},{"$f":"直通车!H12","v":1},{"$f":"直通车!I12","v":11},{"$f":"直通车!J12","v":14},{"$f":"直通车!K12","v":1.8E-3},0.7343687537939918,{"$f":"淘客!B12","v":13.47},{"$f":"淘客!C12","v":134.63999999999999},{"$f":"淘客!E12","v":9.9955456570155885},3028.3599999999997]
["周四",{"$f":"店铺经营详情!$A$14","v":"2015-11-12"},{"$f":"店铺经营详情!B14","v":2997},{"$f":"店铺经营详情!N14","v":22222},{"$f":"店铺经营详情!O14","v":1111},{"$f":"店铺经营详情!C14","v":1152},{"$f":"店铺经营详情!E14","v":0.14760000000000001},{"$f":"店铺经营详情!F14","v":0.59809027777777779},{"$f":"店铺经营详情!AK14","v":96},{"$f":"店铺经营详情!AP14","v":1.6429},{"$f":"店铺经营详情!AM14","v":75515.700000000012},{"$f":"店铺经营详情!AS14","v":1797.9928571428575},{"$f":"店铺经营详情!AU14","v":5},{"$f":"店铺经营详情!AV14","v":0.59519999999999995},{"$f":"店铺经营详情!AW14","v":3.9100000000000003E-2},4.0102389304475745E-2,{"$f":"钻展!D13","v":152},{"$f":"钻展!E13","v":988.66},{"$f":"钻展!F13","v":9.1000000000000004E-3},{"$f":"钻展!G13","v":6.5},{"$f":"钻展!N13","v":98},{"$f":"钻展!O13","v":0.50666666666666704},{"$f":"钻展!P13","v":2100},{"$f":"钻展!Q13","v":0.47079047619047615},{"$f":"IFERROR(钻展!T13,0)","v":1.4160580988408553},{"$f":"直通车!B13","v":2026.23},{"$f":"直通车!D13","v":545},{"$f":"直通车!E13","v":3.72},{"$f":"直通车!G13","v":1488},{"$f":"直通车!H13","v":1},{"$f":"直通车!I13","v":11},{"$f":"直通车!J13","v":14},{"$f":"直通车!K13","v":1.8E-3},0.7343687537939918,{"$f":"淘客!B13","v":13.47},{"$f":"淘客!C13","v":134.63999999999999},{"$f":"淘客!E13","v":9.9955456570155885},3028.3599999999997]
["周五",{"$f":"店铺经营详情!$A$15","v":"2015-11-13"},{"$f":"店铺经营详情!B15","v":2997},{"$f":"店铺经营详情!N15","v":22222},{"$f":"店铺经营详情!O15","v":1111},{"$f":"店铺经营详情!C15","v":1152},{"$f":"店铺经营详情!E15","v":0.14760000000000001},{"$f":"店铺经营详情!F15","v":0.59809027777777779},{"$f":"店铺经营详情!AK15","v":88},{"$f":"店铺经营详情!AP15","v":1.6429},{"$f":"店铺经营详情!AM15","v":75515.700000000012},{"$f":"店铺经营详情!AS15","v":1797.9928571428575},{"$f":"店铺经营详情!AU15","v":5},{"$f":"店铺经营详情!AV15","v":0.59519999999999995},{"$f":"店铺经营详情!AW15","v":3.9100000000000003E-2},4.0102389304475745E-2,{"$f":"钻展!D14","v":152},{"$f":"钻展!E14","v":988.66},{"$f":"钻展!F14","v":9.1000000000000004E-3},{"$f":"钻展!G14","v":6.5},{"$f":"钻展!N14","v":104},{"$f":"钻展!O14","v":0.50666666666666704},{"$f":"钻展!P14","v":2200},{"$f":"钻展!Q14","v":0.44939090909090906},{"$f":"IFERROR(钻展!T14,0)","v":1.4160580988408553},{"$f":"直通车!B14","v":2026.23},{"$f":"直通车!D14","v":545},{"$f":"直通车!E14","v":3.72},{"$f":"直通车!G14","v":1488},{"$f":"直通车!H14","v":1},{"$f":"直通车!I14","v":11},{"$f":"直通车!J14","v":14},{"$f":"直通车!K14","v":1.8E-3},0.7343687537939918,{"$f":"淘客!B14","v":13.47},{"$f":"淘客!C14","v":134.63999999999999},{"$f":"淘客!E14","v":9.9955456570155885},3028.3599999999997]
["周六",{"$f":"店铺经营详情!$A$16","v":"2015-11-14"},{"$f":"店铺经营详情!B16","v":2997},{"$f":"店铺经营详情!N16","v":22222},{"$f":"店铺经营详情!O16","v":1111},{"$f":"店铺经营详情!C16","v":1152},{"$f":"店铺经营详情!E16","v":0.14760000000000001},{"$f":"店铺经营详情!F16","v":0.59809027777777779},{"$f":"店铺经营详情!AK16","v":33},{"$f":"店铺经营详情!AP16","v":1.6429},{"$f":"店铺经营详情!AM16","v":75515.700000000012},{"$f":"店铺经营详情!AS16","v":1797.9928571428575},{"$f":"店铺经营详情!AU16","v":5},{"$f":"店铺经营详情!AV16","v":0.59519999999999995},{"$f":"店铺经营详情!AW16","v":3.9100000000000003E-2},4.0102389304475745E-2,{"$f":"钻展!D15","v":152},{"$f":"钻展!E15","v":988.66},{"$f":"钻展!F15","v":9.1000000000000004E-3},{"$f":"钻展!G15","v":6.5},{"$f":"钻展!N15","v":110},{"$f":"钻展!O15","v":0.50666666666666704},{"$f":"钻展!P15","v":2300},{"$f":"钻展!Q15","v":0.42985217391304348},{"$f":"IFERROR(钻展!T15,0)","v":1.4160580988408553},{"$f":"直通车!B15","v":2026.23},{"$f":"直通车!D15","v":545},{"$f":"直通车!E15","v":3.72},{"$f":"直通车!G15","v":1488},{"$f":"直通车!H15","v":1},{"$f":"直通车!I15","v":11},{"$f":"直通车!J15","v":14},{"$f":"直通车!K15","v":1.8E-3},0.7343687537939918,{"$f":"淘客!B15","v":13.47},{"$f":"淘客!C15","v":134.63999999999999},{"$f":"淘客!E15","v":9.9955456570155885},3028.3599999999997]
["周日",{"$f":"店铺经营详情!$A$17","v":"2015-11-15"},{"$f":"店铺经营详情!B17","v":2997},{"$f":"店铺经营详情!N17","v":22222},{"$f":"店铺经营详情!O17","v":1111},{"$f":"店铺经营详情!C17","v":1152},{"$f":"店铺经营详情!E17","v":0.14760000000000001},{"$f":"店铺经营详情!F17","v":0.59809027777777779},{"$f":"店铺经营详情!AK17","v":22},{"$f":"店铺经营详情!AP17","v":1.6429},{"$f":"店铺经营详情!AM17","v":75515.700000000012},{"$f":"店铺经营详情!AS17","v":1797.9928571428575},{"$f":"店铺经营详情!AU17","v":5},{"$f":"店铺经营详情!AV17","v":0.59519999999999995},{"$f":"店铺经营详情!AW17","v":3.9100000000000003E-2},4.0102389304475745E-2,{"$f":"钻展!D16","v":152},{"$f":"钻展!E16","v":988.66},{"$f":"钻展!F16","v":9.1000000000000004E-3},{"$f":"钻展!G16","v":6.5},{"$f":"钻展!N16","v":116},{"$f":"钻展!O16","v":0.50666666666666704},{"$f":"钻展!P16","v":2400},{"$f":"钻展!Q16","v":0.41194166666666665},{"$f":"IFERROR(钻展!T16,0)","v":1.4160580988408553},{"$f":"直通车!B16","v":2026.23},{"$f":"直通车!D16","v":545},{"$f":"直通车!E16","v":3.72},{"$f":"直通车!G16","v":1488},{"$f":"直通车!H16","v":1},{"$f":"直通车!I16","v":11},{"$f":"直通车!J16","v":14},{"$f":"直通车!K16","v":1.8E-3},0.7343687537939918,{"$f":"淘客!B16","v":13.47},{"$f":"淘客!C16","v":134.63999999999999},{"$f":"淘客!E16","v":9.9955456570155885},3028.3599999999997]
["周一",{"$f":"店铺经营详情!$A$18","v":"2015-11-16"},{"$f":"店铺经营详情!B18","v":2997},{"$f":"店铺经营详情!N18","v":22222},{"$f":"店铺经营详情!O18","v":1111},{"$f":"店铺经营详情!C18","v":1152},{"$f":"店铺经营详情!E18","v":0.14760000000000001},{"$f":"店铺经营详情!F18","v":0.59809027777777779},{"$f":"店铺经营详情!AK18","v":11},{"$f":"店铺经营详情!AP18","v":1.6429},{"$f":"店铺经营详情!AM18","v":75515.700000000012},{"$f":"店铺经营详情!AS18","v":1797.9928571428575},{"$f":"店铺经营详情!AU18","v":5},{"$f":"店铺经营详情!AV18","v":0.59519999999999995},{"$f":"店铺经营详情!AW18","v":3.9100000000000003E-2},4.0102389304475745E-2,{"$f":"钻展!D17","v":152},{"$f":"钻展!E17","v":988.66},{"$f":"钻展!F17","v":9.1000000000000004E-3},{"$f":"钻展!G17","v":6.5},{"$f":"钻展!N17","v":122},{"$f":"钻展!O17","v":0.50666666666666704},{"$f":"钻展!P17","v":2500},{"$f":"钻展!Q17","v":0.39546399999999998},{"$f":"IFERROR(钻展!T17,0)","v":1.4160580988408553},{"$f":"直通车!B17","v":2026.23},{"$f":"直通车!D17","v":545},{"$f":"直通车!E17","v":3.72},{"$f":"直通车!G17","v":1488},{"$f":"直通车!H17","v":1},{"$f":"直通车!I17","v":11},{"$f":"直通车!J17","v":14},{"$f":"直通车!K17","v":1.8E-3},0.7343687537939918,{"$f":"淘客!B17","v":13.47},{"$f":"淘客!C17","v":134.63999999999999},{"$f":"淘客!E17","v":9.9955456570155885},3028.3599999999997]
["周二",{"$f":"店铺经营详情!$A$19","v":"2015-11-17"},{"$f":"店铺经营详情!B19","v":2997},{"$f":"店铺经营详情!N19","v":22222},{"$f":"店铺经营详情!O19","v":1111},{"$f":"店铺经营详情!C19","v":1152},{"$f":"店铺经营详情!E19","v":0.14760000000000001},{"$f":"店铺经营详情!F19","v":0.59809027777777779},{"$f":"店铺经营详情!AK19","v":96},{"$f":"店铺经营详情!AP19","v":1.6429},{"$f":"店铺经营详情!AM19","v":75515.700000000012},{"$f":"店铺经营详情!AS19","v":1797.9928571428575},{"$f":"店铺经营详情!AU19","v":5},{"$f":"店铺经营详情!AV19","v":0.59519999999999995},{"$f":"店铺经营详情!AW19","v":3.9100000000000003E-2},4.0102389304475745E-2,{"$f":"钻展!D18","v":152},{"$f":"钻展!E18","v":988.66},{"$f":"钻展!F18","v":9.1000000000000004E-3},{"$f":"钻展!G18","v":6.5},{"$f":"钻展!N18","v":128},{"$f":"钻展!O18","v":0.50666666666666704},{"$f":"钻展!P18","v":2600},{"$f":"钻展!Q18","v":0.38025384615384616},{"$f":"IFERROR(钻展!T18,0)","v":1.4160580988408553},{"$f":"直通车!B18","v":2026.23},{"$f":"直通车!D18","v":545},{"$f":"直通车!E18","v":3.72},{"$f":"直通车!G18","v":1488},{"$f":"直通车!H18","v":1},{"$f":"直通车!I18","v":11},{"$f":"直通车!J18","v":14},{"$f":"直通车!K18","v":1.8E-3},0.7343687537939918,{"$f":"淘客!B18","v":13.47},{"$f":"淘客!C18","v":134.63999999999999},{"$f":"淘客!E18","v":9.9955456570155885},3028.3599999999997]
["周三",{"$f":"店铺经营详情!$A$20","v":"2015-11-18"},{"$f":"店铺经营详情!B20","v":2997},{"$f":"店铺经营详情!N20","v":22222},{"$f":"店铺经营详情!O20","v":1111},{"$f":"店铺经营详情!C20","v":1152},{"$f":"店铺经营详情!E20","v":0.14760000000000001},{"$f":"店铺经营详情!F20","v":0.59809027777777779},{"$f":"店铺经营详情!AK20","v":96},{"$f":"店铺经营详情!AP20","v":1.6429},{"$f":"店铺经营详情!AM20","v":75515.700000000012},{"$f":"店铺经营详情!AS20","v":1797.9928571428575},{"$f":"店铺经营详情!AU20","v":5},{"$f":"店铺经营详情!AV20","v":0.59519999999999995},{"$f":"店铺经营详情!AW20","v":3.9100000000000003E-2},4.0102389304475745E-2,{"$f":"钻展!D19","v":152},{"$f":"钻展!E19","v":988.66},{"$f":"钻展!F19","v":9.1000000000000004E-3},{"$f":"钻展!G19","v":6.5},{"$f":"钻展!N19","v":134},{"$f":"钻展!O19","v":0.50666666666666704},{"$f":"钻展!P19","v":2700},{"$f":"钻展!Q19","v":0.36617037037037037},{"$f":"IFERROR(钻展!T19,0)","v":1.4160580988408553},{"$f":"直通车!B19","v":2026.23},{"$f":"直通车!D19","v":545},{"$f":"直通车!E19","v":3.72},{"$f":"直通车!G19","v":1488},{"$f":"直通车!H19","v":1},{"$f":"直通车!I19","v":11},{"$f":"直通车!J19","v":14},{"$f":"直通车!K19","v":1.8E-3},0.7343687537939918,{"$f":"淘客!B19","v":13.47},{"$f":"淘客!C19","v":134.63999999999999},{"$f":"淘客!E19","v":9.9955456570155885},3028.3599999999997]
["周四",{"$f":"店铺经营详情!$A$21","v":"2015-11-19"},{"$f":"店铺经营详情!B21","v":2997},{"$f":"店铺经营详情!N21","v":22222},{"$f":"店铺经营详情!O21","v":1111},{"$f":"店铺经营详情!C21","v":1152},{"$f":"店铺经营详情!E21","v":0.14760000000000001},{"$f":"店铺经营详情!F21","v":0.59809027777777779},{"$f":"店铺经营详情!AK21","v":96},{"$f":"店铺经营详情!AP21","v":1.6429},{"$f":"店铺经营详情!AM21","v":75515.700000000012},{"$f":"店铺经营详情!AS21","v":1797.9928571428575},{"$f":"店铺经营详情!AU21","v":5},{"$f":"店铺经营详情!AV21","v":0.59519999999999995},{"$f":"店铺经营详情!AW21","v":3.9100000000000003E-2},4.0102389304475745E-2,{"$f":"钻展!D20","v":152},{"$f":"钻展!E20","v":988.66},{"$f":"钻展!F20","v":9.1000000000000004E-3},{"$f":"钻展!G20","v":6.5},{"$f":"钻展!N20","v":140},{"$f":"钻展!O20","v":0.50666666666666704},{"$f":"钻展!P20","v":2800},{"$f":"钻展!Q20","v":0.35309285714285715},{"$f":"IFERROR(钻展!T20,0)","v":1.4160580988408553},{"$f":"直通车!B20","v":2026.23},{"$f":"直通车!D20","v":545},{"$f":"直通车!E20","v":3.72},{"$f":"直通车!G20","v":1488},{"$f":"直通车!H20","v":1},{"$f":"直通车!I20","v":11},{"$f":"直通车!J20","v":14},{"$f":"直通车!K20","v":1.8E-3},0.7343687537939918,{"$f":"淘客!B20","v":13.47},{"$f":"淘客!C20","v":134.63999999999999},{"$f":"淘客!E20","v":9.9955456570155885},3028.3599999999997]
["周五",{"$f":"店铺经营详情!$A$22","v":"2015-11-20"},{"$f":"店铺经营详情!B22","v":2997},{"$f":"店铺经营详情!N22","v":22222},{"$f":"店铺经营详情!O22","v":1111},{"$f":"店铺经营详情!C22","v":1152},{"$f":"店铺经营详情!E22","v":0.14760000000000001},{"$f":"店铺经营详情!F22","v":0.59809027777777779},{"$f":"店铺经营详情!AK22","v":96},{"$f":"店铺经营详情!AP22","v":1.6429},{"$f":"店铺经营详情!AM22","v":75515.700000000012},{"$f":"店铺经营详情!AS22","v":1797.9928571428575},{"$f":"店铺经营详情!AU22","v":5},{"$f":"店铺经营详情!AV22","v":0.59519999999999995},{"$f":"店铺经营详情!AW22","v":3.9100000000000003E-2},4.0102389304475745E-2,{"$f":"钻展!D21","v":152},{"$f":"钻展!E21","v":988.66},{"$f":"钻展!F21","v":9.1000000000000004E-3},{"$f":"钻展!G21","v":6.5},{"$f":"钻展!N21","v":146},{"$f":"钻展!O21","v":0.50666666666666704},{"$f":"钻展!P21","v":2900},{"$f":"钻展!Q21","v":0.34091724137931034},{"$f":"IFERROR(钻展!T21,0)","v":1.4160580988408553},{"$f":"直通车!B21","v":2026.23},{"$f":"直通车!D21","v":545},{"$f":"直通车!E21","v":3.72},{"$f":"直通车!G21","v":1488},{"$f":"直通车!H21","v":1},{"$f":"直通车!I21","v":11},{"$f":"直通车!J21","v":14},{"$f":"直通车!K21","v":1.8E-3},0.7343687537939918,{"$f":"淘客!B21","v":13.47},{"$f":"淘客!C21","v":134.63999999999999},{"$f":"淘客!E21","v":9.9955456570155885},3028.3599999999997]
["周六",{"$f":"店铺经营详情!$A$23","v":"2015-11-21"},{"$f":"店铺经营详情!B23","v":2997},{"$f":"店铺经营详情!N23","v":22222},{"$f":"店铺经营详情!O23","v":1111},{"$f":"店铺经营详情!C23","v":1152},{"$f":"店铺经营详情!E23","v":0.14760000000000001},{"$f":"店铺经营详情!F23","v":0.59809027777777779},{"$f":"店铺经营详情!AK23","v":96},{"$f":"店铺经营详情!AP23","v":1.6429},{"$f":"店铺经营详情!AM23","v":75515.700000000012},{"$f":"店铺经营详情!AS23","v":1797.9928571428575},{"$f":"店铺经营详情!AU23","v":5},{"$f":"店铺经营详情!AV23","v":0.59519999999999995},{"$f":"店铺经营详情!AW23","v":3.9100000000000003E-2},4.0102389304475745E-2,{"$f":"钻展!D22","v":152},{"$f":"钻展!E22","v":988.66},{"$f":"钻展!F22","v":9.1000000000000004E-3},{"$f":"钻展!G22","v":6.5},{"$f":"钻展!N22","v":152},{"$f":"钻展!O22","v":0.50666666666666704},{"$f":"钻展!P22","v":3000},{"$f":"钻展!Q22","v":0.32955333333333331},{"$f":"IFERROR(钻展!T22,0)","v":1.4160580988408553},{"$f":"直通车!B22","v":2026.23},{"$f":"直通车!D22","v":545},{"$f":"直通车!E22","v":3.72},{"$f":"直通车!G22","v":1488},{"$f":"直通车!H22","v":1},{"$f":"直通车!I22","v":11},{"$f":"直通车!J22","v":14},{"$f":"直通车!K22","v":1.8E-3},0.7343687537939918,{"$f":"淘客!B22","v":13.47},{"$f":"淘客!C22","v":134.63999999999999},{"$f":"淘客!E22","v":9.9955456570155885},3028.3599999999997]
["周日",{"$f":"店铺经营详情!$A$24","v":"2015-11-22"},{"$f":"店铺经营详情!B24","v":2997},{"$f":"店铺经营详情!N24","v":22222},{"$f":"店铺经营详情!O24","v":1111},{"$f":"店铺经营详情!C24","v":1152},{"$f":"店铺经营详情!E24","v":0.14760000000000001},{"$f":"店铺经营详情!F24","v":0.59809027777777779},{"$f":"店铺经营详情!AK24","v":96},{"$f":"店铺经营详情!AP24","v":1.6429},{"$f":"店铺经营详情!AM24","v":75515.700000000012},{"$f":"店铺经营详情!AS24","v":1797.9928571428575},{"$f":"店铺经营详情!AU24","v":5},{"$f":"店铺经营详情!AV24","v":0.59519999999999995},{"$f":"店铺经营详情!AW24","v":3.9100000000000003E-2},4.0102389304475745E-2,{"$f":"钻展!D23","v":152},{"$f":"钻展!E23","v":988.66},{"$f":"钻展!F23","v":9.1000000000000004E-3},{"$f":"钻展!G23","v":6.5},{"$f":"钻展!N23","v":158},{"$f":"钻展!O23","v":0.50666666666666704},{"$f":"钻展!P23","v":3100},{"$f":"钻展!Q23","v":0.31892258064516127},{"$f":"IFERROR(钻展!T23,0)","v":1.4160580988408553},{"$f":"直通车!B23","v":2026.23},{"$f":"直通车!D23","v":545},{"$f":"直通车!E23","v":3.72},{"$f":"直通车!G23","v":1488},{"$f":"直通车!H23","v":1},{"$f":"直通车!I23","v":11},{"$f":"直通车!J23","v":14},{"$f":"直通车!K23","v":1.8E-3},0.7343687537939918,{"$f":"淘客!B23","v":13.47},{"$f":"淘客!C23","v":134.63999999999999},{"$f":"淘客!E23","v":9.9955456570155885},3028.3599999999997]
["周一",{"$f":"店铺经营详情!$A$25","v":"2015-11-23"},{"$f":"店铺经营详情!B25","v":2997},{"$f":"店铺经营详情!N25","v":22222},{"$f":"店铺经营详情!O25","v":1111},{"$f":"店铺经营详情!C25","v":1152},{"$f":"店铺经营详情!E25","v":0.14760000000000001},{"$f":"店铺经营详情!F25","v":0.59809027777777779},{"$f":"店铺经营详情!AK25","v":96},{"$f":"店铺经营详情!AP25","v":1.6429},{"$f":"店铺经营详情!AM25","v":75515.700000000012},{"$f":"店铺经营详情!AS25","v":1797.9928571428575},{"$f":"店铺经营详情!AU25","v":5},{"$f":"店铺经营详情!AV25","v":0.59519999999999995},{"$f":"店铺经营详情!AW25","v":3.9100000000000003E-2},4.0102389304475745E-2,{"$f":"钻展!D24","v":152},{"$f":"钻展!E24","v":988.66},{"$f":"钻展!F24","v":9.1000000000000004E-3},{"$f":"钻展!G24","v":6.5},{"$f":"钻展!N24","v":164},{"$f":"钻展!O24","v":0.50666666666666704},{"$f":"钻展!P24","v":3200},{"$f":"钻展!Q24","v":0.30895624999999999},{"$f":"IFERROR(钻展!T24,0)","v":1.4160580988408553},{"$f":"直通车!B24","v":2026.23},{"$f":"直通车!D24","v":545},{"$f":"直通车!E24","v":3.72},{"$f":"直通车!G24","v":1488},{"$f":"直通车!H24","v":1},{"$f":"直通车!I24","v":11},{"$f":"直通车!J24","v":14},{"$f":"直通车!K24","v":1.8E-3},0.7343687537939918,{"$f":"淘客!B24","v":13.47},{"$f":"淘客!C24","v":134.63999999999999},{"$f":"淘客!E24","v":9.9955456570155885},3028.3599999999997]
["周二",{"$f":"店铺经营详情!$A$26","v":"2015-11-24"},{"$f":"店铺经营详情!B26","v":2997},{"$f":"店铺经营详情!N26","v":22222},{"$f":"店铺经营详情!O26","v":1111},{"$f":"店铺经营详情!C26","v":1152},{"$f":"店铺经营详情!E26","v":0.14760000000000001},{"$f":"店铺经营详情!F26","v":0.59809027777777779},{"$f":"店铺经营详情!AK26","v":96},{"$f":"店铺经营详情!AP26","v":1.6429},{"$f":"店铺经营详情!AM26","v":75515.700000000012},{"$f":"店铺经营详情!AS26","v":1797.9928571428575},{"$f":"店铺经营详情!AU26","v":5},{"$f":"店铺经营详情!AV26","v":0.59519999999999995},{"$f":"店铺经营详情!AW26","v":3.9100000000000003E-2},4.0102389304475745E-2,{"$f":"钻展!D25","v":152},{"$f":"钻展!E25","v":988.66},{"$f":"钻展!F25","v":9.1000000000000004E-3},{"$f":"钻展!G25","v":6.5},{"$f":"钻展!N25","v":170},{"$f":"钻展!O25","v":0.50666666666666704},{"$f":"钻展!P25","v":3300},{"$f":"钻展!Q25","v":0.29959393939393936},{"$f":"IFERROR(钻展!T25,0)","v":1.4160580988408553},{"$f":"直通车!B25","v":2026.23},{"$f":"直通车!D25","v":545},{"$f":"直通车!E25","v":3.72},{"$f":"直通车!G25","v":1488},{"$f":"直通车!H25","v":1},{"$f":"直通车!I25","v":11},{"$f":"直通车!J25","v":14},{"$f":"直通车!K25","v":1.8E-3},0.7343687537939918,{"$f":"淘客!B25","v":13.47},{"$f":"淘客!C25","v":134.63999999999999},{"$f":"淘客!E25","v":9.9955456570155885},3028.3599999999997]
["周三",{"$f":"店铺经营详情!$A$27","v":"2015-11-25"},{"$f":"店铺经营详情!B27","v":2997},{"$f":"店铺经营详情!N27","v":22222},{"$f":"店铺经营详情!O27","v":1111},{"$f":"店铺经营详情!C27","v":1152},{"$f":"店铺经营详情!E27","v":0.14760000000000001},{"$f":"店铺经营详情!F27","v":0.59809027777777779},{"$f":"店铺经营详情!AK27","v":96},{"$f":"店铺经营详情!AP27","v":1.6429},{"$f":"店铺经营详情!AM27","v":75515.700000000012},{"$f":"店铺经营详情!AS27","v":1797.9928571428575},{"$f":"店铺经营详情!AU27","v":5},{"$f":"店铺经营详情!AV27","v":0.59519999999999995},{"$f":"店铺经营详情!AW27","v":3.9100000000000003E-2},4.0102389304475745E-2,{"$f":"钻展!D26","v":152},{"$f":"钻展!E26","v":988.66},{"$f":"钻展!F26","v":9.1000000000000004E-3},{"$f":"钻展!G26","v":6.5},{"$f":"钻展!N26","v":176},{"$f":"钻展!O26","v":0.50666666666666704},{"$f":"钻展!P26","v":3400},{"$f":"钻展!Q26","v":0.29078235294117644},{"$f":"IFERROR(钻展!T26,0)","v":1.4160580988408553},{"$f":"直通车!B26","v":2026.23},{"$f":"直通车!D26","v":545},{"$f":"直通车!E26","v":3.72},{"$f":"直通车!G26","v":1488},{"$f":"直通车!H26","v":1},{"$f":"直通车!I26","v":11},{"$f":"直通车!J26","v":14},{"$f":"直通车!K26","v":1.8E-3},0.7343687537939918,{"$f":"淘客!B26","v":13.47},{"$f":"淘客!C26","v":134.63999999999999},{"$f":"淘客!E26","v":9.9955456570155885},3028.3599999999997]
["周四",{"$f":"店铺经营详情!$A$28","v":"2015-11-26"},{"$f":"店铺经营详情!B28","v":2997},{"$f":"店铺经营详情!N28","v":22222},{"$f":"店铺经营详情!O28","v":1111},{"$f":"店铺经营详情!C28","v":1152},{"$f":"店铺经营详情!E28","v":0.14760000000000001},{"$f":"店铺经营详情!F28","v":0.59809027777777779},{"$f":"店铺经营详情!AK28","v":96},{"$f":"店铺经营详情!AP28","v":1.6429},{"$f":"店铺经营详情!AM28","v":75515.700000000012},{"$f":"店铺经营详情!AS28","v":1797.9928571428575},{"$f":"店铺经营详情!AU28","v":5},{"$f":"店铺经营详情!AV28","v":0.59519999999999995},{"$f":"店铺经营详情!AW28","v":3.9100000000000003E-2},4.0102389304475745E-2,{"$f":"钻展!D27","v":152},{"$f":"钻展!E27","v":988.66},{"$f":"钻展!F27","v":9.1000000000000004E-3},{"$f":"钻展!G27","v":6.5},{"$f":"钻展!N27","v":182},{"$f":"钻展!O27","v":0.50666666666666704},{"$f":"钻展!P27","v":3500},{"$f":"钻展!Q27","v":0.28247428571428568},{"$f":"IFERROR(钻展!T27,0)","v":1.4160580988408553},{"$f":"直通车!B27","v":2026.23},{"$f":"直通车!D27","v":545},{"$f":"直通车!E27","v":3.72},{"$f":"直通车!G27","v":1488},{"$f":"直通车!H27","v":1},{"$f":"直通车!I27","v":11},{"$f":"直通车!J27","v":14},{"$f":"直通车!K27","v":1.8E-3},0.7343687537939918,{"$f":"淘客!B27","v":13.47},{"$f":"淘客!C27","v":134.63999999999999},{"$f":"淘客!E27","v":9.9955456570155885},3028.3599999999997]
["周五",{"$f":"店铺经营详情!$A$29","v":"2015-11-27"},{"$f":"店铺经营详情!B29","v":2997},{"$f":"店铺经营详情!N29","v":22222},{"$f":"店铺经营详情!O29","v":1111},{"$f":"店铺经营详情!C29","v":1152},{"$f":"店铺经营详情!E29","v":0.14760000000000001},{"$f":"店铺经营详情!F29","v":0.59809027777777779},{"$f":"店铺经营详情!AK29","v":96},{"$f":"店铺经营详情!AP29","v":1.6429},{"$f":"店铺经营详情!AM29","v":75515.700000000012},{"$f":"店铺经营详情!AS29","v":1797.9928571428575},{"$f":"店铺经营详情!AU29","v":5},{"$f":"店铺经营详情!AV29","v":0.59519999999999995},{"$f":"店铺经营详情!AW29","v":3.9100000000000003E-2},4.0102389304475745E-2,{"$f":"钻展!D28","v":152},{"$f":"钻展!E28","v":988.66},{"$f":"钻展!F28","v":9.1000000000000004E-3},{"$f":"钻展!G28","v":6.5},{"$f":"钻展!N28","v":188},{"$f":"钻展!O28","v":0.50666666666666704},{"$f":"钻展!P28","v":3600},{"$f":"钻展!Q28","v":0.27462777777777775},{"$f":"IFERROR(钻展!T28,0)","v":1.4160580988408553},{"$f":"直通车!B28","v":2026.23},{"$f":"直通车!D28","v":545},{"$f":"直通车!E28","v":3.72},{"$f":"直通车!G28","v":1488},{"$f":"直通车!H28","v":1},{"$f":"直通车!I28","v":11},{"$f":"直通车!J28","v":14},{"$f":"直通车!K28","v":1.8E-3},0.7343687537939918,{"$f":"淘客!B28","v":13.47},{"$f":"淘客!C28","v":134.63999999999999},{"$f":"淘客!E28","v":9.9955456570155885},3028.3599999999997]
["周六",{"$f":"店铺经营详情!$A$30","v":"2015-11-28"},{"$f":"店铺经营详情!B30","v":2997},{"$f":"店铺经营详情!N30","v":22222},{"$f":"店铺经营详情!O30","v":1111},{"$f":"店铺经营详情!C30","v":1152},{"$f":"店铺经营详情!E30","v":0.14760000000000001},{"$f":"店铺经营详情!F30","v":0.59809027777777779},{"$f":"店铺经营详情!AK30","v":96},{"$f":"店铺经营详情!AP30","v":1.6429},{"$f":"店铺经营详情!AM30","v":75515.700000000012},{"$f":"店铺经营详情!AS30","v":1797.9928571428575},{"$f":"店铺经营详情!AU30","v":5},{"$f":"店铺经营详情!AV30","v":0.59519999999999995},{"$f":"店铺经营详情!AW30","v":3.9100000000000003E-2},4.0102389304475745E-2,{"$f":"钻展!D29","v":152},{"$f":"钻展!E29","v":988.66},{"$f":"钻展!F29","v":9.1000000000000004E-3},{"$f":"钻展!G29","v":6.5},{"$f":"钻展!N29","v":194},{"$f":"钻展!O29","v":0.50666666666666704},{"$f":"钻展!P29","v":3700},{"$f":"钻展!Q29","v":0.26720540540540538},{"$f":"IFERROR(钻展!T29,0)","v":1.4160580988408553},{"$f":"直通车!B29","v":2026.23},{"$f":"直通车!D29","v":545},{"$f":"直通车!E29","v":3.72},{"$f":"直通车!G29","v":1488},{"$f":"直通车!H29","v":1},{"$f":"直通车!I29","v":11},{"$f":"直通车!J29","v":14},{"$f":"直通车!K29","v":1.8E-3},0.7343687537939918,{"$f":"淘客!B29","v":13.47},{"$f":"淘客!C29","v":134.63999999999999},{"$f":"淘客!E29","v":9.9955456570155885},3028.3599999999997]
["周日",{"$f":"店铺经营详情!$A$31","v":"2015-11-29"},{"$f":"店铺经营详情!B31","v":2997},{"$f":"店铺经营详情!N31","v":22222},{"$f":"店铺经营详情!O31","v":1111},{"$f":"店铺经营详情!C31","v":1152},{"$f":"店铺经营详情!E31","v":0.14760000000000001},{"$f":"店铺经营详情!F31","v":0.59809027777777779},{"$f":"店铺经营详情!AK31","v":96},{"$f":"店铺经营详情!AP31","v":1.6429},{"$f":"店铺经营详情!AM31","v":75515.700000000012},{"$f":"店铺经营详情!AS31","v":1797.9928571428575},{"$f":"店铺经营详情!AU31","v":5},{"$f":"店铺经营详情!AV31","v":0.59519999999999995},{"$f":"店铺经营详情!AW31","v":3.9100000000000003E-2},4.0102389304475745E-2,{"$f":"钻展!D30","v":152},{"$f":"钻展!E30","v":988.66},{"$f":"钻展!F30","v":9.1000000000000004E-3},{"$f":"钻展!G30","v":6.5},{"$f":"钻展!N30","v":200},{"$f":"钻展!O30","v":0.50666666666666704},{"$f":"钻展!P30","v":3800},{"$f":"钻展!Q30","v":0.26017368421052633},{"$f":"IFERROR(钻展!T30,0)","v":0.15172051059009165},{"$f":"直通车!B30","v":2026.23},{"$f":"直通车!D30","v":545},{"$f":"直通车!E30","v":3.72},{"$f":"直通车!G30","v":1488},{"$f":"直通车!H30","v":1},{"$f":"直通车!I30","v":11},{"$f":"直通车!J30","v":14},{"$f":"直通车!K30","v":1.8E-3},0.7343687537939918,{"$f":"淘客!B30","v":13.47},{"$f":"淘客!C30","v":134.63999999999999},{"$f":"淘客!E30","v":9.9955456570155885},3028.3599999999997]
["周一",{"$f":"店铺经营详情!$A$32","v":"2015-11-30"},{"$f":"店铺经营详情!B32","v":2997},{"$f":"店铺经营详情!N32","v":22222},{"$f":"店铺经营详情!O32","v":1111},{"$f":"店铺经营详情!C32","v":1152},{"$f":"店铺经营详情!E32","v":0.14760000000000001},{"$f":"店铺经营详情!F32","v":0.59809027777777779},{"$f":"店铺经营详情!AK32","v":96},{"$f":"店铺经营详情!AP32","v":1.6429},{"$f":"店铺经营详情!AM32","v":75515.700000000012},{"$f":"店铺经营详情!AS32","v":1797.9928571428575},{"$f":"店铺经营详情!AU32","v":5},{"$f":"店铺经营详情!AV32","v":0.59519999999999995},{"$f":"店铺经营详情!AW32","v":3.9100000000000003E-2},4.0102389304475745E-2,{"$f":"钻展!D31","v":152},{"$f":"钻展!E31","v":988.66},{"$f":"钻展!F31","v":9.1000000000000004E-3},{"$f":"钻展!G31","v":6.5},{"$f":"钻展!N31","v":206},{"$f":"钻展!O31","v":0.50666666666666704},{"$f":"钻展!P31","v":3900},{"$f":"钻展!Q31","v":0.25350256410256411},{"$f":"IFERROR(钻展!T31,0)","v":1.4160580988408553},{"$f":"直通车!B31","v":2026.23},{"$f":"直通车!D31","v":545},{"$f":"直通车!E31","v":3.72},{"$f":"直通车!G31","v":1488},{"$f":"直通车!H31","v":1},{"$f":"直通车!I31","v":11},{"$f":"直通车!J31","v":14},{"$f":"直通车!K31","v":1.8E-3},0.7343687537939918,{"$f":"淘客!B31","v":13.47},{"$f":"淘客!C31","v":134.63999999999999},{"$f":"淘客!E31","v":9.9955456570155885},3028.3599999999997]
["周六",{"$f":"店铺经营详情!$A$33","v":"00:00:00"},{"$f":"店铺经营详情!B33","v":0},{"$f":"店铺经营详情!N33","v":0},{"$f":"店铺经营详情!O33","v":0},{"$f":"店铺经营详情!C33","v":0},{"$f":"店铺经营详情!E33","v":0},{"$f":"店铺经营详情!F33","v":0},{"$f":"店铺经营详情!AK33","v":0},{"$f":"店铺经营详情!AP33","v":0},{"$f":"店铺经营详情!AM33","v":0},{"$f":"店铺经营详情!AS33","v":0},{"$f":"店铺经营详情!AU33","v":0},{"$f":"店铺经营详情!AV33","v":0},{"$f":"店铺经营详情!AW33","v":0},0,{"$f":"钻展!D32","v":0},{"$f":"钻展!E32","v":0},{"$f":"钻展!F32","v":0},{"$f":"钻展!G32","v":0},{"$f":"钻展!N32","v":0},{"$f":"钻展!O32","v":0},{"$f":"钻展!P32","v":0},{"$f":"钻展!Q32","v":0},{"$f":"IFERROR(钻展!T32,0)","v":0},{"$f":"直通车!B32","v":0},{"$f":"直通车!D32","v":0},{"$f":"直通车!E32","v":0},{"$f":"直通车!G32","v":0},{"$f":"直通车!H32","v":0},{"$f":"直通车!I32","v":0},{"$f":"直通车!J32","v":0},{"$f":"直通车!K32","v":0},0,{"$f":"淘客!B32","v":0},{"$f":"淘客!C32","v":0},{"$f":"淘客!E32","v":0},0]
[null," 汇总",{"$f":"SUM(C3:C33)","v":89910},{"$f":"SUM(D3:D33)","v":666660},{"$f":"SUM(E3:E33)","v":33330},{"$f":"SUM(F3:F33)","v":34560},null,null,{"$f":"SUM(I3:I33)","v":2650},null,{"$f":"SUM(K3:K33)","v":2265470.9999999995},null,{"$f":"SUM(M3:M33)","v":150},null,null,4.0102389304475766E-2,{"$f":"SUM(Q3:Q33)","v":4560},{"$f":"SUM(R3:R33)","v":29659.8},{"$nulls":4},{"$f":"SUM(W3:W33)","v":73500},null,null,{"$f":"SUM(Z3:Z33)","v":60786.900000000038},{"$f":"SUM(AA3:AA33)","v":16350},null,{"$f":"SUM(AC3:AC33)","v":44640},{"$f":"SUM(AD3:AD33)","v":30},{"$f":"SUM(AE3:AE33)","v":330},null,null,null,{"$f":"SUM(AI3:AI33)","v":404.10000000000031},{"$f":"SUM(AJ3:AJ33)","v":4039.1999999999971},null,{"$f":"SUM(AL3:AL33)","v":90850.8}]
[null,"平均值",{"$f":"店铺经营详情!B34","v":2997},{"$f":"AVERAGE(D3:D32)","v":22222},{"$f":"AVERAGE(E3:E32)","v":1111},{"$f":"店铺经营详情!C34","v":1152},null,{"$f":"店铺经营详情!F34","v":0.63034490740740778},{"$f":"店铺经营详情!AI34","v":45},{"$f":"店铺经营详情!AP34","v":1.6428999999999996},{"$f":"AVERAGE(K3:K32)","v":75515.699999999983},{"$f":"店铺经营详情!AS34","v":1797.9928571428586},{"$f":"店铺经营详情!AU34","v":5},{"$f":"店铺经营详情!AV34","v":0.59519999999999995},{"$f":"店铺经营详情!AW34","v":3.9100000000000003E-2},4.010238930447578E-2,{"$f":"钻展!#REF!","v":{"$error":"#REF!"}},{"$f":"钻展!E33","v":988.66},{"$f":"钻展!F33","v":9.0999999999999987E-3},{"$f":"钻展!G33","v":6.5},null,null,{"$f":"钻展!P33","v":2450},{"$f":"钻展!Q33","v":0.45432906674405921},{"$f":"钻展!T33","v":1.3739135125658297},{"$f":"直通车!B33","v":2026.2300000000012},{"$f":"直通车!D33","v":545},{"$f":"直通车!E33","v":3.7199999999999993},{"$f":"直通车!G33","v":1488},{"$f":"直通车!H33","v":1},{"$f":"直通车!I33","v":11},null,{"$f":"直通车!K33","v":1.800000000000001E-3},{"$f":"直通车!L33","v":0.71067943915547582},{"$f":"淘客!B33","v":13.47000000000001},{"$f":"淘客!C33","v":134.6399999999999},{"$f":"淘客!E33","v":9.9955456570155761},{"$f":"IFERROR(R35+Z35+AI35,0)","v":3028.360000000001}]
[null,"注意事项","1.表格第一个工作表是锁死的，后面的表格可以删除数据不可以删除和添加行和列！否则影响总表数据显示！\n2.如果有的数据指标自己家店铺没有数据，需要清零。\n3.红色的标注是有公式项，请勿删除和覆盖；\n4.表格内容比较多，建议团队协作完成。\n5.表格名称请修改成自己的店铺名称；"]

{"sheet":"店铺经营详情","index":1,"n_rows":35,"n_cols":64,"rows_kept":35,"cut":false,"hidden":false,"merged":[[0,0,1,0],[0,54,0,63],[0,50,0,53],[0,22,0,33],[0,34,0,49],[0,1,0,14],[0,15,0,21]]}
["时间","全部终端",{"$nulls":13},"PC端",{"$nulls":6},"无线端",{"$nulls":11},"销售数据",{"$nulls":15},"其他",null,null,null,"推广数据"]
[null,"浏览量","访客数","访客数较前一天变化量","老访客数占比","跳失率","访问深度","停留时长","被浏览商品数","商品详情页访客数","DSR服务","DSR描述","DSR物流","天猫搜索","淘宝搜索","店铺首页平均停留时长(秒)","客单价","老访客数","天猫搜索","淘宝搜索","跳失率","支付转化率","无线端跳失率","无线下单金额","无线下单买家","无线端下单转化率","无线端支付金额占比","无线端支付买家数占比","无线端访客数占比","无线端客单价","无线端老访客数","天猫搜索","淘宝搜索","无线端人均停留时长(秒)","下单买家数","下单金额","下单商品件数","新买家数","支付金额","支付金额较前一天变化量","支付买家数","人均支付商品件数"," 申请退款金额","申请退款买家数 ","客单价","商品收藏次数"," 店铺收藏次数","老买家数占比","支付转化率","下单转化率","刷金额","刷件数","实际成交额","每日店铺动作","直费用","直点击量","PPC","直ROI","钻费用","钻点击量","CPC","钻ROI","淘客费用","淘客UV"]
["2015-11-01",2997,1152,32,0.14760000000000001,0.79,4.8738826865705605,2.6015625,64.402737404070734,136,2.2200000000000002,4.8190440060698023,4.817147192716237,22222,1111,2222,2352.9111111111101,348,2122,3232,0.70977011494252873,2.5899999999999999E-2,0.55061700000000002,61235.699999999983,34,4.2000000000000003E-2,0.71960000000000002,{"$f":"Y3/AO3","v":0.80952380952380953},0.69950000000000001,1646.65151515151,118,323,212,222,45,68910.5,96,17,75515.700000000012,42069.000000000015,42,1.6429,33,44,1797.9928571428575,33,5,0.59519999999999995,3.9100000000000003E-2,3.6499999999999998E-2,33333,333,{"$f":"AM3-AY3","v":42182.700000000012},"报名聚划算",{"$f":"表2[[#This Row],[花费]]","v":2026.23},{"$f":"直通车!D2","v":545},{"$f":"直通车!E2","v":3.72},{"$f":"直通车!L2","v":0.7343687537939918},{"$f":"钻展!E2","v":988.66},{"$f":"钻展!D2","v":152},{"$f":"钻展!G2","v":6.5},{"$f":"钻展!T2","v":1.4160580988408553},{"$f":"淘客!B2","v":13.47},{"$f":"淘客!D2","v":23}]
["2015-11-02",2997,1152,32,0.14760000000000001,0.79,4.8738826865705605,2.6015625,64.402737404070734,136,2.2200000000000002,4.8190440060698023,4.817147192716237,22222,1111,2222,2352.9111111111101,348,2122,3232,0.70977011494252873,2.5899999999999999E-2,0.55061700000000002,61235.699999999983,34,4.2000000000000003E-2,0.71960000000000002,{"$f":"Y4/AO4","v":0.80952380952380953},1.6995,1646.65151515151,118,323,212,222,45,68910.5,96,17,75515.700000000012,42069.000000000015,42,1.6429,33,44,1797.9928571428575,33,5,0.59519999999999995,3.9100000000000003E-2,3.6499999999999998E-2,33333,333,42182.700000000012,"参加折800",{"$f":"表2[[#This Row],[花费]]","v":2026.23},{"$f":"直通车!D3","v":545},{"$f":"直通车!E3","v":3.72},{"$f":"直通车!L3","v":0.7343687537939918},{"$f":"钻展!E3","v":988.66},{"$f":"钻展!D3","v":152},{"$f":"钻展!G3","v":6.5},{"$f":"钻展!T3","v":1.4160580988408553},{"$f":"淘客!B3","v":13.47},{"$f":"淘客!D3","v":25}]
["2015-11-03",2997,1152,32,0.14760000000000001,0.8,4.8738826865705605,2.6015625,64.402737404070734,136,2.2200000000000002,4.8190440060698023,4.817147192716237,22222,1111,2222,2352.9111111111101,348,2122,3232,0.70977011494252873,2.5899999999999999E-2,0.55061700000000002,61235.699999999983,34,4.2000000000000003E-2,0.71960000000000002,0.80952380952380953,2.6995,1646.65151515151,118,323,212,222,45,68910.5,96,17,75515.700000000012,42069.000000000015,42,1.6429,33,44,1797.9928571428575,33,5,0.59519999999999995,3.9100000000000003E-2,3.6499999999999998E-2,33333,333,42182.700000000012,"修改主推款标题",{"$f":"表2[[#This Row],[花费]]","v":2026.23},{"$f":"直通车!D4","v":545},{"$f":"直通车!E4","v":3.72},{"$f":"直通车!L4","v":0.7343687537939918},{"$f":"钻展!E4","v":988.66},{"$f":"钻展!D4","v":152},{"$f":"钻展!G4","v":6.5},{"$f":"钻展!T4","v":1.4160580988408553},{"$f":"淘客!B4","v":13.47},{"$f":"淘客!D4","v":27}]
["2015-11-04",2997,1152,32,0.14760000000000001,0.98,4.8738826865705605,2.6015625,64.402737404070734,136,2.2200000000000002,4.8190440060698023,4.817147192716237,22222,1111,2222,2352.9111111111101,348,2122,3232,0.70977011494252873,2.5899999999999999E-2,0.55061700000000002,61235.699999999983,34,4.2000000000000003E-2,0.71960000000000002,0.80952380952380953,3.6995,1646.65151515151,118,323,212,222,45,68910.5,96,17,75515.700000000012,42069.000000000015,42,1.6429,33,44,1797.9928571428575,33,5,0.59519999999999995,3.9100000000000003E-2,3.6499999999999998E-2,33333,333,42182.700000000012,null,{"$f":"表2[[#This Row],[花费]]","v":2026.23},{"$f":"直通车!D5","v":545},{"$f":"直通车!E5","v":3.72},{"$f":"直通车!L5","v":0.7343687537939918},{"$f":"钻展!E5","v":988.66},{"$f":"钻展!D5","v":152},{"$f":"钻展!G5","v":6.5},{"$f":"钻展!T5","v":1.4160580988408553},{"$f":"淘客!B5","v":13.47},{"$f":"淘客!D5","v":29}]
["2015-11-05",2997,1152,32,0.14760000000000001,0.59809027777777779,4.8738826865705605,2.6015625,64.402737404070734,136,2.2200000000000002,4.8190440060698023,4.817147192716237,22222,1111,2222,2352.9111111111101,348,2122,3232,0.70977011494252873,2.5899999999999999E-2,0.55061700000000002,61235.699999999983,34,4.2000000000000003E-2,0.71960000000000002,0.80952380952380953,4.6994999999999996,1646.65151515151,118,323,212,222,45,68910.5,96,17,75515.700000000012,42069.000000000015,42,1.6429,33,44,1797.9928571428575,33,5,0.59519999999999995,3.9100000000000003E-2,3.6499999999999998E-2,33333,333,42182.700000000012,null,{"$f":"表2[[#This Row],[花费]]","v":2026.23},{"$f":"直通车!D6","v":545},{"$f":"直通车!E6","v":3.72},{"$f":"直通车!L6","v":0.7343687537939918},{"$f":"钻展!E6","v":988.66},{"$f":"钻展!D6","v":152},{"$f":"钻展!G6","v":6.5},{"$f":"钻展!T6","v":1.4160580988408553},{"$f":"淘客!B6","v":13.47},{"$f":"淘客!D6","v":31}]
["2015-11-06",2997,1152,32,0.14760000000000001,0.59809027777777779,4.8738826865705605,2.6015625,64.402737404070734,136,2.2200000000000002,4.8190440060698023,4.817147192716237,22222,1111,2222,2352.9111111111101,348,2122,3232,0.70977011494252873,2.5899999999999999E-2,0.55061700000000002,61235.699999999983,34,4.2000000000000003E-2,0.71960000000000002,0.80952380952380953,5.6994999999999996,1646.65151515151,118,323,212,222,45,68910.5,96,17,75515.700000000012,42069.000000000015,42,1.6429,33,44,1797.9928571428575,33,5,0.59519999999999995,3.9100000000000003E-2,3.6499999999999998E-2,33333,333,42182.700000000012,null,{"$f":"表2[[#This Row],[花费]]","v":2026.23},{"$f":"直通车!D7","v":545},{"$f":"直通车!E7","v":3.72},{"$f":"直通车!L7","v":0.7343687537939918},{"$f":"钻展!E7","v":988.66},{"$f":"钻展!D7","v":152},{"$f":"钻展!G7","v":6.5},{"$f":"钻展!T7","v":1.4160580988408553},{"$f":"淘客!B7","v":13.47},{"$f":"淘客!D7","v":33}]
["2015-11-07",2997,1152,32,0.14760000000000001,0.59809027777777779,4.8738826865705605,2.6015625,64.402737404070734,136,2.2200000000000002,4.8190440060698023,4.817147192716237,22222,1111,2222,2352.9111111111101,348,2122,3232,0.70977011494252873,2.5899999999999999E-2,0.55061700000000002,61235.699999999983,34,4.2000000000000003E-2,0.71960000000000002,0.80952380952380953,6.6994999999999996,1646.65151515151,118,323,212,222,45,68910.5,96,17,75515.700000000012,42069.000000000015,42,1.6429,33,44,1797.9928571428575,33,5,0.59519999999999995,3.9100000000000003E-2,3.6499999999999998E-2,33333,333,42182.700000000012,null,{"$f":"表2[[#This Row],[花费]]","v":2026.23},{"$f":"直通车!D8","v":545},{"$f":"直通车!E8","v":3.72},{"$f":"直通车!L8","v":0.7343687537939918},{"$f":"钻展!E8","v":988.66},{"$f":"钻展!D8","v":152},{"$f":"钻展!G8","v":6.5},{"$f":"钻展!T8","v":1.4160580988408553},{"$f":"淘客!B8","v":13.47},{"$f":"淘客!D8","v":35}]
["2015-11-08",2997,1152,32,0.14760000000000001,0.59809027777777779,4.8738826865705605,2.6015625,64.402737404070734,136,2.2200000000000002,4.8190440060698023,4.817147192716237,22222,1111,2222,2352.9111111111101,348,2122,3232,0.70977011494252873,2.5899999999999999E-2,0.55061700000000002,61235.699999999983,34,4.2000000000000003E-2,0.71960000000000002,0.80952380952380953,7.6994999999999996,1646.65151515151,118,323,212,222,45,68910.5,96,17,75515.700000000012,42069.000000000015,42,1.6429,33,44,1797.9928571428575,33,5,0.59519999999999995,3.9100000000000003E-2,3.6499999999999998E-2,33333,333,42182.700000000012,null,{"$f":"表2[[#This Row],[花费]]","v":2026.23},{"$f":"直通车!D9","v":545},{"$f":"直通车!E9","v":3.72},{"$f":"直通车!L9","v":0.7343687537939918},{"$f":"钻展!E9","v":988.66},{"$f":"钻展!D9","v":152},{"$f":"钻展!G9","v":6.5},{"$f":"钻展!T9","v":1.4160580988408553},{"$f":"淘客!B9","v":13.47},{"$f":"淘客!D9","v":37}]
["2015-11-09",2997,1152,32,0.14760000000000001,0.59809027777777779,4.8738826865705605,2.6015625,64.402737404070734,136,2.2200000000000002,4.8190440060698023,4.817147192716237,22222,1111,2222,2352.9111111111101,348,2122,3232,0.70977011494252873,2.5899999999999999E-2,0.55061700000000002,61235.699999999983,34,4.2000000000000003E-2,0.71960000000000002,0.80952380952380953,8.6995000000000005,1646.65151515151,118,323,212,222,45,68910.5,96,17,75515.700000000012,42069.000000000015,42,1.6429,33,44,1797.9928571428575,33,5,0.59519999999999995,3.9100000000000003E-2,3.6499999999999998E-2,33333,333,42182.700000000012,null,{"$f":"表2[[#This Row],[花费]]","v":2026.23},{"$f":"直通车!D10","v":545},{"$f":"直通车!E10","v":3.72},{"$f":"直通车!L10","v":0.7343687537939918},{"$f":"钻展!E10","v":988.66},{"$f":"钻展!D10","v":152},{"$f":"钻展!G10","v":6.5},{"$f":"钻展!T10","v":1.4160580988408553},{"$f":"淘客!B10","v":13.47},{"$f":"淘客!D10","v":39}]
["2015-11-10",2997,1152,32,0.14760000000000001,0.59809027777777779,4.8738826865705605,2.6015625,64.402737404070734,136,2.2200000000000002,4.8190440060698023,4.817147192716237,22222,1111,2222,2352.9111111111101,348,2122,3232,0.70977011494252873,2.5899999999999999E-2,0.55061700000000002,61235.699999999983,34,4.2000000000000003E-2,0.71960000000000002,0.80952380952380953,9.6995000000000005,1646.65151515151,118,323,212,222,45,68910.5,96,17,75515.700000000012,42069.000000000015,42,1.6429,33,44,1797.9928571428575,33,5,0.59519999999999995,3.9100000000000003E-2,3.6499999999999998E-2,33333,333,42182.700000000012,null,{"$f":"表2[[#This Row],[花费]]","v":2026.23},{"$f":"直通车!D11","v":545},{"$f":"直通车!E11","v":3.72},{"$f":"直通车!L11","v":0.7343687537939918},{"$f":"钻展!E11","v":988.66},{"$f":"钻展!D11","v":152},{"$f":"钻展!G11","v":6.5},{"$f":"钻展!T11","v":1.4160580988408553},{"$f":"淘客!B11","v":13.47},{"$f":"淘客!D11","v":41}]
["2015-11-11",2997,1152,32,0.14760000000000001,0.59809027777777779,4.8738826865705605,2.6015625,64.402737404070734,136,2.2200000000000002,4.8190440060698023,4.817147192716237,22222,1111,2222,2352.9111111111101,348,2122,3232,0.70977011494252873,2.5899999999999999E-2,0.55061700000000002,61235.699999999983,34,4.2000000000000003E-2,0.71960000000000002,0.80952380952380953,10.6995,1646.65151515151,118,323,212,222,45,68910.5,96,17,75515.700000000012,42069.000000000015,42,1.6429,33,44,1797.9928571428575,33,5,0.59519999999999995,3.9100000000000003E-2,3.6499999999999998E-2,33333,333,42182.700000000012,null,{"$f":"表2[[#This Row],[花费]]","v":2026.23},{"$f":"直通车!D12","v":545},{"$f":"直通车!E12","v":3.72},{"$f":"直通车!L12","v":0.7343687537939918},{"$f":"钻展!E12","v":988.66},{"$f":"钻展!D12","v":152},{"$f":"钻展!G12","v":6.5},{"$f":"钻展!T12","v":1.4160580988408553},{"$f":"淘客!B12","v":13.47},{"$f":"淘客!D12","v":43}]
["2015-11-12",2997,1152,32,0.14760000000000001,0.59809027777777779,4.8738826865705605,2.6015625,64.402737404070734,136,2.2200000000000002,4.8190440060698023,4.817147192716237,22222,1111,2222,2352.9111111111101,348,2122,3232,0.70977011494252873,2.5899999999999999E-2,0.55061700000000002,61235.699999999983,34,4.2000000000000003E-2,0.71960000000000002,0.80952380952380953,11.6995,1646.65151515151,118,323,212,222,45,68910.5,96,17,75515.700000000012,42069.000000000015,42,1.6429,33,44,1797.9928571428575,33,5,0.59519999999999995,3.9100000000000003E-2,3.6499999999999998E-2,33333,333,42182.700000000012,null,{"$f":"表2[[#This Row],[花费]]","v":2026.23},{"$f":"直通车!D13","v":545},{"$f":"直通车!E13","v":3.72},{"$f":"直通车!L13","v":0.7343687537939918},{"$f":"钻展!E13","v":988.66},{"$f":"钻展!D13","v":152},{"$f":"钻展!G13","v":6.5},{"$f":"钻展!T13","v":1.4160580988408553},{"$f":"淘客!B13","v":13.47},{"$f":"淘客!D13","v":45}]
["2015-11-13",2997,1152,32,0.14760000000000001,0.59809027777777779,4.8738826865705605,2.6015625,64.402737404070734,136,2.2200000000000002,4.8190440060698023,4.817147192716237,22222,1111,2222,2352.9111111111101,348,2122,3232,0.70977011494252873,2.5899999999999999E-2,0.55061700000000002,61235.699999999983,34,4.2000000000000003E-2,0.71960000000000002,0.80952380952380953,12.6995,1646.65151515151,118,323,212,222,45,68910.5,88,17,75515.700000000012,42069.000000000015,42,1.6429,33,44,1797.9928571428575,33,5,0.59519999999999995,3.9100000000000003E-2,3.6499999999999998E-2,33333,333,42182.700000000012,null,{"$f":"表2[[#This Row],[花费]]","v":2026.23},{"$f":"直通车!D14","v":545},{"$f":"直通车!E14","v":3.72},{"$f":"直通车!L14","v":0.7343687537939918},{"$f":"钻展!E14","v":988.66},{"$f":"钻展!D14","v":152},{"$f":"钻展!G14","v":6.5},{"$f":"钻展!T14","v":1.4160580988408553},{"$f":"淘客!B14","v":13.47},{"$f":"淘客!D14","v":47}]
["2015-11-14",2997,1152,32,0.14760000000000001,0.59809027777777779,4.8738826865705605,2.6015625,64.402737404070734,136,2.2200000000000002,4.8190440060698023,4.817147192716237,22222,1111,2222,2352.9111111111101,348,2122,3232,0.70977011494252873,2.5899999999999999E-2,0.55061700000000002,61235.699999999983,34,4.2000000000000003E-2,0.71960000000000002,0.80952380952380953,13.6995,1646.65151515151,118,323,212,222,45,68910.5,33,17,75515.700000000012,42069.000000000015,42,1.6429,33,44,1797.9928571428575,33,5,0.59519999999999995,3.9100000000000003E-2,3.6499999999999998E-2,33333,333,42182.700000000012,null,{"$f":"表2[[#This Row],[花费]]","v":2026.23},{"$f":"直通车!D15","v":545},{"$f":"直通车!E15","v":3.72},{"$f":"直通车!L15","v":0.7343687537939918},{"$f":"钻展!E15","v":988.66},{"$f":"钻展!D15","v":152},{"$f":"钻展!G15","v":6.5},{"$f":"钻展!T15","v":1.4160580988408553},{"$f":"淘客!B15","v":13.47},{"$f":"淘客!D15","v":49}]
["2015-11-15",2997,1152,32,0.14760000000000001,0.59809027777777779,4.8738826865705605,2.6015625,64.402737404070734,136,2.2200000000000002,4.8190440060698023,4.817147192716237,22222,1111,2222,2352.9111111111101,348,2122,3232,0.70977011494252873,2.5899999999999999E-2,0.55061700000000002,61235.699999999983,34,4.2000000000000003E-2,0.71960000000000002,0.80952380952380953,14.6995,1646.65151515151,118,323,212,222,45,68910.5,22,17,75515.700000000012,42069.000000000015,42,1.6429,33,44,1797.9928571428575,33,5,0.59519999999999995,3.9100000000000003E-2,3.6499999999999998E-2,33333,333,42182.700000000012,null,{"$f":"表2[[#This Row],[花费]]","v":2026.23},{"$f":"直通车!D16","v":545},{"$f":"直通车!E16","v":3.72},{"$f":"直通车!L16","v":0.7343687537939918},{"$f":"钻展!E16","v":988.66},{"$f":"钻展!D16","v":152},{"$f":"钻展!G16","v":6.5},{"$f":"钻展!T16","v":1.4160580988408553},{"$f":"淘客!B16","v":13.47},{"$f":"淘客!D16","v":51}]
["2015-11-16",2997,1152,32,0.14760000000000001,0.59809027777777779,4.8738826865705605,2.6015625,64.402737404070734,136,2.2200000000000002,4.8190440060698023,4.817147192716237,22222,1111,2222,2352.9111111111101,348,2122,3232,0.70977011494252873,2.5899999999999999E-2,0.55061700000000002,61235.699999999983,34,4.2000000000000003E-2,0.71960000000000002,0.80952380952380953,15.6995,1646.65151515151,118,323,212,222,45,68910.5,11,17,75515.700000000012,42069.000000000015,42,1.6429,33,44,1797.9928571428575,33,5,0.59519999999999995,3.9100000000000003E-2,3.6499999999999998E-2,33333,333,42182.700000000012,null,{"$f":"表2[[#This Row],[花费]]","v":2026.23},{"$f":"直通车!D17","v":545},{"$f":"直通车!E17","v":3.72},{"$f":"直通车!L17","v":0.7343687537939918},{"$f":"钻展!E17","v":988.66},{"$f":"钻展!D17","v":152},{"$f":"钻展!G17","v":6.5},{"$f":"钻展!T17","v":1.4160580988408553},{"$f":"淘客!B17","v":13.47},{"$f":"淘客!D17","v":53}]
["2015-11-17",2997,1152,32,0.14760000000000001,0.59809027777777779,4.8738826865705605,2.6015625,64.402737404070734,136,2.2200000000000002,4.8190440060698023,4.817147192716237,22222,1111,2222,2352.9111111111101,348,2122,3232,0.70977011494252873,2.5899999999999999E-2,0.55061700000000002,61235.699999999983,34,4.2000000000000003E-2,0.71960000000000002,0.80952380952380953,16.6995,1646.65151515151,118,323,212,222,45,68910.5,96,17,75515.700000000012,42069.000000000015,42,1.6429,33,44,1797.9928571428575,33,5,0.59519999999999995,3.9100000000000003E-2,3.6499999999999998E-2,33333,333,42182.700000000012,null,{"$f":"表2[[#This Row],[花费]]","v":2026.23},{"$f":"直通车!D18","v":545},{"$f":"直通车!E18","v":3.72},{"$f":"直通车!L18","v":0.7343687537939918},{"$f":"钻展!E18","v":988.66},{"$f":"钻展!D18","v":152},{"$f":"钻展!G18","v":6.5},{"$f":"钻展!T18","v":1.4160580988408553},{"$f":"淘客!B18","v":13.47},{"$f":"淘客!D18","v":55}]
["2015-11-18",2997,1152,32,0.14760000000000001,0.59809027777777779,4.8738826865705605,2.6015625,64.402737404070734,136,2.2200000000000002,4.8190440060698023,4.817147192716237,22222,1111,2222,2352.9111111111101,348,2122,3232,0.70977011494252873,2.5899999999999999E-2,0.55061700000000002,61235.699999999983,34,4.2000000000000003E-2,0.71960000000000002,0.80952380952380953,17.6995,1646.65151515151,118,323,212,222,45,68910.5,96,17,75515.700000000012,42069.000000000015,42,1.6429,33,44,1797.9928571428575,33,5,0.59519999999999995,3.9100000000000003E-2,3.6499999999999998E-2,33333,333,42182.700000000012,null,{"$f":"表2[[#This Row],[花费]]","v":2026.23},{"$f":"直通车!D19","v":545},{"$f":"直通车!E19","v":3.72},{"$f":"直通车!L19","v":0.7343687537939918},{"$f":"钻展!E19","v":988.66},{"$f":"钻展!D19","v":152},{"$f":"钻展!G19","v":6.5},{"$f":"钻展!T19","v":1.4160580988408553},{"$f":"淘客!B19","v":13.47},{"$f":"淘客!D19","v":57}]
["2015-11-19",2997,1152,32,0.14760000000000001,0.59809027777777779,4.8738826865705605,2.6015625,64.402737404070734,136,2.2200000000000002,4.8190440060698023,4.817147192716237,22222,1111,2222,2352.9111111111101,348,2122,3232,0.70977011494252873,2.5899999999999999E-2,0.55061700000000002,61235.699999999983,34,4.2000000000000003E-2,0.71960000000000002,0.80952380952380953,18.6995,1646.65151515151,118,323,212,222,45,68910.5,96,17,75515.700000000012,42069.000000000015,42,1.6429,33,44,1797.9928571428575,33,5,0.59519999999999995,3.9100000000000003E-2,3.6499999999999998E-2,33333,333,42182.700000000012,null,{"$f":"表2[[#This Row],[花费]]","v":2026.23},{"$f":"直通车!D20","v":545},{"$f":"直通车!E20","v":3.72},{"$f":"直通车!L20","v":0.7343687537939918},{"$f":"钻展!E20","v":988.66},{"$f":"钻展!D20","v":152},{"$f":"钻展!G20","v":6.5},{"$f":"钻展!T20","v":1.4160580988408553},{"$f":"淘客!B20","v":13.47},{"$f":"淘客!D20","v":59}]
["2015-11-20",2997,1152,32,0.14760000000000001,0.59809027777777779,4.8738826865705605,2.6015625,64.402737404070734,136,2.2200000000000002,4.8190440060698023,4.817147192716237,22222,1111,2222,2352.9111111111101,348,2122,3232,0.70977011494252873,2.5899999999999999E-2,0.55061700000000002,61235.699999999983,34,4.2000000000000003E-2,0.71960000000000002,0.80952380952380953,19.6995,1646.65151515151,118,323,212,222,45,68910.5,96,17,75515.700000000012,42069.000000000015,42,1.6429,33,44,1797.9928571428575,33,5,0.59519999999999995,3.9100000000000003E-2,3.6499999999999998E-2,33333,333,42182.700000000012,null,{"$f":"表2[[#This Row],[花费]]","v":2026.23},{"$f":"直通车!D21","v":545},{"$f":"直通车!E21","v":3.72},{"$f":"直通车!L21","v":0.7343687537939918},{"$f":"钻展!E21","v":988.66},{"$f":"钻展!D21","v":152},{"$f":"钻展!G21","v":6.5},{"$f":"钻展!T21","v":1.4160580988408553},{"$f":"淘客!B21","v":13.47},{"$f":"淘客!D21","v":61}]
["2015-11-21",2997,1152,32,0.14760000000000001,0.59809027777777779,4.8738826865705605,2.6015625,64.402737404070734,136,2.2200000000000002,4.8190440060698023,4.817147192716237,22222,1111,2222,2352.9111111111101,348,2122,3232,0.70977011494252873,2.5899999999999999E-2,0.55061700000000002,61235.699999999983,34,4.2000000000000003E-2,0.71960000000000002,0.80952380952380953,20.6995,1646.65151515151,118,323,212,222,45,68910.5,96,17,75515.700000000012,42069.000000000015,42,1.6429,33,44,1797.9928571428575,33,5,0.59519999999999995,3.9100000000000003E-2,3.6499999999999998E-2,33333,333,42182.700000000012,null,{"$f":"表2[[#This Row],[花费]]","v":2026.23},{"$f":"直通车!D22","v":545},{"$f":"直通车!E22","v":3.72},{"$f":"直通车!L22","v":0.7343687537939918},{"$f":"钻展!E22","v":988.66},{"$f":"钻展!D22","v":152},{"$f":"钻展!G22","v":6.5},{"$f":"钻展!T22","v":1.4160580988408553},{"$f":"淘客!B22","v":13.47},{"$f":"淘客!D22","v":63}]
["2015-11-22",2997,1152,32,0.14760000000000001,0.59809027777777779,4.8738826865705605,2.6015625,64.402737404070734,136,2.2200000000000002,4.8190440060698023,4.817147192716237,22222,1111,2222,2352.9111111111101,348,2122,3232,0.70977011494252873,2.5899999999999999E-2,0.55061700000000002,61235.699999999983,34,4.2000000000000003E-2,0.71960000000000002,0.80952380952380953,21.6995,1646.65151515151,118,323,212,222,45,68910.5,96,17,75515.700000000012,42069.000000000015,42,1.6429,33,44,1797.9928571428575,33,5,0.59519999999999995,3.9100000000000003E-2,3.6499999999999998E-2,33333,333,42182.700000000012,null,{"$f":"表2[[#This Row],[花费]]","v":2026.23},{"$f":"直通车!D23","v":545},{"$f":"直通车!E23","v":3.72},{"$f":"直通车!L23","v":0.7343687537939918},{"$f":"钻展!E23","v":988.66},{"$f":"钻展!D23","v":152},{"$f":"钻展!G23","v":6.5},{"$f":"钻展!T23","v":1.4160580988408553},{"$f":"淘客!B23","v":13.47},{"$f":"淘客!D23","v":65}]
["2015-11-23",2997,1152,32,0.14760000000000001,0.59809027777777779,4.8738826865705605,2.6015625,64.402737404070734,136,2.2200000000000002,4.8190440060698023,4.817147192716237,22222,1111,2222,2352.9111111111101,348,2122,3232,0.70977011494252873,2.5899999999999999E-2,0.55061700000000002,61235.699999999983,34,4.2000000000000003E-2,0.71960000000000002,0.80952380952380953,22.6995,1646.65151515151,118,323,212,222,45,68910.5,96,17,75515.700000000012,42069.000000000015,42,1.6429,33,44,1797.9928571428575,33,5,0.59519999999999995,3.9100000000000003E-2,3.6499999999999998E-2,33333,3344,42182.700000000012,null,{"$f":"表2[[#This Row],[花费]]","v":2026.23},{"$f":"直通车!D24","v":545},{"$f":"直通车!E24","v":3.72},{"$f":"直通车!L24","v":0.7343687537939918},{"$f":"钻展!E24","v":988.66},{"$f":"钻展!D24","v":152},{"$f":"钻展!G24","v":6.5},{"$f":"钻展!T24","v":1.4160580988408553},{"$f":"淘客!B24","v":13.47},{"$f":"淘客!D24","v":67}]
["2015-11-24",2997,1152,32,0.14760000000000001,0.59809027777777779,4.8738826865705605,2.6015625,64.402737404070734,136,2.2200000000000002,4.8190440060698023,4.817147192716237,22222,1111,2222,2352.9111111111101,348,2122,3232,0.70977011494252873,2.5899999999999999E-2,0.55061700000000002,61235.699999999983,34,4.2000000000000003E-2,0.71960000000000002,0.80952380952380953,23.6995,1646.65151515151,118,323,212,222,45,68910.5,96,17,75515.700000000012,42069.000000000015,42,1.6429,33,44,1797.9928571428575,33,5,0.59519999999999995,3.9100000000000003E-2,3.6499999999999998E-2,33333,333,42182.700000000012,null,{"$f":"表2[[#This Row],[花费]]","v":2026.23},{"$f":"直通车!D25","v":545},{"$f":"直通车!E25","v":3.72},{"$f":"直通车!L25","v":0.7343687537939918},{"$f":"钻展!E25","v":988.66},{"$f":"钻展!D25","v":152},{"$f":"钻展!G25","v":6.5},{"$f":"钻展!T25","v":1.4160580988408553},{"$f":"淘客!B25","v":13.47},{"$f":"淘客!D25","v":69}]
["2015-11-25",2997,1152,32,0.14760000000000001,0.59809027777777779,4.8738826865705605,2.6015625,64.402737404070734,136,2.2200000000000002,4.8190440060698023,4.817147192716237,22222,1111,2222,2352.9111111111101,348,2122,3232,0.70977011494252873,2.5899999999999999E-2,0.55061700000000002,61235.699999999983,34,4.2000000000000003E-2,0.71960000000000002,0.80952380952380953,24.6995,1646.65151515151,118,323,212,222,45,68910.5,96,17,75515.700000000012,42069.000000000015,42,1.6429,33,44,1797.9928571428575,33,5,0.59519999999999995,3.9100000000000003E-2,3.6499999999999998E-2,33333,333,42182.700000000012,null,{"$f":"表2[[#This Row],[花费]]","v":2026.23},{"$f":"直通车!D26","v":545},{"$f":"直通车!E26","v":3.72},{"$f":"直通车!L26","v":0.7343687537939918},{"$f":"钻展!E26","v":988.66},{"$f":"钻展!D26","v":152},{"$f":"钻展!G26","v":6.5},{"$f":"钻展!T26","v":1.4160580988408553},{"$f":"淘客!B26","v":13.47},{"$f":"淘客!D26","v":71}]
["2015-11-26",2997,1152,32,0.14760000000000001,0.59809027777777779,4.8738826865705605,2.6015625,64.402737404070734,136,2.2200000000000002,4.8190440060698023,4.817147192716237,22222,1111,2222,2352.9111111111101,348,2122,3232,0.70977011494252873,2.5899999999999999E-2,0.55061700000000002,61235.699999999983,34,4.2000000000000003E-2,0.71960000000000002,0.80952380952380953,25.6995,1646.65151515151,118,323,212,222,45,68910.5,96,17,75515.700000000012,42069.000000000015,42,1.6429,33,44,1797.9928571428575,33,5,0.59519999999999995,3.9100000000000003E-2,3.6499999999999998E-2,33333,333,42182.700000000012,null,{"$f":"表2[[#This Row],[花费]]","v":2026.23},{"$f":"直通车!D27","v":545},{"$f":"直通车!E27","v":3.72},{"$f":"直通车!L27","v":0.7343687537939918},{"$f":"钻展!E27","v":988.66},{"$f":"钻展!D27","v":152},{"$f":"钻展!G27","v":6.5},{"$f":"钻展!T27","v":1.4160580988408553},{"$f":"淘客!B27","v":13.47},{"$f":"淘客!D27","v":73}]
["2015-11-27",2997,1152,32,0.14760000000000001,0.59809027777777779,4.8738826865705605,2.6015625,64.402737404070734,136,2.2200000000000002,4.8190440060698023,4.817147192716237,22222,1111,2222,2352.9111111111101,348,2122,3232,0.70977011494252873,2.5899999999999999E-2,0.55061700000000002,61235.699999999983,34,4.2000000000000003E-2,0.71960000000000002,0.80952380952380953,26.6995,1646.65151515151,118,323,212,222,45,68910.5,96,17,75515.700000000012,42069.000000000015,42,1.6429,33,44,1797.9928571428575,33,5,0.59519999999999995,3.9100000000000003E-2,3.6499999999999998E-2,33333,333,42182.700000000012,null,{"$f":"表2[[#This Row],[花费]]","v":2026.23},{"$f":"直通车!D28","v":545},{"$f":"直通车!E28","v":3.72},{"$f":"直通车!L28","v":0.7343687537939918},{"$f":"钻展!E28","v":988.66},{"$f":"钻展!D28","v":152},{"$f":"钻展!G28","v":6.5},{"$f":"钻展!T28","v":1.4160580988408553},{"$f":"淘客!B28","v":13.47},{"$f":"淘客!D28","v":75}]
["2015-11-28",2997,1152,32,0.14760000000000001,0.59809027777777779,4.8738826865705605,2.6015625,64.402737404070734,136,2.2200000000000002,4.8190440060698023,4.817147192716237,22222,1111,2222,2352.9111111111101,348,2122,3232,0.70977011494252873,2.5899999999999999E-2,0.55061700000000002,61235.699999999983,34,4.2000000000000003E-2,0.71960000000000002,0.80952380952380953,27.6995,1646.65151515151,118,323,212,222,45,68910.5,96,17,75515.700000000012,42069.000000000015,42,1.6429,33,44,1797.9928571428575,33,5,0.59519999999999995,3.9100000000000003E-2,3.6499999999999998E-2,33333,333,42182.700000000012,null,{"$f":"表2[[#This Row],[花费]]","v":2026.23},{"$f":"直通车!D29","v":545},{"$f":"直通车!E29","v":3.72},{"$f":"直通车!L29","v":0.7343687537939918},{"$f":"钻展!E29","v":988.66},{"$f":"钻展!D29","v":152},{"$f":"钻展!G29","v":6.5},{"$f":"钻展!T29","v":1.4160580988408553},{"$f":"淘客!B29","v":13.47},{"$f":"淘客!D29","v":77}]
["2015-11-29",2997,1152,32,0.14760000000000001,0.59809027777777779,4.8738826865705605,2.6015625,64.402737404070734,136,2.2200000000000002,4.8190440060698023,4.817147192716237,22222,1111,2222,2352.9111111111101,348,2122,3232,0.70977011494252873,2.5899999999999999E-2,0.55061700000000002,61235.699999999983,34,4.2000000000000003E-2,0.71960000000000002,0.80952380952380953,28.6995,1646.65151515151,118,323,212,222,45,68910.5,96,17,75515.700000000012,42069.000000000015,42,1.6429,33,44,1797.9928571428575,33,5,0.59519999999999995,3.9100000000000003E-2,3.6499999999999998E-2,33333,333,42182.700000000012,null,{"$f":"表2[[#This Row],[花费]]","v":2026.23},{"$f":"直通车!D30","v":545},{"$f":"直通车!E30","v":3.72},{"$f":"直通车!L30","v":0.7343687537939918},{"$f":"钻展!E30","v":988.66},{"$f":"钻展!D30","v":152},{"$f":"钻展!G30","v":6.5},{"$f":"钻展!T30","v":0.15172051059009165},{"$f":"淘客!B30","v":13.47},{"$f":"淘客!D30","v":79}]
["2015-11-30",2997,1152,32,0.14760000000000001,0.59809027777777779,4.8738826865705605,2.6015625,64.402737404070734,136,2.2200000000000002,4.8190440060698023,4.817147192716237,22222,1111,2222,2352.9111111111101,348,2122,3232,0.70977011494252873,2.5899999999999999E-2,0.55061700000000002,61235.699999999983,34,4.2000000000000003E-2,0.71960000000000002,0.80952380952380953,29.6995,1646.65151515151,118,323,212,222,45,68910.5,96,17,75515.700000000012,42069.000000000015,42,1.6429,33,44,1797.9928571428575,33,5,0.59519999999999995,3.9100000000000003E-2,3.6499999999999998E-2,33333,333,42182.700000000012,null,{"$f":"表2[[#This Row],[花费]]","v":0},{"$f":"直通车!D31","v":545},{"$f":"直通车!E31","v":3.72},{"$f":"直通车!L31","v":0.7343687537939918},{"$f":"钻展!E31","v":988.66},{"$f":"钻展!D31","v":152},{"$f":"钻展!G31","v":6.5},{"$f":"钻展!T31","v":1.4160580988408553},{"$f":"淘客!B31","v":13.47},{"$f":"淘客!D31","v":81}]
[{"$nulls":56},{"$f":"直通车!E32","v":0},{"$f":"直通车!L32","v":0},{"$f":"钻展!E32","v":0},{"$f":"钻展!D32","v":0},{"$f":"钻展!G32","v":0},{"$f":"钻展!T32","v":0},{"$f":"淘客!B32","v":0},{"$f":"淘客!D32","v":83}]
["月度平均值",{"$f":"AVERAGE(B3:B33)","v":2997},{"$f":"AVERAGE(C3:C33)","v":1152},"/",{"$f":"AVERAGE(E3:E33)","v":0.14760000000000006},{"$f":"AVERAGE(F3:F33)","v":0.63034490740740778},{"$f":"AVERAGE(G3:G33)","v":4.873882686570564},{"$f":"AVERAGE(H3:H33)","v":2.6015625},{"$f":"AVERAGE(I3:I33)","v":64.402737404070706},{"$f":"AVERAGE(J3:J33)","v":136},{"$f":"AVERAGE(K3:K33)","v":2.2199999999999993},{"$f":"AVERAGE(L3:L33)","v":4.8190440060698032},{"$f":"AVERAGE(M3:M33)","v":4.817147192716237},22222,1111,{"$f":"AVERAGE(P3:P33)","v":2222},{"$f":"AVERAGE(Q3:Q33)","v":2352.911111111111},{"$f":"AVERAGE(R3:R33)","v":348},{"$f":"AVERAGE(S3:S33)","v":2122},{"$f":"AVERAGE(T3:T33)","v":3232},{"$f":"AVERAGE(U3:U33)","v":0.70977011494252895},{"$f":"AVERAGE(V3:V33)","v":2.5900000000000003E-2},{"$f":"AVERAGE(W3:W33)","v":0.55061700000000036},{"$f":"AVERAGE(X3:X33)","v":61235.699999999961},{"$f":"AVERAGE(Y3:Y33)","v":34},{"$nulls":9},{"$f":"AVERAGE(AI3:AI33)","v":45},{"$f":"AVERAGE(AJ3:AJ33)","v":68910.5},{"$f":"AVERAGE(AK3:AK33)","v":88.333333333333329},{"$f":"AVERAGE(AL3:AL33)","v":17},{"$f":"AVERAGE(AM3:AM33)","v":75515.699999999983},42069.000000000007,42,1.6428999999999996,33,44,1797.9928571428586,null,5,0.59519999999999995,3.9100000000000003E-2]
["月度综合值",{"$f":"SUM(B3:B33)","v":89910},{"$f":"SUM(C3:C33)","v":34560},"/","/","/","/","/","/","/","/","/","/",{"$f":"SUM(N3:N33)","v":666660},{"$f":"SUM(O3:O33)","v":33330},"/","/",10440,63660,96960,"/","/","/",1837070.9999999988,1020,1.2600000000000005,21.587999999999997,24.285714285714299,455.98500000000001,49399.54545454531,3540,9690,6360,6660,1350,2067315,2650,510,2265470.9999999995,1262070.0000000002,1260,49.286999999999985,990,1320,53939.785714285761,990,150,17.855999999999998,1.173,1.0949999999999995,999990,13001,1265480.9999999993,0,58760.670000000035,16350,111.59999999999998,22.031062613819749,29659.8,4560,195,41.217405376974916,404.10000000000031,1643]

{"sheet":"钻展","index":2,"n_rows":34,"n_cols":20,"rows_kept":34,"cut":false,"hidden":false,"merged":[]}
["星期","日期 ","展现","点击 ","消耗 (元)","CTR","CPC","CPM","宝贝收藏数","宝贝收藏成本","店铺收藏数","店铺收藏成本","顾客订单数","加购数","跳失率","预算","消耗率","销售额","转化率","当日ROI"]
[{"$f":"TEXT(B2,\"aaa\")","v":"周日"},42309,16621,152,988.66,9.1000000000000004E-3,6.5,59.48,1,{"$f":"E2/I2","v":988.66},1,{"$f":"E2/K2","v":988.66},1,32,0.43,1000,{"$f":"E2/P2","v":0.98865999999999998},1400,{"$f":"M2/D2","v":6.5789473684210523E-3},{"$f":"IFERROR(R2/E2,0)","v":1.4160580988408553}]
["周一",42310,16621,152,988.66,9.1000000000000004E-3,6.5,59.48,3,{"$f":"E3/I3","v":329.55333333333334},3,{"$f":"E3/K3","v":329.55333333333334},2,38,0.66,1100,{"$f":"IFERROR(E3/P3,0)","v":0.89878181818181813},1400,{"$f":"M3/D3","v":1.3157894736842105E-2},1.4160580988408553]
["周二",42311,16621,152,988.66,9.1000000000000004E-3,6.5,59.48,5,197.732,5,197.732,3,44,0.43,1200,0.8238833333333333,1400,1.9736842105263157E-2,1.4160580988408553]
["周三",42312,16621,152,988.66,9.1000000000000004E-3,6.5,59.48,7,141.23714285714286,7,141.23714285714286,4,50,0.50666666666666704,1300,0.76050769230769233,1400,2.6315789473684209E-2,1.4160580988408553]
["周四",42313,16621,152,988.66,9.1000000000000004E-3,6.5,59.48,9,109.85111111111111,9,109.85111111111111,5,56,0.50666666666666704,1400,0.70618571428571431,1400,3.2894736842105261E-2,1.4160580988408553]
["周五",42314,16621,152,988.66,9.1000000000000004E-3,6.5,59.48,11,89.878181818181815,11,89.878181818181815,6,62,0.50666666666666704,1500,0.65910666666666662,1400,3.9473684210526314E-2,1.4160580988408553]
["周六",42315,16621,152,988.66,9.1000000000000004E-3,6.5,59.48,13,76.050769230769234,13,76.050769230769234,7,68,0.50666666666666704,1600,0.61791249999999998,1400,4.6052631578947366E-2,1.4160580988408553]
["周日",42316,16621,152,988.66,9.1000000000000004E-3,6.5,59.48,15,65.910666666666671,15,65.910666666666671,8,74,0.50666666666666704,1700,0.58156470588235287,1400,5.2631578947368418E-2,1.4160580988408553]
["周一",42317,16621,152,988.66,9.1000000000000004E-3,6.5,59.48,17,58.156470588235294,17,58.156470588235294,9,80,0.50666666666666704,1800,0.5492555555555555,1400,5.921052631578947E-2,1.4160580988408553]
["周二",42318,16621,152,988.66,9.1000000000000004E-3,6.5,59.48,19,52.034736842105261,19,52.034736842105261,10,86,0.50666666666666704,1900,0.52034736842105267,1400,6.5789473684210523E-2,1.4160580988408553]
["周三",42319,16621,152,988.66,9.1000000000000004E-3,6.5,59.48,21,47.079047619047614,21,47.079047619047614,11,92,0.50666666666666704,2000,0.49432999999999999,1400,7.2368421052631582E-2,1.4160580988408553]
["周四",42320,16621,152,988.66,9.1000000000000004E-3,6.5,59.48,23,42.985217391304346,23,42.985217391304346,12,98,0.50666666666666704,2100,0.47079047619047615,1400,7.8947368421052627E-2,1.4160580988408553]
["周五",42321,16621,152,988.66,9.1000000000000004E-3,6.5,59.48,25,39.546399999999998,25,39.546399999999998,13,104,0.50666666666666704,2200,0.44939090909090906,1400,8.5526315789473686E-2,1.4160580988408553]
["周六",42322,16621,152,988.66,9.1000000000000004E-3,6.5,59.48,27,36.617037037037036,33,29.959393939393937,14,110,0.50666666666666704,2300,0.42985217391304348,1400,9.2105263157894732E-2,1.4160580988408553]
["周日",42323,16621,152,988.66,9.1000000000000004E-3,6.5,59.48,29,34.091724137931031,29,34.091724137931031,15,116,0.50666666666666704,2400,0.41194166666666665,1400,9.8684210526315791E-2,1.4160580988408553]
["周一",42324,16621,152,988.66,9.1000000000000004E-3,6.5,59.48,31,31.892258064516128,31,31.892258064516128,16,122,0.50666666666666704,2500,0.39546399999999998,1400,0.10526315789473684,1.4160580988408553]
["周二",42325,16621,152,988.66,9.1000000000000004E-3,6.5,59.48,33,29.959393939393937,33,29.959393939393937,17,128,0.50666666666666704,2600,0.38025384615384616,1400,0.1118421052631579,1.4160580988408553]
["周三",42326,16621,152,988.66,9.1000000000000004E-3,6.5,59.48,35,28.247428571428571,35,28.247428571428571,18,134,0.50666666666666704,2700,0.36617037037037037,1400,0.11842105263157894,1.4160580988408553]
["周四",42327,16621,152,988.66,9.1000000000000004E-3,6.5,59.48,37,26.72054054054054,37,26.72054054054054,19,140,0.50666666666666704,2800,0.35309285714285715,1400,0.125,1.4160580988408553]
["周五",42328,16621,152,988.66,9.1000000000000004E-3,6.5,59.48,39,25.35025641025641,39,25.35025641025641,20,146,0.50666666666666704,2900,0.34091724137931034,1400,0.13157894736842105,1.4160580988408553]
["周六",42329,16621,152,988.66,9.1000000000000004E-3,6.5,59.48,41,24.113658536585366,41,24.113658536585366,21,152,0.50666666666666704,3000,0.32955333333333331,1400,0.13815789473684212,1.4160580988408553]
["周日",42330,16621,152,988.66,9.1000000000000004E-3,6.5,59.48,43,22.992093023255812,43,22.992093023255812,22,158,0.50666666666666704,3100,0.31892258064516127,1400,0.14473684210526316,1.4160580988408553]
["周一",42331,16621,152,988.66,9.1000000000000004E-3,6.5,59.48,45,21.970222222222223,45,21.970222222222223,23,164,0.50666666666666704,3200,0.30895624999999999,1400,0.15131578947368421,1.4160580988408553]
["周二",42332,16621,152,988.66,9.1000000000000004E-3,6.5,59.48,47,21.035319148936171,47,21.035319148936171,24,170,0.50666666666666704,3300,0.29959393939393936,1400,0.15789473684210525,1.4160580988408553]
["周三",42333,16621,152,988.66,9.1000000000000004E-3,6.5,59.48,49,20.176734693877549,49,20.176734693877549,25,176,0.50666666666666704,3400,0.29078235294117644,1400,0.16447368421052633,1.4160580988408553]
["周四",42334,16621,152,988.66,9.1000000000000004E-3,6.5,59.48,51,19.385490196078432,51,19.385490196078432,26,182,0.50666666666666704,3500,0.28247428571428568,1400,0.17105263157894737,1.4160580988408553]
["周五",42335,16621,152,988.66,9.1000000000000004E-3,6.5,59.48,53,18.653962264150941,53,18.653962264150941,27,188,0.50666666666666704,3600,0.27462777777777775,1400,0.17763157894736842,1.4160580988408553]
["周六",42336,16621,152,988.66,9.1000000000000004E-3,6.5,59.48,55,17.975636363636362,55,17.975636363636362,28,194,0.50666666666666704,3700,0.26720540540540538,1400,0.18421052631578946,1.4160580988408553]
["周日",42337,16621,152,988.66,9.1000000000000004E-3,6.5,59.48,57,17.344912280701752,57,17.344912280701752,29,200,0.50666666666666704,3800,0.26017368421052633,150,0.19078947368421054,0.15172051059009165]
["周一",42338,16621,152,988.66,9.1000000000000004E-3,6.5,59.48,59,16.756949152542372,59,16.756949152542372,30,206,0.50666666666666704,3900,0.25350256410256411,1400,0.19736842105263158,1.4160580988408553]
["周六",{"$nulls":15},0,null,null,0]
[null,"月度平均值",{"$f":"AVERAGE(C2:C32)","v":16621},152,988.66,9.0999999999999987E-3,6.5,59.480000000000011,30,{"$f":"AVERAGE(J2:J32)","v":88.398623134699619},30.2,88.176701698111529,15.5,null,null,2450,0.45432906674405921,1358.3333333333333,0.10197368421052631,1.3739135125658297]
[null,"月度综合值",{"$f":"SUM(C2:C32)","v":498630},{"$f":"SUM(D2:D32)","v":4560},29659.8]

{"sheet":"直通车","index":3,"n_rows":34,"n_cols":13,"rows_kept":34,"cut":false,"hidden":false,"merged":[]}
["日期","花费","展现量","点击量","PPC","CTR","总成交金额","总成交笔数","总收藏","总加购","转化率","ROI","高于8分词占比"]
["2015-11-01",2026.23,33620,545,3.72,1.6199999999999999E-2,1488,1,11,14,1.8E-3,{"$f":"IFERROR(G2/B2,0)","v":0.7343687537939918},0.33]
["2015-11-02",2026.23,33620,545,3.72,1.6199999999999999E-2,1488,1,11,14,1.8E-3,{"$f":"IFERROR(G3/B3,0)","v":0.7343687537939918},1.33]
["2015-11-03",2026.23,33620,545,3.72,1.6199999999999999E-2,1488,1,11,14,1.8E-3,0.7343687537939918,2.33]
["2015-11-04",2026.23,33620,545,3.72,1.6199999999999999E-2,1488,1,11,14,1.8E-3,0.7343687537939918,3.33]
["2015-11-05",2026.23,33620,545,3.72,1.6199999999999999E-2,1488,1,11,14,1.8E-3,0.7343687537939918,4.33]
["2015-11-06",2026.23,33620,545,3.72,1.6199999999999999E-2,1488,1,11,14,1.8E-3,0.7343687537939918,5.33]
["2015-11-07",2026.23,33620,545,3.72,1.6199999999999999E-2,1488,1,11,14,1.8E-3,0.7343687537939918,6.33]
["2015-11-08",2026.23,33620,545,3.72,1.6199999999999999E-2,1488,1,11,14,1.8E-3,0.7343687537939918,7.33]
["2015-11-09",2026.23,33620,545,3.72,1.6199999999999999E-2,1488,1,11,14,1.8E-3,0.7343687537939918,8.33]
["2015-11-10",2026.23,33620,545,3.72,1.6199999999999999E-2,1488,1,11,14,1.8E-3,0.7343687537939918,9.33]
["2015-11-11",2026.23,33620,545,3.72,1.6199999999999999E-2,1488,1,11,14,1.8E-3,0.7343687537939918,10.33]
["2015-11-12",2026.23,33620,545,3.72,1.6199999999999999E-2,1488,1,11,14,1.8E-3,0.7343687537939918,11.33]
["2015-11-13",2026.23,33620,545,3.72,1.6199999999999999E-2,1488,1,11,14,1.8E-3,0.7343687537939918,12.33]
["2015-11-14",2026.23,33620,545,3.72,1.6199999999999999E-2,1488,1,11,14,1.8E-3,0.7343687537939918,13.33]
["2015-11-15",2026.23,33620,545,3.72,1.6199999999999999E-2,1488,1,11,14,1.8E-3,0.7343687537939918,14.33]
["2015-11-16",2026.23,33620,545,3.72,1.6199999999999999E-2,1488,1,11,14,1.8E-3,0.7343687537939918,15.33]
["2015-11-17",2026.23,33620,545,3.72,1.6199999999999999E-2,1488,1,11,14,1.8E-3,0.7343687537939918,16.329999999999998]
["2015-11-18",2026.23,33620,545,3.72,1.6199999999999999E-2,1488,1,11,14,1.8E-3,0.7343687537939918,17.329999999999998]
["2015-11-19",2026.23,33620,545,3.72,1.6199999999999999E-2,1488,1,11,14,1.8E-3,0.7343687537939918,18.329999999999998]
["2015-11-20",2026.23,33620,545,3.72,1.6199999999999999E-2,1488,1,11,14,1.8E-3,0.7343687537939918,19.329999999999998]
["2015-11-21",2026.23,33620,545,3.72,1.6199999999999999E-2,1488,1,11,14,1.8E-3,0.7343687537939918,20.329999999999998]
["2015-11-22",2026.23,33620,545,3.72,1.6199999999999999E-2,1488,1,11,14,1.8E-3,0.7343687537939918,21.33]
["2015-11-23",2026.23,33620,545,3.72,1.6199999999999999E-2,1488,1,11,14,1.8E-3,0.7343687537939918,22.33]
["2015-11-24",2026.23,33620,545,3.72,1.6199999999999999E-2,1488,1,11,14,1.8E-3,0.7343687537939918,23.33]
["2015-11-25",2026.23,33620,545,3.72,1.6199999999999999E-2,1488,1,11,14,1.8E-3,0.7343687537939918,24.33]
["2015-11-26",2026.23,33620,545,3.72,1.6199999999999999E-2,1488,1,11,14,1.8E-3,0.7343687537939918,25.33]
["2015-11-27",2026.23,33620,545,3.72,1.6199999999999999E-2,1488,1,11,14,1.8E-3,0.7343687537939918,26.33]
["2015-11-28",2026.23,33620,545,3.72,1.6199999999999999E-2,1488,1,11,14,1.8E-3,0.7343687537939918,27.33]
["2015-11-29",2026.23,33620,545,3.72,1.6199999999999999E-2,1488,1,11,14,1.8E-3,0.7343687537939918,28.33]
["2015-11-30",2026.23,33620,545,3.72,1.6199999999999999E-2,1488,1,11,14,1.8E-3,0.7343687537939918,29.33]
[{"$nulls":11},{"$f":"IFERROR(G32/B32,0)","v":0}]
["月度平均值",{"$f":"SUBTOTAL(101,B2:B32)","v":2026.2300000000012},null,545,3.7199999999999993,null,1488,{"$f":"SUBTOTAL(101,H2:H32)","v":1},11,null,1.800000000000001E-3,{"$f":"SUBTOTAL(101,L2:L32)","v":0.71067943915547582},14.829999999999993]
["月度综合值"]

{"sheet":"淘客","index":4,"n_rows":34,"n_cols":5,"rows_kept":34,"cut":false,"hidden":false,"merged":[]}
["日期","花费","成交","淘客UV","ROI"]
["2015-11-01",13.47,134.63999999999999,23,22]
["2015-11-02",13.47,134.63999999999999,25,{"$f":"IFERROR(C3/B3,0)","v":9.9955456570155885}]
["2015-11-03",13.47,134.63999999999999,27,9.9955456570155885]
["2015-11-04",13.47,134.63999999999999,29,9.9955456570155885]
["2015-11-05",13.47,134.63999999999999,31,9.9955456570155885]
["2015-11-06",13.47,134.63999999999999,33,9.9955456570155885]
["2015-11-07",13.47,134.63999999999999,35,9.9955456570155885]
["2015-11-08",13.47,134.63999999999999,37,9.9955456570155885]
["2015-11-09",13.47,134.63999999999999,39,9.9955456570155885]
["2015-11-10",13.47,134.63999999999999,41,9.9955456570155885]
["2015-11-11",13.47,134.63999999999999,43,9.9955456570155885]
["2015-11-12",13.47,134.63999999999999,45,9.9955456570155885]
["2015-11-13",13.47,134.63999999999999,47,9.9955456570155885]
["2015-11-14",13.47,134.63999999999999,49,9.9955456570155885]
["2015-11-15",13.47,134.63999999999999,51,9.9955456570155885]
["2015-11-16",13.47,134.63999999999999,53,9.9955456570155885]
["2015-11-17",13.47,134.63999999999999,55,9.9955456570155885]
["2015-11-18",13.47,134.63999999999999,57,9.9955456570155885]
["2015-11-19",13.47,134.63999999999999,59,9.9955456570155885]
["2015-11-20",13.47,134.63999999999999,61,9.9955456570155885]
["2015-11-21",13.47,134.63999999999999,63,9.9955456570155885]
["2015-11-22",13.47,134.63999999999999,65,9.9955456570155885]
["2015-11-23",13.47,134.63999999999999,67,9.9955456570155885]
["2015-11-24",13.47,134.63999999999999,69,9.9955456570155885]
["2015-11-25",13.47,134.63999999999999,71,9.9955456570155885]
["2015-11-26",13.47,134.63999999999999,73,9.9955456570155885]
["2015-11-27",13.47,134.63999999999999,75,9.9955456570155885]
["2015-11-28",13.47,134.63999999999999,77,9.9955456570155885]
["2015-11-29",13.47,134.63999999999999,79,9.9955456570155885]
["2015-11-30",13.47,134.63999999999999,81,9.9955456570155885]
[null,null,null,83]
["月度平均值",{"$f":"SUBTOTAL(101,B2:B32)","v":13.47000000000001},134.6399999999999,null,{"$f":"IFERROR(C33/B33,0)","v":9.9955456570155761}]
["月度综合值",13.47000000000001,134.6399999999999,null,{"$f":"IFERROR(C34/B34,0)","v":9.9955456570155761}]

{"sheet":"客服","index":5,"n_rows":34,"n_cols":7,"rows_kept":34,"cut":false,"hidden":false,"merged":[]}
["日期","访客数","询单数","询单率","下单数","询单转化率","响应时间"]
["2015-11-01",2026.23,33620,0.22,3.72,1.6199999999999999E-2,1488]
["2015-11-02",2026.23,33620,1.22,4.72,1.6199999999999999E-2,1489]
["2015-11-03",2026.23,33620,2.2200000000000002,5.72,1.6199999999999999E-2,1490]
["2015-11-04",2026.23,33620,3.22,6.72,1.6199999999999999E-2,1491]
["2015-11-05",2026.23,33620,4.22,7.72,1.6199999999999999E-2,1492]
["2015-11-06",2026.23,33620,5.22,8.7200000000000006,1.6199999999999999E-2,1493]
["2015-11-07",2026.23,33620,6.22,9.7200000000000006,1.6199999999999999E-2,1494]
["2015-11-08",2026.23,33620,7.22,10.72,1.6199999999999999E-2,1495]
["2015-11-09",2026.23,33620,8.2200000000000006,11.72,1.6199999999999999E-2,1496]
["2015-11-10",2026.23,33620,9.2200000000000006,12.72,1.6199999999999999E-2,1497]
["2015-11-11",2026.23,33620,10.220000000000001,13.72,1.6199999999999999E-2,1498]
["2015-11-12",2026.23,33620,11.22,14.72,1.6199999999999999E-2,1499]
["2015-11-13",2026.23,33620,12.22,15.72,1.6199999999999999E-2,1500]
["2015-11-14",2026.23,33620,13.22,16.72,1.6199999999999999E-2,1501]
["2015-11-15",2026.23,33620,14.22,17.72,1.6199999999999999E-2,1502]
["2015-11-16",2026.23,33620,15.22,18.72,1.6199999999999999E-2,1503]
["2015-11-17",2026.23,33620,16.22,19.72,1.6199999999999999E-2,1504]
["2015-11-18",2026.23,33620,17.22,20.72,1.6199999999999999E-2,1505]
["2015-11-19",2026.23,33620,18.22,21.72,1.6199999999999999E-2,1506]
["2015-11-20",2026.23,33620,19.22,22.72,1.6199999999999999E-2,1507]
["2015-11-21",2026.23,33620,20.22,23.72,1.6199999999999999E-2,1508]
["2015-11-22",2026.23,33620,21.22,24.72,1.6199999999999999E-2,1509]
["2015-11-23",2026.23,33620,22.22,25.72,1.6199999999999999E-2,1510]
["2015-11-24",2026.23,33620,23.22,26.72,1.6199999999999999E-2,1511]
["2015-11-25",2026.23,33620,24.22,27.72,1.6199999999999999E-2,1512]
["2015-11-26",2026.23,33620,25.22,28.72,1.6199999999999999E-2,1513]
["2015-11-27",2026.23,33620,26.22,29.72,1.6199999999999999E-2,1514]
["2015-11-28",2026.23,33620,27.22,30.72,1.6199999999999999E-2,1515]
["2015-11-29",2026.23,33620,28.22,31.72,1.6199999999999999E-2,1516]
["2015-11-30",2026.23,33620,29.22,32.72,1.6199999999999999E-2,1517]
[]
["月度平均值",{"$f":"SUBTOTAL(101,B2:B32)","v":2026.2300000000012},null,14.720000000000004,18.22000000000001,null,1502.5]
["月度综合值"]